Workbook
Name vorn_sum: VORN!$I$36

Sheet Stavební rozpočet
A1: Stavební rozpočet | AS1: =SUM(AJ1:AJ2) -> 0 | AT1: =SUM(AK1:AK2) -> 0 | AU1: =SUM(AL1:AL2) -> 0
A2: Název stavby: | D2: Oprava hráze rybníčku | F2: Doba výstavby: | H2: 30 dní | I2: Objednatel: | K2: SRŠ Vodňany
A4: Druh stavby: | F4: Začátek výstavby: | H4: po uzavření smlouvy | I4: Projektant:
A6: Lokalita: | D6: Vodňany | F6: Konec výstavby: | H6: 31.12.2025 | I6: Zhotovitel: | K6: Aleš Handšuh- PROZEMP
A8: JKSO: | F8: Zpracováno dne: | H8: 45948 | I8: Zpracoval: | K8: Aleš Handšuh-PROZEMP
A10: Č | B10: Objekt | C10: Kód | D10: Zkrácený popis | F10: MJ | G10: Množství | H10: Cena/MJ | I10: Sazba DPH | J10: Náklady (Kč) | M10: Náklady (Kč) | N10: Hmotnost (t) | P10: Cenová | BK10: ISWORK | BL10: GROUPCODE | BW10: VATTAX
D11: Rozměry | H11: (Kč) | J11: Dodávka | K11: Montáž | L11: Celkem | M11: Celkem vč. DPH | N11: Jednot. | O11: Celkem | P11: soustava | Z11: Přesuny | AA11: Typ skupiny | AB11: HSV mat | AC11: HSV prac | AD11: PSV mat | AE11: PSV prac | AF11: Mont mat | AG11: Mont prac | AH11: Ostatní mat. | BH11: MAT | BI11: WORK | BJ11: CELK
C12: 17 | D12: Konstrukce ze zemin | J12: =SUM(J13:J13) -> 0 | K12: =SUM(K13:K13) -> 38556.51 | L12: =SUM(L13:L13) -> 38556.51 | M12: =SUM(M13:M13) -> 46653.377 | O12: =SUM(O13:O13) -> 0 | AS12: =SUM(AJ13:AJ13) -> 0 | AT12: =SUM(AK13:AK13) -> 0 | AU12: =SUM(AL13:AL13) -> 38556.51
A13: 1 | C13: 174100010RAD | D13: Zásyp jam, rýh a šachet sypaninou | F13: m3 | G13: 51 | H13: 756.01 | I13: 21 | J13: =ROUND(G13*AO13,2) -> 0 | K13: =ROUND(G13*AP13,2) -> 38556.51 | L13: =ROUND(G13*H13,2) -> 38556.51 | M13: =L13*(1+BW13/100) -> 46653.377 | N13: 0 | O13: =G13*N13 -> 0 | P13: RTS I / 2025 | Z13: =ROUND(IF(AQ13="5",BJ13,0),2) -> 0 | AB13: =ROUND(IF(AQ13="1",BH13,0),2) -> 0 | AC13: =ROUND(IF(AQ13="1",BI13,0),2) -> 38556.51 | AD13: =ROUND(IF(AQ13="7",BH13,0),2) -> 0 | AE13: =ROUND(IF(AQ13="7",BI13,0),2) -> 0 | AF13: =ROUND(IF(AQ13="2",BH13,0),2) -> 0 | AG13: =ROUND(IF(AQ13="2",BI13,0),2) -> 0 | AH13: =ROUND(IF(AQ13="0",BJ13,0),2) -> 0 | AJ13: =IF(AN13=0,L13,0) -> 0 | AK13: =IF(AN13=12,L13,0) -> 0 | AL13: =IF(AN13=21,L13,0) -> 38556.51 | AN13: 21 | AO13: =H13*0 -> 0 | AP13: =H13*(1-0) -> 756.01 | AQ13: 1 | AV13: =ROUND(AW13+AX13,2) -> 38556.51 | AW13: =ROUND(G13*AO13,2) -> 0 | AX13: =ROUND(G13*AP13,2) -> 38556.51 | AY13: 17_ | AZ13: 1_ | BA13: _ | BC13: =AW13+AX13 -> 38556.51 | BD13: =H13/(100-BE13)*100 -> 756.01 | BE13: 0 | BF13: =O13 -> 0 | BH13: =G13*AO13 -> 0 | BI13: =G13*AP13 -> 38556.51 | BJ13: =G13*H13 -> 38556.51 | BL13: 17 | BW13: =I13 -> 21 | BX13: Zásyp jam, rýh a šachet sypaninou
C14: 27 | D14: Základy | J14: =SUM(J15:J15) -> 4098.46 | K14: =SUM(K15:K15) -> 1986.53 | L14: =SUM(L15:L15) -> 6084.99 | M14: =SUM(M15:M15) -> 7362.8379 | O14: =SUM(O15:O15) -> 1.569485 | AS14: =SUM(AJ15:AJ15) -> 0 | AT14: =SUM(AK15:AK15) -> 0 | AU14: =SUM(AL15:AL15) -> 6084.99
A15: 2 | C15: 273320150RA0 | D15: Základová deska ŽB z betonu C 25/30, včetně bednění | F15: m3 | G15: 0.5 | H15: 12169.97 | I15: 21 | J15: =ROUND(G15*AO15,2) -> 4098.46 | K15: =ROUND(G15*AP15,2) -> 1986.53 | L15: =ROUND(G15*H15,2) -> 6084.99 | M15: =L15*(1+BW15/100) -> 7362.8379 | N15: 3.13897 | O15: =G15*N15 -> 1.569485 | P15: RTS I / 2025 | Z15: =ROUND(IF(AQ15="5",BJ15,0),2) -> 0 | AB15: =ROUND(IF(AQ15="1",BH15,0),2) -> 4098.46 | AC15: =ROUND(IF(AQ15="1",BI15,0),2) -> 1986.53 | AD15: =ROUND(IF(AQ15="7",BH15,0),2) -> 0 | AE15: =ROUND(IF(AQ15="7",BI15,0),2) -> 0 | AF15: =ROUND(IF(AQ15="2",BH15,0),2) -> 0 | AG15: =ROUND(IF(AQ15="2",BI15,0),2) -> 0 | AH15: =ROUND(IF(AQ15="0",BJ15,0),2) -> 0 | AJ15: =IF(AN15=0,L15,0) -> 0 | AK15: =IF(AN15=12,L15,0) -> 0 | AL15: =IF(AN15=21,L15,0) -> 6084.99 | AN15: 21 | AO15: =H15*0.673536029 -> 8196.9133 | AP15: =H15*(1-0.673536029) -> 3973.0567 | AQ15: 1 | AV15: =ROUND(AW15+AX15,2) -> 6084.99 | AW15: =ROUND(G15*AO15,2) -> 4098.46 | AX15: =ROUND(G15*AP15,2) -> 1986.53 | AY15: 27_ | AZ15: 2_ | BA15: _ | BC15: =AW15+AX15 -> 6084.99 | BD15: =H15/(100-BE15)*100 -> 12169.97 | BE15: 0 | BF15: =O15 -> 1.569485 | BH15: =G15*AO15 -> 4098.4566 | BI15: =G15*AP15 -> 1986.5284 | BJ15: =G15*H15 -> 6084.985 | BL15: 27 | BW15: =I15 -> 21 | BX15: Základová deska ŽB z betonu C 25/30, včetně bednění
C16: 32 | D16: Zdi přehradní a opěrné | J16: =SUM(J17:J17) -> 855.05 | K16: =SUM(K17:K17) -> 6682.45 | L16: =SUM(L17:L17) -> 7537.5 | M16: =SUM(M17:M17) -> 9120.375 | O16: =SUM(O17:O17) -> 0.389505 | AS16: =SUM(AJ17:AJ17) -> 0 | AT16: =SUM(AK17:AK17) -> 0 | AU16: =SUM(AL17:AL17) -> 7537.5
A17: 3 | C17: 320101111R00 | D17: Osazení bet.a ŽB prefabrikátů hmotnosti do 1000 kg | F17: m3 | G17: 1.5 | H17: 5025 | I17: 21 | J17: =ROUND(G17*AO17,2) -> 855.05 | K17: =ROUND(G17*AP17,2) -> 6682.45 | L17: =ROUND(G17*H17,2) -> 7537.5 | M17: =L17*(1+BW17/100) -> 9120.375 | N17: 0.25967 | O17: =G17*N17 -> 0.389505 | P17: RTS I / 2025 | Z17: =ROUND(IF(AQ17="5",BJ17,0),2) -> 0 | AB17: =ROUND(IF(AQ17="1",BH17,0),2) -> 855.05 | AC17: =ROUND(IF(AQ17="1",BI17,0),2) -> 6682.45 | AD17: =ROUND(IF(AQ17="7",BH17,0),2) -> 0 | AE17: =ROUND(IF(AQ17="7",BI17,0),2) -> 0 | AF17: =ROUND(IF(AQ17="2",BH17,0),2) -> 0 | AG17: =ROUND(IF(AQ17="2",BI17,0),2) -> 0 | AH17: =ROUND(IF(AQ17="0",BJ17,0),2) -> 0 | AJ17: =IF(AN17=0,L17,0) -> 0 | AK17: =IF(AN17=12,L17,0) -> 0 | AL17: =IF(AN17=21,L17,0) -> 7537.5 | AN17: 21 | AO17: =H17*0.113439469 -> 570.03333 | AP17: =H17*(1-0.113439469) -> 4454.9667 | AQ17: 1 | AV17: =ROUND(AW17+AX17,2) -> 7537.5 | AW17: =ROUND(G17*AO17,2) -> 855.05 | AX17: =ROUND(G17*AP17,2) -> 6682.45 | AY17: 32_ | AZ17: 3_ | BA17: _ | BC17: =AW17+AX17 -> 7537.5 | BD17: =H17/(100-BE17)*100 -> 5025 | BE17: 0 | BF17: =O17 -> 0.389505 | BH17: =G17*AO17 -> 855.05 | BI17: =G17*AP17 -> 6682.45 | BJ17: =G17*H17 -> 7537.5 | BL17: 32 | BW17: =I17 -> 21 | BX17: Osazení bet.a ŽB prefabrikátů hmotnosti do 1000 kg
C18: 46 | D18: Zpevněné plochy (kromě vozovek a železničního svršku) | J18: =SUM(J19:J20) -> 25680.54 | K18: =SUM(K19:K20) -> 40129.46 | L18: =SUM(L19:L20) -> 65810 | M18: =SUM(M19:M20) -> 79630.1 | O18: =SUM(O19:O20) -> 31.79 | AS18: =SUM(AJ19:AJ20) -> 0 | AT18: =SUM(AK19:AK20) -> 0 | AU18: =SUM(AL19:AL20) -> 65810
A19: 4 | C19: 462511161R00 | D19: Zához z lom.kamene tříd. do 80 kg bez výplně mezer | F19: m3 | G19: 17 | H19: 2515 | I19: 21 | J19: =ROUND(G19*AO19,2) -> 25680.54 | K19: =ROUND(G19*AP19,2) -> 17074.46 | L19: =ROUND(G19*H19,2) -> 42755 | M19: =L19*(1+BW19/100) -> 51733.55 | N19: 1.87 | O19: =G19*N19 -> 31.79 | P19: RTS I / 2025 | Z19: =ROUND(IF(AQ19="5",BJ19,0),2) -> 0 | AB19: =ROUND(IF(AQ19="1",BH19,0),2) -> 25680.54 | AC19: =ROUND(IF(AQ19="1",BI19,0),2) -> 17074.46 | AD19: =ROUND(IF(AQ19="7",BH19,0),2) -> 0 | AE19: =ROUND(IF(AQ19="7",BI19,0),2) -> 0 | AF19: =ROUND(IF(AQ19="2",BH19,0),2) -> 0 | AG19: =ROUND(IF(AQ19="2",BI19,0),2) -> 0 | AH19: =ROUND(IF(AQ19="0",BJ19,0),2) -> 0 | AJ19: =IF(AN19=0,L19,0) -> 0 | AK19: =IF(AN19=12,L19,0) -> 0 | AL19: =IF(AN19=21,L19,0) -> 42755 | AN19: 21 | AO19: =H19*0.600644135 -> 1510.62 | AP19: =H19*(1-0.600644135) -> 1004.38 | AQ19: 1 | AV19: =ROUND(AW19+AX19,2) -> 42755 | AW19: =ROUND(G19*AO19,2) -> 25680.54 | AX19: =ROUND(G19*AP19,2) -> 17074.46 | AY19: 46_ | AZ19: 4_ | BA19: _ | BC19: =AW19+AX19 -> 42755 | BD19: =H19/(100-BE19)*100 -> 2515 | BE19: 0 | BF19: =O19 -> 31.79 | BH19: =G19*AO19 -> 25680.54 | BI19: =G19*AP19 -> 17074.46 | BJ19: =G19*H19 -> 42755 | BL19: 46 | BW19: =I19 -> 21 | BX19: Zához z lom.kamene tříd. do 80 kg bez výplně mezer
A20: 5 | C20: 462511169R00 | D20: Příplatek za urovnání líce záhozu,kameny do 80 kg | F20: m2 | G20: 72.5 | H20: 318 | I20: 21 | J20: =ROUND(G20*AO20,2) -> 0 | K20: =ROUND(G20*AP20,2) -> 23055 | L20: =ROUND(G20*H20,2) -> 23055 | M20: =L20*(1+BW20/100) -> 27896.55 | N20: 0 | O20: =G20*N20 -> 0 | P20: RTS I / 2025 | Z20: =ROUND(IF(AQ20="5",BJ20,0),2) -> 0 | AB20: =ROUND(IF(AQ20="1",BH20,0),2) -> 0 | AC20: =ROUND(IF(AQ20="1",BI20,0),2) -> 23055 | AD20: =ROUND(IF(AQ20="7",BH20,0),2) -> 0 | AE20: =ROUND(IF(AQ20="7",BI20,0),2) -> 0 | AF20: =ROUND(IF(AQ20="2",BH20,0),2) -> 0 | AG20: =ROUND(IF(AQ20="2",BI20,0),2) -> 0 | AH20: =ROUND(IF(AQ20="0",BJ20,0),2) -> 0 | AJ20: =IF(AN20=0,L20,0) -> 0 | AK20: =IF(AN20=12,L20,0) -> 0 | AL20: =IF(AN20=21,L20,0) -> 23055 | AN20: 21 | AO20: =H20*0 -> 0 | AP20: =H20*(1-0) -> 318 | AQ20: 1 | AV20: =ROUND(AW20+AX20,2) -> 23055 | AW20: =ROUND(G20*AO20,2) -> 0 | AX20: =ROUND(G20*AP20,2) -> 23055 | AY20: 46_ | AZ20: 4_ | BA20: _ | BC20: =AW20+AX20 -> 23055 | BD20: =H20/(100-BE20)*100 -> 318 | BE20: 0 | BF20: =O20 -> 0 | BH20: =G20*AO20 -> 0 | BI20: =G20*AP20 -> 23055 | BJ20: =G20*H20 -> 23055 | BL20: 46 | BW20: =I20 -> 21 | BX20: Příplatek za urovnání líce záhozu,kameny do 80 kg
C21: H33 | D21: Nádrže na tocích, úpravy toků a kanály | J21: =SUM(J22:J22) -> 0 | K21: =SUM(K22:K22) -> 58652.5 | L21: =SUM(L22:L22) -> 58652.5 | M21: =SUM(M22:M22) -> 70969.525 | O21: =SUM(O22:O22) -> 0 | AS21: =SUM(AJ22:AJ22) -> 0 | AT21: =SUM(AK22:AK22) -> 0 | AU21: =SUM(AL22:AL22) -> 58652.5
A22: 6 | C22: 998332011R00 | D22: Přesun hmot, úpravy toků a kanálů, hráze ostatní | F22: t | G22: 145 | H22: 404.5 | I22: 21 | J22: =ROUND(G22*AO22,2) -> 0 | K22: =ROUND(G22*AP22,2) -> 58652.5 | L22: =ROUND(G22*H22,2) -> 58652.5 | M22: =L22*(1+BW22/100) -> 70969.525 | N22: 0 | O22: =G22*N22 -> 0 | P22: RTS I / 2025 | Z22: =ROUND(IF(AQ22="5",BJ22,0),2) -> 58652.5 | AB22: =ROUND(IF(AQ22="1",BH22,0),2) -> 0 | AC22: =ROUND(IF(AQ22="1",BI22,0),2) -> 0 | AD22: =ROUND(IF(AQ22="7",BH22,0),2) -> 0 | AE22: =ROUND(IF(AQ22="7",BI22,0),2) -> 0 | AF22: =ROUND(IF(AQ22="2",BH22,0),2) -> 0 | AG22: =ROUND(IF(AQ22="2",BI22,0),2) -> 0 | AH22: =ROUND(IF(AQ22="0",BJ22,0),2) -> 0 | AJ22: =IF(AN22=0,L22,0) -> 0 | AK22: =IF(AN22=12,L22,0) -> 0 | AL22: =IF(AN22=21,L22,0) -> 58652.5 | AN22: 21 | AO22: =H22*0 -> 0 | AP22: =H22*(1-0) -> 404.5 | AQ22: 5 | AV22: =ROUND(AW22+AX22,2) -> 58652.5 | AW22: =ROUND(G22*AO22,2) -> 0 | AX22: =ROUND(G22*AP22,2) -> 58652.5 | AY22: H33_ | AZ22: 9_ | BA22: _ | BC22: =AW22+AX22 -> 58652.5 | BD22: =H22/(100-BE22)*100 -> 404.5 | BE22: 0 | BF22: =O22 -> 0 | BH22: =G22*AO22 -> 0 | BI22: =G22*AP22 -> 58652.5 | BJ22: =G22*H22 -> 58652.5 | BW22: =I22 -> 21 | BX22: Přesun hmot, úpravy toků a kanálů, hráze ostatní
C23: M | D23: Ostatní materiál | J23: =SUM(J24:J25) -> 36319 | K23: =SUM(K24:K25) -> 0 | L23: =SUM(L24:L25) -> 36319 | M23: =SUM(M24:M25) -> 43945.99 | O23: =SUM(O24:O25) -> 2.2547 | AS23: =SUM(AJ24:AJ25) -> 0 | AT23: =SUM(AK24:AK25) -> 0 | AU23: =SUM(AL24:AL25) -> 36319
A24: 7 | C24: 59226320 | D24: Základová deska kbelu 1300 x 1300 x 250 mm | F24: kus | G24: 1 | H24: 3772 | I24: 21 | J24: =ROUND(G24*AO24,2) -> 3772 | K24: =ROUND(G24*AP24,2) -> 0 | L24: =ROUND(G24*H24,2) -> 3772 | M24: =L24*(1+BW24/100) -> 4564.12 | N24: 0.33 | O24: =G24*N24 -> 0.33 | P24: RTS I / 2025 | Z24: =ROUND(IF(AQ24="5",BJ24,0),2) -> 0 | AB24: =ROUND(IF(AQ24="1",BH24,0),2) -> 0 | AC24: =ROUND(IF(AQ24="1",BI24,0),2) -> 0 | AD24: =ROUND(IF(AQ24="7",BH24,0),2) -> 0 | AE24: =ROUND(IF(AQ24="7",BI24,0),2) -> 0 | AF24: =ROUND(IF(AQ24="2",BH24,0),2) -> 0 | AG24: =ROUND(IF(AQ24="2",BI24,0),2) -> 0 | AH24: =ROUND(IF(AQ24="0",BJ24,0),2) -> 3772 | AJ24: =IF(AN24=0,L24,0) -> 0 | AK24: =IF(AN24=12,L24,0) -> 0 | AL24: =IF(AN24=21,L24,0) -> 3772 | AN24: 21 | AO24: =H24*1 -> 3772 | AP24: =H24*(1-1) -> 0 | AQ24: 0 | AV24: =ROUND(AW24+AX24,2) -> 3772 | AW24: =ROUND(G24*AO24,2) -> 3772 | AX24: =ROUND(G24*AP24,2) -> 0 | AY24: Z99999_ | AZ24: Z_ | BA24: _ | BC24: =AW24+AX24 -> 3772 | BD24: =H24/(100-BE24)*100 -> 3772 | BE24: 0 | BF24: =O24 -> 0.33 | BH24: =G24*AO24 -> 3772 | BI24: =G24*AP24 -> 0 | BJ24: =G24*H24 -> 3772 | BW24: =I24 -> 21 | BX24: Základová deska kbelu 1300 x 1300 x 250 mm
A25: 8 | C25: 59226311 | D25: Kbel betonový 800 x 800 mm - uzavřený | F25: m | G25: 1.9 | H25: 17130 | I25: 21 | J25: =ROUND(G25*AO25,2) -> 32547 | K25: =ROUND(G25*AP25,2) -> 0 | L25: =ROUND(G25*H25,2) -> 32547 | M25: =L25*(1+BW25/100) -> 39381.87 | N25: 1.013 | O25: =G25*N25 -> 1.9247 | P25: RTS I / 2025 | Z25: =ROUND(IF(AQ25="5",BJ25,0),2) -> 0 | AB25: =ROUND(IF(AQ25="1",BH25,0),2) -> 0 | AC25: =ROUND(IF(AQ25="1",BI25,0),2) -> 0 | AD25: =ROUND(IF(AQ25="7",BH25,0),2) -> 0 | AE25: =ROUND(IF(AQ25="7",BI25,0),2) -> 0 | AF25: =ROUND(IF(AQ25="2",BH25,0),2) -> 0 | AG25: =ROUND(IF(AQ25="2",BI25,0),2) -> 0 | AH25: =ROUND(IF(AQ25="0",BJ25,0),2) -> 32547 | AJ25: =IF(AN25=0,L25,0) -> 0 | AK25: =IF(AN25=12,L25,0) -> 0 | AL25: =IF(AN25=21,L25,0) -> 32547 | AN25: 21 | AO25: =H25*1 -> 17130 | AP25: =H25*(1-1) -> 0 | AQ25: 0 | AV25: =ROUND(AW25+AX25,2) -> 32547 | AW25: =ROUND(G25*AO25,2) -> 32547 | AX25: =ROUND(G25*AP25,2) -> 0 | AY25: Z99999_ | AZ25: Z_ | BA25: _ | BC25: =AW25+AX25 -> 32547 | BD25: =H25/(100-BE25)*100 -> 17130 | BE25: 0 | BF25: =O25 -> 1.9247 | BH25: =G25*AO25 -> 32547 | BI25: =G25*AP25 -> 0 | BJ25: =G25*H25 -> 32547 | BW25: =I25 -> 21 | BX25: Kbel betonový 800 x 800 mm - uzavřený
J26: Celkem před slevou: | L26: =ROUND(L12+L14+L16+L18+L21+L23,2) -> 212960.5 | M26: =ROUND(M12+M14+M16+M18+M21+M23,2) -> 257682.21
J27: Celková sleva (%): | L27: 23
J28: Celkem po slevě: | L28: =ROUND(L26*(1-L27/100),2) -> 163979.59
A29: Poznámka:

Sheet Krycí list rozpočtu
A1: Krycí list rozpočtu
A2: Název stavby: | C2: ='Stavební rozpočet'!D2 -> Oprava hráze rybníčku | E2: Objednatel: | F2: ='Stavební rozpočet'!K2 -> SRŠ Vodňany | H2: IČO/DIČ:
A4: Druh stavby: | C4: ='Stavební rozpočet'!D4 | E4: Projektant: | F4: ='Stavební rozpočet'!K4 | H4: IČO/DIČ:
A6: Lokalita: | C6: ='Stavební rozpočet'!D6 -> Vodňany | E6: Zhotovitel: | F6: ='Stavební rozpočet'!K6 -> Aleš Handšuh- PROZEMP | H6: IČO/DIČ: | I6: 73504645/CZ8305111595
A8: Začátek výstavby: | C8: ='Stavební rozpočet'!H4 -> po uzavření smlouvy | E8: Konec výstavby: | F8: ='Stavební rozpočet'!H6 -> 31.12.2025 | H8: Položek: | I8: 8
A10: JKSO: | C10: ='Stavební rozpočet'!D8 | E10: Zpracoval: | F10: ='Stavební rozpočet'!K8 -> Aleš Handšuh-PROZEMP | H10: Datum: | I10: ='Stavební rozpočet'!H8 -> 45948
A12: Rozpočtové náklady v Kč
A13: A | B13: Základní rozpočtové náklady | D13: B | E13: Doplňkové náklady | G13: C | H13: Náklady na umístění stavby (NUS)
A14: HSV | B14: Dodávky | C14: =SUM('Stavební rozpočet'!AB12:AB25) -> 30634.05 | D14: Práce přesčas | F14: =VORN!I15 -> 0 | G14: Zařízení staveniště | I14: =VORN!I21 -> 0
B15: Montáž | C15: =SUM('Stavební rozpočet'!AC12:AC25) -> 87354.95 | D15: Bez pevné podl. | F15: =VORN!I16 -> 0 | G15: Mimostav. doprava | I15: =VORN!I22 -> 0
A16: PSV | B16: Dodávky | C16: =SUM('Stavební rozpočet'!AD12:AD25) -> 0 | D16: Kulturní památka | F16: =VORN!I17 -> 0 | G16: Územní vlivy | I16: =VORN!I23 -> 0
B17: Montáž | C17: =SUM('Stavební rozpočet'!AE12:AE25) -> 0 | G17: Provozní vlivy | I17: =VORN!I24 -> 0
A18: "M" | B18: Dodávky | C18: =SUM('Stavební rozpočet'!AF12:AF25) -> 0 | G18: Ostatní | I18: =VORN!I25 -> 0
B19: Montáž | C19: =SUM('Stavební rozpočet'!AG12:AG25) -> 0 | G19: NUS z rozpočtu | I19: =VORN!I26 -> 0
A20: Ostatní materiál | C20: =SUM('Stavební rozpočet'!AH12:AH25) -> 36319
A21: Přesun hmot a sutí | C21: =SUM('Stavební rozpočet'!Z12:Z25) -> 58652.5
A22: ZRN před slevou | C22: =ROUND(SUM(C14:C21),2) -> 212960.5 | D22: DN celkem | F22: =SUM(F14:F21) -> 0 | G22: NUS celkem | I22: =SUM(I14:I21) -> 0
A23: Sleva % | C23: 23 | D23: DN celkem z obj. | F23: 0 | G23: NUS celkem z obj. | I23: 0
A24: ZRN po slevě | C24: =ROUND(C22*(1-C23/100),2) -> 163979.59 | G24: VORN celkem | I24: =vorn_sum -> 0
G25: VORN celkem z obj. | I25: 0
A28: Základ 0% | C28: =ROUND(SUM('Stavební rozpočet'!AJ12:AJ25)*(1-C23/100),2) -> 0
A29: Základ 12% | C29: =ROUND(SUM('Stavební rozpočet'!AK12:AK25)*(1-C23/100),2) -> 0 | D29: DPH 12% | F29: =ROUND(C29*(12/100),2) -> 0 | G29: Celkem bez DPH | I29: =ROUND(SUM(C28:C30),2) -> 163979.59
A30: Základ 21% | C30: =ROUND(SUM('Stavební rozpočet'!AL12:AL25)*(1-C23/100)+(F22+I22+F23+I23+I24+I25),2) -> 163979.59 | D30: DPH 21% | F30: =ROUND(C30*(21/100),2) -> 34435.71 | G30: Celkem včetně DPH | I30: =ROUND(SUM(F29:F30)+I29,2) -> 198415.3
A32: Projektant | D32: Objednatel | G32: Zhotovitel
A36: Datum, razítko a podpis | D36: Datum, razítko a podpis | G36: Datum, razítko a podpis
A37: Poznámka:

Sheet VORN
A1: Vedlejší a ostatní rozpočtové náklady
A2: Název stavby: | C2: ='Stavební rozpočet'!D2 -> Oprava hráze rybníčku | E2: Objednatel: | F2: ='Stavební rozpočet'!K2 -> SRŠ Vodňany | H2: IČO/DIČ:
A4: Druh stavby: | C4: ='Stavební rozpočet'!D4 | E4: Projektant: | F4: ='Stavební rozpočet'!K4 | H4: IČO/DIČ:
A6: Lokalita: | C6: ='Stavební rozpočet'!D6 -> Vodňany | E6: Zhotovitel: | F6: ='Stavební rozpočet'!K6 -> Aleš Handšuh- PROZEMP | H6: IČO/DIČ: | I6: 73504645/CZ8305111595
A8: Začátek výstavby: | C8: ='Stavební rozpočet'!H4 -> po uzavření smlouvy | E8: Konec výstavby: | F8: ='Stavební rozpočet'!H6 -> 31.12.2025 | H8: Položek: | I8: 8
A10: JKSO: | C10: ='Stavební rozpočet'!D8 | E10: Zpracoval: | F10: ='Stavební rozpočet'!K8 -> Aleš Handšuh-PROZEMP | H10: Datum: | I10: ='Stavební rozpočet'!H8 -> 45948
A13: Vedlejší rozpočtové náklady VRN
A14: Doplňkové náklady DN | F14: Kč | G14: % | H14: Základna | I14: Kč
A15: Práce přesčas | F15: 0 | I15: =F15 -> 0
A16: Bez pevné podl. | F16: 0 | I16: =F16 -> 0
A17: Kulturní památka | F17: 0 | I17: =F17 -> 0
A18: Celkem DN | I18: =SUM(I15:I17) -> 0
A20: Náklady na umístění stavby (NUS) | F20: Kč | G20: % | H20: Základna | I20: Kč
A21: Zařízení staveniště | F21: 0 | I21: =F21 -> 0
A22: Mimostav. doprava | F22: 0 | I22: =F22 -> 0
A23: Územní vlivy | F23: 0 | I23: =F23 -> 0
A24: Provozní vlivy | F24: 0 | I24: =F24 -> 0
A25: Ostatní | F25: 0 | I25: =F25 -> 0
A26: NUS z rozpočtu | F26: 0 | I26: =F26 -> 0
A27: Celkem NUS | I27: =SUM(I21:I26) -> 0
A29: Celkem VRN | F29: =I18+I27 -> 0
A33: Ostatní rozpočtové náklady ORN
A34: Ostatní rozpočtové náklady (ORN) | F34: Kč | G34: % | H34: Základna | I34: Kč
F35: 0 | I35: =F35 -> 0
A36: Celkem ORN | I36: =SUM(I35:I35) -> 0
