Workbook

Sheet Rekapitulace stavby
A1: Export Komplet | BA1: 2.0 | BT1: False | BU1: False | BV1: {f22687d4-b245-44a7-a609-6aff1612582d}
AR2: >> skryté sloupce << | BS2: 0,01 | BT2: 21
BS3: 0,01 | BT3: 12
D4: REKAPITULACE STAVBY | AS4: v --- níže se nacházejí doplnkové a pomocné údaje k sestavám --- v | BS4: 0,001
D5: Kód: | BS5: 0,01
D6: Stavba: | K6: MŠ Na Kopci Karviná - Oprava části kanalizace - VCP+MNP | BS6: 0,01
D7: KSO: | AK7: CC-CZ: | BS7: 0,01
D8: Místo: | K8: Karviná | AK8: Datum: | AN8: 45884 | BS8: 0,01
BS9: 0,01
D10: Zadavatel: | AK10: IČ: | AN10: 62331353 | BS10: 0,01
K11: ZŠ a MŠ Borovského, Karviná, p.o. | AK11: DIČ: | BS11: 0,01
BS12: 0,01
D13: Zhotovitel: | AK13: IČ: | AN13: 05178169 | BS13: 0,01
K14: Monitoring a čištění potrubí s.r.o. | AK14: DIČ: | AN14: CZ05178169 | BS14: 0,01
BS15: False
D16: Projektant: | AK16: IČ: | BS16: False
AK17: DIČ: | BS17: True
BS18: 0,01
D19: Zpracovatel: | AK19: IČ: | BS19: 0,01
AK20: DIČ: | BS20: True
D22: Poznámka:
D26: Cena bez DPH | AK26: =ROUND(AG94,2) -> -3714.58
L28: Sazba daně | W28: Základ daně | AK28: Výše daně
D29: DPH | F29: základní | L29: 0.21 | W29: =ROUND(AZ94, 2) -> -3714.58 | AK29: =ROUND(AV94, 2) -> -780.06
F30: snížená | L30: 0.12 | W30: =ROUND(BA94, 2) -> 0 | AK30: =ROUND(AW94, 2) -> 0
F31: zákl. přenesená | L31: 0.21 | W31: =ROUND(BB94, 2) -> 0 | AK31: 0
F32: sníž. přenesená | L32: 0.12 | W32: =ROUND(BC94, 2) -> 0 | AK32: 0
F33: nulová | L33: 0 | W33: =ROUND(BD94, 2) -> 0 | AK33: 0
D35: Cena s DPH | T35: v | X35: CZK | AK35: =SUM(AK26:AK33) -> -4494.64
D49: Projektant | AH49: Zpracovatel
D60: Datum a podpis: | V60: Razítko | AH60: Datum a podpis: | AM60: Razítko
D64: Objednavatel | AH64: Zhotovitel
D75: Datum a podpis: | V75: Razítko | AH75: Datum a podpis: | AM75: Razítko
C82: REKAPITULACE OBJEKTŮ STAVBY A SOUPISŮ PRACÍ
C84: Kód:
C85: Stavba: | L85: =K6 -> MŠ Na Kopci Karviná - Oprava části kanalizace - VCP+MNP
C87: Místo: | L87: =IF(K8="","",K8) -> Karviná | AI87: Datum: | AM87: =IF(AN8= "","",AN8) -> 45884
C89: Zadavatel: | L89: ZŠ a MŠ Borovského, Karviná, p.o. | AI89: Projektant: | AM89: =IF(E17="","",E17) | AS89: Informatívní údaje z listů zakázek
C90: Zhotovitel: | L90: Monitoring a čištění potrubí s.r.o. | AI90: Zpracovatel: | AM90: =IF(E20="","",E20)
C92: Kód | I92: Popis | AG92: Cena bez DPH [CZK] | AN92: Cena s DPH [CZK] | AQ92: Typ | AS92: z toho Ostat._x000D_ náklady [CZK] | AT92: DPH [CZK] | AU92: Normohodiny [h] | AV92: DPH základní [CZK] | AW92: DPH snížená [CZK] | AX92: DPH základní přenesená_x000D_ [CZK] | AY92: DPH snížená přenesená_x000D_ [CZK] | AZ92: Základna_x000D_ DPH základní | BA92: Základna_x000D_ DPH snížená | BB92: Základna_x000D_ DPH zákl. přenesená | BC92: Základna_x000D_ DPH sníž. přenesená | BD92: Základna_x000D_ DPH nulová
...

Sheet 01 - Oprava venkovní kana...
L2: >> skryté sloupce << | AT2: {cc9ac75f-4d1c-4b7a-a548-f3d36d9896d8}
AT3: 2
D4: KRYCÍ LIST SOUPISU PRACÍ | M4: v --- níže se nacházejí doplnkové a pomocné údaje k sestavám --- v | AT4: False
D6: Stavba:
E7: ='Rekapitulace stavby'!K6 -> MŠ Na Kopci Karviná - Oprava části kanalizace - VCP+MNP
D8: Objekt:
E9: 01 - Oprava části venkovní kanalizace - VCP+MNP
D11: KSO: | I11: CC-CZ:
D12: Místo: | I12: Datum: | J12: ='Rekapitulace stavby'!AN8 -> 45884
D14: Zadavatel: | I14: IČ: | J14: =IF('Rekapitulace stavby'!AN10="","",'Rekapitulace stavby'!AN10) -> 62331353
E15: ZŠ a MŠ Borovského, Karviná, p.o. | I15: DIČ: | J15: =IF('Rekapitulace stavby'!AN11="","",'Rekapitulace stavby'!AN11)
D17: Zhotovitel: | I17: IČ: | J17: ='Rekapitulace stavby'!AN13 -> 05178169
E18: Monitoring a čištění potrubí s.r.o. | I18: DIČ: | J18: ='Rekapitulace stavby'!AN14 -> CZ05178169
D20: Projektant: | I20: IČ: | J20: =IF('Rekapitulace stavby'!AN16="","",'Rekapitulace stavby'!AN16)
E21: =IF('Rekapitulace stavby'!E17="","",'Rekapitulace stavby'!E17) | I21: DIČ: | J21: =IF('Rekapitulace stavby'!AN17="","",'Rekapitulace stavby'!AN17)
D23: Zpracovatel: | I23: IČ: | J23: =IF('Rekapitulace stavby'!AN19="","",'Rekapitulace stavby'!AN19)
E24: =IF('Rekapitulace stavby'!E20="","",'Rekapitulace stavby'!E20) | I24: DIČ: | J24: =IF('Rekapitulace stavby'!AN20="","",'Rekapitulace stavby'!AN20)
D26: Poznámka:
D30: Cena bez DPH | J30: =ROUND(J128, 2) -> 28329.1
F32: Základ daně | I32: Sazba daně | J32: Výše daně
D33: DPH | E33: základní | F33: =ROUND((SUM(BE128:BE208)), 2) -> 28329.1 | I33: 0.21 | J33: =ROUND(((SUM(BE128:BE208))*I33), 2) -> 5949.11
E34: snížená | F34: =ROUND((SUM(BF128:BF208)), 2) -> 0 | I34: 0.12 | J34: =ROUND(((SUM(BF128:BF208))*I34), 2) -> 0
E35: zákl. přenesená | F35: =ROUND((SUM(BG128:BG208)), 2) -> 0 | I35: 0.21 | J35: =0 -> 0
E36: sníž. přenesená | F36: =ROUND((SUM(BH128:BH208)), 2) -> 0 | I36: 0.12 | J36: =0 -> 0
E37: nulová | F37: =ROUND((SUM(BI128:BI208)), 2) -> 0 | I37: 0 | J37: =0 -> 0
D39: Cena s DPH | G39: v | H39: CZK | J39: =SUM(J30:J37) -> 34278.21
D50: Projektant | G50: Zpracovatel
D61: Datum a podpis: | F61: Razítko | G61: Datum a podpis: | J61: Razítko
D65: Objednavatel | G65: Zhotovitel
D76: Datum a podpis: | F76: Razítko | G76: Datum a podpis: | J76: Razítko
C82: REKAPITULACE ČLENĚNÍ SOUPISU PRACÍ
C84: Stavba:
E85: =E7 -> MŠ Na Kopci Karviná - Oprava části kanalizace - VCP+MNP
C86: Objekt:
E87: =E9 -> 01 - Oprava části venkovní kanalizace - VCP+MNP
C89: Místo: | F89: =F12 | I89: Datum: | J89: =IF(J12="","",J12) -> 45884
C91: Zadavatel: | F91: =E15 -> ZŠ a MŠ Borovského, Karviná, p.o. | I91: Projektant: | J91: =E21
C92: Zhotovitel: | F92: =IF(E18="","",E18) -> Monitoring a čištění potrubí s.r.o. | I92: Zpracovatel: | J92: =E24
C94: Kód dílu - Popis | J94: Cena celkem [CZK]
C96: Náklady ze soupisu prací | J96: =J128 -> 28329.1 | AU96: -1
...

Sheet 02 - Oprava vnitřní kanal...
L2: >> skryté sloupce << | AT2: {05600189-a2ca-4dd7-9684-6b8aa66a2b89}
AT3: 2
D4: KRYCÍ LIST SOUPISU PRACÍ | M4: v --- níže se nacházejí doplnkové a pomocné údaje k sestavám --- v | AT4: False
D6: Stavba:
E7: ='Rekapitulace stavby'!K6 -> MŠ Na Kopci Karviná - Oprava části kanalizace - VCP+MNP
D8: Objekt:
E9: 02 - Oprava části vnitřní kanalizace - VCP+MNP
D11: KSO: | I11: CC-CZ:
D12: Místo: | I12: Datum: | J12: ='Rekapitulace stavby'!AN8 -> 45884
D14: Zadavatel: | I14: IČ: | J14: =IF('Rekapitulace stavby'!AN10="","",'Rekapitulace stavby'!AN10) -> 62331353
E15: ZŠ a MŠ Borovského, Karviná, p.o. | I15: DIČ: | J15: =IF('Rekapitulace stavby'!AN11="","",'Rekapitulace stavby'!AN11)
D17: Zhotovitel: | I17: IČ: | J17: ='Rekapitulace stavby'!AN13 -> 05178169
E18: Monitoring a čištění potrubí s.r.o. | I18: DIČ: | J18: ='Rekapitulace stavby'!AN14 -> CZ05178169
D20: Projektant: | I20: IČ: | J20: =IF('Rekapitulace stavby'!AN16="","",'Rekapitulace stavby'!AN16)
E21: =IF('Rekapitulace stavby'!E17="","",'Rekapitulace stavby'!E17) | I21: DIČ: | J21: =IF('Rekapitulace stavby'!AN17="","",'Rekapitulace stavby'!AN17)
D23: Zpracovatel: | I23: IČ: | J23: =IF('Rekapitulace stavby'!AN19="","",'Rekapitulace stavby'!AN19)
E24: =IF('Rekapitulace stavby'!E20="","",'Rekapitulace stavby'!E20) | I24: DIČ: | J24: =IF('Rekapitulace stavby'!AN20="","",'Rekapitulace stavby'!AN20)
D26: Poznámka:
D30: Cena bez DPH | J30: =ROUND(J134, 2) -> -32043.68
F32: Základ daně | I32: Sazba daně | J32: Výše daně
D33: DPH | E33: základní | F33: =ROUND((SUM(BE134:BE216)), 2) -> -32043.68 | I33: 0.21 | J33: =ROUND(((SUM(BE134:BE216))*I33), 2) -> -6729.17
E34: snížená | F34: =ROUND((SUM(BF134:BF216)), 2) -> 0 | I34: 0.12 | J34: =ROUND(((SUM(BF134:BF216))*I34), 2) -> 0
E35: zákl. přenesená | F35: =ROUND((SUM(BG134:BG216)), 2) -> 0 | I35: 0.21 | J35: =0 -> 0
E36: sníž. přenesená | F36: =ROUND((SUM(BH134:BH216)), 2) -> 0 | I36: 0.12 | J36: =0 -> 0
E37: nulová | F37: =ROUND((SUM(BI134:BI216)), 2) -> 0 | I37: 0 | J37: =0 -> 0
D39: Cena s DPH | G39: v | H39: CZK | J39: =SUM(J30:J37) -> -38772.85
D50: Projektant | G50: Zpracovatel
D61: Datum a podpis: | F61: Razítko | G61: Datum a podpis: | J61: Razítko
D65: Objednavatel | G65: Zhotovitel
D76: Datum a podpis: | F76: Razítko | G76: Datum a podpis: | J76: Razítko
C82: REKAPITULACE ČLENĚNÍ SOUPISU PRACÍ
C84: Stavba:
E85: =E7 -> MŠ Na Kopci Karviná - Oprava části kanalizace - VCP+MNP
C86: Objekt:
E87: =E9 -> 02 - Oprava části vnitřní kanalizace - VCP+MNP
C89: Místo: | F89: =F12 | I89: Datum: | J89: =IF(J12="","",J12) -> 45884
C91: Zadavatel: | F91: =E15 -> ZŠ a MŠ Borovského, Karviná, p.o. | I91: Projektant: | J91: =E21
C92: Zhotovitel: | F92: =IF(E18="","",E18) -> Monitoring a čištění potrubí s.r.o. | I92: Zpracovatel: | J92: =E24
C94: Kód dílu - Popis | J94: Cena celkem [CZK]
C96: Náklady ze soupisu prací | J96: =J134 -> -32043.68 | AU96: -1
...
