Workbook

Sheet Rekapitulace stavby
A1: Export Komplet | BA1: 2.0 | BT1: False | BU1: False | BV1: {f22687d4-b245-44a7-a609-6aff1612582d}
AR2: >> skryté sloupce << | BS2: 0,01 | BT2: 21
BS3: 0,01 | BT3: 12
D4: REKAPITULACE STAVBY | AS4: v --- níže se nacházejí doplnkové a pomocné údaje k sestavám --- v | BS4: 0,001
D5: Kód: | BS5: 0,01
D6: Stavba: | K6: MŠ Na Kopci Karviná - Oprava části kanalizace - VCP+MNP | BS6: 0,01
D7: KSO: | AK7: CC-CZ: | BS7: 0,01
D8: Místo: | K8: Karviná | AK8: Datum: | AN8: 45884 | BS8: 0,01
BS9: 0,01
D10: Zadavatel: | AK10: IČ: | AN10: 62331353 | BS10: 0,01
K11: ZŠ a MŠ Borovského, Karviná, p.o. | AK11: DIČ: | BS11: 0,01
BS12: 0,01
D13: Zhotovitel: | AK13: IČ: | AN13: 05178169 | BS13: 0,01
K14: Monitoring a čištění potrubí s.r.o. | AK14: DIČ: | AN14: CZ05178169 | BS14: 0,01
BS15: False
D16: Projektant: | AK16: IČ: | BS16: False
AK17: DIČ: | BS17: True
BS18: 0,01
D19: Zpracovatel: | AK19: IČ: | BS19: 0,01
AK20: DIČ: | BS20: True
D22: Poznámka:
D26: Cena bez DPH | AK26: =ROUND(AG94,2) -> -3714.58
L28: Sazba daně | W28: Základ daně | AK28: Výše daně
D29: DPH | F29: základní | L29: 0.21 | W29: =ROUND(AZ94, 2) -> -3714.58 | AK29: =ROUND(AV94, 2) -> -780.06
F30: snížená | L30: 0.12 | W30: =ROUND(BA94, 2) -> 0 | AK30: =ROUND(AW94, 2) -> 0
F31: zákl. přenesená | L31: 0.21 | W31: =ROUND(BB94, 2) -> 0 | AK31: 0
F32: sníž. přenesená | L32: 0.12 | W32: =ROUND(BC94, 2) -> 0 | AK32: 0
F33: nulová | L33: 0 | W33: =ROUND(BD94, 2) -> 0 | AK33: 0
D35: Cena s DPH | T35: v | X35: CZK | AK35: =SUM(AK26:AK33) -> -4494.64
D49: Projektant | AH49: Zpracovatel
D60: Datum a podpis: | V60: Razítko | AH60: Datum a podpis: | AM60: Razítko
D64: Objednavatel | AH64: Zhotovitel
D75: Datum a podpis: | V75: Razítko | AH75: Datum a podpis: | AM75: Razítko
C82: REKAPITULACE OBJEKTŮ STAVBY A SOUPISŮ PRACÍ
C84: Kód:
C85: Stavba: | L85: =K6 -> MŠ Na Kopci Karviná - Oprava části kanalizace - VCP+MNP
C87: Místo: | L87: =IF(K8="","",K8) -> Karviná | AI87: Datum: | AM87: =IF(AN8= "","",AN8) -> 45884
C89: Zadavatel: | L89: ZŠ a MŠ Borovského, Karviná, p.o. | AI89: Projektant: | AM89: =IF(E17="","",E17) | AS89: Informatívní údaje z listů zakázek
C90: Zhotovitel: | L90: Monitoring a čištění potrubí s.r.o. | AI90: Zpracovatel: | AM90: =IF(E20="","",E20)
C92: Kód | I92: Popis | AG92: Cena bez DPH [CZK] | AN92: Cena s DPH [CZK] | AQ92: Typ | AS92: z toho Ostat._x000D_ náklady [CZK] | AT92: DPH [CZK] | AU92: Normohodiny [h] | AV92: DPH základní [CZK] | AW92: DPH snížená [CZK] | AX92: DPH základní přenesená_x000D_ [CZK] | AY92: DPH snížená přenesená_x000D_ [CZK] | AZ92: Základna_x000D_ DPH základní | BA92: Základna_x000D_ DPH snížená | BB92: Základna_x000D_ DPH zákl. přenesená | BC92: Základna_x000D_ DPH sníž. přenesená | BD92: Základna_x000D_ DPH nulová
C94: Náklady z rozpočtů | AG94: =ROUND(SUM(AG95:AG96),2) -> -3714.58 | AN94: =SUM(AG94,AT94) -> -4494.64 | AS94: =ROUND(SUM(AS95:AS96),2) -> 0 | AT94: =ROUND(SUM(AV94:AW94),2) -> -780.06 | AU94: =ROUND(SUM(AU95:AU96),5) -> #REF! | AV94: =ROUND(AZ94*L29,2) -> -780.06 | AW94: =ROUND(BA94*L30,2) -> 0 | AX94: =ROUND(BB94*L29,2) -> 0 | AY94: =ROUND(BC94*L30,2) -> 0 | AZ94: =ROUND(SUM(AZ95:AZ96),2) -> -3714.58 | BA94: =ROUND(SUM(BA95:BA96),2) -> 0 | BB94: =ROUND(SUM(BB95:BB96),2) -> 0 | BC94: =ROUND(SUM(BC95:BC96),2) -> 0 | BD94: =ROUND(SUM(BD95:BD96),2) -> 0 | BS94: D | BT94: 0 | BU94: ###NOIMPORT### | BV94: IMPORT | BW94: {f22687d4-b245-44a7-a609-6aff1612582d} | BX94: {00000000-0000-0000-0000-000000000000}
A95: / | D95: 01 | J95: Oprava části venkovní kanalizace - VCP+MNP | AG95: ='01 - Oprava venkovní kana...'!J30 -> 28329.1 | AN95: =SUM(AG95,AT95) -> 34278.21 | AQ95: STA | AS95: 0 | AT95: =ROUND(SUM(AV95:AW95),2) -> 5949.11 | AU95: ='01 - Oprava venkovní kana...'!P128 -> 201.5005 | AV95: ='01 - Oprava venkovní kana...'!J33 -> 5949.11 | AW95: ='01 - Oprava venkovní kana...'!J34 -> 0 | AX95: ='01 - Oprava venkovní kana...'!J35 -> 0 | AY95: ='01 - Oprava venkovní kana...'!J36 -> 0 | AZ95: ='01 - Oprava venkovní kana...'!F33 -> 28329.1 | BA95: ='01 - Oprava venkovní kana...'!F34 -> 0 | BB95: ='01 - Oprava venkovní kana...'!F35 -> 0 | BC95: ='01 - Oprava venkovní kana...'!F36 -> 0 | BD95: ='01 - Oprava venkovní kana...'!F37 -> 0 | BT95: 1 | BV95: IMPORT | BW95: {cc9ac75f-4d1c-4b7a-a548-f3d36d9896d8} | BX95: {f22687d4-b245-44a7-a609-6aff1612582d} | CM95: 2
A96: / | D96: 02 | J96: Oprava části vnitřní kanalizace - VCP+MNP | AG96: ='02 - Oprava vnitřní kanal...'!J30 -> -32043.68 | AN96: =SUM(AG96,AT96) -> -38772.85 | AQ96: STA | AS96: 0 | AT96: =ROUND(SUM(AV96:AW96),2) -> -6729.17 | AU96: ='02 - Oprava vnitřní kanal...'!P134 -> #REF! | AV96: ='02 - Oprava vnitřní kanal...'!J33 -> -6729.17 | AW96: ='02 - Oprava vnitřní kanal...'!J34 -> 0 | AX96: ='02 - Oprava vnitřní kanal...'!J35 -> 0 | AY96: ='02 - Oprava vnitřní kanal...'!J36 -> 0 | AZ96: ='02 - Oprava vnitřní kanal...'!F33 -> -32043.68 | BA96: ='02 - Oprava vnitřní kanal...'!F34 -> 0 | BB96: ='02 - Oprava vnitřní kanal...'!F35 -> 0 | BC96: ='02 - Oprava vnitřní kanal...'!F36 -> 0 | BD96: ='02 - Oprava vnitřní kanal...'!F37 -> 0 | BT96: 1 | BV96: IMPORT | BW96: {05600189-a2ca-4dd7-9684-6b8aa66a2b89} | BX96: {f22687d4-b245-44a7-a609-6aff1612582d} | CM96: 2

Sheet 01 - Oprava venkovní kana...
L2: >> skryté sloupce << | AT2: {cc9ac75f-4d1c-4b7a-a548-f3d36d9896d8}
AT3: 2
D4: KRYCÍ LIST SOUPISU PRACÍ | M4: v --- níže se nacházejí doplnkové a pomocné údaje k sestavám --- v | AT4: False
D6: Stavba:
E7: ='Rekapitulace stavby'!K6 -> MŠ Na Kopci Karviná - Oprava části kanalizace - VCP+MNP
D8: Objekt:
E9: 01 - Oprava části venkovní kanalizace - VCP+MNP
D11: KSO: | I11: CC-CZ:
D12: Místo: | I12: Datum: | J12: ='Rekapitulace stavby'!AN8 -> 45884
D14: Zadavatel: | I14: IČ: | J14: =IF('Rekapitulace stavby'!AN10="","",'Rekapitulace stavby'!AN10) -> 62331353
E15: ZŠ a MŠ Borovského, Karviná, p.o. | I15: DIČ: | J15: =IF('Rekapitulace stavby'!AN11="","",'Rekapitulace stavby'!AN11)
D17: Zhotovitel: | I17: IČ: | J17: ='Rekapitulace stavby'!AN13 -> 05178169
E18: Monitoring a čištění potrubí s.r.o. | I18: DIČ: | J18: ='Rekapitulace stavby'!AN14 -> CZ05178169
D20: Projektant: | I20: IČ: | J20: =IF('Rekapitulace stavby'!AN16="","",'Rekapitulace stavby'!AN16)
E21: =IF('Rekapitulace stavby'!E17="","",'Rekapitulace stavby'!E17) | I21: DIČ: | J21: =IF('Rekapitulace stavby'!AN17="","",'Rekapitulace stavby'!AN17)
D23: Zpracovatel: | I23: IČ: | J23: =IF('Rekapitulace stavby'!AN19="","",'Rekapitulace stavby'!AN19)
E24: =IF('Rekapitulace stavby'!E20="","",'Rekapitulace stavby'!E20) | I24: DIČ: | J24: =IF('Rekapitulace stavby'!AN20="","",'Rekapitulace stavby'!AN20)
D26: Poznámka:
D30: Cena bez DPH | J30: =ROUND(J128, 2) -> 28329.1
F32: Základ daně | I32: Sazba daně | J32: Výše daně
D33: DPH | E33: základní | F33: =ROUND((SUM(BE128:BE208)), 2) -> 28329.1 | I33: 0.21 | J33: =ROUND(((SUM(BE128:BE208))*I33), 2) -> 5949.11
E34: snížená | F34: =ROUND((SUM(BF128:BF208)), 2) -> 0 | I34: 0.12 | J34: =ROUND(((SUM(BF128:BF208))*I34), 2) -> 0
E35: zákl. přenesená | F35: =ROUND((SUM(BG128:BG208)), 2) -> 0 | I35: 0.21 | J35: =0 -> 0
E36: sníž. přenesená | F36: =ROUND((SUM(BH128:BH208)), 2) -> 0 | I36: 0.12 | J36: =0 -> 0
E37: nulová | F37: =ROUND((SUM(BI128:BI208)), 2) -> 0 | I37: 0 | J37: =0 -> 0
D39: Cena s DPH | G39: v | H39: CZK | J39: =SUM(J30:J37) -> 34278.21
D50: Projektant | G50: Zpracovatel
D61: Datum a podpis: | F61: Razítko | G61: Datum a podpis: | J61: Razítko
D65: Objednavatel | G65: Zhotovitel
D76: Datum a podpis: | F76: Razítko | G76: Datum a podpis: | J76: Razítko
C82: REKAPITULACE ČLENĚNÍ SOUPISU PRACÍ
C84: Stavba:
E85: =E7 -> MŠ Na Kopci Karviná - Oprava části kanalizace - VCP+MNP
C86: Objekt:
E87: =E9 -> 01 - Oprava části venkovní kanalizace - VCP+MNP
C89: Místo: | F89: =F12 | I89: Datum: | J89: =IF(J12="","",J12) -> 45884
C91: Zadavatel: | F91: =E15 -> ZŠ a MŠ Borovského, Karviná, p.o. | I91: Projektant: | J91: =E21
C92: Zhotovitel: | F92: =IF(E18="","",E18) -> Monitoring a čištění potrubí s.r.o. | I92: Zpracovatel: | J92: =E24
C94: Kód dílu - Popis | J94: Cena celkem [CZK]
C96: Náklady ze soupisu prací | J96: =J128 -> 28329.1 | AU96: -1
D97: HSV - Práce a dodávky HSV | J97: =J129 -> 28539.1
D98: 1 - Zemní práce | J98: =J130 -> 31407.5
D99: 2 - Zakládání | J99: =J151 -> 798
D100: 45 - Podkladní a vedlejší konstrukce | J100: =J153 -> 0
D101: 5 - Komunikace pozemní | J101: =J155 -> 3865.6
D102: 63 - Podkladní konstrukce | J102: =J158 -> 0
D103: 8 - Trubní vedení | J103: =J160 -> -36125
D104: 9 - Ostatní konstrukce a práce | J104: =J194 -> 28593
D105: 997 - Přesun sutě | J105: =J198 -> 0
D106: 998 - Přesun hmot | J106: =J203 -> 0
D107: PSV - Práce a dodávky PSV | J107: =J205 -> -210
D108: 721 - Zdravotechnika - vnitřní kanalizace | J108: =J206 -> -210
C115: SOUPIS PRACÍ
C117: Stavba:
E118: =E7 -> MŠ Na Kopci Karviná - Oprava části kanalizace - VCP+MNP
C119: Objekt:
E120: =E9 -> 01 - Oprava části venkovní kanalizace - VCP+MNP
C122: Místo: | F122: =F12 | I122: Datum: | J122: =IF(J12="","",J12) -> 45884
C124: Zadavatel: | F124: =E15 -> ZŠ a MŠ Borovského, Karviná, p.o. | I124: Projektant: | J124: =E21
C125: Zhotovitel: | F125: =IF(E18="","",E18) -> Monitoring a čištění potrubí s.r.o. | I125: Zpracovatel: | J125: =E24
C127: PČ | D127: Typ | E127: Kód | F127: Popis | G127: MJ | H127: Množství | I127: J.cena [CZK] | J127: Cena celkem [CZK] | K127: Cenová soustava | N127: DPH | O127: J. Nh [h] | P127: Nh celkem [h] | Q127: J. hmotnost [t] | R127: Hmotnost celkem [t] | S127: J. suť [t] | T127: Suť Celkem [t]
C128: Náklady soupisu celkem | J128: =BK128 -> 28329.1 | P128: =P129+P205 -> 201.5005 | R128: =R129+R205 -> 3.090199 | T128: =T129+T205 -> 1.34 | AT128: D | AU128: -1 | BK128: =BK129+BK205 -> 28329.1
D129: D | E129: HSV | F129: Práce a dodávky HSV | J129: =BK129 -> 28539.1 | P129: =P130+P151+P153+P155+P158+P160+P194+P198+P203 -> 201.5005 | R129: =R130+R151+R153+R155+R158+R160+R194+R198+R203 -> 3.090199 | T129: =T130+T151+T153+T155+T158+T160+T194+T198+T203 -> 1.34 | AR129: 1 | AT129: D | AU129: 0 | AY129: ROZPOCET | BK129: =BK130+BK151+BK153+BK155+BK158+BK160+BK194+BK198+BK203 -> 28539.1
D130: D | E130: 1 | F130: Zemní práce | J130: =BK130 -> 31407.5 | P130: =SUM(P131:P150) -> 186.963 | R130: =SUM(R131:R150) -> 0 | T130: =SUM(T131:T150) -> 1.34 | AR130: 1 | AT130: D | AU130: 1 | AY130: ROZPOCET | BK130: =SUM(BK131:BK150) -> 31407.5
C131: 1 | D131: K | E131: 113106121 | F131: Rozebrání dlažeb z betonových dlaždic - ručně | G131: m2 | H131: 0 | I131: 75 | J131: =ROUND(I131*H131,2) -> 0 | N131: základní | O131: 0 | P131: =O131*H131 -> 0 | Q131: 0 | R131: =Q131*H131 -> 0 | S131: 0 | T131: =S131*H131 -> 0 | AR131: 4 | AT131: K | AU131: 2 | AY131: ROZPOCET | BE131: =IF(N131="základní",J131,0) -> 0 | BF131: =IF(N131="snížená",J131,0) -> 0 | BG131: =IF(N131="zákl. přenesená",J131,0) -> 0 | BH131: =IF(N131="sníž. přenesená",J131,0) -> 0 | BI131: =IF(N131="nulová",J131,0) -> 0 | BJ131: 1 | BK131: =ROUND(I131*H131,2) -> 0 | BL131: 4 | BM131: 2
C132: 2 | D132: K | E132: 113107142 | F132: Odstranění podkladu živičného tl přes 50 do 100 mm ručně | G132: m2 | H132: 2.5 | I132: 235 | J132: =ROUND(I132*H132,2) -> 587.5 | N132: základní | O132: 0.412 | P132: =O132*H132 -> 1.03 | Q132: 0 | R132: =Q132*H132 -> 0 | S132: 0.22 | T132: =S132*H132 -> 0.55 | AR132: 4 | AT132: K | AU132: 2 | AY132: ROZPOCET | BE132: =IF(N132="základní",J132,0) -> 587.5 | BF132: =IF(N132="snížená",J132,0) -> 0 | BG132: =IF(N132="zákl. přenesená",J132,0) -> 0 | BH132: =IF(N132="sníž. přenesená",J132,0) -> 0 | BI132: =IF(N132="nulová",J132,0) -> 0 | BJ132: 1 | BK132: =ROUND(I132*H132,2) -> 587.5 | BL132: 4 | BM132: 804457799
C133: 3 | D133: K | E133: 113107143 | F133: Odstranění podkladu živičného tl přes 100 do 150 mm ručně | G133: m2 | H133: 2.5 | I133: 392 | J133: =ROUND(I133*H133,2) -> 980 | N133: základní | O133: 0.688 | P133: =O133*H133 -> 1.72 | Q133: 0 | R133: =Q133*H133 -> 0 | S133: 0.316 | T133: =S133*H133 -> 0.79 | AR133: 4 | AT133: K | AU133: 2 | AY133: ROZPOCET | BE133: =IF(N133="základní",J133,0) -> 980 | BF133: =IF(N133="snížená",J133,0) -> 0 | BG133: =IF(N133="zákl. přenesená",J133,0) -> 0 | BH133: =IF(N133="sníž. přenesená",J133,0) -> 0 | BI133: =IF(N133="nulová",J133,0) -> 0 | BJ133: 1 | BK133: =ROUND(I133*H133,2) -> 980 | BL133: 4 | BM133: 806822847
C134: 4 | D134: K | E134: 121151103 | F134: Přemístění zeminy vrstvy tl. do do 200 mm - do 50 m strojně | G134: m2 | H134: 0 | I134: 58 | J134: =ROUND(I134*H134,2) -> 0 | N134: základní | O134: 0 | P134: =O134*H134 -> 0 | Q134: 0 | R134: =Q134*H134 -> 0 | S134: 0 | T134: =S134*H134 -> 0 | AR134: 4 | AT134: K | AU134: 2 | AY134: ROZPOCET | BE134: =IF(N134="základní",J134,0) -> 0 | BF134: =IF(N134="snížená",J134,0) -> 0 | BG134: =IF(N134="zákl. přenesená",J134,0) -> 0 | BH134: =IF(N134="sníž. přenesená",J134,0) -> 0 | BI134: =IF(N134="nulová",J134,0) -> 0 | BJ134: 1 | BK134: =ROUND(I134*H134,2) -> 0 | BL134: 4 | BM134: 4
C135: 5 | D135: K | E135: 122251102 | F135: Odkopávky ( s naložením ) v hornině třídy těžitelnosti I skupiny 3 objem do 50 m3 strojně | G135: m3 | H135: 0 | I135: 205 | J135: =ROUND(I135*H135,2) -> 0 | N135: základní | O135: 0 | P135: =O135*H135 -> 0 | Q135: 0 | R135: =Q135*H135 -> 0 | S135: 0 | T135: =S135*H135 -> 0 | AR135: 4 | AT135: K | AU135: 2 | AY135: ROZPOCET | BE135: =IF(N135="základní",J135,0) -> 0 | BF135: =IF(N135="snížená",J135,0) -> 0 | BG135: =IF(N135="zákl. přenesená",J135,0) -> 0 | BH135: =IF(N135="sníž. přenesená",J135,0) -> 0 | BI135: =IF(N135="nulová",J135,0) -> 0 | BJ135: 1 | BK135: =ROUND(I135*H135,2) -> 0 | BL135: 4 | BM135: 6
C136: 6 | D136: K | E136: 122251401 | F136: Vykopávky v zemníku na suchu v hornině třídy těžitelnosti I skupiny 3 objem do 20 m3 strojně | G136: m3 | H136: 0 | I136: 167 | J136: =ROUND(I136*H136,2) -> 0 | N136: základní | O136: 0 | P136: =O136*H136 -> 0 | Q136: 0 | R136: =Q136*H136 -> 0 | S136: 0 | T136: =S136*H136 -> 0 | AR136: 4 | AT136: K | AU136: 2 | AY136: ROZPOCET | BE136: =IF(N136="základní",J136,0) -> 0 | BF136: =IF(N136="snížená",J136,0) -> 0 | BG136: =IF(N136="zákl. přenesená",J136,0) -> 0 | BH136: =IF(N136="sníž. přenesená",J136,0) -> 0 | BI136: =IF(N136="nulová",J136,0) -> 0 | BJ136: 1 | BK136: =ROUND(I136*H136,2) -> 0 | BL136: 4 | BM136: 8
C137: 7 | D137: M | E137: 10364101 | F137: zemina pro terénní úpravy - ornice | G137: t | H137: 0 | I137: 585 | J137: =ROUND(I137*H137,2) -> 0 | N137: základní | O137: 0 | P137: =O137*H137 -> 0 | Q137: 0 | R137: =Q137*H137 -> 0 | S137: 0 | T137: =S137*H137 -> 0 | AR137: 8 | AT137: M | AU137: 2 | AY137: ROZPOCET | BE137: =IF(N137="základní",J137,0) -> 0 | BF137: =IF(N137="snížená",J137,0) -> 0 | BG137: =IF(N137="zákl. přenesená",J137,0) -> 0 | BH137: =IF(N137="sníž. přenesená",J137,0) -> 0 | BI137: =IF(N137="nulová",J137,0) -> 0 | BJ137: 1 | BK137: =ROUND(I137*H137,2) -> 0 | BL137: 4 | BM137: 10
C138: 8 | D138: K | E138: 132212131 | F138: Hloubení nezapažených rýh šířky do 800 mm v soudržných horninách třídy těžitelnosti I skupiny 3 ručně | G138: m3 | H138: 41 | I138: 1530 | J138: =ROUND(I138*H138,2) -> 62730 | N138: základní | O138: 4.493 | P138: =O138*H138 -> 184.213 | Q138: 0 | R138: =Q138*H138 -> 0 | S138: 0 | T138: =S138*H138 -> 0 | AR138: 4 | AT138: K | AU138: 2 | AY138: ROZPOCET | BE138: =IF(N138="základní",J138,0) -> 62730 | BF138: =IF(N138="snížená",J138,0) -> 0 | BG138: =IF(N138="zákl. přenesená",J138,0) -> 0 | BH138: =IF(N138="sníž. přenesená",J138,0) -> 0 | BI138: =IF(N138="nulová",J138,0) -> 0 | BJ138: 1 | BK138: =ROUND(I138*H138,2) -> 62730 | BL138: 4 | BM138: -1505957115
C139: 9 | D139: K | E139: 132251101 | F139: Hloubení rýh nezapažených š do 800 mm v hornině třídy těžitelnosti I skupiny 3 objem do 20 m3 strojně | G139: m3 | H139: -19.5 | I139: 1150 | J139: =ROUND(I139*H139,2) -> -22425 | N139: základní | O139: 0 | P139: =O139*H139 -> 0 | Q139: 0 | R139: =Q139*H139 -> 0 | S139: 0 | T139: =S139*H139 -> 0 | AR139: 4 | AT139: K | AU139: 2 | AY139: ROZPOCET | BE139: =IF(N139="základní",J139,0) -> -22425 | BF139: =IF(N139="snížená",J139,0) -> 0 | BG139: =IF(N139="zákl. přenesená",J139,0) -> 0 | BH139: =IF(N139="sníž. přenesená",J139,0) -> 0 | BI139: =IF(N139="nulová",J139,0) -> 0 | BJ139: 1 | BK139: =ROUND(I139*H139,2) -> -22425 | BL139: 4 | BM139: 12
C140: 10 | D140: K | E140: 132254102 | F140: Hloubení rýh zapažených š do 800 mm v hornině třídy těžitelnosti I skupiny 3 objem do 50 m3 strojně | G140: m3 | H140: 0 | I140: 1170 | J140: =ROUND(I140*H140,2) -> 0 | N140: základní | O140: 0 | P140: =O140*H140 -> 0 | Q140: 0 | R140: =Q140*H140 -> 0 | S140: 0 | T140: =S140*H140 -> 0 | AR140: 4 | AT140: K | AU140: 2 | AY140: ROZPOCET | BE140: =IF(N140="základní",J140,0) -> 0 | BF140: =IF(N140="snížená",J140,0) -> 0 | BG140: =IF(N140="zákl. přenesená",J140,0) -> 0 | BH140: =IF(N140="sníž. přenesená",J140,0) -> 0 | BI140: =IF(N140="nulová",J140,0) -> 0 | BJ140: 1 | BK140: =ROUND(I140*H140,2) -> 0 | BL140: 4 | BM140: 14
C141: 11 | D141: K | E141: 151101102 | F141: Zřízení příložného pažení a rozepření stěn rýh hl přes 2 do 4 m | G141: m2 | H141: -37 | I141: 245 | J141: =ROUND(I141*H141,2) -> -9065 | N141: základní | O141: 0 | P141: =O141*H141 -> 0 | Q141: 0 | R141: =Q141*H141 -> 0 | S141: 0 | T141: =S141*H141 -> 0 | AR141: 4 | AT141: K | AU141: 2 | AY141: ROZPOCET | BE141: =IF(N141="základní",J141,0) -> -9065 | BF141: =IF(N141="snížená",J141,0) -> 0 | BG141: =IF(N141="zákl. přenesená",J141,0) -> 0 | BH141: =IF(N141="sníž. přenesená",J141,0) -> 0 | BI141: =IF(N141="nulová",J141,0) -> 0 | BJ141: 1 | BK141: =ROUND(I141*H141,2) -> -9065 | BL141: 4 | BM141: 16
C142: 12 | D142: K | E142: 151101112 | F142: Odstranění příložného pažení stěn rýh hl přes 2 do 4 m | G142: m2 | H142: -37 | I142: 125 | J142: =ROUND(I142*H142,2) -> -4625 | N142: základní | O142: 0 | P142: =O142*H142 -> 0 | Q142: 0 | R142: =Q142*H142 -> 0 | S142: 0 | T142: =S142*H142 -> 0 | AR142: 4 | AT142: K | AU142: 2 | AY142: ROZPOCET | BE142: =IF(N142="základní",J142,0) -> -4625 | BF142: =IF(N142="snížená",J142,0) -> 0 | BG142: =IF(N142="zákl. přenesená",J142,0) -> 0 | BH142: =IF(N142="sníž. přenesená",J142,0) -> 0 | BI142: =IF(N142="nulová",J142,0) -> 0 | BJ142: 1 | BK142: =ROUND(I142*H142,2) -> -4625 | BL142: 4 | BM142: 18
... C150: 20 | D150: M | E150: 00572410 | F150: osivo směs travní parková | G150: kg | H150: 0 | I150: 100 | J150: =ROUND(I150*H150,2) -> 0 | N150: základní | O150: 0 | P150: =O150*H150 -> 0 | Q150: 0 | R150: =Q150*H150 -> 0 | S150: 0 | T150: =S150*H150 -> 0 | AR150: 8 | AT150: M | AU150: 2 | AY150: ROZPOCET | BE150: =IF(N150="základní",J150,0) -> 0 | BF150: =IF(N150="snížená",J150,0) -> 0 | BG150: =IF(N150="zákl. přenesená",J150,0) -> 0 | BH150: =IF(N150="sníž. přenesená",J150,0) -> 0 | BI150: =IF(N150="nulová",J150,0) -> 0 | BJ150: 1 | BK150: =ROUND(I150*H150,2) -> 0 | BL150: 4 | BM150: 34
D151: D | E151: 2 | F151: Zakládání | J151: =BK151 -> 798 | P151: =SUM(P152:P152) -> 0 | R151: =SUM(R152:R152) -> 0 | T151: =SUM(T152:T152) -> 0 | AR151: 1 | AT151: D | AU151: 1 | AY151: ROZPOCET | BK151: =SUM(BK152:BK152) -> 798
C152: 21 | D152: K | E152: 212755215 | F152: Trativody z drenážních trubek plastových D 125 mm bez lože | G152: m | H152: 7 | I152: 114 | J152: =ROUND(I152*H152,2) -> 798 | N152: základní | O152: 0 | P152: =O152*H152 -> 0 | Q152: 0 | R152: =Q152*H152 -> 0 | S152: 0 | T152: =S152*H152 -> 0 | AR152: 4 | AT152: K | AU152: 2 | AY152: ROZPOCET | BE152: =IF(N152="základní",J152,0) -> 798 | BF152: =IF(N152="snížená",J152,0) -> 0 | BG152: =IF(N152="zákl. přenesená",J152,0) -> 0 | BH152: =IF(N152="sníž. přenesená",J152,0) -> 0 | BI152: =IF(N152="nulová",J152,0) -> 0 | BJ152: 1 | BK152: =ROUND(I152*H152,2) -> 798 | BL152: 4 | BM152: 36
D153: D | E153: 45 | F153: Podkladní a vedlejší konstrukce | J153: =BK153 -> 0 | P153: =P154 -> 0 | R153: =R154 -> 0 | T153: =T154 -> 0 | AR153: 1 | AT153: D | AU153: 1 | AY153: ROZPOCET | BK153: =BK154 -> 0
C154: 22 | D154: K | E154: 451572111 | F154: Lože a obsyp potrubí z kameniva drobného těženého | G154: m3 | H154: 0 | I154: 1725 | J154: =ROUND(I154*H154,2) -> 0 | N154: základní | O154: 0 | P154: =O154*H154 -> 0 | Q154: 0 | R154: =Q154*H154 -> 0 | S154: 0 | T154: =S154*H154 -> 0 | AR154: 4 | AT154: K | AU154: 2 | AY154: ROZPOCET | BE154: =IF(N154="základní",J154,0) -> 0 | BF154: =IF(N154="snížená",J154,0) -> 0 | BG154: =IF(N154="zákl. přenesená",J154,0) -> 0 | BH154: =IF(N154="sníž. přenesená",J154,0) -> 0 | BI154: =IF(N154="nulová",J154,0) -> 0 | BJ154: 1 | BK154: =ROUND(I154*H154,2) -> 0 | BL154: 4 | BM154: 38
D155: D | E155: 5 | F155: Komunikace pozemní | J155: =BK155 -> 3865.6 | P155: =SUM(P156:P157) -> 2.816 | R155: =SUM(R156:R157) -> 1.033104 | T155: =SUM(T156:T157) -> 0 | AR155: 1 | AT155: D | AU155: 1 | AY155: ROZPOCET | BK155: =SUM(BK156:BK157) -> 3865.6
C156: 23 | D156: K | E156: 566901162 | F156: Vyspravení podkladu po překopech inženýrských sítí plochy do 15 m2 obalovaným kamenivem ACP tl. 150 mm | G156: m2 | H156: 1.6 | I156: 1680 | J156: =ROUND(I156*H156,2) -> 2688 | N156: základní | O156: 1.541 | P156: =O156*H156 -> 2.4656 | Q156: 0.39561 | R156: =Q156*H156 -> 0.632976 | S156: 0 | T156: =S156*H156 -> 0 | AR156: 4 | AT156: K | AU156: 2 | AY156: ROZPOCET | BE156: =IF(N156="základní",J156,0) -> 2688 | BF156: =IF(N156="snížená",J156,0) -> 0 | BG156: =IF(N156="zákl. přenesená",J156,0) -> 0 | BH156: =IF(N156="sníž. přenesená",J156,0) -> 0 | BI156: =IF(N156="nulová",J156,0) -> 0 | BJ156: 1 | BK156: =ROUND(I156*H156,2) -> 2688 | BL156: 4 | BM156: 21332358
C157: 24 | D157: K | E157: 566901171 | F157: Vyspravení podkladu po překopech inženýrských sítí plochy do 15 m2 směsí stmelenou cementem SC 20/25 tl 100 mm | G157: m2 | H157: 1.6 | I157: 736 | J157: =ROUND(I157*H157,2) -> 1177.6 | N157: základní | O157: 0.219 | P157: =O157*H157 -> 0.3504 | Q157: 0.25008 | R157: =Q157*H157 -> 0.400128 | S157: 0 | T157: =S157*H157 -> 0 | AR157: 4 | AT157: K | AU157: 2 | AY157: ROZPOCET | BE157: =IF(N157="základní",J157,0) -> 1177.6 | BF157: =IF(N157="snížená",J157,0) -> 0 | BG157: =IF(N157="zákl. přenesená",J157,0) -> 0 | BH157: =IF(N157="sníž. přenesená",J157,0) -> 0 | BI157: =IF(N157="nulová",J157,0) -> 0 | BJ157: 1 | BK157: =ROUND(I157*H157,2) -> 1177.6 | BL157: 4 | BM157: 2106097241
D158: D | E158: 63 | F158: Podkladní konstrukce | J158: =BK158 -> 0 | P158: =P159 -> 0 | R158: =R159 -> 0 | T158: =T159 -> 0 | AR158: 1 | AT158: D | AU158: 1 | AY158: ROZPOCET | BK158: =BK159 -> 0
C159: 25 | D159: K | E159: 637211121 | F159: Okapový chodník z betonových dlaždic tl 40 mm kladených do písku - bez dodávky dlaždic | G159: m2 | H159: 0 | I159: 350 | J159: =ROUND(I159*H159,2) -> 0 | N159: základní | O159: 0 | P159: =O159*H159 -> 0 | Q159: 0 | R159: =Q159*H159 -> 0 | S159: 0 | T159: =S159*H159 -> 0 | AR159: 4 | AT159: K | AU159: 2 | AY159: ROZPOCET | BE159: =IF(N159="základní",J159,0) -> 0 | BF159: =IF(N159="snížená",J159,0) -> 0 | BG159: =IF(N159="zákl. přenesená",J159,0) -> 0 | BH159: =IF(N159="sníž. přenesená",J159,0) -> 0 | BI159: =IF(N159="nulová",J159,0) -> 0 | BJ159: 1 | BK159: =ROUND(I159*H159,2) -> 0 | BL159: 4 | BM159: 40
D160: D | E160: 8 | F160: Trubní vedení | J160: =BK160 -> -36125 | P160: =SUM(P161:P193) -> 6.864 | R160: =SUM(R161:R193) -> 0.0982 | T160: =SUM(T161:T193) -> 0 | AR160: 1 | AT160: D | AU160: 1 | AY160: ROZPOCET | BK160: =SUM(BK161:BK193) -> -36125
C161: 26 | D161: K | E161: 830311811 | F161: Bourání stávajícího kameninového potrubí DN do 150 | G161: m | H161: -5 | I161: 125 | J161: =ROUND(I161*H161,2) -> -625 | N161: základní | O161: 0 | P161: =O161*H161 -> 0 | Q161: 0 | R161: =Q161*H161 -> 0 | S161: 0 | T161: =S161*H161 -> 0 | AR161: 4 | AT161: K | AU161: 2 | AY161: ROZPOCET | BE161: =IF(N161="základní",J161,0) -> -625 | BF161: =IF(N161="snížená",J161,0) -> 0 | BG161: =IF(N161="zákl. přenesená",J161,0) -> 0 | BH161: =IF(N161="sníž. přenesená",J161,0) -> 0 | BI161: =IF(N161="nulová",J161,0) -> 0 | BJ161: 1 | BK161: =ROUND(I161*H161,2) -> -625 | BL161: 4 | BM161: 42
C162: 27 | D162: K | E162: 830391811 | F162: Bourání stávajícího kameninového potrubí DN přes 205 do 400 | G162: m | H162: 0 | I162: 227 | J162: =ROUND(I162*H162,2) -> 0 | N162: základní | O162: 0 | P162: =O162*H162 -> 0 | Q162: 0 | R162: =Q162*H162 -> 0 | S162: 0 | T162: =S162*H162 -> 0 | AR162: 4 | AT162: K | AU162: 2 | AY162: ROZPOCET | BE162: =IF(N162="základní",J162,0) -> 0 | BF162: =IF(N162="snížená",J162,0) -> 0 | BG162: =IF(N162="zákl. přenesená",J162,0) -> 0 | BH162: =IF(N162="sníž. přenesená",J162,0) -> 0 | BI162: =IF(N162="nulová",J162,0) -> 0 | BJ162: 1 | BK162: =ROUND(I162*H162,2) -> 0 | BL162: 4 | BM162: 44
C163: 28 | D163: K | E163: 871274201 | F163: Montáž kanalizačního potrubí d 125x11,4 mm | G163: m | H163: 0 | I163: 170 | J163: =ROUND(I163*H163,2) -> 0 | N163: základní | O163: 0 | P163: =O163*H163 -> 0 | Q163: 0 | R163: =Q163*H163 -> 0 | S163: 0 | T163: =S163*H163 -> 0 | AR163: 4 | AT163: K | AU163: 2 | AY163: ROZPOCET | BE163: =IF(N163="základní",J163,0) -> 0 | BF163: =IF(N163="snížená",J163,0) -> 0 | BG163: =IF(N163="zákl. přenesená",J163,0) -> 0 | BH163: =IF(N163="sníž. přenesená",J163,0) -> 0 | BI163: =IF(N163="nulová",J163,0) -> 0 | BJ163: 1 | BK163: =ROUND(I163*H163,2) -> 0 | BL163: 4 | BM163: 46
C164: 29 | D164: M | E164: 28611117 | F164: trubka kanalizační PVC DN 125 SN4 | G164: m | H164: 36 | I164: 226 | J164: =ROUND(I164*H164,2) -> 8136 | N164: základní | O164: 0 | P164: =O164*H164 -> 0 | Q164: 0 | R164: =Q164*H164 -> 0 | S164: 0 | T164: =S164*H164 -> 0 | AR164: 8 | AT164: M | AU164: 2 | AY164: ROZPOCET | BE164: =IF(N164="základní",J164,0) -> 8136 | BF164: =IF(N164="snížená",J164,0) -> 0 | BG164: =IF(N164="zákl. přenesená",J164,0) -> 0 | BH164: =IF(N164="sníž. přenesená",J164,0) -> 0 | BI164: =IF(N164="nulová",J164,0) -> 0 | BJ164: 1 | BK164: =ROUND(I164*H164,2) -> 8136 | BL164: 4 | BM164: 48
C165: 30 | D165: M | E165: 28613428 | F165: potrubí kanalizační jednovrstvé PE100 RC SDR11 125x11,4mm | G165: m | H165: -36 | I165: 540 | J165: =ROUND(I165*H165,2) -> -19440 | N165: základní | O165: 0 | P165: =O165*H165 -> 0 | Q165: 0 | R165: =Q165*H165 -> 0 | S165: 0 | T165: =S165*H165 -> 0 | AR165: 8 | AT165: M | AU165: 2 | AY165: ROZPOCET | BE165: =IF(N165="základní",J165,0) -> -19440 | BF165: =IF(N165="snížená",J165,0) -> 0 | BG165: =IF(N165="zákl. přenesená",J165,0) -> 0 | BH165: =IF(N165="sníž. přenesená",J165,0) -> 0 | BI165: =IF(N165="nulová",J165,0) -> 0 | BJ165: 1 | BK165: =ROUND(I165*H165,2) -> -19440 | BL165: 4 | BM165: 48
C166: 31 | D166: K | E166: 871313121 | F166: Montáž kanalizačního potrubí hladkého plnostěnného SN 8 z PVC-U DN 160 | G166: m | H166: 4 | I166: 182 | J166: =ROUND(I166*H166,2) -> 728 | N166: základní | O166: 0 | P166: =O166*H166 -> 0 | Q166: 0 | R166: =Q166*H166 -> 0 | S166: 0 | T166: =S166*H166 -> 0 | AR166: 4 | AT166: K | AU166: 2 | AY166: ROZPOCET | BE166: =IF(N166="základní",J166,0) -> 728 | BF166: =IF(N166="snížená",J166,0) -> 0 | BG166: =IF(N166="zákl. přenesená",J166,0) -> 0 | BH166: =IF(N166="sníž. přenesená",J166,0) -> 0 | BI166: =IF(N166="nulová",J166,0) -> 0 | BJ166: 1 | BK166: =ROUND(I166*H166,2) -> 728 | BL166: 4 | BM166: 50
C167: 32 | D167: M | E167: 28611164 | F167: trubka kanalizační PVC-U plnostěnná jednovrstvá DN 160x1000mm SN8 | G167: m | H167: 4 | I167: 425 | J167: =ROUND(I167*H167,2) -> 1700 | N167: základní | O167: 0 | P167: =O167*H167 -> 0 | Q167: 0 | R167: =Q167*H167 -> 0 | S167: 0 | T167: =S167*H167 -> 0 | AR167: 8 | AT167: M | AU167: 2 | AY167: ROZPOCET | BE167: =IF(N167="základní",J167,0) -> 1700 | BF167: =IF(N167="snížená",J167,0) -> 0 | BG167: =IF(N167="zákl. přenesená",J167,0) -> 0 | BH167: =IF(N167="sníž. přenesená",J167,0) -> 0 | BI167: =IF(N167="nulová",J167,0) -> 0 | BJ167: 1 | BK167: =ROUND(I167*H167,2) -> 1700 | BL167: 4 | BM167: 52
C168: 33 | D168: K | E168: 871353121 | F168: Montáž kanalizačního potrubí hladkého plnostěnného SN 8 z PVC-U DN 200 | G168: m | H168: 22 | I168: 192 | J168: =ROUND(I168*H168,2) -> 4224 | N168: základní | O168: 0.312 | P168: =O168*H168 -> 6.864 | Q168: 1e-05 | R168: =Q168*H168 -> 0.00022 | S168: 0 | T168: =S168*H168 -> 0 | AR168: 4 | AT168: K | AU168: 2 | AY168: ROZPOCET | BE168: =IF(N168="základní",J168,0) -> 4224 | BF168: =IF(N168="snížená",J168,0) -> 0 | BG168: =IF(N168="zákl. přenesená",J168,0) -> 0 | BH168: =IF(N168="sníž. přenesená",J168,0) -> 0 | BI168: =IF(N168="nulová",J168,0) -> 0 | BJ168: 1 | BK168: =ROUND(I168*H168,2) -> 4224 | BL168: 4 | BM168: 1888734163
C169: 34 | D169: M | E169: 28611167 | F169: trubka kanalizační PVC-U plnostěnná jednovrstvá DN 200x1000mm SN8 | G169: m | H169: 23 | I169: 684 | J169: =ROUND(I169*H169,2) -> 15732 | N169: základní | O169: 0 | P169: =O169*H169 -> 0 | Q169: 0.00426 | R169: =Q169*H169 -> 0.09798 | S169: 0 | T169: =S169*H169 -> 0 | AR169: 8 | AT169: M | AU169: 2 | AY169: ROZPOCET | BE169: =IF(N169="základní",J169,0) -> 15732 | BF169: =IF(N169="snížená",J169,0) -> 0 | BG169: =IF(N169="zákl. přenesená",J169,0) -> 0 | BH169: =IF(N169="sníž. přenesená",J169,0) -> 0 | BI169: =IF(N169="nulová",J169,0) -> 0 | BJ169: 1 | BK169: =ROUND(I169*H169,2) -> 15732 | BL169: 4 | BM169: -168464015
C170: 35 | D170: K | E170: 871373121 | F170: Montáž kanalizačního potrubí hladkého plnostěnného SN 8 z PVC-U DN 315 | G170: m | H170: -22 | I170: 205 | J170: =ROUND(I170*H170,2) -> -4510 | N170: základní | O170: 0 | P170: =O170*H170 -> 0 | Q170: 0 | R170: =Q170*H170 -> 0 | S170: 0 | T170: =S170*H170 -> 0 | AR170: 4 | AT170: K | AU170: 2 | AY170: ROZPOCET | BE170: =IF(N170="základní",J170,0) -> -4510 | BF170: =IF(N170="snížená",J170,0) -> 0 | BG170: =IF(N170="zákl. přenesená",J170,0) -> 0 | BH170: =IF(N170="sníž. přenesená",J170,0) -> 0 | BI170: =IF(N170="nulová",J170,0) -> 0 | BJ170: 1 | BK170: =ROUND(I170*H170,2) -> -4510 | BL170: 4 | BM170: 54
C171: 36 | D171: M | E171: 28611155 | F171: trubka kanalizační PVC-U plnostěnná jednovrstvá DN 315x1000mm SN8 | G171: m | H171: -23 | I171: 1685 | J171: =ROUND(I171*H171,2) -> -38755 | N171: základní | O171: 0 | P171: =O171*H171 -> 0 | Q171: 0 | R171: =Q171*H171 -> 0 | S171: 0 | T171: =S171*H171 -> 0 | AR171: 8 | AT171: M | AU171: 2 | AY171: ROZPOCET | BE171: =IF(N171="základní",J171,0) -> -38755 | BF171: =IF(N171="snížená",J171,0) -> 0 | BG171: =IF(N171="zákl. přenesená",J171,0) -> 0 | BH171: =IF(N171="sníž. přenesená",J171,0) -> 0 | BI171: =IF(N171="nulová",J171,0) -> 0 | BJ171: 1 | BK171: =ROUND(I171*H171,2) -> -38755 | BL171: 4 | BM171: 56
C172: 37 | D172: K | E172: 877310330 | F172: Montáž spojek na kanalizačním potrubí z PP nebo tvrdého PVC trub hladkých plnostěnných DN 150 | G172: kus | H172: 0 | I172: 265 | J172: =ROUND(I172*H172,2) -> 0 | N172: základní | O172: 0 | P172: =O172*H172 -> 0 | Q172: 0 | R172: =Q172*H172 -> 0 | S172: 0 | T172: =S172*H172 -> 0 | AR172: 4 | AT172: K | AU172: 2 | AY172: ROZPOCET | BE172: =IF(N172="základní",J172,0) -> 0 | BF172: =IF(N172="snížená",J172,0) -> 0 | BG172: =IF(N172="zákl. přenesená",J172,0) -> 0 | BH172: =IF(N172="sníž. přenesená",J172,0) -> 0 | BI172: =IF(N172="nulová",J172,0) -> 0 | BJ172: 1 | BK172: =ROUND(I172*H172,2) -> 0 | BL172: 4 | BM172: 58
... C193: 58 | D193: K | E193: 899204211 | F193: Demontáž mříží litinových včetně rámů hmotnosti přes 150 kg | G193: kus | H193: 0 | I193: 665 | J193: =ROUND(I193*H193,2) -> 0 | N193: základní | O193: 0 | P193: =O193*H193 -> 0 | Q193: 0 | R193: =Q193*H193 -> 0 | S193: 0 | T193: =S193*H193 -> 0 | AR193: 4 | AT193: K | AU193: 2 | AY193: ROZPOCET | BE193: =IF(N193="základní",J193,0) -> 0 | BF193: =IF(N193="snížená",J193,0) -> 0 | BG193: =IF(N193="zákl. přenesená",J193,0) -> 0 | BH193: =IF(N193="sníž. přenesená",J193,0) -> 0 | BI193: =IF(N193="nulová",J193,0) -> 0 | BJ193: 1 | BK193: =ROUND(I193*H193,2) -> 0 | BL193: 4 | BM193: 100
...

Sheet 02 - Oprava vnitřní kanal...
L2: >> skryté sloupce << | AT2: {05600189-a2ca-4dd7-9684-6b8aa66a2b89}
AT3: 2
D4: KRYCÍ LIST SOUPISU PRACÍ | M4: v --- níže se nacházejí doplnkové a pomocné údaje k sestavám --- v | AT4: False
D6: Stavba:
E7: ='Rekapitulace stavby'!K6 -> MŠ Na Kopci Karviná - Oprava části kanalizace - VCP+MNP
D8: Objekt:
E9: 02 - Oprava části vnitřní kanalizace - VCP+MNP
D11: KSO: | I11: CC-CZ:
D12: Místo: | I12: Datum: | J12: ='Rekapitulace stavby'!AN8 -> 45884
D14: Zadavatel: | I14: IČ: | J14: =IF('Rekapitulace stavby'!AN10="","",'Rekapitulace stavby'!AN10) -> 62331353
E15: ZŠ a MŠ Borovského, Karviná, p.o. | I15: DIČ: | J15: =IF('Rekapitulace stavby'!AN11="","",'Rekapitulace stavby'!AN11)
D17: Zhotovitel: | I17: IČ: | J17: ='Rekapitulace stavby'!AN13 -> 05178169
E18: Monitoring a čištění potrubí s.r.o. | I18: DIČ: | J18: ='Rekapitulace stavby'!AN14 -> CZ05178169
D20: Projektant: | I20: IČ: | J20: =IF('Rekapitulace stavby'!AN16="","",'Rekapitulace stavby'!AN16)
E21: =IF('Rekapitulace stavby'!E17="","",'Rekapitulace stavby'!E17) | I21: DIČ: | J21: =IF('Rekapitulace stavby'!AN17="","",'Rekapitulace stavby'!AN17)
D23: Zpracovatel: | I23: IČ: | J23: =IF('Rekapitulace stavby'!AN19="","",'Rekapitulace stavby'!AN19)
E24: =IF('Rekapitulace stavby'!E20="","",'Rekapitulace stavby'!E20) | I24: DIČ: | J24: =IF('Rekapitulace stavby'!AN20="","",'Rekapitulace stavby'!AN20)
D26: Poznámka:
D30: Cena bez DPH | J30: =ROUND(J134, 2) -> -32043.68
F32: Základ daně | I32: Sazba daně | J32: Výše daně
D33: DPH | E33: základní | F33: =ROUND((SUM(BE134:BE216)), 2) -> -32043.68 | I33: 0.21 | J33: =ROUND(((SUM(BE134:BE216))*I33), 2) -> -6729.17
E34: snížená | F34: =ROUND((SUM(BF134:BF216)), 2) -> 0 | I34: 0.12 | J34: =ROUND(((SUM(BF134:BF216))*I34), 2) -> 0
E35: zákl. přenesená | F35: =ROUND((SUM(BG134:BG216)), 2) -> 0 | I35: 0.21 | J35: =0 -> 0
E36: sníž. přenesená | F36: =ROUND((SUM(BH134:BH216)), 2) -> 0 | I36: 0.12 | J36: =0 -> 0
E37: nulová | F37: =ROUND((SUM(BI134:BI216)), 2) -> 0 | I37: 0 | J37: =0 -> 0
D39: Cena s DPH | G39: v | H39: CZK | J39: =SUM(J30:J37) -> -38772.85
D50: Projektant | G50: Zpracovatel
D61: Datum a podpis: | F61: Razítko | G61: Datum a podpis: | J61: Razítko
D65: Objednavatel | G65: Zhotovitel
D76: Datum a podpis: | F76: Razítko | G76: Datum a podpis: | J76: Razítko
C82: REKAPITULACE ČLENĚNÍ SOUPISU PRACÍ
C84: Stavba:
E85: =E7 -> MŠ Na Kopci Karviná - Oprava části kanalizace - VCP+MNP
C86: Objekt:
E87: =E9 -> 02 - Oprava části vnitřní kanalizace - VCP+MNP
C89: Místo: | F89: =F12 | I89: Datum: | J89: =IF(J12="","",J12) -> 45884
C91: Zadavatel: | F91: =E15 -> ZŠ a MŠ Borovského, Karviná, p.o. | I91: Projektant: | J91: =E21
C92: Zhotovitel: | F92: =IF(E18="","",E18) -> Monitoring a čištění potrubí s.r.o. | I92: Zpracovatel: | J92: =E24
C94: Kód dílu - Popis | J94: Cena celkem [CZK]
C96: Náklady ze soupisu prací | J96: =J134 -> -32043.68 | AU96: -1
D97: HSV - Práce a dodávky HSV | J97: =J135 -> -65748.82
D98: 1 - Zemní práce | J98: =J136 -> -65411.5
D99: 61 - Úprava povrchů vnitřních | J99: =J144 -> -5413.2
D100: 63 - Podlahy a podlahové konstrukce | J100: =J148 -> 7687.8
D101: 8 - Trubní vedení | J101: =J154 -> 0
D102: 95 - Různé dokončovací konstrukce a práce | J102: =J156 -> 0
D103: 96 - Bourání konstrukcí | J103: =J159 -> 3505.28
D104: 97 - Ostatní bourací práce | J104: =J164 -> -6117.2
D105: 997 - Přesun sutě | J105: =J169 -> 0
D106: 998 - Přesun hmot | J106: =J174 -> 0
D107: PSV - Práce a dodávky PSV | J107: =J176 -> 33705.14
D108: 711 - Izolace proti vodě, vlhkosti a plynům | J108: =J177 -> -10708.5
D109: 721 - Zdravotechnika - vnitřní kanalizace | J109: =J181 -> 3343
D110: 762 - Konstrukce tesařské | J110: =J193 -> 9134.27
D111: 771 - Podlahy z dlaždic | J111: =J198 -> 0
D112: 781 - Obklady keramické | J112: =J204 -> 3956.37
D113: 783 - Nátěry | J113: =J208 -> 27877.5
D114: 784 - Malby | J114: =J214 -> 102.5
C121: SOUPIS PRACÍ
C123: Stavba:
E124: =E7 -> MŠ Na Kopci Karviná - Oprava části kanalizace - VCP+MNP
C125: Objekt:
E126: =E9 -> 02 - Oprava části vnitřní kanalizace - VCP+MNP
C128: Místo: | F128: =F12 | I128: Datum: | J128: =IF(J12="","",J12) -> 45884
C130: Zadavatel: | F130: =E15 -> ZŠ a MŠ Borovského, Karviná, p.o. | I130: Projektant: | J130: =E21
C131: Zhotovitel: | F131: =IF(E18="","",E18) -> Monitoring a čištění potrubí s.r.o. | I131: Zpracovatel: | J131: =E24
C133: PČ | D133: Typ | E133: Kód | F133: Popis | G133: MJ | H133: Množství | I133: J.cena [CZK] | J133: Cena celkem [CZK] | K133: Cenová soustava | N133: DPH | O133: J. Nh [h] | P133: Nh celkem [h] | Q133: J. hmotnost [t] | R133: Hmotnost celkem [t] | S133: J. suť [t] | T133: Suť Celkem [t]
C134: Náklady soupisu celkem | J134: =J135+J176 -> -32043.68 | P134: =P135+P176 -> #REF! | R134: =R135+R176 -> #REF! | T134: =T135+T176 -> #REF! | AT134: D | AU134: -1 | BK134: =BK135+BK176 -> #REF!
D135: D | E135: HSV | F135: Práce a dodávky HSV | J135: =BK135 -> -65748.82 | P135: =P136+P144+P148+P154+P156+P159+P164+P169+P174 -> 3.40045 | R135: =R136+R144+R148+R154+R156+R159+R164+R169+R174 -> 0.02978 | T135: =T136+T144+T148+T154+T156+T159+T164+T169+T174 -> 0.24596 | AR135: 1 | AT135: D | AU135: 0 | AY135: ROZPOCET | BK135: =BK136+BK144+BK148+BK154+BK156+BK159+BK164+BK169+BK174 -> -65748.82
D136: D | E136: 1 | F136: Zemní práce | J136: =BK136 -> -65411.5 | P136: =SUM(P137:P143) -> 0 | R136: =SUM(R137:R143) -> 0 | T136: =SUM(T137:T143) -> 0 | AR136: 1 | AT136: D | AU136: 1 | AY136: ROZPOCET | BK136: =SUM(BK137:BK143) -> -65411.5
C137: 1 | D137: K | E137: 139711111 | F137: Vykopávky v uzavřených prostorech v hornině třídy těžitelnosti I skupiny 1 až 3 ručně | G137: m3 | H137: -16.5 | I137: 2350 | J137: =ROUND(I137*H137,2) -> -38775 | N137: základní | O137: 0 | P137: =O137*H137 -> 0 | Q137: 0 | R137: =Q137*H137 -> 0 | S137: 0 | T137: =S137*H137 -> 0 | AR137: 4 | AT137: K | AU137: 2 | AY137: ROZPOCET | BE137: =IF(N137="základní",J137,0) -> -38775 | BF137: =IF(N137="snížená",J137,0) -> 0 | BG137: =IF(N137="zákl. přenesená",J137,0) -> 0 | BH137: =IF(N137="sníž. přenesená",J137,0) -> 0 | BI137: =IF(N137="nulová",J137,0) -> 0 | BJ137: 1 | BK137: =ROUND(I137*H137,2) -> -38775 | BL137: 4 | BM137: 2
C138: 2 | D138: K | E138: 13900110R | F138: Příplatek za ztížení vykopávky | G138: m3 | H138: -16.5 | I138: 735 | J138: =ROUND(I138*H138,2) -> -12127.5 | N138: základní | O138: 0 | P138: =O138*H138 -> 0 | Q138: 0 | R138: =Q138*H138 -> 0 | S138: 0 | T138: =S138*H138 -> 0 | AR138: 4 | AT138: K | AU138: 2 | AY138: ROZPOCET | BE138: =IF(N138="základní",J138,0) -> -12127.5 | BF138: =IF(N138="snížená",J138,0) -> 0 | BG138: =IF(N138="zákl. přenesená",J138,0) -> 0 | BH138: =IF(N138="sníž. přenesená",J138,0) -> 0 | BI138: =IF(N138="nulová",J138,0) -> 0 | BJ138: 1 | BK138: =ROUND(I138*H138,2) -> -12127.5 | BL138: 4 | BM138: 4
C139: 3 | D139: K | E139: 162751114 | F139: Vodorovné přemístění přes 6 000 do 7000 m výkopku/sypaniny z horniny třídy těžitelnosti I skupiny 1 až 3 | G139: m3 | H139: -2 | I139: 230 | J139: =ROUND(I139*H139,2) -> -460 | N139: základní | O139: 0 | P139: =O139*H139 -> 0 | Q139: 0 | R139: =Q139*H139 -> 0 | S139: 0 | T139: =S139*H139 -> 0 | AR139: 4 | AT139: K | AU139: 2 | AY139: ROZPOCET | BE139: =IF(N139="základní",J139,0) -> -460 | BF139: =IF(N139="snížená",J139,0) -> 0 | BG139: =IF(N139="zákl. přenesená",J139,0) -> 0 | BH139: =IF(N139="sníž. přenesená",J139,0) -> 0 | BI139: =IF(N139="nulová",J139,0) -> 0 | BJ139: 1 | BK139: =ROUND(I139*H139,2) -> -460 | BL139: 4 | BM139: 6
C140: 4 | D140: K | E140: 167111101 | F140: Nakládání výkopku z hornin třídy těžitelnosti I skupiny 1 až 3 ručně | G140: m3 | H140: -8.5 | I140: 375 | J140: =ROUND(I140*H140,2) -> -3187.5 | N140: základní | O140: 0 | P140: =O140*H140 -> 0 | Q140: 0 | R140: =Q140*H140 -> 0 | S140: 0 | T140: =S140*H140 -> 0 | AR140: 4 | AT140: K | AU140: 2 | AY140: ROZPOCET | BE140: =IF(N140="základní",J140,0) -> -3187.5 | BF140: =IF(N140="snížená",J140,0) -> 0 | BG140: =IF(N140="zákl. přenesená",J140,0) -> 0 | BH140: =IF(N140="sníž. přenesená",J140,0) -> 0 | BI140: =IF(N140="nulová",J140,0) -> 0 | BJ140: 1 | BK140: =ROUND(I140*H140,2) -> -3187.5 | BL140: 4 | BM140: 8
C141: 5 | D141: K | E141: 171201231 | F141: Poplatek za uložení zeminy a kamení na recyklační skládce | G141: t | H141: -7.32 | I141: 550 | J141: =ROUND(I141*H141,2) -> -4026 | N141: základní | O141: 0 | P141: =O141*H141 -> 0 | Q141: 0 | R141: =Q141*H141 -> 0 | S141: 0 | T141: =S141*H141 -> 0 | AR141: 4 | AT141: K | AU141: 2 | AY141: ROZPOCET | BE141: =IF(N141="základní",J141,0) -> -4026 | BF141: =IF(N141="snížená",J141,0) -> 0 | BG141: =IF(N141="zákl. přenesená",J141,0) -> 0 | BH141: =IF(N141="sníž. přenesená",J141,0) -> 0 | BI141: =IF(N141="nulová",J141,0) -> 0 | BJ141: 1 | BK141: =ROUND(I141*H141,2) -> -4026 | BL141: 4 | BM141: 10
C142: 6 | D142: K | E142: 171251201 | F142: Uložení sypaniny na skládky nebo meziskládky | G142: m3 | H142: 0 | I142: 22 | J142: =ROUND(I142*H142,2) -> 0 | N142: základní | O142: 0 | P142: =O142*H142 -> 0 | Q142: 0 | R142: =Q142*H142 -> 0 | S142: 0 | T142: =S142*H142 -> 0 | AR142: 4 | AT142: K | AU142: 2 | AY142: ROZPOCET | BE142: =IF(N142="základní",J142,0) -> 0 | BF142: =IF(N142="snížená",J142,0) -> 0 | BG142: =IF(N142="zákl. přenesená",J142,0) -> 0 | BH142: =IF(N142="sníž. přenesená",J142,0) -> 0 | BI142: =IF(N142="nulová",J142,0) -> 0 | BJ142: 1 | BK142: =ROUND(I142*H142,2) -> 0 | BL142: 4 | BM142: 12
C143: 7 | D143: K | E143: 174151102 | F143: Zásyp v uzavřeném prostoru | G143: m3 | H143: -15.5 | I143: 441 | J143: =ROUND(I143*H143,2) -> -6835.5 | N143: základní | O143: 0 | P143: =O143*H143 -> 0 | Q143: 0 | R143: =Q143*H143 -> 0 | S143: 0 | T143: =S143*H143 -> 0 | AR143: 4 | AT143: K | AU143: 2 | AY143: ROZPOCET | BE143: =IF(N143="základní",J143,0) -> -6835.5 | BF143: =IF(N143="snížená",J143,0) -> 0 | BG143: =IF(N143="zákl. přenesená",J143,0) -> 0 | BH143: =IF(N143="sníž. přenesená",J143,0) -> 0 | BI143: =IF(N143="nulová",J143,0) -> 0 | BJ143: 1 | BK143: =ROUND(I143*H143,2) -> -6835.5 | BL143: 4 | BM143: 14
D144: D | E144: 61 | F144: Úprava povrchů vnitřních | J144: =BK144 -> -5413.2 | P144: =SUM(P145:P147) -> 1.03965 | R144: =SUM(R145:R147) -> 0.02978 | T144: =SUM(T145:T147) -> 0 | AR144: 1 | AT144: D | AU144: 1 | AY144: ROZPOCET | BK144: =SUM(BK145:BK147) -> -5413.2
C145: 8 | D145: K | E145: 612321131 | F145: Vápenocementový štuk vnitřních stěn tloušťky do 3 mm | G145: m2 | H145: 1 | I145: 192 | J145: =ROUND(I145*H145,2) -> 192 | N145: základní | O145: 0.272 | P145: =O145*H145 -> 0.272 | Q145: 0.003 | R145: =Q145*H145 -> 0.003 | S145: 0 | T145: =S145*H145 -> 0 | AR145: 4 | AT145: K | AU145: 2 | AY145: ROZPOCET | BE145: =IF(N145="základní",J145,0) -> 192 | BF145: =IF(N145="snížená",J145,0) -> 0 | BG145: =IF(N145="zákl. přenesená",J145,0) -> 0 | BH145: =IF(N145="sníž. přenesená",J145,0) -> 0 | BI145: =IF(N145="nulová",J145,0) -> 0 | BJ145: 1 | BK145: =ROUND(I145*H145,2) -> 192 | BL145: 4 | BM145: -902521203
C146: 9 | D146: K | E146: 612325112 | F146: Vápenocementová hladká omítka rýh ve stěnách š přes 150 do 300 mm | G146: m2 | H146: 0.65 | I146: 972 | J146: =ROUND(I146*H146,2) -> 631.8 | N146: základní | O146: 1.181 | P146: =O146*H146 -> 0.76765 | Q146: 0.0412 | R146: =Q146*H146 -> 0.02678 | S146: 0 | T146: =S146*H146 -> 0 | AR146: 4 | AT146: K | AU146: 2 | AY146: ROZPOCET | BE146: =IF(N146="základní",J146,0) -> 631.8 | BF146: =IF(N146="snížená",J146,0) -> 0 | BG146: =IF(N146="zákl. přenesená",J146,0) -> 0 | BH146: =IF(N146="sníž. přenesená",J146,0) -> 0 | BI146: =IF(N146="nulová",J146,0) -> 0 | BJ146: 1 | BK146: =ROUND(I146*H146,2) -> 631.8 | BL146: 4 | BM146: -1051248995
C147: 10 | D147: K | E147: 612331121 | F147: Cementová omítka hladká jednovrstvá vnitřních stěn nanášená ručně | G147: m2 | H147: -16.5 | I147: 378 | J147: =ROUND(I147*H147,2) -> -6237 | N147: základní | O147: 0 | P147: =O147*H147 -> 0 | Q147: 0 | R147: =Q147*H147 -> 0 | S147: 0 | T147: =S147*H147 -> 0 | AR147: 4 | AT147: K | AU147: 2 | AY147: ROZPOCET | BE147: =IF(N147="základní",J147,0) -> -6237 | BF147: =IF(N147="snížená",J147,0) -> 0 | BG147: =IF(N147="zákl. přenesená",J147,0) -> 0 | BH147: =IF(N147="sníž. přenesená",J147,0) -> 0 | BI147: =IF(N147="nulová",J147,0) -> 0 | BJ147: 1 | BK147: =ROUND(I147*H147,2) -> -6237 | BL147: 4 | BM147: 16
D148: D | E148: 63 | F148: Podlahy a podlahové konstrukce | J148: =BK148 -> 7687.8 | P148: =SUM(P149:P153) -> 0 | R148: =SUM(R149:R153) -> 0 | T148: =SUM(T149:T153) -> 0 | AR148: 1 | AT148: D | AU148: 1 | AY148: ROZPOCET | BK148: =SUM(BK149:BK153) -> 7687.8
C149: 11 | D149: K | E149: 631312141 | F149: Doplnění rýh v dosavadních mazaninách betonem prostým | G149: m3 | H149: 0.48 | I149: 6225 | J149: =ROUND(I149*H149,2) -> 2988 | N149: základní | O149: 0 | P149: =O149*H149 -> 0 | Q149: 0 | R149: =Q149*H149 -> 0 | S149: 0 | T149: =S149*H149 -> 0 | AR149: 4 | AT149: K | AU149: 2 | AY149: ROZPOCET | BE149: =IF(N149="základní",J149,0) -> 2988 | BF149: =IF(N149="snížená",J149,0) -> 0 | BG149: =IF(N149="zákl. přenesená",J149,0) -> 0 | BH149: =IF(N149="sníž. přenesená",J149,0) -> 0 | BI149: =IF(N149="nulová",J149,0) -> 0 | BJ149: 1 | BK149: =ROUND(I149*H149,2) -> 2988 | BL149: 4 | BM149: 18
C150: 12 | D150: K | E150: 631362021 | F150: Výztuž mazanin svařovanými sítěmi Kari - 6-100/100 mm | G150: t | H150: 0.064 | I150: 36650 | J150: =ROUND(I150*H150,2) -> 2345.6 | N150: základní | O150: 0 | P150: =O150*H150 -> 0 | Q150: 0 | R150: =Q150*H150 -> 0 | S150: 0 | T150: =S150*H150 -> 0 | AR150: 4 | AT150: K | AU150: 2 | AY150: ROZPOCET | BE150: =IF(N150="základní",J150,0) -> 2345.6 | BF150: =IF(N150="snížená",J150,0) -> 0 | BG150: =IF(N150="zákl. přenesená",J150,0) -> 0 | BH150: =IF(N150="sníž. přenesená",J150,0) -> 0 | BI150: =IF(N150="nulová",J150,0) -> 0 | BJ150: 1 | BK150: =ROUND(I150*H150,2) -> 2345.6 | BL150: 4 | BM150: 20
C151: 13 | D151: K | E151: 632452411 | F151: Doplnění cementového potěru hlazeného pl přes 1 do 4 m2 tl do 10 mm | G151: m2 | H151: 5 | I151: 215 | J151: =ROUND(I151*H151,2) -> 1075 | N151: základní | O151: 0 | P151: =O151*H151 -> 0 | Q151: 0 | R151: =Q151*H151 -> 0 | S151: 0 | T151: =S151*H151 -> 0 | AR151: 4 | AT151: K | AU151: 2 | AY151: ROZPOCET | BE151: =IF(N151="základní",J151,0) -> 1075 | BF151: =IF(N151="snížená",J151,0) -> 0 | BG151: =IF(N151="zákl. přenesená",J151,0) -> 0 | BH151: =IF(N151="sníž. přenesená",J151,0) -> 0 | BI151: =IF(N151="nulová",J151,0) -> 0 | BJ151: 1 | BK151: =ROUND(I151*H151,2) -> 1075 | BL151: 4 | BM151: 22
C152: 14 | D152: K | E152: 635111241 | F152: Násyp ( zásyp ) z hrubého kameniva 8-16 mm | G152: m3 | H152: 0.48 | I152: 2665 | J152: =ROUND(I152*H152,2) -> 1279.2 | N152: základní | O152: 0 | P152: =O152*H152 -> 0 | Q152: 0 | R152: =Q152*H152 -> 0 | S152: 0 | T152: =S152*H152 -> 0 | AR152: 4 | AT152: K | AU152: 2 | AY152: ROZPOCET | BE152: =IF(N152="základní",J152,0) -> 1279.2 | BF152: =IF(N152="snížená",J152,0) -> 0 | BG152: =IF(N152="zákl. přenesená",J152,0) -> 0 | BH152: =IF(N152="sníž. přenesená",J152,0) -> 0 | BI152: =IF(N152="nulová",J152,0) -> 0 | BJ152: 1 | BK152: =ROUND(I152*H152,2) -> 1279.2 | BL152: 4 | BM152: 24
C153: 15 | D153: K | E153: 635111411 | F153: Doplnění násypů pod podlahy, mazaniny a dlažby štěrkopískem | G153: m3 | H153: 0 | I153: 2205 | J153: =ROUND(I153*H153,2) -> 0 | N153: základní | O153: 0 | P153: =O153*H153 -> 0 | Q153: 0 | R153: =Q153*H153 -> 0 | S153: 0 | T153: =S153*H153 -> 0 | AR153: 4 | AT153: K | AU153: 2 | AY153: ROZPOCET | BE153: =IF(N153="základní",J153,0) -> 0 | BF153: =IF(N153="snížená",J153,0) -> 0 | BG153: =IF(N153="zákl. přenesená",J153,0) -> 0 | BH153: =IF(N153="sníž. přenesená",J153,0) -> 0 | BI153: =IF(N153="nulová",J153,0) -> 0 | BJ153: 1 | BK153: =ROUND(I153*H153,2) -> 0 | BL153: 4 | BM153: 26
D154: D | E154: 8 | F154: Trubní vedení | J154: =BK154 -> 0 | P154: =P155 -> 0 | R154: =R155 -> 0 | T154: =T155 -> 0 | AR154: 1 | AT154: D | AU154: 1 | AY154: ROZPOCET | BK154: =BK155 -> 0
C155: 16 | D155: K | E155: 891001 | F155: Oprava revizních šachet | G155: kpl | H155: 0 | I155: 5600 | J155: =ROUND(I155*H155,2) -> 0 | N155: základní | O155: 0 | P155: =O155*H155 -> 0 | Q155: 0 | R155: =Q155*H155 -> 0 | S155: 0 | T155: =S155*H155 -> 0 | AR155: 4 | AT155: K | AU155: 2 | AY155: ROZPOCET | BE155: =IF(N155="základní",J155,0) -> 0 | BF155: =IF(N155="snížená",J155,0) -> 0 | BG155: =IF(N155="zákl. přenesená",J155,0) -> 0 | BH155: =IF(N155="sníž. přenesená",J155,0) -> 0 | BI155: =IF(N155="nulová",J155,0) -> 0 | BJ155: 1 | BK155: =ROUND(I155*H155,2) -> 0 | BL155: 4 | BM155: 28
D156: D | E156: 95 | F156: Různé dokončovací konstrukce a práce | J156: =BK156 -> 0 | P156: =SUM(P157:P158) -> 0 | R156: =SUM(R157:R158) -> 0 | T156: =SUM(T157:T158) -> 0 | AR156: 1 | AT156: D | AU156: 1 | AY156: ROZPOCET | BK156: =SUM(BK157:BK158) -> 0
C157: 17 | D157: K | E157: 952001 | F157: Ostatní nespecifikovatelné práce | G157: hod | H157: 0 | I157: 400 | J157: =ROUND(I157*H157,2) -> 0 | N157: základní | O157: 0 | P157: =O157*H157 -> 0 | Q157: 0 | R157: =Q157*H157 -> 0 | S157: 0 | T157: =S157*H157 -> 0 | AR157: 4 | AT157: K | AU157: 2 | AY157: ROZPOCET | BE157: =IF(N157="základní",J157,0) -> 0 | BF157: =IF(N157="snížená",J157,0) -> 0 | BG157: =IF(N157="zákl. přenesená",J157,0) -> 0 | BH157: =IF(N157="sníž. přenesená",J157,0) -> 0 | BI157: =IF(N157="nulová",J157,0) -> 0 | BJ157: 1 | BK157: =ROUND(I157*H157,2) -> 0 | BL157: 4 | BM157: 30
C158: 18 | D158: K | E158: 952901111 | F158: Vyčištění budov občanské výstavby při výšce podlaží do 4 m | G158: m2 | H158: 0 | I158: 142 | J158: =ROUND(I158*H158,2) -> 0 | N158: základní | O158: 0 | P158: =O158*H158 -> 0 | Q158: 0 | R158: =Q158*H158 -> 0 | S158: 0 | T158: =S158*H158 -> 0 | AR158: 4 | AT158: K | AU158: 2 | AY158: ROZPOCET | BE158: =IF(N158="základní",J158,0) -> 0 | BF158: =IF(N158="snížená",J158,0) -> 0 | BG158: =IF(N158="zákl. přenesená",J158,0) -> 0 | BH158: =IF(N158="sníž. přenesená",J158,0) -> 0 | BI158: =IF(N158="nulová",J158,0) -> 0 | BJ158: 1 | BK158: =ROUND(I158*H158,2) -> 0 | BL158: 4 | BM158: 32
D159: D | E159: 96 | F159: Bourání konstrukcí | J159: =BK159 -> 3505.28 | P159: =SUM(P160:P163) -> 0.2496 | R159: =SUM(R160:R163) -> 0 | T159: =SUM(T160:T163) -> 0.03536 | AR159: 1 | AT159: D | AU159: 1 | AY159: ROZPOCET | BK159: =SUM(BK160:BK163) -> 3505.28
C160: 19 | D160: K | E160: 965042221 | F160: Bourání rýh betonových | G160: m3 | H160: 0.48 | I160: 5390 | J160: =ROUND(I160*H160,2) -> 2587.2 | N160: základní | O160: 0 | P160: =O160*H160 -> 0 | Q160: 0 | R160: =Q160*H160 -> 0 | S160: 0 | T160: =S160*H160 -> 0 | AR160: 4 | AT160: K | AU160: 2 | AY160: ROZPOCET | BE160: =IF(N160="základní",J160,0) -> 2587.2 | BF160: =IF(N160="snížená",J160,0) -> 0 | BG160: =IF(N160="zákl. přenesená",J160,0) -> 0 | BH160: =IF(N160="sníž. přenesená",J160,0) -> 0 | BI160: =IF(N160="nulová",J160,0) -> 0 | BJ160: 1 | BK160: =ROUND(I160*H160,2) -> 2587.2 | BL160: 4 | BM160: 34
C161: 20 | D161: K | E161: 965049112 | F161: Příplatek k bourání betonových mazanin za bourání mazanin se svařovanou sítí tl přes 100 mm | G161: m3 | H161: 0.48 | I161: 1670 | J161: =ROUND(I161*H161,2) -> 801.6 | N161: základní | O161: 0 | P161: =O161*H161 -> 0 | Q161: 0 | R161: =Q161*H161 -> 0 | S161: 0 | T161: =S161*H161 -> 0 | AR161: 4 | AT161: K | AU161: 2 | AY161: ROZPOCET | BE161: =IF(N161="základní",J161,0) -> 801.6 | BF161: =IF(N161="snížená",J161,0) -> 0 | BG161: =IF(N161="zákl. přenesená",J161,0) -> 0 | BH161: =IF(N161="sníž. přenesená",J161,0) -> 0 | BI161: =IF(N161="nulová",J161,0) -> 0 | BJ161: 1 | BK161: =ROUND(I161*H161,2) -> 801.6 | BL161: 4 | BM161: 36
C162: 21 | D162: K | E162: 965081213 | F162: Bourání podlah z dlaždic keramických tl do 10 mm | G162: m2 | H162: 0 | I162: 85 | J162: =ROUND(I162*H162,2) -> 0 | N162: základní | O162: 0 | P162: =O162*H162 -> 0 | Q162: 0 | R162: =Q162*H162 -> 0 | S162: 0 | T162: =S162*H162 -> 0 | AR162: 4 | AT162: K | AU162: 2 | AY162: ROZPOCET | BE162: =IF(N162="základní",J162,0) -> 0 | BF162: =IF(N162="snížená",J162,0) -> 0 | BG162: =IF(N162="zákl. přenesená",J162,0) -> 0 | BH162: =IF(N162="sníž. přenesená",J162,0) -> 0 | BI162: =IF(N162="nulová",J162,0) -> 0 | BJ162: 1 | BK162: =ROUND(I162*H162,2) -> 0 | BL162: 4 | BM162: 38
C163: 22 | D163: K | E163: 978059511 | F163: Odsekání obkladů stěn z vnitřních obkládaček plochy do 1 m2 | G163: m2 | H163: 0.52 | I163: 224 | J163: =ROUND(I163*H163,2) -> 116.48 | N163: základní | O163: 0.48 | P163: =O163*H163 -> 0.2496 | Q163: 0 | R163: =Q163*H163 -> 0 | S163: 0.068 | T163: =S163*H163 -> 0.03536 | AR163: 4 | AT163: K | AU163: 2 | AY163: ROZPOCET | BE163: =IF(N163="základní",J163,0) -> 116.48 | BF163: =IF(N163="snížená",J163,0) -> 0 | BG163: =IF(N163="zákl. přenesená",J163,0) -> 0 | BH163: =IF(N163="sníž. přenesená",J163,0) -> 0 | BI163: =IF(N163="nulová",J163,0) -> 0 | BJ163: 1 | BK163: =ROUND(I163*H163,2) -> 116.48 | BL163: 4 | BM163: -1616350995
D164: D | E164: 97 | F164: Ostatní bourací práce | J164: =BK164 -> -6117.2 | P164: =SUM(P165:P168) -> 2.1112 | R164: =SUM(R165:R168) -> 0 | T164: =SUM(T165:T168) -> 0.2106 | AR164: 1 | AT164: D | AU164: 1 | AY164: ROZPOCET | BK164: =SUM(BK165:BK168) -> -6117.2
C165: 23 | D165: K | E165: 974031167 | F165: Vysekání rýh ve zdivu cihelném hl do 150 mm š do 300 mm | G165: m | H165: 2.6 | I165: 378 | J165: =ROUND(I165*H165,2) -> 982.8 | N165: základní | O165: 0.812 | P165: =O165*H165 -> 2.1112 | Q165: 0 | R165: =Q165*H165 -> 0 | S165: 0.081 | T165: =S165*H165 -> 0.2106 | AR165: 4 | AT165: K | AU165: 2 | AY165: ROZPOCET | BE165: =IF(N165="základní",J165,0) -> 982.8 | BF165: =IF(N165="snížená",J165,0) -> 0 | BG165: =IF(N165="zákl. přenesená",J165,0) -> 0 | BH165: =IF(N165="sníž. přenesená",J165,0) -> 0 | BI165: =IF(N165="nulová",J165,0) -> 0 | BJ165: 1 | BK165: =ROUND(I165*H165,2) -> 982.8 | BL165: 4 | BM165: -1983385568
C166: 24 | D166: K | E166: 977151122 | F166: Jádrové vrty diamantovými korunkami do stavebních materiálů D přes 120 do 130 mm | G166: m | H166: -1 | I166: 3890 | J166: =ROUND(I166*H166,2) -> -3890 | N166: základní | O166: 0 | P166: =O166*H166 -> 0 | Q166: 0 | R166: =Q166*H166 -> 0 | S166: 0 | T166: =S166*H166 -> 0 | AR166: 4 | AT166: K | AU166: 2 | AY166: ROZPOCET | BE166: =IF(N166="základní",J166,0) -> -3890 | BF166: =IF(N166="snížená",J166,0) -> 0 | BG166: =IF(N166="zákl. přenesená",J166,0) -> 0 | BH166: =IF(N166="sníž. přenesená",J166,0) -> 0 | BI166: =IF(N166="nulová",J166,0) -> 0 | BJ166: 1 | BK166: =ROUND(I166*H166,2) -> -3890 | BL166: 4 | BM166: 40
...
