Workbook

Sheet Rekapitulace stavby
A1: Export Komplet | AZ1: VZ | BA1: 2.0 | BB1: ZAMOK | BT1: False | BU1: False | BV1: {4d0deeef-c64b-41b3-8579-e9b04132b84d}
BS2: 0,01 | BT2: 21
BS3: 0,01 | BT3: 12
D4: REKAPITULACE STAVBY | AS4: v --- níže se nacházejí doplnkové a pomocné údaje k sestavám --- v | BE4: Návod na vyplnění | BS4: 0,001
D5: Kód: | K5: 20240603 | BE5: Měnit lze pouze buňky se žlutým podbarvením! 1) v Rekapitulaci stavby vyplňte údaje o Účastníkovi (přenesou se do ostatních sestav i v jiných listech) 2) na vybraných listech vyplňte v sestavě Soupis prací ceny u položek | BS5: 0,01
D6: Stavba: | K6: Standardizace konektivity Prvního českého gymnázia v Karlových Varech, p.o. | BS6: 0,01
D7: KSO: | AK7: CC-CZ: | BS7: 0,01
D8: Místo: | K8: Národní 445/25, 360 01 Karlovy Vary | AK8: Datum: | AN8: 45460 | BS8: 0,01
BS9: 0,01
D10: Zadavatel: | AK10: IČ: | BS10: 0,01
E11: První české gymnázium v Karlových Varech, p.o. | AK11: DIČ: | BS11: 0,01
BS12: 0,01
D13: Účastník: | AK13: IČ: | AN13: 04308697 | BS13: 0,01
E14: Aricoma System a.s. | AK14: DIČ: | AN14: CZ04308697 | BS14: 0,01
BS15: False
D16: Projektant: | AK16: IČ: | BS16: False
AK17: DIČ: | BS17: True
BS18: 0,01
D19: Zpracovatel: | AK19: IČ: | BS19: 0,01
AK20: DIČ: | BS20: True
D22: Poznámka:
E23: Soupis prací je sestaven s využitím Cenové soustavy ÚRS. Položky, které pochází z této cenové soustavy, jsou ve sloupci 'Cenová soustava' označeny popisem 'CS ÚRS' a úrovní příslušného kalendářního pololetí. Veškeré další informace vymezující popis a podmínky použití těchto položek z Cenové soustavy, které nejsou uvedeny přímo v soupisu prací, jsou neomezeně dálkově k dispozici na webu podminky.urs.cz.
D26: Cena bez DPH | AK26: =ROUND(AG54,2) -> 9336976.8
L28: Sazba daně | W28: Základ daně | AK28: Výše daně
D29: DPH | F29: základní | L29: 0.21 | W29: =ROUND(AZ54,2) -> 9336976.8 | AK29: =ROUND(AV54,2) -> 1960765.1
F30: snížená | L30: 0.12 | W30: =ROUND(BA54,2) -> 0 | AK30: =ROUND(AW54,2) -> 0
F31: zákl. přenesená | L31: 0.21 | W31: =ROUND(BB54,2) -> 0 | AK31: 0
F32: sníž. přenesená | L32: 0.12 | W32: =ROUND(BC54,2) -> 0 | AK32: 0
F33: nulová | L33: 0 | W33: =ROUND(BD54,2) -> 0 | AK33: 0
D35: Cena s DPH | T35: v | X35: CZK | AK35: =SUM(AK26:AK33) -> 11297742
C42: REKAPITULACE OBJEKTŮ STAVBY A SOUPISŮ PRACÍ
C44: Kód: | L44: =K5 -> 20240603
C45: Stavba: | L45: =K6 -> Standardizace konektivity Prvního českého gymnázia v Karlových Varech, p.o.
C47: Místo: | L47: =IF(K8="","",K8) -> Národní 445/25, 360 01 Karlovy Vary | AI47: Datum: | AM47: =IF(AN8= "","",AN8) -> 45460
C49: Zadavatel: | L49: =IF(E11= "","",E11) -> První české gymnázium v Karlových Varech, p.o. | AI49: Projektant: | AM49: =IF(E17="","",E17) | AS49: Informatívní údaje z listů zakázek
C50: Účastník: | L50: =IF(E14= "Vyplň údaj","",E14) -> Aricoma System a.s. | AI50: Zpracovatel: | AM50: =IF(E20="","",E20)
C52: Kód | I52: Popis | AG52: Cena bez DPH [CZK] | AN52: Cena s DPH [CZK] | AQ52: Typ | AS52: z toho Ostat. náklady [CZK] | AT52: DPH [CZK] | AU52: Normohodiny [h] | AV52: DPH základní [CZK] | AW52: DPH snížená [CZK] | AX52: DPH základní přenesená [CZK] | AY52: DPH snížená přenesená [CZK] | AZ52: Základna DPH základní | BA52: Základna DPH snížená | BB52: Základna DPH zákl. přenesená | BC52: Základna DPH sníž. přenesená | BD52: Základna DPH nulová
C54: Náklady stavby celkem | AG54: =ROUND(SUM(AG55:AG57),2) -> 9336976.8 | AN54: =SUM(AG54,AT54) -> 11297742 | AS54: =ROUND(SUM(AS55:AS57),2) -> 0 | AT54: =ROUND(SUM(AV54:AW54),2) -> 1960765.1 | AU54: =ROUND(SUM(AU55:AU57),5) -> 0 | AV54: =ROUND(AZ54*L29,2) -> 1960765.1 | AW54: =ROUND(BA54*L30,2) -> 0 | AX54: =ROUND(BB54*L29,2) -> 0 | AY54: =ROUND(BC54*L30,2) -> 0 | AZ54: =ROUND(SUM(AZ55:AZ57),2) -> 9336976.8 | BA54: =ROUND(SUM(BA55:BA57),2) -> 0 | BB54: =ROUND(SUM(BB55:BB57),2) -> 0 | BC54: =ROUND(SUM(BC55:BC57),2) -> 0 | BD54: =ROUND(SUM(BD55:BD57),2) -> 0 | BS54: D | BT54: 0 | BU54: ###NOIMPORT### | BV54: IMPORT | BW54: {4d0deeef-c64b-41b3-8579-e9b04132b84d} | BX54: {00000000-0000-0000-0000-000000000000}
A55: / | D55: 01 | J55: Stavební část | AG55: ='01 - Stavební část'!J30 -> 101569.08 | AN55: =SUM(AG55,AT55) -> 122898.59 | AQ55: STA | AS55: 0 | AT55: =ROUND(SUM(AV55:AW55),2) -> 21329.51 | AU55: ='01 - Stavební část'!P88 -> 0 | AV55: ='01 - Stavební část'!J33 -> 21329.51 | AW55: ='01 - Stavební část'!J34 -> 0 | AX55: ='01 - Stavební část'!J35 -> 0 | AY55: ='01 - Stavební část'!J36 -> 0 | AZ55: ='01 - Stavební část'!F33 -> 101569.08 | BA55: ='01 - Stavební část'!F34 -> 0 | BB55: ='01 - Stavební část'!F35 -> 0 | BC55: ='01 - Stavební část'!F36 -> 0 | BD55: ='01 - Stavební část'!F37 -> 0 | BT55: 1 | BV55: IMPORT | BW55: {63006e51-60c4-4976-912e-0cfc90924fcc} | BX55: {4d0deeef-c64b-41b3-8579-e9b04132b84d} | CM55: 2
A56: / | D56: 02 | J56: Elektroinstalace | AG56: ='02 - Elektroinstalace'!J30 -> 9190962.7 | AN56: =SUM(AG56,AT56) -> 11121065 | AQ56: STA | AS56: 0 | AT56: =ROUND(SUM(AV56:AW56),2) -> 1930102.2 | AU56: ='02 - Elektroinstalace'!P86 -> 0 | AV56: ='02 - Elektroinstalace'!J33 -> 1930102.2 | AW56: ='02 - Elektroinstalace'!J34 -> 0 | AX56: ='02 - Elektroinstalace'!J35 -> 0 | AY56: ='02 - Elektroinstalace'!J36 -> 0 | AZ56: ='02 - Elektroinstalace'!F33 -> 9190962.7 | BA56: ='02 - Elektroinstalace'!F34 -> 0 | BB56: ='02 - Elektroinstalace'!F35 -> 0 | BC56: ='02 - Elektroinstalace'!F36 -> 0 | BD56: ='02 - Elektroinstalace'!F37 -> 0 | BT56: 1 | BV56: IMPORT | BW56: {3fa9e6fe-21da-4167-b530-d82a4e931e7c} | BX56: {4d0deeef-c64b-41b3-8579-e9b04132b84d} | CM56: 2
...

Sheet 01 - Stavební část
AT2: {63006e51-60c4-4976-912e-0cfc90924fcc}
AT3: 2
D4: KRYCÍ LIST SOUPISU PRACÍ | M4: v --- níže se nacházejí doplnkové a pomocné údaje k sestavám --- v | AT4: False
D6: Stavba:
E7: ='Rekapitulace stavby'!K6 -> Standardizace konektivity Prvního českého gymnázia v Karlových Varech, p.o.
D8: Objekt:
E9: 01 - Stavební část
D11: KSO: | I11: CC-CZ:
D12: Místo: | F12: Národní 445/25, 360 01 Karlovy Vary | I12: Datum: | J12: ='Rekapitulace stavby'!AN8 -> 45460
D14: Zadavatel: | I14: IČ:
E15: První české gymnázium v Karlových Varech, p.o. | I15: DIČ:
D17: Účastník: | I17: IČ: | J17: ='Rekapitulace stavby'!AN13 -> 04308697
E18: ='Rekapitulace stavby'!E14 -> Aricoma System a.s. | I18: DIČ: | J18: ='Rekapitulace stavby'!AN14 -> CZ04308697
D20: Projektant: | I20: IČ: | J20: =IF('Rekapitulace stavby'!AN16="","",'Rekapitulace stavby'!AN16)
E21: =IF('Rekapitulace stavby'!E17="","",'Rekapitulace stavby'!E17) | I21: DIČ: | J21: =IF('Rekapitulace stavby'!AN17="","",'Rekapitulace stavby'!AN17)
D23: Zpracovatel: | I23: IČ: | J23: =IF('Rekapitulace stavby'!AN19="","",'Rekapitulace stavby'!AN19)
E24: =IF('Rekapitulace stavby'!E20="","",'Rekapitulace stavby'!E20) | I24: DIČ: | J24: =IF('Rekapitulace stavby'!AN20="","",'Rekapitulace stavby'!AN20)
D26: Poznámka:
D30: Cena bez DPH | J30: =ROUND(J88, 2) -> 101569.08
F32: Základ daně | I32: Sazba daně | J32: Výše daně
D33: DPH | E33: základní | F33: =ROUND((SUM(BE88:BE173)), 2) -> 101569.08 | I33: 0.21 | J33: =ROUND(((SUM(BE88:BE173))*I33), 2) -> 21329.51
E34: snížená | F34: =ROUND((SUM(BF88:BF173)), 2) -> 0 | I34: 0.12 | J34: =ROUND(((SUM(BF88:BF173))*I34), 2) -> 0
E35: zákl. přenesená | F35: =ROUND((SUM(BG88:BG173)), 2) -> 0 | I35: 0.21 | J35: =0 -> 0
E36: sníž. přenesená | F36: =ROUND((SUM(BH88:BH173)), 2) -> 0 | I36: 0.12 | J36: =0 -> 0
E37: nulová | F37: =ROUND((SUM(BI88:BI173)), 2) -> 0 | I37: 0 | J37: =0 -> 0
D39: Cena s DPH | G39: v | H39: CZK | J39: =SUM(J30:J37) -> 122898.59
C45: REKAPITULACE ČLENĚNÍ SOUPISU PRACÍ
C47: Stavba:
E48: =E7 -> Standardizace konektivity Prvního českého gymnázia v Karlových Varech, p.o.
C49: Objekt:
E50: =E9 -> 01 - Stavební část
C52: Místo: | F52: =F12 -> Národní 445/25, 360 01 Karlovy Vary | I52: Datum: | J52: =IF(J12="","",J12) -> 45460
C54: Zadavatel: | F54: =E15 -> První české gymnázium v Karlových Varech, p.o. | I54: Projektant: | J54: =E21
C55: Účastník: | F55: =IF(E18="","",E18) -> Aricoma System a.s. | I55: Zpracovatel: | J55: =E24
C57: Kód dílu - Popis | J57: Cena celkem [CZK]
C59: Náklady stavby celkem | J59: =J88 -> 101569.08 | AU59: -1
D60: HSV - Práce a dodávky HSV | J60: =J89 -> 59208.87
D61: 6 - Úpravy povrchů, podlahy a osazování výplní | J61: =J90 -> 36322
D62: 9 - Ostatní konstrukce a práce, bourání | J62: =J104 -> 20664.54
D63: 997 - Přesun sutě | J63: =J119 -> 314.27
...

Sheet 02 - Elektroinstalace
AT2: {3fa9e6fe-21da-4167-b530-d82a4e931e7c}
AT3: 2
D4: KRYCÍ LIST SOUPISU PRACÍ | M4: v --- níže se nacházejí doplnkové a pomocné údaje k sestavám --- v | AT4: False
D6: Stavba:
E7: ='Rekapitulace stavby'!K6 -> Standardizace konektivity Prvního českého gymnázia v Karlových Varech, p.o.
D8: Objekt:
E9: 02 - Elektroinstalace
D11: KSO: | I11: CC-CZ:
D12: Místo: | F12: Národní 445/25, 360 01 Karlovy Vary | I12: Datum: | J12: ='Rekapitulace stavby'!AN8 -> 45460
D14: Zadavatel: | I14: IČ:
E15: První české gymnázium v Karlových Varech, p.o. | I15: DIČ:
D17: Účastník: | I17: IČ: | J17: ='Rekapitulace stavby'!AN13 -> 04308697
E18: ='Rekapitulace stavby'!E14 -> Aricoma System a.s. | I18: DIČ: | J18: ='Rekapitulace stavby'!AN14 -> CZ04308697
D20: Projektant: | I20: IČ: | J20: =IF('Rekapitulace stavby'!AN16="","",'Rekapitulace stavby'!AN16)
E21: =IF('Rekapitulace stavby'!E17="","",'Rekapitulace stavby'!E17) | I21: DIČ: | J21: =IF('Rekapitulace stavby'!AN17="","",'Rekapitulace stavby'!AN17)
D23: Zpracovatel: | I23: IČ: | J23: =IF('Rekapitulace stavby'!AN19="","",'Rekapitulace stavby'!AN19)
E24: =IF('Rekapitulace stavby'!E20="","",'Rekapitulace stavby'!E20) | I24: DIČ: | J24: =IF('Rekapitulace stavby'!AN20="","",'Rekapitulace stavby'!AN20)
D26: Poznámka:
D30: Cena bez DPH | J30: =ROUND(J86, 2) -> 9190962.7
F32: Základ daně | I32: Sazba daně | J32: Výše daně
D33: DPH | E33: základní | F33: =ROUND((SUM(BE86:BE326)), 2) -> 9190962.7 | I33: 0.21 | J33: =ROUND(((SUM(BE86:BE326))*I33), 2) -> 1930102.2
E34: snížená | F34: =ROUND((SUM(BF86:BF326)), 2) -> 0 | I34: 0.12 | J34: =ROUND(((SUM(BF86:BF326))*I34), 2) -> 0
E35: zákl. přenesená | F35: =ROUND((SUM(BG86:BG326)), 2) -> 0 | I35: 0.21 | J35: =0 -> 0
E36: sníž. přenesená | F36: =ROUND((SUM(BH86:BH326)), 2) -> 0 | I36: 0.12 | J36: =0 -> 0
E37: nulová | F37: =ROUND((SUM(BI86:BI326)), 2) -> 0 | I37: 0 | J37: =0 -> 0
D39: Cena s DPH | G39: v | H39: CZK | J39: =SUM(J30:J37) -> 11121065
C45: REKAPITULACE ČLENĚNÍ SOUPISU PRACÍ
C47: Stavba:
E48: =E7 -> Standardizace konektivity Prvního českého gymnázia v Karlových Varech, p.o.
C49: Objekt:
E50: =E9 -> 02 - Elektroinstalace
C52: Místo: | F52: =F12 -> Národní 445/25, 360 01 Karlovy Vary | I52: Datum: | J52: =IF(J12="","",J12) -> 45460
C54: Zadavatel: | F54: =E15 -> První české gymnázium v Karlových Varech, p.o. | I54: Projektant: | J54: =E21
C55: Účastník: | F55: =IF(E18="","",E18) -> Aricoma System a.s. | I55: Zpracovatel: | J55: =E24
C57: Kód dílu - Popis | J57: Cena celkem [CZK]
C59: Náklady stavby celkem | J59: =J86 -> 9190962.7 | AU59: -1
D60: VRN - Vedlejší rozpočtové náklady | J60: =J87 -> 9189
D61: 997 - Přesun sutě | J61: =J88 -> 9189
D62: PSV - Práce a dodávky PSV | J62: =J102 -> 9075133.7
D63: IT - Aktivní prvky a IT vybavení | J63: =J103 -> 6113925.8
...

Sheet 03 - Vedlejší a ostatní n...
AT2: {a023f422-6c91-4e09-9230-b79d164da607}
AT3: 2
D4: KRYCÍ LIST SOUPISU PRACÍ | M4: v --- níže se nacházejí doplnkové a pomocné údaje k sestavám --- v | AT4: False
D6: Stavba:
E7: ='Rekapitulace stavby'!K6 -> Standardizace konektivity Prvního českého gymnázia v Karlových Varech, p.o.
D8: Objekt:
E9: 03 - Vedlejší a ostatní náklady
D11: KSO: | I11: CC-CZ:
D12: Místo: | F12: Národní 445/25, 360 01 Karlovy Vary | I12: Datum: | J12: ='Rekapitulace stavby'!AN8 -> 45460
D14: Zadavatel: | I14: IČ:
E15: První české gymnázium v Karlových Varech, p.o. | I15: DIČ:
D17: Účastník: | I17: IČ: | J17: ='Rekapitulace stavby'!AN13 -> 04308697
E18: ='Rekapitulace stavby'!E14 -> Aricoma System a.s. | I18: DIČ: | J18: ='Rekapitulace stavby'!AN14 -> CZ04308697
D20: Projektant: | I20: IČ: | J20: =IF('Rekapitulace stavby'!AN16="","",'Rekapitulace stavby'!AN16)
E21: =IF('Rekapitulace stavby'!E17="","",'Rekapitulace stavby'!E17) | I21: DIČ: | J21: =IF('Rekapitulace stavby'!AN17="","",'Rekapitulace stavby'!AN17)
D23: Zpracovatel: | I23: IČ: | J23: =IF('Rekapitulace stavby'!AN19="","",'Rekapitulace stavby'!AN19)
E24: =IF('Rekapitulace stavby'!E20="","",'Rekapitulace stavby'!E20) | I24: DIČ: | J24: =IF('Rekapitulace stavby'!AN20="","",'Rekapitulace stavby'!AN20)
D26: Poznámka:
D30: Cena bez DPH | J30: =ROUND(J84, 2) -> 44445
F32: Základ daně | I32: Sazba daně | J32: Výše daně
D33: DPH | E33: základní | F33: =ROUND((SUM(BE84:BE101)), 2) -> 44445 | I33: 0.21 | J33: =ROUND(((SUM(BE84:BE101))*I33), 2) -> 9333.45
E34: snížená | F34: =ROUND((SUM(BF84:BF101)), 2) -> 0 | I34: 0.12 | J34: =ROUND(((SUM(BF84:BF101))*I34), 2) -> 0
E35: zákl. přenesená | F35: =ROUND((SUM(BG84:BG101)), 2) -> 0 | I35: 0.21 | J35: =0 -> 0
E36: sníž. přenesená | F36: =ROUND((SUM(BH84:BH101)), 2) -> 0 | I36: 0.12 | J36: =0 -> 0
E37: nulová | F37: =ROUND((SUM(BI84:BI101)), 2) -> 0 | I37: 0 | J37: =0 -> 0
D39: Cena s DPH | G39: v | H39: CZK | J39: =SUM(J30:J37) -> 53778.45
C45: REKAPITULACE ČLENĚNÍ SOUPISU PRACÍ
C47: Stavba:
E48: =E7 -> Standardizace konektivity Prvního českého gymnázia v Karlových Varech, p.o.
C49: Objekt:
E50: =E9 -> 03 - Vedlejší a ostatní náklady
C52: Místo: | F52: =F12 -> Národní 445/25, 360 01 Karlovy Vary | I52: Datum: | J52: =IF(J12="","",J12) -> 45460
C54: Zadavatel: | F54: =E15 -> První české gymnázium v Karlových Varech, p.o. | I54: Projektant: | J54: =E21
C55: Účastník: | F55: =IF(E18="","",E18) -> Aricoma System a.s. | I55: Zpracovatel: | J55: =E24
C57: Kód dílu - Popis | J57: Cena celkem [CZK]
C59: Náklady stavby celkem | J59: =J84 -> 44445 | AU59: -1
D60: VRN - Vedlejší rozpočtové náklady | J60: =J85 -> 44445
D61: VRN1 - Průzkumné, geodetické a projektové práce | J61: =J86 -> 16667
D62: VRN4 - Inženýrská činnost | J62: =J90 -> 5556
D63: VRN7 - Provozní vlivy | J63: =J94 -> 11111
...

Sheet Pokyny pro vyplnění
C3: Struktura údajů, formát souboru a metodika pro zpracování
C4: Struktura
C6: Soubor je složen ze záložky Rekapitulace stavby a záložek s názvem soupisu prací pro jednotlivé objekty ve formátu XLSX. Každá ze záložek přitom obsahuje
C7: ještě samostatné sestavy vymezené orámovaním a nadpisem sestavy.
C9: Rekapitulace stavby obsahuje sestavu Rekapitulace stavby a Rekapitulace objektů stavby a soupisů prací.
D10: V sestavě Rekapitulace stavby jsou uvedeny informace identifikující předmět veřejné zakázky na stavební práce, KSO, CC-CZ, CZ-CPV, CZ-CPA a rekapitulaci
D11: celkové nabídkové ceny účastníka.
D13: Termínem "učastník" (resp. zhotovitel) se myslí "účastník zadávacího řízení" ve smyslu zákona o zadávání veřejných zakázek.
D15: V sestavě Rekapitulace objektů stavby a soupisů prací je uvedena rekapitulace stavebních objektů, inženýrských objektů, provozních souborů,
D16: vedlejších a ostatních nákladů a ostatních nákladů s rekapitulací nabídkové ceny za jednotlivé soupisy prací. Na základě údaje Typ je možné
D17: identifikovat, zda se jedná o objekt nebo soupis prací pro daný objekt:
E18: STA | F18: Stavební objekt pozemní
E19: ING | F19: Stavební objekt inženýrský
E20: PRO | F20: Provozní soubor
E21: VON | F21: Vedlejší a ostatní náklady
E22: OST | F22: Ostatní
E23: Soupis | F23: Soupis prací pro daný typ objektu
C25: Soupis prací pro jednotlivé objekty obsahuje sestavy Krycí list soupisu prací, Rekapitulace členění soupisu prací, Soupis prací. Za soupis prací může být považován
C26: i objekt stavby v případě, že neobsahuje podřízenou zakázku.
D27: Krycí list soupisu obsahuje rekapitulaci informací o předmětu veřejné zakázky ze sestavy Rekapitulace stavby, informaci o zařazení objektu do KSO,
D28: CC-CZ, CZ-CPV, CZ-CPA a rekapitulaci celkové nabídkové ceny účastníka za aktuální soupis prací.
D30: Rekapitulace členění soupisu prací obsahuje rekapitulaci soupisu prací ve všech úrovních členění soupisu tak, jak byla tato členění použita (např.
D31: stavební díly, funkční díly, případně jiné členění) s rekapitulací nabídkové ceny.
D33: Soupis prací obsahuje položky veškerých stavebních nebo montážních prací, dodávek materiálů a služeb nezbytných pro zhotovení stavebního objektu,
D34: inženýrského objektu, provozního souboru, vedlejších a ostatních nákladů.
D35: Pro položky soupisu prací se zobrazují následující informace:
E36: PČ | G36: Pořadové číslo položky v aktuálním soupisu
E37: TYP | G37: Typ položky: K - konstrukce, M - materiál, PP - plný popis, PSC - poznámka k souboru cen, P - poznámka k položce, VV - výkaz výměr, FIG - rozpad figur
E38: Kód | G38: Kód položky
E39: Popis | G39: Zkrácený popis položky
E40: MJ | G40: Měrná jednotka položky
E41: Množství | G41: Množství v měrné jednotce
E42: J.cena | G42: Jednotková cena položky. Zadaní může obsahovat namísto J.ceny sloupce J.materiál a J.montáž, jejichž součet definuje
G43: J.cenu položky.
E44: Cena celkem | G44: Celková cena položky daná jako součin množství a j.ceny
E45: Cenová soustava | G45: Příslušnost položky do cenové soustavy
D47: Ke každé položce soupisu prací se na samostatných řádcích může zobrazovat:
E48: Plný popis položky
E49: Poznámka k souboru cen a poznámka zadavatele
E50: Výkaz výměr
...
