Workbook

Sheet Rekapitulace stavby
A1: Export Komplet | AZ1: VZ | BA1: 2.0 | BB1: ZAMOK | BT1: False | BU1: False | BV1: {4d0deeef-c64b-41b3-8579-e9b04132b84d}
BS2: 0,01 | BT2: 21
BS3: 0,01 | BT3: 12
D4: REKAPITULACE STAVBY | AS4: v --- níže se nacházejí doplnkové a pomocné údaje k sestavám --- v | BE4: Návod na vyplnění | BS4: 0,001
D5: Kód: | K5: 20240603 | BE5: Měnit lze pouze buňky se žlutým podbarvením! 1) v Rekapitulaci stavby vyplňte údaje o Účastníkovi (přenesou se do ostatních sestav i v jiných listech) 2) na vybraných listech vyplňte v sestavě Soupis prací ceny u položek | BS5: 0,01
D6: Stavba: | K6: Standardizace konektivity Prvního českého gymnázia v Karlových Varech, p.o. | BS6: 0,01
D7: KSO: | AK7: CC-CZ: | BS7: 0,01
D8: Místo: | K8: Národní 445/25, 360 01 Karlovy Vary | AK8: Datum: | AN8: 45460 | BS8: 0,01
BS9: 0,01
D10: Zadavatel: | AK10: IČ: | BS10: 0,01
E11: První české gymnázium v Karlových Varech, p.o. | AK11: DIČ: | BS11: 0,01
BS12: 0,01
D13: Účastník: | AK13: IČ: | AN13: 04308697 | BS13: 0,01
E14: Aricoma System a.s. | AK14: DIČ: | AN14: CZ04308697 | BS14: 0,01
BS15: False
D16: Projektant: | AK16: IČ: | BS16: False
AK17: DIČ: | BS17: True
BS18: 0,01
D19: Zpracovatel: | AK19: IČ: | BS19: 0,01
AK20: DIČ: | BS20: True
D22: Poznámka:
E23: Soupis prací je sestaven s využitím Cenové soustavy ÚRS. Položky, které pochází z této cenové soustavy, jsou ve sloupci 'Cenová soustava' označeny popisem 'CS ÚRS' a úrovní příslušného kalendářního pololetí. Veškeré další informace vymezující popis a podmínky použití těchto položek z Cenové soustavy, které nejsou uvedeny přímo v soupisu prací, jsou neomezeně dálkově k dispozici na webu podminky.urs.cz.
D26: Cena bez DPH | AK26: =ROUND(AG54,2) -> 9336976.8
L28: Sazba daně | W28: Základ daně | AK28: Výše daně
D29: DPH | F29: základní | L29: 0.21 | W29: =ROUND(AZ54,2) -> 9336976.8 | AK29: =ROUND(AV54,2) -> 1960765.1
F30: snížená | L30: 0.12 | W30: =ROUND(BA54,2) -> 0 | AK30: =ROUND(AW54,2) -> 0
F31: zákl. přenesená | L31: 0.21 | W31: =ROUND(BB54,2) -> 0 | AK31: 0
F32: sníž. přenesená | L32: 0.12 | W32: =ROUND(BC54,2) -> 0 | AK32: 0
F33: nulová | L33: 0 | W33: =ROUND(BD54,2) -> 0 | AK33: 0
D35: Cena s DPH | T35: v | X35: CZK | AK35: =SUM(AK26:AK33) -> 11297742
C42: REKAPITULACE OBJEKTŮ STAVBY A SOUPISŮ PRACÍ
C44: Kód: | L44: =K5 -> 20240603
C45: Stavba: | L45: =K6 -> Standardizace konektivity Prvního českého gymnázia v Karlových Varech, p.o.
C47: Místo: | L47: =IF(K8="","",K8) -> Národní 445/25, 360 01 Karlovy Vary | AI47: Datum: | AM47: =IF(AN8= "","",AN8) -> 45460
C49: Zadavatel: | L49: =IF(E11= "","",E11) -> První české gymnázium v Karlových Varech, p.o. | AI49: Projektant: | AM49: =IF(E17="","",E17) | AS49: Informatívní údaje z listů zakázek
C50: Účastník: | L50: =IF(E14= "Vyplň údaj","",E14) -> Aricoma System a.s. | AI50: Zpracovatel: | AM50: =IF(E20="","",E20)
C52: Kód | I52: Popis | AG52: Cena bez DPH [CZK] | AN52: Cena s DPH [CZK] | AQ52: Typ | AS52: z toho Ostat. náklady [CZK] | AT52: DPH [CZK] | AU52: Normohodiny [h] | AV52: DPH základní [CZK] | AW52: DPH snížená [CZK] | AX52: DPH základní přenesená [CZK] | AY52: DPH snížená přenesená [CZK] | AZ52: Základna DPH základní | BA52: Základna DPH snížená | BB52: Základna DPH zákl. přenesená | BC52: Základna DPH sníž. přenesená | BD52: Základna DPH nulová
C54: Náklady stavby celkem | AG54: =ROUND(SUM(AG55:AG57),2) -> 9336976.8 | AN54: =SUM(AG54,AT54) -> 11297742 | AS54: =ROUND(SUM(AS55:AS57),2) -> 0 | AT54: =ROUND(SUM(AV54:AW54),2) -> 1960765.1 | AU54: =ROUND(SUM(AU55:AU57),5) -> 0 | AV54: =ROUND(AZ54*L29,2) -> 1960765.1 | AW54: =ROUND(BA54*L30,2) -> 0 | AX54: =ROUND(BB54*L29,2) -> 0 | AY54: =ROUND(BC54*L30,2) -> 0 | AZ54: =ROUND(SUM(AZ55:AZ57),2) -> 9336976.8 | BA54: =ROUND(SUM(BA55:BA57),2) -> 0 | BB54: =ROUND(SUM(BB55:BB57),2) -> 0 | BC54: =ROUND(SUM(BC55:BC57),2) -> 0 | BD54: =ROUND(SUM(BD55:BD57),2) -> 0 | BS54: D | BT54: 0 | BU54: ###NOIMPORT### | BV54: IMPORT | BW54: {4d0deeef-c64b-41b3-8579-e9b04132b84d} | BX54: {00000000-0000-0000-0000-000000000000}
A55: / | D55: 01 | J55: Stavební část | AG55: ='01 - Stavební část'!J30 -> 101569.08 | AN55: =SUM(AG55,AT55) -> 122898.59 | AQ55: STA | AS55: 0 | AT55: =ROUND(SUM(AV55:AW55),2) -> 21329.51 | AU55: ='01 - Stavební část'!P88 -> 0 | AV55: ='01 - Stavební část'!J33 -> 21329.51 | AW55: ='01 - Stavební část'!J34 -> 0 | AX55: ='01 - Stavební část'!J35 -> 0 | AY55: ='01 - Stavební část'!J36 -> 0 | AZ55: ='01 - Stavební část'!F33 -> 101569.08 | BA55: ='01 - Stavební část'!F34 -> 0 | BB55: ='01 - Stavební část'!F35 -> 0 | BC55: ='01 - Stavební část'!F36 -> 0 | BD55: ='01 - Stavební část'!F37 -> 0 | BT55: 1 | BV55: IMPORT | BW55: {63006e51-60c4-4976-912e-0cfc90924fcc} | BX55: {4d0deeef-c64b-41b3-8579-e9b04132b84d} | CM55: 2
A56: / | D56: 02 | J56: Elektroinstalace | AG56: ='02 - Elektroinstalace'!J30 -> 9190962.7 | AN56: =SUM(AG56,AT56) -> 11121065 | AQ56: STA | AS56: 0 | AT56: =ROUND(SUM(AV56:AW56),2) -> 1930102.2 | AU56: ='02 - Elektroinstalace'!P86 -> 0 | AV56: ='02 - Elektroinstalace'!J33 -> 1930102.2 | AW56: ='02 - Elektroinstalace'!J34 -> 0 | AX56: ='02 - Elektroinstalace'!J35 -> 0 | AY56: ='02 - Elektroinstalace'!J36 -> 0 | AZ56: ='02 - Elektroinstalace'!F33 -> 9190962.7 | BA56: ='02 - Elektroinstalace'!F34 -> 0 | BB56: ='02 - Elektroinstalace'!F35 -> 0 | BC56: ='02 - Elektroinstalace'!F36 -> 0 | BD56: ='02 - Elektroinstalace'!F37 -> 0 | BT56: 1 | BV56: IMPORT | BW56: {3fa9e6fe-21da-4167-b530-d82a4e931e7c} | BX56: {4d0deeef-c64b-41b3-8579-e9b04132b84d} | CM56: 2
A57: / | D57: 03 | J57: Vedlejší a ostatní náklady | AG57: ='03 - Vedlejší a ostatní n...'!J30 -> 44445 | AN57: =SUM(AG57,AT57) -> 53778.45 | AQ57: STA | AS57: 0 | AT57: =ROUND(SUM(AV57:AW57),2) -> 9333.45 | AU57: ='03 - Vedlejší a ostatní n...'!P84 -> 0 | AV57: ='03 - Vedlejší a ostatní n...'!J33 -> 9333.45 | AW57: ='03 - Vedlejší a ostatní n...'!J34 -> 0 | AX57: ='03 - Vedlejší a ostatní n...'!J35 -> 0 | AY57: ='03 - Vedlejší a ostatní n...'!J36 -> 0 | AZ57: ='03 - Vedlejší a ostatní n...'!F33 -> 44445 | BA57: ='03 - Vedlejší a ostatní n...'!F34 -> 0 | BB57: ='03 - Vedlejší a ostatní n...'!F35 -> 0 | BC57: ='03 - Vedlejší a ostatní n...'!F36 -> 0 | BD57: ='03 - Vedlejší a ostatní n...'!F37 -> 0 | BT57: 1 | BV57: IMPORT | BW57: {a023f422-6c91-4e09-9230-b79d164da607} | BX57: {4d0deeef-c64b-41b3-8579-e9b04132b84d} | CM57: 2

Sheet 01 - Stavební část
AT2: {63006e51-60c4-4976-912e-0cfc90924fcc}
AT3: 2
D4: KRYCÍ LIST SOUPISU PRACÍ | M4: v --- níže se nacházejí doplnkové a pomocné údaje k sestavám --- v | AT4: False
D6: Stavba:
E7: ='Rekapitulace stavby'!K6 -> Standardizace konektivity Prvního českého gymnázia v Karlových Varech, p.o.
D8: Objekt:
E9: 01 - Stavební část
D11: KSO: | I11: CC-CZ:
D12: Místo: | F12: Národní 445/25, 360 01 Karlovy Vary | I12: Datum: | J12: ='Rekapitulace stavby'!AN8 -> 45460
D14: Zadavatel: | I14: IČ:
E15: První české gymnázium v Karlových Varech, p.o. | I15: DIČ:
D17: Účastník: | I17: IČ: | J17: ='Rekapitulace stavby'!AN13 -> 04308697
E18: ='Rekapitulace stavby'!E14 -> Aricoma System a.s. | I18: DIČ: | J18: ='Rekapitulace stavby'!AN14 -> CZ04308697
D20: Projektant: | I20: IČ: | J20: =IF('Rekapitulace stavby'!AN16="","",'Rekapitulace stavby'!AN16)
E21: =IF('Rekapitulace stavby'!E17="","",'Rekapitulace stavby'!E17) | I21: DIČ: | J21: =IF('Rekapitulace stavby'!AN17="","",'Rekapitulace stavby'!AN17)
D23: Zpracovatel: | I23: IČ: | J23: =IF('Rekapitulace stavby'!AN19="","",'Rekapitulace stavby'!AN19)
E24: =IF('Rekapitulace stavby'!E20="","",'Rekapitulace stavby'!E20) | I24: DIČ: | J24: =IF('Rekapitulace stavby'!AN20="","",'Rekapitulace stavby'!AN20)
D26: Poznámka:
D30: Cena bez DPH | J30: =ROUND(J88, 2) -> 101569.08
F32: Základ daně | I32: Sazba daně | J32: Výše daně
D33: DPH | E33: základní | F33: =ROUND((SUM(BE88:BE173)), 2) -> 101569.08 | I33: 0.21 | J33: =ROUND(((SUM(BE88:BE173))*I33), 2) -> 21329.51
E34: snížená | F34: =ROUND((SUM(BF88:BF173)), 2) -> 0 | I34: 0.12 | J34: =ROUND(((SUM(BF88:BF173))*I34), 2) -> 0
E35: zákl. přenesená | F35: =ROUND((SUM(BG88:BG173)), 2) -> 0 | I35: 0.21 | J35: =0 -> 0
E36: sníž. přenesená | F36: =ROUND((SUM(BH88:BH173)), 2) -> 0 | I36: 0.12 | J36: =0 -> 0
E37: nulová | F37: =ROUND((SUM(BI88:BI173)), 2) -> 0 | I37: 0 | J37: =0 -> 0
D39: Cena s DPH | G39: v | H39: CZK | J39: =SUM(J30:J37) -> 122898.59
C45: REKAPITULACE ČLENĚNÍ SOUPISU PRACÍ
C47: Stavba:
E48: =E7 -> Standardizace konektivity Prvního českého gymnázia v Karlových Varech, p.o.
C49: Objekt:
E50: =E9 -> 01 - Stavební část
C52: Místo: | F52: =F12 -> Národní 445/25, 360 01 Karlovy Vary | I52: Datum: | J52: =IF(J12="","",J12) -> 45460
C54: Zadavatel: | F54: =E15 -> První české gymnázium v Karlových Varech, p.o. | I54: Projektant: | J54: =E21
C55: Účastník: | F55: =IF(E18="","",E18) -> Aricoma System a.s. | I55: Zpracovatel: | J55: =E24
C57: Kód dílu - Popis | J57: Cena celkem [CZK]
C59: Náklady stavby celkem | J59: =J88 -> 101569.08 | AU59: -1
D60: HSV - Práce a dodávky HSV | J60: =J89 -> 59208.87
D61: 6 - Úpravy povrchů, podlahy a osazování výplní | J61: =J90 -> 36322
D62: 9 - Ostatní konstrukce a práce, bourání | J62: =J104 -> 20664.54
D63: 997 - Přesun sutě | J63: =J119 -> 314.27
D64: 998 - Přesun hmot | J64: =J133 -> 1908.06
D65: PSV - Práce a dodávky PSV | J65: =J137 -> 42360.21
D66: 741 - Elektroinstalace - silnoproud | J66: =J138 -> 17662.31
D67: 776 - Podlahy povlakové | J67: =J153 -> 937.9
D68: 784 - Dokončovací práce - malby a tapety | J68: =J165 -> 23760
C75: SOUPIS PRACÍ
C77: Stavba:
E78: =E7 -> Standardizace konektivity Prvního českého gymnázia v Karlových Varech, p.o.
C79: Objekt:
E80: =E9 -> 01 - Stavební část
C82: Místo: | F82: =F12 -> Národní 445/25, 360 01 Karlovy Vary | I82: Datum: | J82: =IF(J12="","",J12) -> 45460
C84: Zadavatel: | F84: =E15 -> První české gymnázium v Karlových Varech, p.o. | I84: Projektant: | J84: =E21
C85: Účastník: | F85: =IF(E18="","",E18) -> Aricoma System a.s. | I85: Zpracovatel: | J85: =E24
C87: PČ | D87: Typ | E87: Kód | F87: Popis | G87: MJ | H87: Množství | I87: J.cena [CZK] | J87: Cena celkem [CZK] | K87: Cenová soustava | N87: DPH | O87: J. Nh [h] | P87: Nh celkem [h] | Q87: J. hmotnost [t] | R87: Hmotnost celkem [t] | S87: J. suť [t] | T87: Suť Celkem [t]
C88: Náklady soupisu celkem | J88: =BK88 -> 101569.08 | P88: =P89+P137 -> 0 | R88: =R89+R137 -> 0.896306 | T88: =T89+T137 -> 0.051198 | AT88: D | AU88: -1 | BK88: =BK89+BK137 -> 101569.08
D89: D | E89: HSV | F89: Práce a dodávky HSV | J89: =BK89 -> 59208.87 | P89: =P90+P104+P119+P133 -> 0 | R89: =R90+R104+R119+R133 -> 0.786746 | T89: =T90+T104+T119+T133 -> 0.042198 | AR89: 1 | AT89: D | AU89: 0 | AY89: ROZPOCET | BK89: =BK90+BK104+BK119+BK133 -> 59208.87
D90: D | E90: 6 | F90: Úpravy povrchů, podlahy a osazování výplní | J90: =BK90 -> 36322 | P90: =SUM(P91:P103) -> 0 | R90: =SUM(R91:R103) -> 0.75192 | T90: =SUM(T91:T103) -> 0.0078 | AR90: 1 | AT90: D | AU90: 1 | AY90: ROZPOCET | BK90: =SUM(BK91:BK103) -> 36322
C91: 1 | D91: K | E91: 611325221 | F91: Vápenocementová štuková omítka malých ploch do 0,09 m2 na stropech | G91: kus | H91: 6 | I91: 233 | J91: =ROUND(I91*H91,2) -> 1398 | K91: CS ÚRS 2024 01 | N91: základní | P91: =O91*H91 -> 0 | Q91: 0.0037 | R91: =Q91*H91 -> 0.0222 | S91: 0 | T91: =S91*H91 -> 0 | AR91: 4 | AT91: K | AU91: 2 | AY91: ROZPOCET | BE91: =IF(N91="základní",J91,0) -> 1398 | BF91: =IF(N91="snížená",J91,0) -> 0 | BG91: =IF(N91="zákl. přenesená",J91,0) -> 0 | BH91: =IF(N91="sníž. přenesená",J91,0) -> 0 | BI91: =IF(N91="nulová",J91,0) -> 0 | BJ91: 1 | BK91: =ROUND(I91*H91,2) -> 1398 | BL91: 4 | BM91: 1602746485
D92: PP | F92: Vápenocementová omítka jednotlivých malých ploch štuková na stropech, plochy jednotlivě do 0,09 m2 | AT92: PP | AU92: 2
D93: Online PSC | F93: https://podminky.urs.cz/item/CS_URS_2024_01/611325221 | AT93: Online PSC | AU93: 2
D94: VV | F94: zednické začištění kabelových prostupů stropem | AT94: VV | AU94: 2 | AV94: 1 | AW94: True | AX94: 0 | AY94: ROZPOCET
D95: VV | F95: 6 | H95: 6 | AT95: VV | AU95: 2 | AV95: 2 | AW95: True | AX95: 1 | AY95: ROZPOCET
C96: 2 | D96: K | E96: 612325221 | F96: Vápenocementová štuková omítka malých ploch do 0,09 m2 na stěnách | G96: kus | H96: 192 | I96: 167 | J96: =ROUND(I96*H96,2) -> 32064 | K96: CS ÚRS 2024 01 | N96: základní | P96: =O96*H96 -> 0 | Q96: 0.00376 | R96: =Q96*H96 -> 0.72192 | S96: 0 | T96: =S96*H96 -> 0 | AR96: 4 | AT96: K | AU96: 2 | AY96: ROZPOCET | BE96: =IF(N96="základní",J96,0) -> 32064 | BF96: =IF(N96="snížená",J96,0) -> 0 | BG96: =IF(N96="zákl. přenesená",J96,0) -> 0 | BH96: =IF(N96="sníž. přenesená",J96,0) -> 0 | BI96: =IF(N96="nulová",J96,0) -> 0 | BJ96: 1 | BK96: =ROUND(I96*H96,2) -> 32064 | BL96: 4 | BM96: 2105980311
D97: PP | F97: Vápenocementová omítka jednotlivých malých ploch štuková na stěnách, plochy jednotlivě do 0,09 m2 | AT97: PP | AU97: 2
D98: Online PSC | F98: https://podminky.urs.cz/item/CS_URS_2024_01/612325221 | AT98: Online PSC | AU98: 2
D99: VV | F99: zednické začištění kabelových prostupů stěnou | AT99: VV | AU99: 2 | AV99: 1 | AW99: True | AX99: 0 | AY99: ROZPOCET
D100: VV | F100: 96*2 | H100: 192 | AT100: VV | AU100: 2 | AV100: 2 | AW100: True | AX100: 1 | AY100: ROZPOCET
C101: 3 | D101: K | E101: 619991001 | F101: Zakrytí podlahy fólií | G101: m2 | H101: 130 | I101: 22 | J101: =ROUND(I101*H101,2) -> 2860 | K101: CS ÚRS 2024 01 | N101: základní | P101: =O101*H101 -> 0 | Q101: 6e-05 | R101: =Q101*H101 -> 0.0078 | S101: 6e-05 | T101: =S101*H101 -> 0.0078 | AR101: 4 | AT101: K | AU101: 2 | AY101: ROZPOCET | BE101: =IF(N101="základní",J101,0) -> 2860 | BF101: =IF(N101="snížená",J101,0) -> 0 | BG101: =IF(N101="zákl. přenesená",J101,0) -> 0 | BH101: =IF(N101="sníž. přenesená",J101,0) -> 0 | BI101: =IF(N101="nulová",J101,0) -> 0 | BJ101: 1 | BK101: =ROUND(I101*H101,2) -> 2860 | BL101: 4 | BM101: 1544202913
D102: PP | F102: Zakrytí vnitřních ploch před znečištěním fólií včetně pozdějšího odkrytí podlah | AT102: PP | AU102: 2
D103: Online PSC | F103: https://podminky.urs.cz/item/CS_URS_2024_01/619991001 | AT103: Online PSC | AU103: 2
D104: D | E104: 9 | F104: Ostatní konstrukce a práce, bourání | J104: =BK104 -> 20664.54 | P104: =SUM(P105:P118) -> 0 | R104: =SUM(R105:R118) -> 0.034826 | T104: =SUM(T105:T118) -> 0.034398 | AR104: 1 | AT104: D | AU104: 1 | AY104: ROZPOCET | BK104: =SUM(BK105:BK118) -> 20664.54
C105: 4 | D105: K | E105: 949101111 | F105: Lešení pomocné pro objekty pozemních staveb s lešeňovou podlahou v do 1,9 m zatížení do 150 kg/m2 | G105: m2 | H105: 130 | I105: 56 | J105: =ROUND(I105*H105,2) -> 7280 | K105: CS ÚRS 2024 01 | N105: základní | P105: =O105*H105 -> 0 | Q105: 0.00013 | R105: =Q105*H105 -> 0.0169 | S105: 0 | T105: =S105*H105 -> 0 | AR105: 16 | AT105: K | AU105: 2 | AY105: ROZPOCET | BE105: =IF(N105="základní",J105,0) -> 7280 | BF105: =IF(N105="snížená",J105,0) -> 0 | BG105: =IF(N105="zákl. přenesená",J105,0) -> 0 | BH105: =IF(N105="sníž. přenesená",J105,0) -> 0 | BI105: =IF(N105="nulová",J105,0) -> 0 | BJ105: 1 | BK105: =ROUND(I105*H105,2) -> 7280 | BL105: 16 | BM105: -832057510
D106: PP | F106: Lešení pomocné pracovní pro objekty pozemních staveb pro zatížení do 150 kg/m2, o výšce lešeňové podlahy do 1,9 m | AT106: PP | AU106: 2
D107: Online PSC | F107: https://podminky.urs.cz/item/CS_URS_2024_01/949101111 | AT107: Online PSC | AU107: 2
C108: 5 | D108: K | E108: 952901111 | F108: Vyčištění budov bytové a občanské výstavby při výšce podlaží do 4 m | G108: m2 | H108: 130 | I108: 61 | J108: =ROUND(I108*H108,2) -> 7930 | K108: CS ÚRS 2024 01 | N108: základní | P108: =O108*H108 -> 0 | Q108: 4e-05 | R108: =Q108*H108 -> 0.0052 | S108: 0 | T108: =S108*H108 -> 0 | AR108: 4 | AT108: K | AU108: 2 | AY108: ROZPOCET | BE108: =IF(N108="základní",J108,0) -> 7930 | BF108: =IF(N108="snížená",J108,0) -> 0 | BG108: =IF(N108="zákl. přenesená",J108,0) -> 0 | BH108: =IF(N108="sníž. přenesená",J108,0) -> 0 | BI108: =IF(N108="nulová",J108,0) -> 0 | BJ108: 1 | BK108: =ROUND(I108*H108,2) -> 7930 | BL108: 4 | BM108: -1443270051
D109: PP | F109: Vyčištění budov nebo objektů před předáním do užívání budov bytové nebo občanské výstavby, světlé výšky podlaží do 4 m | AT109: PP | AU109: 2
D110: Online PSC | F110: https://podminky.urs.cz/item/CS_URS_2024_01/952901111 | AT110: Online PSC | AU110: 2
C111: 6 | D111: K | E111: 977151111 | F111: Jádrové vrty diamantovými korunkami do stavebních materiálů D do 35 mm | G111: m | H111: 14.4 | I111: 333 | J111: =ROUND(I111*H111,2) -> 4795.2 | K111: CS ÚRS 2024 01 | N111: základní | P111: =O111*H111 -> 0 | Q111: 0.00076 | R111: =Q111*H111 -> 0.010944 | S111: 0.0021 | T111: =S111*H111 -> 0.03024 | AR111: 4 | AT111: K | AU111: 2 | AY111: ROZPOCET | BE111: =IF(N111="základní",J111,0) -> 4795.2 | BF111: =IF(N111="snížená",J111,0) -> 0 | BG111: =IF(N111="zákl. přenesená",J111,0) -> 0 | BH111: =IF(N111="sníž. přenesená",J111,0) -> 0 | BI111: =IF(N111="nulová",J111,0) -> 0 | BJ111: 1 | BK111: =ROUND(I111*H111,2) -> 4795.2 | BL111: 4 | BM111: 1379326417
D112: PP | F112: Jádrové vrty diamantovými korunkami do stavebních materiálů (železobetonu, betonu, cihel, obkladů, dlažeb, kamene) průměru do 35 mm | AT112: PP | AU112: 2
D113: Online PSC | F113: https://podminky.urs.cz/item/CS_URS_2024_01/977151111 | AT113: Online PSC | AU113: 2
D114: VV | F114: 96*0,15 | H114: 14.4 | AT114: VV | AU114: 2 | AV114: 2 | AW114: True | AX114: 1 | AY114: ROZPOCET
C115: 7 | D115: K | E115: 977151211 | F115: Jádrové vrty dovrchní diamantovými korunkami do stavebních materiálů D do 35 mm | G115: m | H115: 1.98 | I115: 333 | J115: =ROUND(I115*H115,2) -> 659.34 | K115: CS ÚRS 2024 01 | N115: základní | P115: =O115*H115 -> 0 | Q115: 0.0009 | R115: =Q115*H115 -> 0.001782 | S115: 0.0021 | T115: =S115*H115 -> 0.004158 | AR115: 4 | AT115: K | AU115: 2 | AY115: ROZPOCET | BE115: =IF(N115="základní",J115,0) -> 659.34 | BF115: =IF(N115="snížená",J115,0) -> 0 | BG115: =IF(N115="zákl. přenesená",J115,0) -> 0 | BH115: =IF(N115="sníž. přenesená",J115,0) -> 0 | BI115: =IF(N115="nulová",J115,0) -> 0 | BJ115: 1 | BK115: =ROUND(I115*H115,2) -> 659.34 | BL115: 4 | BM115: 784501671
D116: PP | F116: Jádrové vrty diamantovými korunkami do stavebních materiálů (železobetonu, betonu, cihel, obkladů, dlažeb, kamene) dovrchní (směrem vzhůru), průměru do 35 mm | AT116: PP | AU116: 2
D117: Online PSC | F117: https://podminky.urs.cz/item/CS_URS_2024_01/977151211 | AT117: Online PSC | AU117: 2
D118: VV | F118: 6*0,33 | H118: 1.98 | AT118: VV | AU118: 2 | AV118: 2 | AW118: True | AX118: 1 | AY118: ROZPOCET
D119: D | E119: 997 | F119: Přesun sutě | J119: =BK119 -> 314.27 | P119: =SUM(P120:P132) -> 0 | R119: =SUM(R120:R132) -> 0 | T119: =SUM(T120:T132) -> 0 | AR119: 1 | AT119: D | AU119: 1 | AY119: ROZPOCET | BK119: =SUM(BK120:BK132) -> 314.27
C120: 8 | D120: K | E120: 997013214 | F120: Vnitrostaveništní doprava suti a vybouraných hmot pro budovy v přes 12 do 15 m ručně | G120: t | H120: 0.051 | I120: 3067 | J120: =ROUND(I120*H120,2) -> 156.42 | K120: CS ÚRS 2024 01 | N120: základní | P120: =O120*H120 -> 0 | Q120: 0 | R120: =Q120*H120 -> 0 | S120: 0 | T120: =S120*H120 -> 0 | AR120: 4 | AT120: K | AU120: 2 | AY120: ROZPOCET | BE120: =IF(N120="základní",J120,0) -> 156.42 | BF120: =IF(N120="snížená",J120,0) -> 0 | BG120: =IF(N120="zákl. přenesená",J120,0) -> 0 | BH120: =IF(N120="sníž. přenesená",J120,0) -> 0 | BI120: =IF(N120="nulová",J120,0) -> 0 | BJ120: 1 | BK120: =ROUND(I120*H120,2) -> 156.42 | BL120: 4 | BM120: 1756861620
D121: PP | F121: Vnitrostaveništní doprava suti a vybouraných hmot vodorovně do 50 m s naložením ručně pro budovy a haly výšky přes 12 do 15 m | AT121: PP | AU121: 2
D122: Online PSC | F122: https://podminky.urs.cz/item/CS_URS_2024_01/997013214 | AT122: Online PSC | AU122: 2
C123: 9 | D123: K | E123: 997013501 | F123: Odvoz suti a vybouraných hmot na skládku nebo meziskládku do 1 km se složením | G123: t | H123: 0.051 | I123: 338 | J123: =ROUND(I123*H123,2) -> 17.24 | K123: CS ÚRS 2024 01 | N123: základní | P123: =O123*H123 -> 0 | Q123: 0 | R123: =Q123*H123 -> 0 | S123: 0 | T123: =S123*H123 -> 0 | AR123: 4 | AT123: K | AU123: 2 | AY123: ROZPOCET | BE123: =IF(N123="základní",J123,0) -> 17.24 | BF123: =IF(N123="snížená",J123,0) -> 0 | BG123: =IF(N123="zákl. přenesená",J123,0) -> 0 | BH123: =IF(N123="sníž. přenesená",J123,0) -> 0 | BI123: =IF(N123="nulová",J123,0) -> 0 | BJ123: 1 | BK123: =ROUND(I123*H123,2) -> 17.24 | BL123: 4 | BM123: -1663931172
D124: PP | F124: Odvoz suti a vybouraných hmot na skládku nebo meziskládku se složením, na vzdálenost do 1 km | AT124: PP | AU124: 2
D125: Online PSC | F125: https://podminky.urs.cz/item/CS_URS_2024_01/997013501 | AT125: Online PSC | AU125: 2
C126: 10 | D126: K | E126: 997013509 | F126: Příplatek k odvozu suti a vybouraných hmot na skládku ZKD 1 km přes 1 km | G126: t | H126: 1.479 | I126: 15 | J126: =ROUND(I126*H126,2) -> 22.19 | K126: CS ÚRS 2024 01 | N126: základní | P126: =O126*H126 -> 0 | Q126: 0 | R126: =Q126*H126 -> 0 | S126: 0 | T126: =S126*H126 -> 0 | AR126: 4 | AT126: K | AU126: 2 | AY126: ROZPOCET | BE126: =IF(N126="základní",J126,0) -> 22.19 | BF126: =IF(N126="snížená",J126,0) -> 0 | BG126: =IF(N126="zákl. přenesená",J126,0) -> 0 | BH126: =IF(N126="sníž. přenesená",J126,0) -> 0 | BI126: =IF(N126="nulová",J126,0) -> 0 | BJ126: 1 | BK126: =ROUND(I126*H126,2) -> 22.19 | BL126: 4 | BM126: 1192849115
D127: PP | F127: Odvoz suti a vybouraných hmot na skládku nebo meziskládku se složením, na vzdálenost Příplatek k ceně za každý další započatý 1 km přes 1 km | AT127: PP | AU127: 2
D128: Online PSC | F128: https://podminky.urs.cz/item/CS_URS_2024_01/997013509 | AT128: Online PSC | AU128: 2
D129: VV | F129: 0,051*29 | H129: 1.479 | AT129: VV | AU129: 2 | AV129: 2 | AW129: True | AX129: 1 | AY129: ROZPOCET
C130: 11 | D130: K | E130: 997013631 | F130: Poplatek za uložení na skládce (skládkovné) stavebního odpadu směsného kód odpadu 17 09 04 | G130: t | H130: 0.051 | I130: 2322 | J130: =ROUND(I130*H130,2) -> 118.42 | K130: CS ÚRS 2024 01 | N130: základní | P130: =O130*H130 -> 0 | Q130: 0 | R130: =Q130*H130 -> 0 | S130: 0 | T130: =S130*H130 -> 0 | AR130: 4 | AT130: K | AU130: 2 | AY130: ROZPOCET | BE130: =IF(N130="základní",J130,0) -> 118.42 | BF130: =IF(N130="snížená",J130,0) -> 0 | BG130: =IF(N130="zákl. přenesená",J130,0) -> 0 | BH130: =IF(N130="sníž. přenesená",J130,0) -> 0 | BI130: =IF(N130="nulová",J130,0) -> 0 | BJ130: 1 | BK130: =ROUND(I130*H130,2) -> 118.42 | BL130: 4 | BM130: -2116197170
D131: PP | F131: Poplatek za uložení stavebního odpadu na skládce (skládkovné) směsného stavebního a demoličního zatříděného do Katalogu odpadů pod kódem 17 09 04 | AT131: PP | AU131: 2
D132: Online PSC | F132: https://podminky.urs.cz/item/CS_URS_2024_01/997013631 | AT132: Online PSC | AU132: 2
D133: D | E133: 998 | F133: Přesun hmot | J133: =BK133 -> 1908.06 | P133: =SUM(P134:P136) -> 0 | R133: =SUM(R134:R136) -> 0 | T133: =SUM(T134:T136) -> 0 | AR133: 1 | AT133: D | AU133: 1 | AY133: ROZPOCET | BK133: =SUM(BK134:BK136) -> 1908.06
...

Sheet 02 - Elektroinstalace
AT2: {3fa9e6fe-21da-4167-b530-d82a4e931e7c}
AT3: 2
D4: KRYCÍ LIST SOUPISU PRACÍ | M4: v --- níže se nacházejí doplnkové a pomocné údaje k sestavám --- v | AT4: False
D6: Stavba:
E7: ='Rekapitulace stavby'!K6 -> Standardizace konektivity Prvního českého gymnázia v Karlových Varech, p.o.
D8: Objekt:
E9: 02 - Elektroinstalace
D11: KSO: | I11: CC-CZ:
D12: Místo: | F12: Národní 445/25, 360 01 Karlovy Vary | I12: Datum: | J12: ='Rekapitulace stavby'!AN8 -> 45460
D14: Zadavatel: | I14: IČ:
E15: První české gymnázium v Karlových Varech, p.o. | I15: DIČ:
D17: Účastník: | I17: IČ: | J17: ='Rekapitulace stavby'!AN13 -> 04308697
E18: ='Rekapitulace stavby'!E14 -> Aricoma System a.s. | I18: DIČ: | J18: ='Rekapitulace stavby'!AN14 -> CZ04308697
D20: Projektant: | I20: IČ: | J20: =IF('Rekapitulace stavby'!AN16="","",'Rekapitulace stavby'!AN16)
E21: =IF('Rekapitulace stavby'!E17="","",'Rekapitulace stavby'!E17) | I21: DIČ: | J21: =IF('Rekapitulace stavby'!AN17="","",'Rekapitulace stavby'!AN17)
D23: Zpracovatel: | I23: IČ: | J23: =IF('Rekapitulace stavby'!AN19="","",'Rekapitulace stavby'!AN19)
E24: =IF('Rekapitulace stavby'!E20="","",'Rekapitulace stavby'!E20) | I24: DIČ: | J24: =IF('Rekapitulace stavby'!AN20="","",'Rekapitulace stavby'!AN20)
D26: Poznámka:
D30: Cena bez DPH | J30: =ROUND(J86, 2) -> 9190962.7
F32: Základ daně | I32: Sazba daně | J32: Výše daně
D33: DPH | E33: základní | F33: =ROUND((SUM(BE86:BE326)), 2) -> 9190962.7 | I33: 0.21 | J33: =ROUND(((SUM(BE86:BE326))*I33), 2) -> 1930102.2
E34: snížená | F34: =ROUND((SUM(BF86:BF326)), 2) -> 0 | I34: 0.12 | J34: =ROUND(((SUM(BF86:BF326))*I34), 2) -> 0
E35: zákl. přenesená | F35: =ROUND((SUM(BG86:BG326)), 2) -> 0 | I35: 0.21 | J35: =0 -> 0
E36: sníž. přenesená | F36: =ROUND((SUM(BH86:BH326)), 2) -> 0 | I36: 0.12 | J36: =0 -> 0
E37: nulová | F37: =ROUND((SUM(BI86:BI326)), 2) -> 0 | I37: 0 | J37: =0 -> 0
D39: Cena s DPH | G39: v | H39: CZK | J39: =SUM(J30:J37) -> 11121065
C45: REKAPITULACE ČLENĚNÍ SOUPISU PRACÍ
C47: Stavba:
E48: =E7 -> Standardizace konektivity Prvního českého gymnázia v Karlových Varech, p.o.
C49: Objekt:
E50: =E9 -> 02 - Elektroinstalace
C52: Místo: | F52: =F12 -> Národní 445/25, 360 01 Karlovy Vary | I52: Datum: | J52: =IF(J12="","",J12) -> 45460
C54: Zadavatel: | F54: =E15 -> První české gymnázium v Karlových Varech, p.o. | I54: Projektant: | J54: =E21
C55: Účastník: | F55: =IF(E18="","",E18) -> Aricoma System a.s. | I55: Zpracovatel: | J55: =E24
C57: Kód dílu - Popis | J57: Cena celkem [CZK]
C59: Náklady stavby celkem | J59: =J86 -> 9190962.7 | AU59: -1
D60: VRN - Vedlejší rozpočtové náklady | J60: =J87 -> 9189
D61: 997 - Přesun sutě | J61: =J88 -> 9189
D62: PSV - Práce a dodávky PSV | J62: =J102 -> 9075133.7
D63: IT - Aktivní prvky a IT vybavení | J63: =J103 -> 6113925.8
D64: 741 - Elektroinstalace - silnoproud | J64: =J108 -> 38326
D65: 742 - Elektroinstalace - slaboproud | J65: =J125 -> 2922881.9
D66: HZS - Hodinové zúčtovací sazby | J66: =J310 -> 106640
C73: SOUPIS PRACÍ
C75: Stavba:
E76: =E7 -> Standardizace konektivity Prvního českého gymnázia v Karlových Varech, p.o.
C77: Objekt:
E78: =E9 -> 02 - Elektroinstalace
C80: Místo: | F80: =F12 -> Národní 445/25, 360 01 Karlovy Vary | I80: Datum: | J80: =IF(J12="","",J12) -> 45460
C82: Zadavatel: | F82: =E15 -> První české gymnázium v Karlových Varech, p.o. | I82: Projektant: | J82: =E21
C83: Účastník: | F83: =IF(E18="","",E18) -> Aricoma System a.s. | I83: Zpracovatel: | J83: =E24
C85: PČ | D85: Typ | E85: Kód | F85: Popis | G85: MJ | H85: Množství | I85: J.cena [CZK] | J85: Cena celkem [CZK] | K85: Cenová soustava | N85: DPH | O85: J. Nh [h] | P85: Nh celkem [h] | Q85: J. hmotnost [t] | R85: Hmotnost celkem [t] | S85: J. suť [t] | T85: Suť Celkem [t]
C86: Náklady soupisu celkem | J86: =BK86 -> 9190962.7 | P86: =P87+P102+P310 -> 0 | R86: =R87+R102+R310 -> 3.565095 | T86: =T87+T102+T310 -> 0 | AT86: D | AU86: -1 | BK86: =BK87+BK102+BK310 -> 9190962.7
D87: D | E87: VRN | F87: Vedlejší rozpočtové náklady | J87: =BK87 -> 9189 | P87: =P88 -> 0 | R87: =R88 -> 0 | T87: =T88 -> 0 | AR87: 1 | AT87: D | AU87: 0 | AY87: ROZPOCET | BK87: =BK88 -> 9189
D88: D | E88: 997 | F88: Přesun sutě | J88: =BK88 -> 9189 | P88: =SUM(P89:P101) -> 0 | R88: =SUM(R89:R101) -> 0 | T88: =SUM(T89:T101) -> 0 | AR88: 1 | AT88: D | AU88: 1 | AY88: ROZPOCET | BK88: =SUM(BK89:BK101) -> 9189
C89: 1 | D89: K | E89: 997013214 | F89: Vnitrostaveništní doprava suti a vybouraných hmot pro budovy v přes 12 do 15 m ručně | G89: t | H89: 4.5 | I89: 556 | J89: =ROUND(I89*H89,2) -> 2502 | K89: CS ÚRS 2024 01 | N89: základní | P89: =O89*H89 -> 0 | Q89: 0 | R89: =Q89*H89 -> 0 | S89: 0 | T89: =S89*H89 -> 0 | AR89: 4 | AT89: K | AU89: 2 | AY89: ROZPOCET | BE89: =IF(N89="základní",J89,0) -> 2502 | BF89: =IF(N89="snížená",J89,0) -> 0 | BG89: =IF(N89="zákl. přenesená",J89,0) -> 0 | BH89: =IF(N89="sníž. přenesená",J89,0) -> 0 | BI89: =IF(N89="nulová",J89,0) -> 0 | BJ89: 1 | BK89: =ROUND(I89*H89,2) -> 2502 | BL89: 4 | BM89: -65941991
D90: PP | F90: Vnitrostaveništní doprava suti a vybouraných hmot vodorovně do 50 m s naložením ručně pro budovy a haly výšky přes 12 do 15 m | AT90: PP | AU90: 2
D91: Online PSC | F91: https://podminky.urs.cz/item/CS_URS_2024_01/997013214 | AT91: Online PSC | AU91: 2
C92: 2 | D92: K | E92: 997013501 | F92: Odvoz suti a vybouraných hmot na skládku nebo meziskládku do 1 km se složením | G92: t | H92: 4.5 | I92: 278 | J92: =ROUND(I92*H92,2) -> 1251 | K92: CS ÚRS 2024 01 | N92: základní | P92: =O92*H92 -> 0 | Q92: 0 | R92: =Q92*H92 -> 0 | S92: 0 | T92: =S92*H92 -> 0 | AR92: 4 | AT92: K | AU92: 2 | AY92: ROZPOCET | BE92: =IF(N92="základní",J92,0) -> 1251 | BF92: =IF(N92="snížená",J92,0) -> 0 | BG92: =IF(N92="zákl. přenesená",J92,0) -> 0 | BH92: =IF(N92="sníž. přenesená",J92,0) -> 0 | BI92: =IF(N92="nulová",J92,0) -> 0 | BJ92: 1 | BK92: =ROUND(I92*H92,2) -> 1251 | BL92: 4 | BM92: -1754833505
D93: PP | F93: Odvoz suti a vybouraných hmot na skládku nebo meziskládku se složením, na vzdálenost do 1 km | AT93: PP | AU93: 2
D94: Online PSC | F94: https://podminky.urs.cz/item/CS_URS_2024_01/997013501 | AT94: Online PSC | AU94: 2
C95: 3 | D95: K | E95: 997013509 | F95: Příplatek k odvozu suti a vybouraných hmot na skládku ZKD 1 km přes 1 km | G95: t | H95: 130.5 | I95: 11 | J95: =ROUND(I95*H95,2) -> 1435.5 | K95: CS ÚRS 2024 01 | N95: základní | P95: =O95*H95 -> 0 | Q95: 0 | R95: =Q95*H95 -> 0 | S95: 0 | T95: =S95*H95 -> 0 | AR95: 4 | AT95: K | AU95: 2 | AY95: ROZPOCET | BE95: =IF(N95="základní",J95,0) -> 1435.5 | BF95: =IF(N95="snížená",J95,0) -> 0 | BG95: =IF(N95="zákl. přenesená",J95,0) -> 0 | BH95: =IF(N95="sníž. přenesená",J95,0) -> 0 | BI95: =IF(N95="nulová",J95,0) -> 0 | BJ95: 1 | BK95: =ROUND(I95*H95,2) -> 1435.5 | BL95: 4 | BM95: 208918264
D96: PP | F96: Odvoz suti a vybouraných hmot na skládku nebo meziskládku se složením, na vzdálenost Příplatek k ceně za každý další započatý 1 km přes 1 km | AT96: PP | AU96: 2
D97: Online PSC | F97: https://podminky.urs.cz/item/CS_URS_2024_01/997013509 | AT97: Online PSC | AU97: 2
D98: VV | F98: 4,5*29 | H98: 130.5 | AT98: VV | AU98: 2 | AV98: 2 | AW98: True | AX98: 1 | AY98: ROZPOCET
C99: 4 | D99: K | E99: 997013631 | F99: Poplatek za uložení na skládce (skládkovné) stavebního odpadu směsného kód odpadu 17 09 04 | G99: t | H99: 4.5 | I99: 889 | J99: =ROUND(I99*H99,2) -> 4000.5 | K99: CS ÚRS 2024 01 | N99: základní | P99: =O99*H99 -> 0 | Q99: 0 | R99: =Q99*H99 -> 0 | S99: 0 | T99: =S99*H99 -> 0 | AR99: 4 | AT99: K | AU99: 2 | AY99: ROZPOCET | BE99: =IF(N99="základní",J99,0) -> 4000.5 | BF99: =IF(N99="snížená",J99,0) -> 0 | BG99: =IF(N99="zákl. přenesená",J99,0) -> 0 | BH99: =IF(N99="sníž. přenesená",J99,0) -> 0 | BI99: =IF(N99="nulová",J99,0) -> 0 | BJ99: 1 | BK99: =ROUND(I99*H99,2) -> 4000.5 | BL99: 4 | BM99: -1309917579
D100: PP | F100: Poplatek za uložení stavebního odpadu na skládce (skládkovné) směsného stavebního a demoličního zatříděného do Katalogu odpadů pod kódem 17 09 04 | AT100: PP | AU100: 2
D101: Online PSC | F101: https://podminky.urs.cz/item/CS_URS_2024_01/997013631 | AT101: Online PSC | AU101: 2
D102: D | E102: PSV | F102: Práce a dodávky PSV | J102: =BK102 -> 9075133.7 | P102: =P103+P108+P125 -> 0 | R102: =R103+R108+R125 -> 3.565095 | T102: =T103+T108+T125 -> 0 | AR102: 2 | AT102: D | AU102: 0 | AY102: ROZPOCET | BK102: =BK103+BK108+BK125 -> 9075133.7
D103: D | E103: IT | F103: Aktivní prvky a IT vybavení | J103: =BK103 -> 6113925.8 | P103: =SUM(P104:P107) -> 0 | R103: =SUM(R104:R107) -> 0 | T103: =SUM(T104:T107) -> 0 | AR103: 1 | AT103: D | AU103: 1 | AY103: ROZPOCET | BK103: =SUM(BK104:BK107) -> 6113925.8
C104: 5 | D104: K | E104: IT000001R | F104: Dodávka aktivních prvků a IT vybavení dle samostatného rozpočtu | G104: kpl | H104: 1 | I104: 5784751.8 | J104: =ROUND(I104*H104,2) -> 5784751.8 | K104: R-položka | N104: základní | P104: =O104*H104 -> 0 | Q104: 0 | R104: =Q104*H104 -> 0 | S104: 0 | T104: =S104*H104 -> 0 | AR104: 4 | AT104: K | AU104: 2 | AY104: ROZPOCET | BE104: =IF(N104="základní",J104,0) -> 5784751.8 | BF104: =IF(N104="snížená",J104,0) -> 0 | BG104: =IF(N104="zákl. přenesená",J104,0) -> 0 | BH104: =IF(N104="sníž. přenesená",J104,0) -> 0 | BI104: =IF(N104="nulová",J104,0) -> 0 | BJ104: 1 | BK104: =ROUND(I104*H104,2) -> 5784751.8 | BL104: 4 | BM104: 1608263604
D105: PP | F105: Dodávka aktivních prvků a IT vybavení dle samostatného rozpočtu | AT105: PP | AU105: 2
C106: 6 | D106: K | E106: IT000002R | F106: Dodávka Wifi AP včetně konfigurace dle samostatného rozpočtu | G106: kpl | H106: 1 | I106: 329174 | J106: =ROUND(I106*H106,2) -> 329174 | K106: R-položka | N106: základní | P106: =O106*H106 -> 0 | Q106: 0 | R106: =Q106*H106 -> 0 | S106: 0 | T106: =S106*H106 -> 0 | AR106: 4 | AT106: K | AU106: 2 | AY106: ROZPOCET | BE106: =IF(N106="základní",J106,0) -> 329174 | BF106: =IF(N106="snížená",J106,0) -> 0 | BG106: =IF(N106="zákl. přenesená",J106,0) -> 0 | BH106: =IF(N106="sníž. přenesená",J106,0) -> 0 | BI106: =IF(N106="nulová",J106,0) -> 0 | BJ106: 1 | BK106: =ROUND(I106*H106,2) -> 329174 | BL106: 4 | BM106: -1275932807
D107: PP | F107: Dodávka Wifi AP včetně konfigurace dle samostatného rozpočtu | AT107: PP | AU107: 2
D108: D | E108: 741 | F108: Elektroinstalace - silnoproud | J108: =BK108 -> 38326 | P108: =SUM(P109:P124) -> 0 | R108: =SUM(R109:R124) -> 0.086625 | T108: =SUM(T109:T124) -> 0 | AR108: 2 | AT108: D | AU108: 1 | AY108: ROZPOCET | BK108: =SUM(BK109:BK124) -> 38326
C109: 7 | D109: K | E109: 741122211 | F109: Montáž kabel Cu plný kulatý žíla 3x1,5 až 6 mm2 uložený volně (např. CYKY) | G109: m | H109: 550 | I109: 27 | J109: =ROUND(I109*H109,2) -> 14850 | K109: CS ÚRS 2024 01 | N109: základní | P109: =O109*H109 -> 0 | Q109: 0 | R109: =Q109*H109 -> 0 | S109: 0 | T109: =S109*H109 -> 0 | AR109: 16 | AT109: K | AU109: 2 | AY109: ROZPOCET | BE109: =IF(N109="základní",J109,0) -> 14850 | BF109: =IF(N109="snížená",J109,0) -> 0 | BG109: =IF(N109="zákl. přenesená",J109,0) -> 0 | BH109: =IF(N109="sníž. přenesená",J109,0) -> 0 | BI109: =IF(N109="nulová",J109,0) -> 0 | BJ109: 1 | BK109: =ROUND(I109*H109,2) -> 14850 | BL109: 16 | BM109: -1332170986
D110: PP | F110: Montáž kabelů měděných bez ukončení uložených volně nebo v liště plných kulatých (např. CYKY) počtu a průřezu žil 3x1,5 až 6 mm2 | AT110: PP | AU110: 2
D111: Online PSC | F111: https://podminky.urs.cz/item/CS_URS_2024_01/741122211 | AT111: Online PSC | AU111: 2
C112: 8 | D112: M | E112: 34111123 | F112: kabel silový oheň retardující bezhalogenový bez funkční schopnosti při požáru třída reakce na oheň B2cas1d1a1 jádro Cu 0,6/1kV (1-CXKH-R B2) 3x1,5mm2 | G112: m | H112: 632.5 | I112: 30 | J112: =ROUND(I112*H112,2) -> 18975 | K112: CS ÚRS 2024 01 | N112: základní | P112: =O112*H112 -> 0 | Q112: 0.00013 | R112: =Q112*H112 -> 0.082225 | S112: 0 | T112: =S112*H112 -> 0 | AR112: 32 | AT112: M | AU112: 2 | AY112: ROZPOCET | BE112: =IF(N112="základní",J112,0) -> 18975 | BF112: =IF(N112="snížená",J112,0) -> 0 | BG112: =IF(N112="zákl. přenesená",J112,0) -> 0 | BH112: =IF(N112="sníž. přenesená",J112,0) -> 0 | BI112: =IF(N112="nulová",J112,0) -> 0 | BJ112: 1 | BK112: =ROUND(I112*H112,2) -> 18975 | BL112: 16 | BM112: -1814199060
D113: PP | F113: kabel silový oheň retardující bezhalogenový bez funkční schopnosti při požáru třída reakce na oheň B2cas1d1a1 jádro Cu 0,6/1kV (1-CXKH-R B2) 3x1,5mm2 | AT113: PP | AU113: 2
C114: 9 | D114: K | E114: 741320105 | F114: Montáž jističů jednopólových nn do 25 A ve skříni se zapojením vodičů | G114: kus | H114: 11 | I114: 196 | J114: =ROUND(I114*H114,2) -> 2156 | K114: CS ÚRS 2024 01 | N114: základní | P114: =O114*H114 -> 0 | Q114: 0 | R114: =Q114*H114 -> 0 | S114: 0 | T114: =S114*H114 -> 0 | AR114: 16 | AT114: K | AU114: 2 | AY114: ROZPOCET | BE114: =IF(N114="základní",J114,0) -> 2156 | BF114: =IF(N114="snížená",J114,0) -> 0 | BG114: =IF(N114="zákl. přenesená",J114,0) -> 0 | BH114: =IF(N114="sníž. přenesená",J114,0) -> 0 | BI114: =IF(N114="nulová",J114,0) -> 0 | BJ114: 1 | BK114: =ROUND(I114*H114,2) -> 2156 | BL114: 16 | BM114: -918141967
D115: PP | F115: Montáž jističů se zapojením vodičů jednopólových nn do 25 A ve skříni | AT115: PP | AU115: 2
D116: Online PSC | F116: https://podminky.urs.cz/item/CS_URS_2024_01/741320105 | AT116: Online PSC | AU116: 2
C117: 10 | D117: M | E117: 35822111 | F117: jistič 1-pólový 16 A vypínací charakteristika B vypínací schopnost 10 kA | G117: kus | H117: 11 | I117: 126 | J117: =ROUND(I117*H117,2) -> 1386 | K117: CS ÚRS 2024 01 | N117: základní | P117: =O117*H117 -> 0 | Q117: 0.0004 | R117: =Q117*H117 -> 0.0044 | S117: 0 | T117: =S117*H117 -> 0 | AR117: 32 | AT117: M | AU117: 2 | AY117: ROZPOCET | BE117: =IF(N117="základní",J117,0) -> 1386 | BF117: =IF(N117="snížená",J117,0) -> 0 | BG117: =IF(N117="zákl. přenesená",J117,0) -> 0 | BH117: =IF(N117="sníž. přenesená",J117,0) -> 0 | BI117: =IF(N117="nulová",J117,0) -> 0 | BJ117: 1 | BK117: =ROUND(I117*H117,2) -> 1386 | BL117: 16 | BM117: 191962829
D118: PP | F118: jistič 1-pólový 16 A vypínací charakteristika B vypínací schopnost 10 kA | AT118: PP | AU118: 2
C119: 11 | D119: K | E119: 998741123 | F119: Přesun hmot tonážní pro silnoproud ruční v objektech v přes 12 do 24 m | G119: t | H119: 0.087 | I119: 9956 | J119: =ROUND(I119*H119,2) -> 866.17 | K119: CS ÚRS 2024 01 | N119: základní | P119: =O119*H119 -> 0 | Q119: 0 | R119: =Q119*H119 -> 0 | S119: 0 | T119: =S119*H119 -> 0 | AR119: 16 | AT119: K | AU119: 2 | AY119: ROZPOCET | BE119: =IF(N119="základní",J119,0) -> 866.17 | BF119: =IF(N119="snížená",J119,0) -> 0 | BG119: =IF(N119="zákl. přenesená",J119,0) -> 0 | BH119: =IF(N119="sníž. přenesená",J119,0) -> 0 | BI119: =IF(N119="nulová",J119,0) -> 0 | BJ119: 1 | BK119: =ROUND(I119*H119,2) -> 866.17 | BL119: 16 | BM119: 1952367328
D120: PP | F120: Přesun hmot pro silnoproud stanovený z hmotnosti přesunovaného materiálu vodorovná dopravní vzdálenost do 50 m ruční (bez užití mechanizace) v objektech výšky přes 12 do 24 m | AT120: PP | AU120: 2
D121: Online PSC | F121: https://podminky.urs.cz/item/CS_URS_2024_01/998741123 | AT121: Online PSC | AU121: 2
C122: 12 | D122: K | E122: 998741129 | F122: Příplatek k ručnímu přesunu hmot tonážnímu pro silnoproud za zvětšený přesun ZKD 50 m | G122: t | H122: 0.087 | I122: 1067 | J122: =ROUND(I122*H122,2) -> 92.83 | K122: CS ÚRS 2024 01 | N122: základní | P122: =O122*H122 -> 0 | Q122: 0 | R122: =Q122*H122 -> 0 | S122: 0 | T122: =S122*H122 -> 0 | AR122: 16 | AT122: K | AU122: 2 | AY122: ROZPOCET | BE122: =IF(N122="základní",J122,0) -> 92.83 | BF122: =IF(N122="snížená",J122,0) -> 0 | BG122: =IF(N122="zákl. přenesená",J122,0) -> 0 | BH122: =IF(N122="sníž. přenesená",J122,0) -> 0 | BI122: =IF(N122="nulová",J122,0) -> 0 | BJ122: 1 | BK122: =ROUND(I122*H122,2) -> 92.83 | BL122: 16 | BM122: -848084629
D123: PP | F123: Přesun hmot pro silnoproud stanovený z hmotnosti přesunovaného materiálu vodorovná dopravní vzdálenost do 50 m Příplatek k cenám za ruční zvětšený přesun přes vymezenou vodorovnou dopravní vzdálenost za každých dalších započatých 50 m | AT123: PP | AU123: 2
D124: Online PSC | F124: https://podminky.urs.cz/item/CS_URS_2024_01/998741129 | AT124: Online PSC | AU124: 2
D125: D | E125: 742 | F125: Elektroinstalace - slaboproud | J125: =BK125 -> 2922881.9 | P125: =SUM(P126:P309) -> 0 | R125: =SUM(R126:R309) -> 3.47847 | T125: =SUM(T126:T309) -> 0 | AR125: 2 | AT125: D | AU125: 1 | AY125: ROZPOCET | BK125: =SUM(BK126:BK309) -> 2922881.9
C126: 13 | D126: K | E126: 742110013 | F126: Montáž trubek pro slaboproud plastových tuhých pro vnitřní rozvody pro optická vlákna | G126: m | H126: 1000 | I126: 38 | J126: =ROUND(I126*H126,2) -> 38000 | K126: CS ÚRS 2024 01 | N126: základní | P126: =O126*H126 -> 0 | Q126: 0 | R126: =Q126*H126 -> 0 | S126: 0 | T126: =S126*H126 -> 0 | AR126: 16 | AT126: K | AU126: 2 | AY126: ROZPOCET | BE126: =IF(N126="základní",J126,0) -> 38000 | BF126: =IF(N126="snížená",J126,0) -> 0 | BG126: =IF(N126="zákl. přenesená",J126,0) -> 0 | BH126: =IF(N126="sníž. přenesená",J126,0) -> 0 | BI126: =IF(N126="nulová",J126,0) -> 0 | BJ126: 1 | BK126: =ROUND(I126*H126,2) -> 38000 | BL126: 16 | BM126: -1035343613
D127: PP | F127: Montáž trubek elektroinstalačních plastových tuhých pro vnitřní rozvody pro optická vlákna | AT127: PP | AU127: 2
D128: Online PSC | F128: https://podminky.urs.cz/item/CS_URS_2024_01/742110013 | AT128: Online PSC | AU128: 2
C129: 14 | D129: M | E129: 34571851R | F129: Mikrotrubička LSOH vnitřní tenkostěnná 05/3,5mm, pro indoor použití, vnitřní lubrikační vrstva | G129: m | H129: 1050 | I129: 7 | J129: =ROUND(I129*H129,2) -> 7350 | K129: R-položka | N129: základní | P129: =O129*H129 -> 0 | Q129: 0 | R129: =Q129*H129 -> 0 | S129: 0 | T129: =S129*H129 -> 0 | AR129: 32 | AT129: M | AU129: 2 | AY129: ROZPOCET | BE129: =IF(N129="základní",J129,0) -> 7350 | BF129: =IF(N129="snížená",J129,0) -> 0 | BG129: =IF(N129="zákl. přenesená",J129,0) -> 0 | BH129: =IF(N129="sníž. přenesená",J129,0) -> 0 | BI129: =IF(N129="nulová",J129,0) -> 0 | BJ129: 1 | BK129: =ROUND(I129*H129,2) -> 7350 | BL129: 16 | BM129: -1199376573
D130: PP | F130: Mikrotrubička LSOH vnitřní tenkostěnná 05/3,5mm, pro indoor použití, vnitřní lubrikační vrstva | AT130: PP | AU130: 2
C131: 15 | D131: K | E131: 742110041 | F131: Montáž lišt vkládacích pro slaboproud | G131: m | H131: 3000 | I131: 38 | J131: =ROUND(I131*H131,2) -> 114000 | K131: CS ÚRS 2024 01 | N131: základní | P131: =O131*H131 -> 0 | Q131: 0 | R131: =Q131*H131 -> 0 | S131: 0 | T131: =S131*H131 -> 0 | AR131: 16 | AT131: K | AU131: 2 | AY131: ROZPOCET | BE131: =IF(N131="základní",J131,0) -> 114000 | BF131: =IF(N131="snížená",J131,0) -> 0 | BG131: =IF(N131="zákl. přenesená",J131,0) -> 0 | BH131: =IF(N131="sníž. přenesená",J131,0) -> 0 | BI131: =IF(N131="nulová",J131,0) -> 0 | BJ131: 1 | BK131: =ROUND(I131*H131,2) -> 114000 | BL131: 16 | BM131: 939536956
D132: PP | F132: Montáž lišt elektroinstalačních vkládacích | AT132: PP | AU132: 2
D133: Online PSC | F133: https://podminky.urs.cz/item/CS_URS_2024_01/742110041 | AT133: Online PSC | AU133: 2
...

Sheet 03 - Vedlejší a ostatní n...
AT2: {a023f422-6c91-4e09-9230-b79d164da607}
AT3: 2
D4: KRYCÍ LIST SOUPISU PRACÍ | M4: v --- níže se nacházejí doplnkové a pomocné údaje k sestavám --- v | AT4: False
D6: Stavba:
E7: ='Rekapitulace stavby'!K6 -> Standardizace konektivity Prvního českého gymnázia v Karlových Varech, p.o.
D8: Objekt:
E9: 03 - Vedlejší a ostatní náklady
D11: KSO: | I11: CC-CZ:
D12: Místo: | F12: Národní 445/25, 360 01 Karlovy Vary | I12: Datum: | J12: ='Rekapitulace stavby'!AN8 -> 45460
D14: Zadavatel: | I14: IČ:
E15: První české gymnázium v Karlových Varech, p.o. | I15: DIČ:
D17: Účastník: | I17: IČ: | J17: ='Rekapitulace stavby'!AN13 -> 04308697
E18: ='Rekapitulace stavby'!E14 -> Aricoma System a.s. | I18: DIČ: | J18: ='Rekapitulace stavby'!AN14 -> CZ04308697
D20: Projektant: | I20: IČ: | J20: =IF('Rekapitulace stavby'!AN16="","",'Rekapitulace stavby'!AN16)
E21: =IF('Rekapitulace stavby'!E17="","",'Rekapitulace stavby'!E17) | I21: DIČ: | J21: =IF('Rekapitulace stavby'!AN17="","",'Rekapitulace stavby'!AN17)
D23: Zpracovatel: | I23: IČ: | J23: =IF('Rekapitulace stavby'!AN19="","",'Rekapitulace stavby'!AN19)
E24: =IF('Rekapitulace stavby'!E20="","",'Rekapitulace stavby'!E20) | I24: DIČ: | J24: =IF('Rekapitulace stavby'!AN20="","",'Rekapitulace stavby'!AN20)
D26: Poznámka:
D30: Cena bez DPH | J30: =ROUND(J84, 2) -> 44445
F32: Základ daně | I32: Sazba daně | J32: Výše daně
D33: DPH | E33: základní | F33: =ROUND((SUM(BE84:BE101)), 2) -> 44445 | I33: 0.21 | J33: =ROUND(((SUM(BE84:BE101))*I33), 2) -> 9333.45
E34: snížená | F34: =ROUND((SUM(BF84:BF101)), 2) -> 0 | I34: 0.12 | J34: =ROUND(((SUM(BF84:BF101))*I34), 2) -> 0
E35: zákl. přenesená | F35: =ROUND((SUM(BG84:BG101)), 2) -> 0 | I35: 0.21 | J35: =0 -> 0
E36: sníž. přenesená | F36: =ROUND((SUM(BH84:BH101)), 2) -> 0 | I36: 0.12 | J36: =0 -> 0
E37: nulová | F37: =ROUND((SUM(BI84:BI101)), 2) -> 0 | I37: 0 | J37: =0 -> 0
D39: Cena s DPH | G39: v | H39: CZK | J39: =SUM(J30:J37) -> 53778.45
C45: REKAPITULACE ČLENĚNÍ SOUPISU PRACÍ
C47: Stavba:
E48: =E7 -> Standardizace konektivity Prvního českého gymnázia v Karlových Varech, p.o.
C49: Objekt:
E50: =E9 -> 03 - Vedlejší a ostatní náklady
C52: Místo: | F52: =F12 -> Národní 445/25, 360 01 Karlovy Vary | I52: Datum: | J52: =IF(J12="","",J12) -> 45460
C54: Zadavatel: | F54: =E15 -> První české gymnázium v Karlových Varech, p.o. | I54: Projektant: | J54: =E21
C55: Účastník: | F55: =IF(E18="","",E18) -> Aricoma System a.s. | I55: Zpracovatel: | J55: =E24
C57: Kód dílu - Popis | J57: Cena celkem [CZK]
C59: Náklady stavby celkem | J59: =J84 -> 44445 | AU59: -1
D60: VRN - Vedlejší rozpočtové náklady | J60: =J85 -> 44445
D61: VRN1 - Průzkumné, geodetické a projektové práce | J61: =J86 -> 16667
D62: VRN4 - Inženýrská činnost | J62: =J90 -> 5556
D63: VRN7 - Provozní vlivy | J63: =J94 -> 11111
D64: VRN8 - Přesun stavebních kapacit | J64: =J98 -> 11111
C71: SOUPIS PRACÍ
C73: Stavba:
E74: =E7 -> Standardizace konektivity Prvního českého gymnázia v Karlových Varech, p.o.
C75: Objekt:
E76: =E9 -> 03 - Vedlejší a ostatní náklady
C78: Místo: | F78: =F12 -> Národní 445/25, 360 01 Karlovy Vary | I78: Datum: | J78: =IF(J12="","",J12) -> 45460
C80: Zadavatel: | F80: =E15 -> První české gymnázium v Karlových Varech, p.o. | I80: Projektant: | J80: =E21
C81: Účastník: | F81: =IF(E18="","",E18) -> Aricoma System a.s. | I81: Zpracovatel: | J81: =E24
C83: PČ | D83: Typ | E83: Kód | F83: Popis | G83: MJ | H83: Množství | I83: J.cena [CZK] | J83: Cena celkem [CZK] | K83: Cenová soustava | N83: DPH | O83: J. Nh [h] | P83: Nh celkem [h] | Q83: J. hmotnost [t] | R83: Hmotnost celkem [t] | S83: J. suť [t] | T83: Suť Celkem [t]
C84: Náklady soupisu celkem | J84: =BK84 -> 44445 | P84: =P85 -> 0 | R84: =R85 -> 0 | T84: =T85 -> 0 | AT84: D | AU84: -1 | BK84: =BK85 -> 44445
D85: D | E85: VRN | F85: Vedlejší rozpočtové náklady | J85: =BK85 -> 44445 | P85: =P86+P90+P94+P98 -> 0 | R85: =R86+R90+R94+R98 -> 0 | T85: =T86+T90+T94+T98 -> 0 | AR85: 5 | AT85: D | AU85: 0 | AY85: ROZPOCET | BK85: =BK86+BK90+BK94+BK98 -> 44445
D86: D | E86: VRN1 | F86: Průzkumné, geodetické a projektové práce | J86: =BK86 -> 16667 | P86: =SUM(P87:P89) -> 0 | R86: =SUM(R87:R89) -> 0 | T86: =SUM(T87:T89) -> 0 | AR86: 5 | AT86: D | AU86: 1 | AY86: ROZPOCET | BK86: =SUM(BK87:BK89) -> 16667
C87: 1 | D87: K | E87: 013254000 | F87: Dokumentace skutečného provedení stavby | G87: Kč | H87: 1 | I87: 16667 | J87: =ROUND(I87*H87,2) -> 16667 | K87: CS ÚRS 2024 01 | N87: základní | P87: =O87*H87 -> 0 | Q87: 0 | R87: =Q87*H87 -> 0 | S87: 0 | T87: =S87*H87 -> 0 | AR87: 4 | AT87: K | AU87: 2 | AY87: ROZPOCET | BE87: =IF(N87="základní",J87,0) -> 16667 | BF87: =IF(N87="snížená",J87,0) -> 0 | BG87: =IF(N87="zákl. přenesená",J87,0) -> 0 | BH87: =IF(N87="sníž. přenesená",J87,0) -> 0 | BI87: =IF(N87="nulová",J87,0) -> 0 | BJ87: 1 | BK87: =ROUND(I87*H87,2) -> 16667 | BL87: 4 | BM87: -1197081533
D88: PP | F88: Dokumentace skutečného provedení stavby | AT88: PP | AU88: 2
D89: Online PSC | F89: https://podminky.urs.cz/item/CS_URS_2024_01/013254000 | AT89: Online PSC | AU89: 2
D90: D | E90: VRN4 | F90: Inženýrská činnost | J90: =BK90 -> 5556 | P90: =SUM(P91:P93) -> 0 | R90: =SUM(R91:R93) -> 0 | T90: =SUM(T91:T93) -> 0 | AR90: 5 | AT90: D | AU90: 1 | AY90: ROZPOCET | BK90: =SUM(BK91:BK93) -> 5556
C91: 2 | D91: K | E91: 045002000 | F91: Kompletační a koordinační činnost | G91: Kč | H91: 1 | I91: 5556 | J91: =ROUND(I91*H91,2) -> 5556 | K91: CS ÚRS 2024 01 | N91: základní | P91: =O91*H91 -> 0 | Q91: 0 | R91: =Q91*H91 -> 0 | S91: 0 | T91: =S91*H91 -> 0 | AR91: 4 | AT91: K | AU91: 2 | AY91: ROZPOCET | BE91: =IF(N91="základní",J91,0) -> 5556 | BF91: =IF(N91="snížená",J91,0) -> 0 | BG91: =IF(N91="zákl. přenesená",J91,0) -> 0 | BH91: =IF(N91="sníž. přenesená",J91,0) -> 0 | BI91: =IF(N91="nulová",J91,0) -> 0 | BJ91: 1 | BK91: =ROUND(I91*H91,2) -> 5556 | BL91: 4 | BM91: 163351675
D92: PP | F92: Kompletační a koordinační činnost | AT92: PP | AU92: 2
D93: Online PSC | F93: https://podminky.urs.cz/item/CS_URS_2024_01/045002000 | AT93: Online PSC | AU93: 2
D94: D | E94: VRN7 | F94: Provozní vlivy | J94: =BK94 -> 11111 | P94: =SUM(P95:P97) -> 0 | R94: =SUM(R95:R97) -> 0 | T94: =SUM(T95:T97) -> 0 | AR94: 5 | AT94: D | AU94: 1 | AY94: ROZPOCET | BK94: =SUM(BK95:BK97) -> 11111
C95: 3 | D95: K | E95: 071002000 | F95: Provoz investora, třetích osob | G95: Kč | H95: 1 | I95: 11111 | J95: =ROUND(I95*H95,2) -> 11111 | K95: CS ÚRS 2024 01 | N95: základní | P95: =O95*H95 -> 0 | Q95: 0 | R95: =Q95*H95 -> 0 | S95: 0 | T95: =S95*H95 -> 0 | AR95: 4 | AT95: K | AU95: 2 | AY95: ROZPOCET | BE95: =IF(N95="základní",J95,0) -> 11111 | BF95: =IF(N95="snížená",J95,0) -> 0 | BG95: =IF(N95="zákl. přenesená",J95,0) -> 0 | BH95: =IF(N95="sníž. přenesená",J95,0) -> 0 | BI95: =IF(N95="nulová",J95,0) -> 0 | BJ95: 1 | BK95: =ROUND(I95*H95,2) -> 11111 | BL95: 4 | BM95: 388507488
D96: PP | F96: Provoz investora, třetích osob | AT96: PP | AU96: 2
D97: Online PSC | F97: https://podminky.urs.cz/item/CS_URS_2024_01/071002000 | AT97: Online PSC | AU97: 2
D98: D | E98: VRN8 | F98: Přesun stavebních kapacit | J98: =BK98 -> 11111 | P98: =SUM(P99:P101) -> 0 | R98: =SUM(R99:R101) -> 0 | T98: =SUM(T99:T101) -> 0 | AR98: 5 | AT98: D | AU98: 1 | AY98: ROZPOCET | BK98: =SUM(BK99:BK101) -> 11111
C99: 4 | D99: K | E99: 081002000 | F99: Doprava zaměstnanců | G99: Kč | H99: 1 | I99: 11111 | J99: =ROUND(I99*H99,2) -> 11111 | K99: CS ÚRS 2024 01 | N99: základní | P99: =O99*H99 -> 0 | Q99: 0 | R99: =Q99*H99 -> 0 | S99: 0 | T99: =S99*H99 -> 0 | AR99: 4 | AT99: K | AU99: 2 | AY99: ROZPOCET | BE99: =IF(N99="základní",J99,0) -> 11111 | BF99: =IF(N99="snížená",J99,0) -> 0 | BG99: =IF(N99="zákl. přenesená",J99,0) -> 0 | BH99: =IF(N99="sníž. přenesená",J99,0) -> 0 | BI99: =IF(N99="nulová",J99,0) -> 0 | BJ99: 1 | BK99: =ROUND(I99*H99,2) -> 11111 | BL99: 4 | BM99: 136224637
D100: PP | F100: Doprava zaměstnanců | AT100: PP | AU100: 2
D101: Online PSC | F101: https://podminky.urs.cz/item/CS_URS_2024_01/081002000 | AT101: Online PSC | AU101: 2

Sheet Pokyny pro vyplnění
C3: Struktura údajů, formát souboru a metodika pro zpracování
C4: Struktura
C6: Soubor je složen ze záložky Rekapitulace stavby a záložek s názvem soupisu prací pro jednotlivé objekty ve formátu XLSX. Každá ze záložek přitom obsahuje
C7: ještě samostatné sestavy vymezené orámovaním a nadpisem sestavy.
C9: Rekapitulace stavby obsahuje sestavu Rekapitulace stavby a Rekapitulace objektů stavby a soupisů prací.
D10: V sestavě Rekapitulace stavby jsou uvedeny informace identifikující předmět veřejné zakázky na stavební práce, KSO, CC-CZ, CZ-CPV, CZ-CPA a rekapitulaci
D11: celkové nabídkové ceny účastníka.
D13: Termínem "učastník" (resp. zhotovitel) se myslí "účastník zadávacího řízení" ve smyslu zákona o zadávání veřejných zakázek.
D15: V sestavě Rekapitulace objektů stavby a soupisů prací je uvedena rekapitulace stavebních objektů, inženýrských objektů, provozních souborů,
D16: vedlejších a ostatních nákladů a ostatních nákladů s rekapitulací nabídkové ceny za jednotlivé soupisy prací. Na základě údaje Typ je možné
D17: identifikovat, zda se jedná o objekt nebo soupis prací pro daný objekt:
E18: STA | F18: Stavební objekt pozemní
E19: ING | F19: Stavební objekt inženýrský
E20: PRO | F20: Provozní soubor
E21: VON | F21: Vedlejší a ostatní náklady
E22: OST | F22: Ostatní
E23: Soupis | F23: Soupis prací pro daný typ objektu
C25: Soupis prací pro jednotlivé objekty obsahuje sestavy Krycí list soupisu prací, Rekapitulace členění soupisu prací, Soupis prací. Za soupis prací může být považován
C26: i objekt stavby v případě, že neobsahuje podřízenou zakázku.
D27: Krycí list soupisu obsahuje rekapitulaci informací o předmětu veřejné zakázky ze sestavy Rekapitulace stavby, informaci o zařazení objektu do KSO,
D28: CC-CZ, CZ-CPV, CZ-CPA a rekapitulaci celkové nabídkové ceny účastníka za aktuální soupis prací.
D30: Rekapitulace členění soupisu prací obsahuje rekapitulaci soupisu prací ve všech úrovních členění soupisu tak, jak byla tato členění použita (např.
D31: stavební díly, funkční díly, případně jiné členění) s rekapitulací nabídkové ceny.
D33: Soupis prací obsahuje položky veškerých stavebních nebo montážních prací, dodávek materiálů a služeb nezbytných pro zhotovení stavebního objektu,
D34: inženýrského objektu, provozního souboru, vedlejších a ostatních nákladů.
D35: Pro položky soupisu prací se zobrazují následující informace:
E36: PČ | G36: Pořadové číslo položky v aktuálním soupisu
E37: TYP | G37: Typ položky: K - konstrukce, M - materiál, PP - plný popis, PSC - poznámka k souboru cen, P - poznámka k položce, VV - výkaz výměr, FIG - rozpad figur
E38: Kód | G38: Kód položky
E39: Popis | G39: Zkrácený popis položky
E40: MJ | G40: Měrná jednotka položky
E41: Množství | G41: Množství v měrné jednotce
E42: J.cena | G42: Jednotková cena položky. Zadaní může obsahovat namísto J.ceny sloupce J.materiál a J.montáž, jejichž součet definuje
G43: J.cenu položky.
E44: Cena celkem | G44: Celková cena položky daná jako součin množství a j.ceny
E45: Cenová soustava | G45: Příslušnost položky do cenové soustavy
D47: Ke každé položce soupisu prací se na samostatných řádcích může zobrazovat:
E48: Plný popis položky
E49: Poznámka k souboru cen a poznámka zadavatele
E50: Výkaz výměr
D51: Pokud je k řádku výkazu výměr evidovaný údaj ve sloupci Kód, jedná se o definovaný odkaz, na který se může odvolávat výkaz výměr z jiné položky.
C52: Metodika pro zpracování
C54: Jednotlivé sestavy jsou v souboru provázány. Editovatelné pole jsou zvýrazněny žlutým podbarvením, ostatní pole neslouží k editaci a nesmí být jakkoliv
C55: modifikovány.
C57: Účastník je pro podání nabídky povinen vyplnit žlutě podbarvená pole:
D58: Pole Účastník v sestavě Rekapitulace stavby - zde účastník vyplní svůj název (název subjektu)
D59: Pole IČ a DIČ v sestavě Rekapitulace stavby - zde účastník vyplní svoje IČ a DIČ
D60: Datum v sestavě Rekapitulace stavby - zde účastník vyplní datum vytvoření nabídky
D61: J.cena = jednotková cena v sestavě Soupis prací o maximálním počtu desetinných míst uvedených v poli
D62: - pokud sestavy soupisů prací obsahují pole J.cena, měla by být všechna tato pole vyplněna nenulovými
D63: Poznámka - nepovinný údaj pro položku soupisu
D65: V případě, že sestavy soupisů prací neobsahují pole J.cena, potom ve všech soupisech prací obsahují pole:
D66: - J.materiál - jednotková cena materiálu
D67: - J.montáž - jednotková cena montáže
D68: Účastník v tomto případě by měl vyplnit všechna pole J.materiál a pole J.montáž nenulovými kladnými číslicemi. V případech, kdy položka
D69: neobsahuje žádný materiál je přípustné, aby pole J.materiál bylo vyplněno nulou. V případech, kdy položka neobsahuje žádnou montáž je přípustné,
D70: aby pole J.montáž bylo vyplněno nulou. Obě pole - J.materiál, J.Montáž u jedné položky by však neměly být vyplněny nulou.
C75: Rekapitulace stavby
C76: Název | F76: Povinný | H76: Popis | I76: Typ | J76: Max. počet
C77: atributu | F77: (A/N) | J77: znaků
C79: Kód | F79: A | H79: Kód stavby | I79: String | J79: 20
C80: Stavba | F80: A | H80: Název stavby | I80: String | J80: 120
C81: Místo | F81: N | H81: Místo stavby | I81: String | J81: 50
C82: Datum | F82: A | H82: Datum vykonaného exportu | I82: Date
C83: KSO | F83: N | H83: Klasifikace stavebního objektu | I83: String | J83: 15
C84: CC-CZ | F84: N | H84: Klasifikace stavbeních děl | I84: String | J84: 15
C85: CZ-CPV | F85: N | H85: Společný slovník pro veřejné zakázky | I85: String | J85: 20
C86: CZ-CPA | F86: N | H86: Klasifikace produkce podle činností | I86: String | J86: 20
C87: Zadavatel | F87: N | H87: Zadavatel zadaní | I87: String | J87: 50
C88: IČ | F88: N | H88: IČ zadavatele zadaní | I88: String | J88: 20
C89: DIČ | F89: N | H89: DIČ zadavatele zadaní | I89: String | J89: 20
C90: Účastník | F90: N | H90: Účastník veřejné zakázky | I90: String | J90: 50
C91: Projektant | F91: N | H91: Projektant | I91: String | J91: 50
C92: Poznámka | F92: N | H92: Poznámka k zadání | I92: String | J92: 255
C93: Sazba DPH | F93: A | H93: Rekapitulace sazeb DPH u položek soupisů | I93: eGSazbaDph
C94: Základna DPH | F94: A | H94: Základna DPH určena součtem celkové ceny z položek soupisů | I94: Double
C95: Hodnota DPH | F95: A | H95: Hodnota DPH | I95: Double
C96: Cena bez DPH | F96: A | H96: Celková cena bez DPH za celou stavbu. Sčítává se ze všech listů. | I96: Double
C97: Cena s DPH | F97: A | H97: Celková cena s DPH za celou stavbu | I97: Double
C102: Rekapitulace objektů stavby a soupisů prací
C103: Název | F103: Povinný | H103: Popis | I103: Typ | J103: Max. počet
C104: atributu | F104: (A/N) | J104: znaků
C106: Kód | F106: A | H106: Přebírá se z Rekapitulace stavby | I106: String | J106: 20
C107: Stavba | F107: A | H107: Přebírá se z Rekapitulace stavby | I107: String | J107: 120
C108: Místo | F108: N | H108: Přebírá se z Rekapitulace stavby | I108: String | J108: 50
C109: Datum | F109: A | H109: Přebírá se z Rekapitulace stavby | I109: Date
C110: Zadavatel | F110: N | H110: Přebírá se z Rekapitulace stavby | I110: String | J110: 50
C111: Projektant | F111: N | H111: Přebírá se z Rekapitulace stavby | I111: String | J111: 50
C112: Účastník | F112: N | H112: Přebírá se z Rekapitulace stavby | I112: String | J112: 50
C113: Kód | F113: A | H113: Kód objektu | I113: String | J113: 20
C114: Objektu, Soupis prací | F114: A | H114: Název objektu | I114: String | J114: 120
C115: Cena bez DPH | F115: A | H115: Cena bez DPH za daný objekt | I115: Double
C116: Cena s DPH | F116: A | H116: Cena spolu s DPH za daný objekt | I116: Double
C117: Typ | F117: A | H117: Typ zakázky | I117: eGTypZakazky
C122: Krycí list soupisu
C123: Název | F123: Povinný | H123: Popis | I123: Typ | J123: Max. počet
C124: atributu | F124: (A/N) | J124: znaků
C126: Stavba | F126: A | H126: Přebírá se z Rekapitulace stavby | I126: String | J126: 120
C127: Objekt | F127: A | H127: Kód a název objektu | I127: String | J127: 20 + 120
C128: Soupis | F128: A | H128: Kód a název soupisu | I128: String | J128: 20 + 120
...
