Workbook

Sheet Rekapitulace stavby
A1: Export Komplet | BA1: 2.0 | BT1: False | BU1: False | BV1: {a31611c3-2029-4cff-ac33-a0d00d1861c5}
AR2: >> skryté sloupce << | BS2: 0,01 | BT2: 21
BS3: 0,01 | BT3: 12
D4: REKAPITULACE STAVBY | AS4: v --- níže se nacházejí doplnkové a pomocné údaje k sestavám --- v | BS4: 0,001
D5: Kód: | K5: 801 | BS5: 0,01
D6: Stavba: | K6: Vratislavice nad Nisou, VAPARK přípojky II | BS6: 0,01
D7: KSO: | AK7: CC-CZ: | BS7: 0,01
D8: Místo: | AK8: Datum: | AN8: 14. 7. 2025 | BS8: 0,01
BS9: 0,01
D10: Zadavatel: | AK10: IČ: | BS10: 0,01
E11: MO Vratislavice nad Nisou | AK11: DIČ: | BS11: 0,01
BS12: 0,01
D13: Zhotovitel: | AK13: IČ: | AN13: 49904884 | BS13: 0,01
E14: 1.JHS s.r.o. | AK14: DIČ: | AN14: CZ49904884 | BS14: 0,01
BS15: False
D16: Projektant: | AK16: IČ: | BS16: False
AK17: DIČ: | BS17: False
BS18: 0,01
D19: Zpracovatel: | AK19: IČ: | BS19: 0,01
AK20: DIČ: | BS20: True
D22: Poznámka:
D26: Cena bez DPH | AK26: =ROUND(AG94,2) -> 129780.25
L28: Sazba daně | W28: Základ daně | AK28: Výše daně
D29: DPH | F29: základní | L29: 0.21 | W29: =ROUND(AZ94, 2) -> 129780.25 | AK29: =ROUND(AV94, 2) -> 27253.85
F30: snížená | L30: 0.12 | W30: =ROUND(BA94, 2) -> 0 | AK30: =ROUND(AW94, 2) -> 0
F31: zákl. přenesená | L31: 0.21 | W31: =ROUND(BB94, 2) -> 0 | AK31: 0
F32: sníž. přenesená | L32: 0.12 | W32: =ROUND(BC94, 2) -> 0 | AK32: 0
F33: nulová | L33: 0 | W33: =ROUND(BD94, 2) -> 0 | AK33: 0
D35: Cena s DPH | T35: v | X35: CZK | AK35: =SUM(AK26:AK33) -> 157034.1
D49: Projektant | AH49: Zpracovatel
D60: Datum a podpis: | V60: Razítko | AH60: Datum a podpis: | AM60: Razítko
D64: Objednavatel | AH64: Zhotovitel
D75: Datum a podpis: | V75: Razítko | AH75: Datum a podpis: | AM75: Razítko
C82: REKAPITULACE OBJEKTŮ STAVBY A SOUPISŮ PRACÍ
C84: Kód: | L84: =K5 -> 801
C85: Stavba: | L85: =K6 -> Vratislavice nad Nisou, VAPARK přípojky II
C87: Místo: | L87: =IF(K8="","",K8) | AI87: Datum: | AM87: =IF(AN8= "","",AN8) -> 14. 7. 2025
C89: Zadavatel: | L89: =IF(E11= "","",E11) -> MO Vratislavice nad Nisou | AI89: Projektant: | AM89: =IF(E17="","",E17) | AS89: Informatívní údaje z listů zakázek
C90: Zhotovitel: | L90: =IF(E14="","",E14) -> 1.JHS s.r.o. | AI90: Zpracovatel: | AM90: =IF(E20="","",E20)
C92: Kód | I92: Popis | AG92: Cena bez DPH [CZK] | AN92: Cena s DPH [CZK] | AQ92: Typ | AS92: z toho Ostat._x000D_ náklady [CZK] | AT92: DPH [CZK] | AU92: Normohodiny [h] | AV92: DPH základní [CZK] | AW92: DPH snížená [CZK] | AX92: DPH základní přenesená_x000D_ [CZK] | AY92: DPH snížená přenesená_x000D_ [CZK] | AZ92: Základna_x000D_ DPH základní | BA92: Základna_x000D_ DPH snížená | BB92: Základna_x000D_ DPH zákl. přenesená | BC92: Základna_x000D_ DPH sníž. přenesená | BD92: Základna_x000D_ DPH nulová
C94: Náklady z rozpočtů | AG94: =ROUND(AG95,2) -> 129780.25 | AN94: =SUM(AG94,AT94) -> 157034.1 | AS94: =ROUND(AS95,2) -> 0 | AT94: =ROUND(SUM(AV94:AW94),2) -> 27253.85 | AU94: =ROUND(AU95,5) -> 87.01348 | AV94: =ROUND(AZ94*L29,2) -> 27253.85 | AW94: =ROUND(BA94*L30,2) -> 0 | AX94: =ROUND(BB94*L29,2) -> 0 | AY94: =ROUND(BC94*L30,2) -> 0 | AZ94: =ROUND(AZ95,2) -> 129780.25 | BA94: =ROUND(BA95,2) -> 0 | BB94: =ROUND(BB95,2) -> 0 | BC94: =ROUND(BC95,2) -> 0 | BD94: =ROUND(BD95,2) -> 0 | BS94: D | BT94: 0 | BU94: ###NOIMPORT### | BV94: IMPORT | BW94: {a31611c3-2029-4cff-ac33-a0d00d1861c5} | BX94: {00000000-0000-0000-0000-000000000000}
A95: / | D95: Objekt2 | J95: 101 | AG95: ='Objekt2 - 101'!J30 -> 129780.25 | AN95: =SUM(AG95,AT95) -> 157034.1 | AQ95: STA | AS95: 0 | AT95: =ROUND(SUM(AV95:AW95),2) -> 27253.85 | AU95: ='Objekt2 - 101'!P123 -> 87.01348 | AV95: ='Objekt2 - 101'!J33 -> 27253.85 | AW95: ='Objekt2 - 101'!J34 -> 0 | AX95: ='Objekt2 - 101'!J35 -> 0 | AY95: ='Objekt2 - 101'!J36 -> 0 | AZ95: ='Objekt2 - 101'!F33 -> 129780.25 | BA95: ='Objekt2 - 101'!F34 -> 0 | BB95: ='Objekt2 - 101'!F35 -> 0 | BC95: ='Objekt2 - 101'!F36 -> 0 | BD95: ='Objekt2 - 101'!F37 -> 0 | BT95: 1 | BV95: IMPORT | BW95: {f65d988f-de4b-4f0e-af90-dfad9781d78c} | BX95: {a31611c3-2029-4cff-ac33-a0d00d1861c5} | CM95: 2

Sheet Objekt2 - 101
L2: >> skryté sloupce << | AT2: {f65d988f-de4b-4f0e-af90-dfad9781d78c}
AT3: 2
D4: KRYCÍ LIST SOUPISU PRACÍ | M4: v --- níže se nacházejí doplnkové a pomocné údaje k sestavám --- v | AT4: False
D6: Stavba:
E7: ='Rekapitulace stavby'!K6 -> Vratislavice nad Nisou, VAPARK přípojky II
D8: Objekt:
E9: Objekt2 - 101
D11: KSO: | I11: CC-CZ:
D12: Místo: | I12: Datum: | J12: ='Rekapitulace stavby'!AN8 -> 14. 7. 2025
D14: Zadavatel: | I14: IČ: | J14: =IF('Rekapitulace stavby'!AN10="","",'Rekapitulace stavby'!AN10)
E15: =IF('Rekapitulace stavby'!E11="","",'Rekapitulace stavby'!E11) -> MO Vratislavice nad Nisou | I15: DIČ: | J15: =IF('Rekapitulace stavby'!AN11="","",'Rekapitulace stavby'!AN11)
D17: Zhotovitel: | I17: IČ: | J17: ='Rekapitulace stavby'!AN13 -> 49904884
E18: ='Rekapitulace stavby'!E14 -> 1.JHS s.r.o. | I18: DIČ: | J18: ='Rekapitulace stavby'!AN14 -> CZ49904884
D20: Projektant: | I20: IČ: | J20: =IF('Rekapitulace stavby'!AN16="","",'Rekapitulace stavby'!AN16)
E21: =IF('Rekapitulace stavby'!E17="","",'Rekapitulace stavby'!E17) | I21: DIČ: | J21: =IF('Rekapitulace stavby'!AN17="","",'Rekapitulace stavby'!AN17)
D23: Zpracovatel: | I23: IČ: | J23: =IF('Rekapitulace stavby'!AN19="","",'Rekapitulace stavby'!AN19)
E24: =IF('Rekapitulace stavby'!E20="","",'Rekapitulace stavby'!E20) | I24: DIČ: | J24: =IF('Rekapitulace stavby'!AN20="","",'Rekapitulace stavby'!AN20)
D26: Poznámka:
D30: Cena bez DPH | J30: =ROUND(J123, 2) -> 129780.25
F32: Základ daně | I32: Sazba daně | J32: Výše daně
D33: DPH | E33: základní | F33: =ROUND((SUM(BE123:BE175)), 2) -> 129780.25 | I33: 0.21 | J33: =ROUND(((SUM(BE123:BE175))*I33), 2) -> 27253.85
E34: snížená | F34: =ROUND((SUM(BF123:BF175)), 2) -> 0 | I34: 0.12 | J34: =ROUND(((SUM(BF123:BF175))*I34), 2) -> 0
E35: zákl. přenesená | F35: =ROUND((SUM(BG123:BG175)), 2) -> 0 | I35: 0.21 | J35: =0 -> 0
E36: sníž. přenesená | F36: =ROUND((SUM(BH123:BH175)), 2) -> 0 | I36: 0.12 | J36: =0 -> 0
E37: nulová | F37: =ROUND((SUM(BI123:BI175)), 2) -> 0 | I37: 0 | J37: =0 -> 0
D39: Cena s DPH | G39: v | H39: CZK | J39: =SUM(J30:J37) -> 157034.1
D50: Projektant | G50: Zpracovatel
D61: Datum a podpis: | F61: Razítko | G61: Datum a podpis: | J61: Razítko
D65: Objednavatel | G65: Zhotovitel
D76: Datum a podpis: | F76: Razítko | G76: Datum a podpis: | J76: Razítko
C82: REKAPITULACE ČLENĚNÍ SOUPISU PRACÍ
C84: Stavba:
E85: =E7 -> Vratislavice nad Nisou, VAPARK přípojky II
C86: Objekt:
E87: =E9 -> Objekt2 - 101
C89: Místo: | F89: =F12 | I89: Datum: | J89: =IF(J12="","",J12) -> 14. 7. 2025
C91: Zadavatel: | F91: =E15 -> MO Vratislavice nad Nisou | I91: Projektant: | J91: =E21
C92: Zhotovitel: | F92: =IF(E18="","",E18) -> 1.JHS s.r.o. | I92: Zpracovatel: | J92: =E24
C94: Kód dílu - Popis | J94: Cena celkem [CZK]
C96: Náklady ze soupisu prací | J96: =J123 -> 129780.25 | AU96: -1
D97: HSV - Práce a dodávky HSV | J97: =J124 -> 85780.25
D98: 1 - Zemní práce | J98: =J125 -> 65985.14
D99: 4 - Vodorovné konstrukce | J99: =J148 -> 2477.34
D100: 8 - Trubní vedení | J100: =J151 -> 16645.96
D101: 998 - Přesun hmot | J101: =J166 -> 671.81
D102: VRN - Vedlejší rozpočtové náklady | J102: =J169 -> 44000
D103: VRN4 - Inženýrská činnost | J103: =J170 -> 44000
C110: SOUPIS PRACÍ
C112: Stavba:
E113: =E7 -> Vratislavice nad Nisou, VAPARK přípojky II
C114: Objekt:
E115: =E9 -> Objekt2 - 101
C117: Místo: | F117: =F12 | I117: Datum: | J117: =IF(J12="","",J12) -> 14. 7. 2025
C119: Zadavatel: | F119: =E15 -> MO Vratislavice nad Nisou | I119: Projektant: | J119: =E21
C120: Zhotovitel: | F120: =IF(E18="","",E18) -> 1.JHS s.r.o. | I120: Zpracovatel: | J120: =E24
C122: PČ | D122: Typ | E122: Kód | F122: Popis | G122: MJ | H122: Množství | I122: J.cena [CZK] | J122: Cena celkem [CZK] | K122: Cenová soustava | N122: DPH | O122: J. Nh [h] | P122: Nh celkem [h] | Q122: J. hmotnost [t] | R122: Hmotnost celkem [t] | S122: J. suť [t] | T122: Suť Celkem [t]
C123: Náklady soupisu celkem | J123: =BK123 -> 129780.25 | P123: =P124+P169 -> 87.01348 | R123: =R124+R169 -> 31.052403 | T123: =T124+T169 -> 0 | AT123: D | AU123: -1 | BK123: =BK124+BK169 -> 129780.25
D124: D | E124: HSV | F124: Práce a dodávky HSV | J124: =BK124 -> 85780.25 | P124: =P125+P148+P151+P166 -> 87.01348 | R124: =R125+R148+R151+R166 -> 31.052403 | T124: =T125+T148+T151+T166 -> 0 | AR124: 1 | AT124: D | AU124: 0 | AY124: ROZPOCET | BK124: =BK125+BK148+BK151+BK166 -> 85780.25
D125: D | E125: 1 | F125: Zemní práce | J125: =BK125 -> 65985.14 | P125: =SUM(P126:P147) -> 74.21505 | R125: =SUM(R126:R147) -> 27.3 | T125: =SUM(T126:T147) -> 0 | AR125: 1 | AT125: D | AU125: 1 | AY125: ROZPOCET | BK125: =SUM(BK126:BK147) -> 65985.14
C126: 1 | D126: K | E126: 132154104 | F126: Hloubení zapažených rýh šířky do 800 mm strojně s urovnáním dna do předepsaného profilu a spádu v hornině třídy těžitelnosti I skupiny 1 a 2 přes 100 m3 | G126: m3 | H126: 19.5 | I126: 339.89 | J126: =ROUND(I126*H126,2) -> 6627.86 | N126: základní | O126: 0.447 | P126: =O126*H126 -> 8.7165 | Q126: 0 | R126: =Q126*H126 -> 0 | S126: 0 | T126: =S126*H126 -> 0 | AR126: 4 | AT126: K | AU126: 2 | AY126: ROZPOCET | BE126: =IF(N126="základní",J126,0) -> 6627.86 | BF126: =IF(N126="snížená",J126,0) -> 0 | BG126: =IF(N126="zákl. přenesená",J126,0) -> 0 | BH126: =IF(N126="sníž. přenesená",J126,0) -> 0 | BI126: =IF(N126="nulová",J126,0) -> 0 | BJ126: 1 | BK126: =ROUND(I126*H126,2) -> 6627.86 | BL126: 4 | BM126: -1139930112
D127: PP | F127: Hloubení zapažených rýh šířky do 800 mm strojně s urovnáním dna do předepsaného profilu a spádu v hornině třídy těžitelnosti I skupiny 1 a 2 přes 100 m3 | AT127: PP | AU127: 2
D128: VV | F128: 30*1,3*1/2 | H128: 19.5 | AT128: VV | AU128: 2 | AV128: 2 | AW128: True | AX128: 0 | AY128: ROZPOCET
D129: VV | F129: Součet | H129: 19.5 | AT129: VV | AU129: 2 | AV129: 4 | AW129: True | AX129: 1 | AY129: ROZPOCET
C130: 2 | D130: K | E130: 133254104 | F130: Hloubení zapažených šachet strojně v hornině třídy těžitelnosti I skupiny 3 přes 100 m3 | G130: m3 | H130: 19.5 | I130: 930.72 | J130: =ROUND(I130*H130,2) -> 18149.04 | N130: základní | O130: 1.193 | P130: =O130*H130 -> 23.2635 | Q130: 0 | R130: =Q130*H130 -> 0 | S130: 0 | T130: =S130*H130 -> 0 | AR130: 4 | AT130: K | AU130: 2 | AY130: ROZPOCET | BE130: =IF(N130="základní",J130,0) -> 18149.04 | BF130: =IF(N130="snížená",J130,0) -> 0 | BG130: =IF(N130="zákl. přenesená",J130,0) -> 0 | BH130: =IF(N130="sníž. přenesená",J130,0) -> 0 | BI130: =IF(N130="nulová",J130,0) -> 0 | BJ130: 1 | BK130: =ROUND(I130*H130,2) -> 18149.04 | BL130: 4 | BM130: 1543740561
D131: PP | F131: Hloubení zapažených šachet strojně v hornině třídy těžitelnosti I skupiny 3 přes 100 m3 | AT131: PP | AU131: 2
D132: VV | F132: 30*1,3*1/2 | H132: 19.5 | AT132: VV | AU132: 2 | AV132: 2 | AW132: True | AX132: 0 | AY132: ROZPOCET
D133: VV | F133: Součet | H133: 19.5 | AT133: VV | AU133: 2 | AV133: 4 | AW133: True | AX133: 1 | AY133: ROZPOCET
C134: 3 | D134: K | E134: 162651112 | F134: Vodorovné přemístění výkopku nebo sypaniny po suchu na obvyklém dopravním prostředku, bez naložení výkopku, avšak se složením bez rozhrnutí z horniny třídy těžitelnosti I skupiny 1 až 3 na vzdálenost přes 4 000 do 5 000 m | G134: m3 | H134: 39 | I134: 201.32 | J134: =ROUND(I134*H134,2) -> 7851.48 | N134: základní | O134: 0.063 | P134: =O134*H134 -> 2.457 | Q134: 0 | R134: =Q134*H134 -> 0 | S134: 0 | T134: =S134*H134 -> 0 | AR134: 4 | AT134: K | AU134: 2 | AY134: ROZPOCET | BE134: =IF(N134="základní",J134,0) -> 7851.48 | BF134: =IF(N134="snížená",J134,0) -> 0 | BG134: =IF(N134="zákl. přenesená",J134,0) -> 0 | BH134: =IF(N134="sníž. přenesená",J134,0) -> 0 | BI134: =IF(N134="nulová",J134,0) -> 0 | BJ134: 1 | BK134: =ROUND(I134*H134,2) -> 7851.48 | BL134: 4 | BM134: -12730965
D135: PP | F135: Vodorovné přemístění výkopku nebo sypaniny po suchu na obvyklém dopravním prostředku, bez naložení výkopku, avšak se složením bez rozhrnutí z horniny třídy těžitelnosti I skupiny 1 až 3 na vzdálenost přes 4 000 do 5 000 m | AT135: PP | AU135: 2
C136: 4 | D136: K | E136: 167151101 | F136: Nakládání, skládání a překládání neulehlého výkopku nebo sypaniny strojně nakládání, množství do 100 m3, z horniny třídy těžitelnosti I, skupiny 1 až 3 | G136: m3 | H136: 39 | I136: 173.23 | J136: =ROUND(I136*H136,2) -> 6755.97 | N136: základní | O136: 0.197 | P136: =O136*H136 -> 7.683 | Q136: 0 | R136: =Q136*H136 -> 0 | S136: 0 | T136: =S136*H136 -> 0 | AR136: 4 | AT136: K | AU136: 2 | AY136: ROZPOCET | BE136: =IF(N136="základní",J136,0) -> 6755.97 | BF136: =IF(N136="snížená",J136,0) -> 0 | BG136: =IF(N136="zákl. přenesená",J136,0) -> 0 | BH136: =IF(N136="sníž. přenesená",J136,0) -> 0 | BI136: =IF(N136="nulová",J136,0) -> 0 | BJ136: 1 | BK136: =ROUND(I136*H136,2) -> 6755.97 | BL136: 4 | BM136: -605646080
D137: PP | F137: Nakládání, skládání a překládání neulehlého výkopku nebo sypaniny strojně nakládání, množství do 100 m3, z horniny třídy těžitelnosti I, skupiny 1 až 3 | AT137: PP | AU137: 2
C138: 16 | D138: K | E138: 997013873 | F138: Poplatek za uložení stavebního odpadu na recyklační skládce (skládkovné) zeminy a kamení zatříděného do Katalogu odpadů pod kódem 17 05 04 | G138: t | H138: 0.007 | I138: 370.11 | J138: =ROUND(I138*H138,2) -> 2.59 | N138: základní | O138: 0 | P138: =O138*H138 -> 0 | Q138: 0 | R138: =Q138*H138 -> 0 | S138: 0 | T138: =S138*H138 -> 0 | AR138: 4 | AT138: K | AU138: 2 | AY138: ROZPOCET | BE138: =IF(N138="základní",J138,0) -> 2.59 | BF138: =IF(N138="snížená",J138,0) -> 0 | BG138: =IF(N138="zákl. přenesená",J138,0) -> 0 | BH138: =IF(N138="sníž. přenesená",J138,0) -> 0 | BI138: =IF(N138="nulová",J138,0) -> 0 | BJ138: 1 | BK138: =ROUND(I138*H138,2) -> 2.59 | BL138: 4 | BM138: -1122634422
D139: PP | F139: Poplatek za uložení stavebního odpadu na recyklační skládce (skládkovné) zeminy a kamení zatříděného do Katalogu odpadů pod kódem 17 05 04 | AT139: PP | AU139: 2
C140: 5 | D140: K | E140: 174151101 | F140: Zásyp sypaninou z jakékoliv horniny strojně s uložením výkopku ve vrstvách se zhutněním jam, šachet, rýh nebo kolem objektů v těchto vykopávkách | G140: m3 | H140: 23.4 | I140: 162.87 | J140: =ROUND(I140*H140,2) -> 3811.16 | N140: základní | O140: 0.328 | P140: =O140*H140 -> 7.6752 | Q140: 0 | R140: =Q140*H140 -> 0 | S140: 0 | T140: =S140*H140 -> 0 | AR140: 4 | AT140: K | AU140: 2 | AY140: ROZPOCET | BE140: =IF(N140="základní",J140,0) -> 3811.16 | BF140: =IF(N140="snížená",J140,0) -> 0 | BG140: =IF(N140="zákl. přenesená",J140,0) -> 0 | BH140: =IF(N140="sníž. přenesená",J140,0) -> 0 | BI140: =IF(N140="nulová",J140,0) -> 0 | BJ140: 1 | BK140: =ROUND(I140*H140,2) -> 3811.16 | BL140: 4 | BM140: 2020110183
D141: PP | F141: Zásyp sypaninou z jakékoliv horniny strojně s uložením výkopku ve vrstvách se zhutněním jam, šachet, rýh nebo kolem objektů v těchto vykopávkách | AT141: PP | AU141: 2
C142: 6 | D142: K | E142: 175111101 | F142: Obsypání potrubí ručně sypaninou z vhodných hornin třídy těžitelnosti I a II, skupiny 1 až 4 nebo materiálem připraveným podél výkopu ve vzdálenosti do 3 m od jeho kraje pro jakoukoliv hloubku výkopu a míru zhutnění bez prohození sypaniny | G142: m3 | H142: 13.65 | I142: 803.08 | J142: =ROUND(I142*H142,2) -> 10962.04 | N142: základní | O142: 1.789 | P142: =O142*H142 -> 24.41985 | Q142: 0 | R142: =Q142*H142 -> 0 | S142: 0 | T142: =S142*H142 -> 0 | AR142: 4 | AT142: K | AU142: 2 | AY142: ROZPOCET | BE142: =IF(N142="základní",J142,0) -> 10962.04 | BF142: =IF(N142="snížená",J142,0) -> 0 | BG142: =IF(N142="zákl. přenesená",J142,0) -> 0 | BH142: =IF(N142="sníž. přenesená",J142,0) -> 0 | BI142: =IF(N142="nulová",J142,0) -> 0 | BJ142: 1 | BK142: =ROUND(I142*H142,2) -> 10962.04 | BL142: 4 | BM142: -1775992431
D143: PP | F143: Obsypání potrubí ručně sypaninou z vhodných hornin třídy těžitelnosti I a II, skupiny 1 až 4 nebo materiálem připraveným podél výkopu ve vzdálenosti do 3 m od jeho kraje pro jakoukoliv hloubku výkopu a míru zhutnění bez prohození sypaniny | AT143: PP | AU143: 2
C144: 7 | D144: M | E144: 58337303 | F144: štěrkopísek frakce 0/8 | G144: t | H144: 27.3 | I144: 433.15 | J144: =ROUND(I144*H144,2) -> 11825 | N144: základní | O144: 0 | P144: =O144*H144 -> 0 | Q144: 1 | R144: =Q144*H144 -> 27.3 | S144: 0 | T144: =S144*H144 -> 0 | AR144: 8 | AT144: M | AU144: 2 | AY144: ROZPOCET | BE144: =IF(N144="základní",J144,0) -> 11825 | BF144: =IF(N144="snížená",J144,0) -> 0 | BG144: =IF(N144="zákl. přenesená",J144,0) -> 0 | BH144: =IF(N144="sníž. přenesená",J144,0) -> 0 | BI144: =IF(N144="nulová",J144,0) -> 0 | BJ144: 1 | BK144: =ROUND(I144*H144,2) -> 11825 | BL144: 4 | BM144: 808206214
D145: PP | F145: štěrkopísek frakce 0/8 | AT145: PP | AU145: 2
D146: VV | F146: 13,65*2 "Přepočtené koeficientem množství | H146: 27.3 | AT146: VV | AU146: 2 | AV146: 2 | AW146: True | AX146: 0 | AY146: ROZPOCET
D147: VV | F147: Součet | H147: 27.3 | AT147: VV | AU147: 2 | AV147: 4 | AW147: True | AX147: 1 | AY147: ROZPOCET
D148: D | E148: 4 | F148: Vodorovné konstrukce | J148: =BK148 -> 2477.34 | P148: =SUM(P149:P150) -> 2.56815 | R148: =SUM(R149:R150) -> 3.6870015 | T148: =SUM(T149:T150) -> 0 | AR148: 1 | AT148: D | AU148: 1 | AY148: ROZPOCET | BK148: =SUM(BK149:BK150) -> 2477.34
C149: 8 | D149: K | E149: 451573111 | F149: Lože pod potrubí, stoky a drobné objekty v otevřeném výkopu z písku a štěrkopísku do 63 mm | G149: m3 | H149: 1.95 | I149: 1270.43 | J149: =ROUND(I149*H149,2) -> 2477.34 | N149: základní | O149: 1.317 | P149: =O149*H149 -> 2.56815 | Q149: 1.89077 | R149: =Q149*H149 -> 3.6870015 | S149: 0 | T149: =S149*H149 -> 0 | AR149: 4 | AT149: K | AU149: 2 | AY149: ROZPOCET | BE149: =IF(N149="základní",J149,0) -> 2477.34 | BF149: =IF(N149="snížená",J149,0) -> 0 | BG149: =IF(N149="zákl. přenesená",J149,0) -> 0 | BH149: =IF(N149="sníž. přenesená",J149,0) -> 0 | BI149: =IF(N149="nulová",J149,0) -> 0 | BJ149: 1 | BK149: =ROUND(I149*H149,2) -> 2477.34 | BL149: 4 | BM149: 1858956066
D150: PP | F150: Lože pod potrubí, stoky a drobné objekty v otevřeném výkopu z písku a štěrkopísku do 63 mm | AT150: PP | AU150: 2
D151: D | E151: 8 | F151: Trubní vedení | J151: =BK151 -> 16645.96 | P151: =SUM(P152:P165) -> 9.4 | R151: =SUM(R152:R165) -> 0.065401 | T151: =SUM(T152:T165) -> 0 | AR151: 1 | AT151: D | AU151: 1 | AY151: ROZPOCET | BK151: =SUM(BK152:BK165) -> 16645.96
C152: 9 | D152: K | E152: 871171141 | F152: Montáž vodovodního potrubí z plastů v otevřeném výkopu z polyetylenu PE 100 svařovaných na tupo SDR 11/PN16 D 40 x 3,7 mm | G152: m | H152: 20 | I152: 78.18 | J152: =ROUND(I152*H152,2) -> 1563.6 | N152: základní | O152: 0.155 | P152: =O152*H152 -> 3.1 | Q152: 0 | R152: =Q152*H152 -> 0 | S152: 0 | T152: =S152*H152 -> 0 | AR152: 4 | AT152: K | AU152: 2 | AY152: ROZPOCET | BE152: =IF(N152="základní",J152,0) -> 1563.6 | BF152: =IF(N152="snížená",J152,0) -> 0 | BG152: =IF(N152="zákl. přenesená",J152,0) -> 0 | BH152: =IF(N152="sníž. přenesená",J152,0) -> 0 | BI152: =IF(N152="nulová",J152,0) -> 0 | BJ152: 1 | BK152: =ROUND(I152*H152,2) -> 1563.6 | BL152: 4 | BM152: -1248824984
D153: PP | F153: Montáž vodovodního potrubí z plastů v otevřeném výkopu z polyetylenu PE 100 svařovaných na tupo SDR 11/PN16 D 40 x 3,7 mm | AT153: PP | AU153: 2
C154: 10 | D154: M | E154: 28613171 | F154: trubka vodovodní PE100 SDR11 se signalizační vrstvou 40x3,7mm | G154: m | H154: 20.3 | I154: 86.53 | J154: =ROUND(I154*H154,2) -> 1756.56 | N154: základní | O154: 0 | P154: =O154*H154 -> 0 | Q154: 0.00043 | R154: =Q154*H154 -> 0.008729 | S154: 0 | T154: =S154*H154 -> 0 | AR154: 8 | AT154: M | AU154: 2 | AY154: ROZPOCET | BE154: =IF(N154="základní",J154,0) -> 1756.56 | BF154: =IF(N154="snížená",J154,0) -> 0 | BG154: =IF(N154="zákl. přenesená",J154,0) -> 0 | BH154: =IF(N154="sníž. přenesená",J154,0) -> 0 | BI154: =IF(N154="nulová",J154,0) -> 0 | BJ154: 1 | BK154: =ROUND(I154*H154,2) -> 1756.56 | BL154: 4 | BM154: -1166228698
D155: PP | F155: trubka vodovodní PE100 SDR11 se signalizační vrstvou 40x3,7mm | AT155: PP | AU155: 2
D156: VV | F156: 20*1,015 "Přepočtené koeficientem množství | H156: 20.3 | AT156: VV | AU156: 2 | AV156: 2 | AW156: True | AX156: 0 | AY156: ROZPOCET
D157: VV | F157: Součet | H157: 20.3 | AT157: VV | AU157: 2 | AV157: 4 | AW157: True | AX157: 1 | AY157: ROZPOCET
C158: 18 | D158: K | E158: 871313121 | F158: Montáž kanalizačního potrubí hladkého plnostěnného SN 8 z PVC-U DN 160 | G158: m | H158: 20 | I158: 188.6 | J158: =ROUND(I158*H158,2) -> 3772 | N158: základní | O158: 0.292 | P158: =O158*H158 -> 5.84 | Q158: 1e-05 | R158: =Q158*H158 -> 0.0002 | S158: 0 | T158: =S158*H158 -> 0 | AR158: 4 | AT158: K | AU158: 2 | AY158: ROZPOCET | BE158: =IF(N158="základní",J158,0) -> 3772 | BF158: =IF(N158="snížená",J158,0) -> 0 | BG158: =IF(N158="zákl. přenesená",J158,0) -> 0 | BH158: =IF(N158="sníž. přenesená",J158,0) -> 0 | BI158: =IF(N158="nulová",J158,0) -> 0 | BJ158: 1 | BK158: =ROUND(I158*H158,2) -> 3772 | BL158: 4 | BM158: 746039489
D159: PP | F159: Montáž kanalizačního potrubí z tvrdého PVC-U hladkého plnostěnného tuhost SN 8 DN 160 | AT159: PP | AU159: 2
D160: Online PSC | F160: https://podminky.urs.cz/item/CS_URS_2025_02/871313121 | AT160: Online PSC | AU160: 2
C161: 19 | D161: M | E161: 28611164 | F161: trubka kanalizační PVC-U plnostěnná jednovrstvá DN 160x1000mm SN8 | G161: m | H161: 20.6 | I161: 447.66 | J161: =ROUND(I161*H161,2) -> 9221.8 | N161: základní | O161: 0 | P161: =O161*H161 -> 0 | Q161: 0.00267 | R161: =Q161*H161 -> 0.055002 | S161: 0 | T161: =S161*H161 -> 0 | AR161: 8 | AT161: M | AU161: 2 | AY161: ROZPOCET | BE161: =IF(N161="základní",J161,0) -> 9221.8 | BF161: =IF(N161="snížená",J161,0) -> 0 | BG161: =IF(N161="zákl. přenesená",J161,0) -> 0 | BH161: =IF(N161="sníž. přenesená",J161,0) -> 0 | BI161: =IF(N161="nulová",J161,0) -> 0 | BJ161: 1 | BK161: =ROUND(I161*H161,2) -> 9221.8 | BL161: 4 | BM161: 1935174837
D162: PP | F162: trubka kanalizační PVC-U plnostěnná jednovrstvá DN 160x1000mm SN8 | AT162: PP | AU162: 2
D163: VV | F163: 20*1,03 'Přepočtené koeficientem množství | H163: 20.6 | AT163: VV | AU163: 2 | AV163: 2 | AW163: False | AX163: 1 | AY163: ROZPOCET
C164: 15 | D164: K | E164: 899722112 | F164: Krytí potrubí z plastů výstražnou fólií z PVC šířky 25 cm | G164: m | H164: 20 | I164: 16.6 | J164: =ROUND(I164*H164,2) -> 332 | N164: základní | O164: 0.023 | P164: =O164*H164 -> 0.46 | Q164: 7.35e-05 | R164: =Q164*H164 -> 0.00147 | S164: 0 | T164: =S164*H164 -> 0 | AR164: 4 | AT164: K | AU164: 2 | AY164: ROZPOCET | BE164: =IF(N164="základní",J164,0) -> 332 | BF164: =IF(N164="snížená",J164,0) -> 0 | BG164: =IF(N164="zákl. přenesená",J164,0) -> 0 | BH164: =IF(N164="sníž. přenesená",J164,0) -> 0 | BI164: =IF(N164="nulová",J164,0) -> 0 | BJ164: 1 | BK164: =ROUND(I164*H164,2) -> 332 | BL164: 4 | BM164: 2141497504
D165: PP | F165: Krytí potrubí z plastů výstražnou fólií z PVC šířky 25 cm | AT165: PP | AU165: 2
D166: D | E166: 998 | F166: Přesun hmot | J166: =BK166 -> 671.81 | P166: =SUM(P167:P168) -> 0.83028 | R166: =SUM(R167:R168) -> 0 | T166: =SUM(T167:T168) -> 0 | AR166: 1 | AT166: D | AU166: 1 | AY166: ROZPOCET | BK166: =SUM(BK167:BK168) -> 671.81
...
