Workbook
Name Print_Area: 'Pokyny pro vyplnění'!$B$2:$K$71,'Pokyny pro vyplnění'!$B$74:$K$118,'Pokyny pro vyplnění'!$B$121:$K$161,'Pokyny pro vyplnění'!$B$164:$K$219
Name Print_Titles: 'Rekapitulace stavby'!$52:$52

Sheet Rekapitulace stavby
A1: Export Komplet | AZ1: VZ | BA1: 2.0 | BB1: ZAMOK | BT1: False | BU1: False | BV1: {0e010a3d-da40-4e53-b2bf-73c498eeb638}
BS2: 0,01 | BT2: 21
BS3: 0,01 | BT3: 15
D4: REKAPITULACE STAVBY | AS4: v --- níže se nacházejí doplnkové a pomocné údaje k sestavám --- v | BE4: Návod na vyplnění | BS4: 0,001
D5: Kód: | K5: 516/002 | BE5: Měnit lze pouze buňky se žlutým podbarvením!_x000D_ _x000D_ 1) v Rekapitulaci stavby vyplňte údaje o Uchazeči (přenesou se do ostatních sestav i v jiných listech)_x000D_ _x000D_ 2) na vybraných listech vyplňte v sestavě Soupis prací ceny u položek | BS5: 0,01
D6: Stavba: | K6: Stavební úpravy přečerpávací stanice a odlehčovací komory 10 v ulici Sportovní | BS6: 0,01
D7: KSO: | K7: 827 21 51 | AK7: CC-CZ: | AN7: 22231 | BS7: 0,01
D8: Místo: | K8: Český Brod | AK8: Datum: | AN8: 31. 1. 2024 | BS8: 0,01
D9: CZ-CPV: | K9: 45231300-8 | AK9: CZ-CPA: | AN9: 42.21.13 | BS9: 0,01
D10: Zadavatel: | AK10: IČ: | AN10: 00235334 | BS10: 0,01
E11: Město Český Brod | AK11: DIČ: | BS11: 0,01
BS12: 0,01
D13: Uchazeč: | AK13: IČ: | AN13: 47549793 | BS13: 0,01
E14: 1.SčV, a.s. | AK14: DIČ: | AN14: CZ47549793 | BS14: 0,01
BS15: False
D16: Projektant: | AK16: IČ: | BS16: False
E17: Ing. Petr Koblenc | AK17: DIČ: | BS17: True
BS18: 0,01
D19: Zpracovatel: | AK19: IČ: | AN19: 47116901 | BS19: 0,01
E20: Vodohospodářský rozvoj a výstavba a.s. | AK20: DIČ: | BS20: False
D22: Poznámka:
E23: Soupis prací je sestaven s využitím Cenové soustavy ÚRS. Položky, které pochází z této cenové soustavy, jsou ve sloupci 'Cenová soustava' označeny popisem 'CS ÚRS' a úrovní příslušného kalendářního pololetí. Veškeré další informace vymezující popis a podmínky použití těchto položek z Cenové soustavy, které nejsou uvedeny přímo v soupisu prací, jsou neomezeně dálkově k dispozici na https://podminky.urs.cz._x000D_ ÚRS, které nejsou uvedeny v soupisu prací (tzv. úvodní části katalogů) jsou neomezeně dálkově k dispozici na _x000D_ Jednotlivé položky armatur a tvarovek zahrnují těsnění, podložky, šrouby, matice. Součástí položek pro nákup materiálu jsou i náklady na dopravu ze skladu na zařízení staveniště.
D26: Cena bez DPH | AK26: =ROUND(AG54,2) -> 12296109
L28: Sazba daně | W28: Základ daně | AK28: Výše daně
D29: DPH | F29: základní | L29: 0.21 | W29: =ROUND(AZ54, 2) -> 12296109 | AK29: =ROUND(AV54, 2) -> 2582182.8
F30: snížená | L30: 0.15 | W30: =ROUND(BA54, 2) -> 0 | AK30: =ROUND(AW54, 2) -> 0
F31: zákl. přenesená | L31: 0.21 | W31: =ROUND(BB54, 2) -> 0 | AK31: 0
F32: sníž. přenesená | L32: 0.15 | W32: =ROUND(BC54, 2) -> 0 | AK32: 0
F33: nulová | L33: 0 | W33: =ROUND(BD54, 2) -> 0 | AK33: 0
D35: Cena s DPH | T35: v | X35: CZK | AK35: =SUM(AK26:AK33) -> 14878291
C42: REKAPITULACE OBJEKTŮ STAVBY A SOUPISŮ PRACÍ
C44: Kód: | L44: =K5 -> 516/002
C45: Stavba: | L45: =K6 -> Stavební úpravy přečerpávací stanice a odlehčovací komory 10 v ulici Sportovní
C47: Místo: | L47: =IF(K8="","",K8) -> Český Brod | AI47: Datum: | AM47: =IF(AN8= "","",AN8) -> 31. 1. 2024
C49: Zadavatel: | L49: =IF(E11= "","",E11) -> Město Český Brod | AI49: Projektant: | AM49: =IF(E17="","",E17) -> Ing. Petr Koblenc | AS49: Informatívní údaje z listů zakázek
C50: Uchazeč: | L50: =IF(E14= "Vyplň údaj","",E14) -> 1.SčV, a.s. | AI50: Zpracovatel: | AM50: =IF(E20="","",E20) -> Vodohospodářský rozvoj a výstavba a.s.
C52: Kód | I52: Popis | AG52: Cena bez DPH [CZK] | AN52: Cena s DPH [CZK] | AQ52: Typ | AS52: z toho Ostat._x000D_ náklady [CZK] | AT52: DPH [CZK] | AU52: Normohodiny [h] | AV52: DPH základní [CZK] | AW52: DPH snížená [CZK] | AX52: DPH základní přenesená_x000D_ [CZK] | AY52: DPH snížená přenesená_x000D_ [CZK] | AZ52: Základna_x000D_ DPH základní | BA52: Základna_x000D_ DPH snížená | BB52: Základna_x000D_ DPH zákl. přenesená | BC52: Základna_x000D_ DPH sníž. přenesená | BD52: Základna_x000D_ DPH nulová
C54: Náklady stavby celkem | AG54: =ROUND(AG55+SUM(AG56:AG58)+SUM(AG63:AG66)+AG69,2) -> 12296109 | AN54: =SUM(AG54,AT54) -> 14878291 | AS54: =ROUND(AS55+SUM(AS56:AS58)+SUM(AS63:AS66)+AS69,2) -> 0 | AT54: =ROUND(SUM(AV54:AW54),2) -> 2582182.8 | AU54: =ROUND(AU55+SUM(AU56:AU58)+SUM(AU63:AU66)+AU69,5) -> 0 | AV54: =ROUND(AZ54*L29,2) -> 2582182.8 | AW54: =ROUND(BA54*L30,2) -> 0 | AX54: =ROUND(BB54*L29,2) -> 0 | AY54: =ROUND(BC54*L30,2) -> 0 | AZ54: =ROUND(AZ55+SUM(AZ56:AZ58)+SUM(AZ63:AZ66)+AZ69,2) -> 12296109 | BA54: =ROUND(BA55+SUM(BA56:BA58)+SUM(BA63:BA66)+BA69,2) -> 0 | BB54: =ROUND(BB55+SUM(BB56:BB58)+SUM(BB63:BB66)+BB69,2) -> 0 | BC54: =ROUND(BC55+SUM(BC56:BC58)+SUM(BC63:BC66)+BC69,2) -> 0 | BD54: =ROUND(BD55+SUM(BD56:BD58)+SUM(BD63:BD66)+BD69,2) -> 0 | BS54: D | BT54: 0 | BU54: ###NOIMPORT### | BV54: IMPORT | BW54: {0e010a3d-da40-4e53-b2bf-73c498eeb638} | BX54: {00000000-0000-0000-0000-000000000000} | CL54: 827 21 51
A55: / | D55: 00 | J55: Soupis vedlejších a ostatních nákladů | AG55: ='00 - Soupis vedlejších a ...'!J30 -> 347517.65 | AN55: =SUM(AG55,AT55) -> 420496.36 | AQ55: STA | AS55: 0 | AT55: =ROUND(SUM(AV55:AW55),2) -> 72978.71 | AU55: ='00 - Soupis vedlejších a ...'!P79 -> 0 | AV55: ='00 - Soupis vedlejších a ...'!J33 -> 72978.71 | AW55: ='00 - Soupis vedlejších a ...'!J34 -> 0 | AX55: ='00 - Soupis vedlejších a ...'!J35 -> 0 | AY55: ='00 - Soupis vedlejších a ...'!J36 -> 0 | AZ55: ='00 - Soupis vedlejších a ...'!F33 -> 347517.65 | BA55: ='00 - Soupis vedlejších a ...'!F34 -> 0 | BB55: ='00 - Soupis vedlejších a ...'!F35 -> 0 | BC55: ='00 - Soupis vedlejších a ...'!F36 -> 0 | BD55: ='00 - Soupis vedlejších a ...'!F37 -> 0 | BT55: 1 | BV55: IMPORT | BW55: {f715497d-4f91-41ca-9985-355311628911} | BX55: {0e010a3d-da40-4e53-b2bf-73c498eeb638} | CL55: 827 21 51 | CM55: 2
A56: / | D56: 01 | J56: Povrchy | AG56: ='01 - Povrchy'!J30 -> 2026955.7 | AN56: =SUM(AG56,AT56) -> 2452616.4 | AQ56: STA | AS56: 0 | AT56: =ROUND(SUM(AV56:AW56),2) -> 425660.7 | AU56: ='01 - Povrchy'!P94 -> 0 | AV56: ='01 - Povrchy'!J33 -> 425660.7 | AW56: ='01 - Povrchy'!J34 -> 0 | AX56: ='01 - Povrchy'!J35 -> 0 | AY56: ='01 - Povrchy'!J36 -> 0 | AZ56: ='01 - Povrchy'!F33 -> 2026955.7 | BA56: ='01 - Povrchy'!F34 -> 0 | BB56: ='01 - Povrchy'!F35 -> 0 | BC56: ='01 - Povrchy'!F36 -> 0 | BD56: ='01 - Povrchy'!F37 -> 0 | BT56: 1 | BV56: IMPORT | BW56: {31c9c8b4-9fc3-4051-9f59-9637a8a6fe4d} | BX56: {0e010a3d-da40-4e53-b2bf-73c498eeb638} | CL56: 827 21 51 | CM56: 2
...

Sheet 00 - Soupis vedlejších a ...
AT2: {f715497d-4f91-41ca-9985-355311628911}
AT3: 2
D4: KRYCÍ LIST SOUPISU PRACÍ | M4: v --- níže se nacházejí doplnkové a pomocné údaje k sestavám --- v | AT4: False
D6: Stavba:
E7: ='Rekapitulace stavby'!K6 -> Stavební úpravy přečerpávací stanice a odlehčovací komory 10 v ulici Sportovní
D8: Objekt:
E9: 00 - Soupis vedlejších a ostatních nákladů
D11: KSO: | F11: 827 21 51 | I11: CC-CZ:
D12: Místo: | F12: Český Brod | I12: Datum: | J12: ='Rekapitulace stavby'!AN8 -> 31. 1. 2024
D14: Zadavatel: | I14: IČ: | J14: 00235334
E15: Město Český Brod | I15: DIČ:
D17: Uchazeč: | I17: IČ: | J17: ='Rekapitulace stavby'!AN13 -> 47549793
E18: ='Rekapitulace stavby'!E14 -> 1.SčV, a.s. | I18: DIČ: | J18: ='Rekapitulace stavby'!AN14 -> CZ47549793
D20: Projektant: | I20: IČ:
E21: Ing. Petr Koblenc | I21: DIČ:
D23: Zpracovatel: | I23: IČ: | J23: 47116901
E24: Vodohospodářský rozvoj a výstavba a.s. | I24: DIČ:
D26: Poznámka:
D30: Cena bez DPH | J30: =ROUND(J79, 2) -> 347517.65
F32: Základ daně | I32: Sazba daně | J32: Výše daně
D33: DPH | E33: základní | F33: =ROUND((SUM(BE79:BE98)), 2) -> 347517.65 | I33: 0.21 | J33: =ROUND(((SUM(BE79:BE98))*I33), 2) -> 72978.71
E34: snížená | F34: =ROUND((SUM(BF79:BF98)), 2) -> 0 | I34: 0.15 | J34: =ROUND(((SUM(BF79:BF98))*I34), 2) -> 0
E35: zákl. přenesená | F35: =ROUND((SUM(BG79:BG98)), 2) -> 0 | I35: 0.21 | J35: =0 -> 0
E36: sníž. přenesená | F36: =ROUND((SUM(BH79:BH98)), 2) -> 0 | I36: 0.15 | J36: =0 -> 0
E37: nulová | F37: =ROUND((SUM(BI79:BI98)), 2) -> 0 | I37: 0 | J37: =0 -> 0
D39: Cena s DPH | G39: v | H39: CZK | J39: =SUM(J30:J37) -> 420496.36
C45: REKAPITULACE ČLENĚNÍ SOUPISU PRACÍ
C47: Stavba:
E48: =E7 -> Stavební úpravy přečerpávací stanice a odlehčovací komory 10 v ulici Sportovní
C49: Objekt:
E50: =E9 -> 00 - Soupis vedlejších a ostatních nákladů
C52: Místo: | F52: =F12 -> Český Brod | I52: Datum: | J52: =IF(J12="","",J12) -> 31. 1. 2024
C54: Zadavatel: | F54: =E15 -> Město Český Brod | I54: Projektant: | J54: =E21 -> Ing. Petr Koblenc
C55: Uchazeč: | F55: =IF(E18="","",E18) -> 1.SčV, a.s. | I55: Zpracovatel: | J55: =E24 -> Vodohospodářský rozvoj a výstavba a.s.
C57: Kód dílu - Popis | J57: Cena celkem [CZK]
C59: Náklady stavby celkem | J59: =J79 -> 347517.65 | AU59: -1
C66: SOUPIS PRACÍ
C68: Stavba:
E69: =E7 -> Stavební úpravy přečerpávací stanice a odlehčovací komory 10 v ulici Sportovní
C70: Objekt:
...

Sheet 01 - Povrchy
AT2: {31c9c8b4-9fc3-4051-9f59-9637a8a6fe4d}
AT3: 2
D4: KRYCÍ LIST SOUPISU PRACÍ | M4: v --- níže se nacházejí doplnkové a pomocné údaje k sestavám --- v | AT4: False
D6: Stavba:
E7: ='Rekapitulace stavby'!K6 -> Stavební úpravy přečerpávací stanice a odlehčovací komory 10 v ulici Sportovní
D8: Objekt:
E9: 01 - Povrchy
D11: KSO: | F11: 827 21 51 | I11: CC-CZ:
D12: Místo: | F12: Český Brod | I12: Datum: | J12: ='Rekapitulace stavby'!AN8 -> 31. 1. 2024
D14: Zadavatel: | I14: IČ: | J14: 00235334
E15: Město Český Brod | I15: DIČ:
D17: Uchazeč: | I17: IČ: | J17: ='Rekapitulace stavby'!AN13 -> 47549793
E18: ='Rekapitulace stavby'!E14 -> 1.SčV, a.s. | I18: DIČ: | J18: ='Rekapitulace stavby'!AN14 -> CZ47549793
D20: Projektant: | I20: IČ:
E21: Ing. Petr Koblenc | I21: DIČ:
D23: Zpracovatel: | I23: IČ: | J23: 47116901
E24: Vodohospodářský rozvoj a výstavba a.s. | I24: DIČ:
D26: Poznámka:
D30: Cena bez DPH | J30: =ROUND(J94, 2) -> 2026955.7
F32: Základ daně | I32: Sazba daně | J32: Výše daně
D33: DPH | E33: základní | F33: =ROUND((SUM(BE94:BE355)), 2) -> 2026955.7 | I33: 0.21 | J33: =ROUND(((SUM(BE94:BE355))*I33), 2) -> 425660.7
E34: snížená | F34: =ROUND((SUM(BF94:BF355)), 2) -> 0 | I34: 0.15 | J34: =ROUND(((SUM(BF94:BF355))*I34), 2) -> 0
E35: zákl. přenesená | F35: =ROUND((SUM(BG94:BG355)), 2) -> 0 | I35: 0.21 | J35: =0 -> 0
E36: sníž. přenesená | F36: =ROUND((SUM(BH94:BH355)), 2) -> 0 | I36: 0.15 | J36: =0 -> 0
E37: nulová | F37: =ROUND((SUM(BI94:BI355)), 2) -> 0 | I37: 0 | J37: =0 -> 0
D39: Cena s DPH | G39: v | H39: CZK | J39: =SUM(J30:J37) -> 2452616.4
C45: REKAPITULACE ČLENĚNÍ SOUPISU PRACÍ
C47: Stavba:
E48: =E7 -> Stavební úpravy přečerpávací stanice a odlehčovací komory 10 v ulici Sportovní
C49: Objekt:
E50: =E9 -> 01 - Povrchy
C52: Místo: | F52: =F12 -> Český Brod | I52: Datum: | J52: =IF(J12="","",J12) -> 31. 1. 2024
C54: Zadavatel: | F54: =E15 -> Město Český Brod | I54: Projektant: | J54: =E21 -> Ing. Petr Koblenc
C55: Uchazeč: | F55: =IF(E18="","",E18) -> 1.SčV, a.s. | I55: Zpracovatel: | J55: =E24 -> Vodohospodářský rozvoj a výstavba a.s.
C57: Kód dílu - Popis | J57: Cena celkem [CZK]
C59: Náklady stavby celkem | J59: =J94 -> 2026955.7 | AU59: -1
D60: HSV - Práce a dodávky HSV | J60: =J95 -> 2026955.7
D61: 5 - Komunikace pozemní | J61: =J96 -> 22612.5
D62: 5.1 - Odstranění komunikace asfalt | J62: =J127 -> 116243
D63: 5.2 - Odstranění komunikace zámková dlažba | J63: =J146 -> 64829.9
...

Sheet 02 - Rušené potrubí 
AT2: {cd0fef3c-e623-491b-b8a2-5c47415141a1}
AT3: 2
D4: KRYCÍ LIST SOUPISU PRACÍ | M4: v --- níže se nacházejí doplnkové a pomocné údaje k sestavám --- v | AT4: False
D6: Stavba:
E7: ='Rekapitulace stavby'!K6 -> Stavební úpravy přečerpávací stanice a odlehčovací komory 10 v ulici Sportovní
D8: Objekt:
E9: 02 - Rušené potrubí
D11: KSO: | F11: 827 21 51 | I11: CC-CZ:
D12: Místo: | F12: Český Brod | I12: Datum: | J12: ='Rekapitulace stavby'!AN8 -> 31. 1. 2024
D14: Zadavatel: | I14: IČ: | J14: 00235334
E15: Město Český Brod | I15: DIČ:
D17: Uchazeč: | I17: IČ: | J17: ='Rekapitulace stavby'!AN13 -> 47549793
E18: ='Rekapitulace stavby'!E14 -> 1.SčV, a.s. | I18: DIČ: | J18: ='Rekapitulace stavby'!AN14 -> CZ47549793
D20: Projektant: | I20: IČ:
E21: Ing. Petr Koblenc | I21: DIČ:
D23: Zpracovatel: | I23: IČ: | J23: 47116901
E24: Vodohospodářský rozvoj a výstavba a.s. | I24: DIČ:
D26: Poznámka:
D30: Cena bez DPH | J30: =ROUND(J86, 2) -> 584520.52
F32: Základ daně | I32: Sazba daně | J32: Výše daně
D33: DPH | E33: základní | F33: =ROUND((SUM(BE86:BE260)), 2) -> 584520.52 | I33: 0.21 | J33: =ROUND(((SUM(BE86:BE260))*I33), 2) -> 122749.31
E34: snížená | F34: =ROUND((SUM(BF86:BF260)), 2) -> 0 | I34: 0.15 | J34: =ROUND(((SUM(BF86:BF260))*I34), 2) -> 0
E35: zákl. přenesená | F35: =ROUND((SUM(BG86:BG260)), 2) -> 0 | I35: 0.21 | J35: =0 -> 0
E36: sníž. přenesená | F36: =ROUND((SUM(BH86:BH260)), 2) -> 0 | I36: 0.15 | J36: =0 -> 0
E37: nulová | F37: =ROUND((SUM(BI86:BI260)), 2) -> 0 | I37: 0 | J37: =0 -> 0
D39: Cena s DPH | G39: v | H39: CZK | J39: =SUM(J30:J37) -> 707269.83
C45: REKAPITULACE ČLENĚNÍ SOUPISU PRACÍ
C47: Stavba:
E48: =E7 -> Stavební úpravy přečerpávací stanice a odlehčovací komory 10 v ulici Sportovní
C49: Objekt:
E50: =E9 -> 02 - Rušené potrubí
C52: Místo: | F52: =F12 -> Český Brod | I52: Datum: | J52: =IF(J12="","",J12) -> 31. 1. 2024
C54: Zadavatel: | F54: =E15 -> Město Český Brod | I54: Projektant: | J54: =E21 -> Ing. Petr Koblenc
C55: Uchazeč: | F55: =IF(E18="","",E18) -> 1.SčV, a.s. | I55: Zpracovatel: | J55: =E24 -> Vodohospodářský rozvoj a výstavba a.s.
C57: Kód dílu - Popis | J57: Cena celkem [CZK]
C59: Náklady stavby celkem | J59: =J86 -> 584520.52 | AU59: -1
D60: HSV - Práce a dodávky HSV | J60: =J87 -> 584520.52
D61: 1.3 - Výkopové práce | J61: =J88 -> 157216.37
D62: 1.4 - Zemní práce - přesuny | J62: =J143 -> 94876.23
D63: 4 - Vodorovné konstrukce | J63: =J155 -> 221911.77
...

Sheet 01 - Páteřní stoka
AT2: {4dce7feb-709a-4e27-91f1-d3dedfe2857f}
AT3: 2
D4: KRYCÍ LIST SOUPISU PRACÍ | M4: v --- níže se nacházejí doplnkové a pomocné údaje k sestavám --- v | AT4: False
D6: Stavba:
E7: ='Rekapitulace stavby'!K6 -> Stavební úpravy přečerpávací stanice a odlehčovací komory 10 v ulici Sportovní
D8: Objekt:
E9: IO 01 - Trubní vedení
D10: Soupis:
E11: 01 - Páteřní stoka
D13: KSO: | F13: 827 21 51 | I13: CC-CZ:
D14: Místo: | F14: Český Brod | I14: Datum: | J14: ='Rekapitulace stavby'!AN8 -> 31. 1. 2024
D16: Zadavatel: | I16: IČ: | J16: 00235334
E17: Město Český Brod | I17: DIČ:
D19: Uchazeč: | I19: IČ: | J19: ='Rekapitulace stavby'!AN13 -> 47549793
E20: ='Rekapitulace stavby'!E14 -> 1.SčV, a.s. | I20: DIČ: | J20: ='Rekapitulace stavby'!AN14 -> CZ47549793
D22: Projektant: | I22: IČ:
E23: Ing. Petr Koblenc | I23: DIČ:
D25: Zpracovatel: | I25: IČ: | J25: 47116901
E26: Vodohospodářský rozvoj a výstavba a.s. | I26: DIČ:
D28: Poznámka:
D32: Cena bez DPH | J32: =ROUND(J93, 2) -> 1801308.2
F34: Základ daně | I34: Sazba daně | J34: Výše daně
D35: DPH | E35: základní | F35: =ROUND((SUM(BE93:BE352)), 2) -> 1801308.2 | I35: 0.21 | J35: =ROUND(((SUM(BE93:BE352))*I35), 2) -> 378274.72
E36: snížená | F36: =ROUND((SUM(BF93:BF352)), 2) -> 0 | I36: 0.15 | J36: =ROUND(((SUM(BF93:BF352))*I36), 2) -> 0
E37: zákl. přenesená | F37: =ROUND((SUM(BG93:BG352)), 2) -> 0 | I37: 0.21 | J37: =0 -> 0
E38: sníž. přenesená | F38: =ROUND((SUM(BH93:BH352)), 2) -> 0 | I38: 0.15 | J38: =0 -> 0
E39: nulová | F39: =ROUND((SUM(BI93:BI352)), 2) -> 0 | I39: 0 | J39: =0 -> 0
D41: Cena s DPH | G41: v | H41: CZK | J41: =SUM(J32:J39) -> 2179582.9
C47: REKAPITULACE ČLENĚNÍ SOUPISU PRACÍ
C49: Stavba:
E50: =E7 -> Stavební úpravy přečerpávací stanice a odlehčovací komory 10 v ulici Sportovní
C51: Objekt:
E52: IO 01 - Trubní vedení
C53: Soupis:
E54: =E11 -> 01 - Páteřní stoka
C56: Místo: | F56: =F14 -> Český Brod | I56: Datum: | J56: =IF(J14="","",J14) -> 31. 1. 2024
C58: Zadavatel: | F58: =E17 -> Město Český Brod | I58: Projektant: | J58: =E23 -> Ing. Petr Koblenc
C59: Uchazeč: | F59: =IF(E20="","",E20) -> 1.SčV, a.s. | I59: Zpracovatel: | J59: =E26 -> Vodohospodářský rozvoj a výstavba a.s.
C61: Kód dílu - Popis | J61: Cena celkem [CZK]
C63: Náklady stavby celkem | J63: =J93 -> 1801308.2 | AU63: -1
...

Sheet 02 - Vypouštění nádrže na...
AT2: {e70173a3-91fe-4042-b9c7-8c9b8fd24477}
AT3: 2
D4: KRYCÍ LIST SOUPISU PRACÍ | M4: v --- níže se nacházejí doplnkové a pomocné údaje k sestavám --- v | AT4: False
D6: Stavba:
E7: ='Rekapitulace stavby'!K6 -> Stavební úpravy přečerpávací stanice a odlehčovací komory 10 v ulici Sportovní
D8: Objekt:
E9: IO 01 - Trubní vedení
D10: Soupis:
E11: 02 - Vypouštění nádrže na ČSOV
D13: KSO: | F13: 827 21 51 | I13: CC-CZ:
D14: Místo: | F14: Český Brod | I14: Datum: | J14: ='Rekapitulace stavby'!AN8 -> 31. 1. 2024
D16: Zadavatel: | I16: IČ: | J16: 00235334
E17: Město Český Brod | I17: DIČ:
D19: Uchazeč: | I19: IČ: | J19: ='Rekapitulace stavby'!AN13 -> 47549793
E20: ='Rekapitulace stavby'!E14 -> 1.SčV, a.s. | I20: DIČ: | J20: ='Rekapitulace stavby'!AN14 -> CZ47549793
D22: Projektant: | I22: IČ:
E23: Ing. Petr Koblenc | I23: DIČ:
D25: Zpracovatel: | I25: IČ: | J25: 47116901
E26: Vodohospodářský rozvoj a výstavba a.s. | I26: DIČ:
D28: Poznámka:
D32: Cena bez DPH | J32: =ROUND(J93, 2) -> 864964.71
F34: Základ daně | I34: Sazba daně | J34: Výše daně
D35: DPH | E35: základní | F35: =ROUND((SUM(BE93:BE288)), 2) -> 864964.71 | I35: 0.21 | J35: =ROUND(((SUM(BE93:BE288))*I35), 2) -> 181642.59
E36: snížená | F36: =ROUND((SUM(BF93:BF288)), 2) -> 0 | I36: 0.15 | J36: =ROUND(((SUM(BF93:BF288))*I36), 2) -> 0
E37: zákl. přenesená | F37: =ROUND((SUM(BG93:BG288)), 2) -> 0 | I37: 0.21 | J37: =0 -> 0
E38: sníž. přenesená | F38: =ROUND((SUM(BH93:BH288)), 2) -> 0 | I38: 0.15 | J38: =0 -> 0
E39: nulová | F39: =ROUND((SUM(BI93:BI288)), 2) -> 0 | I39: 0 | J39: =0 -> 0
D41: Cena s DPH | G41: v | H41: CZK | J41: =SUM(J32:J39) -> 1046607.3
C47: REKAPITULACE ČLENĚNÍ SOUPISU PRACÍ
C49: Stavba:
E50: =E7 -> Stavební úpravy přečerpávací stanice a odlehčovací komory 10 v ulici Sportovní
C51: Objekt:
E52: IO 01 - Trubní vedení
C53: Soupis:
E54: =E11 -> 02 - Vypouštění nádrže na ČSOV
C56: Místo: | F56: =F14 -> Český Brod | I56: Datum: | J56: =IF(J14="","",J14) -> 31. 1. 2024
C58: Zadavatel: | F58: =E17 -> Město Český Brod | I58: Projektant: | J58: =E23 -> Ing. Petr Koblenc
C59: Uchazeč: | F59: =IF(E20="","",E20) -> 1.SčV, a.s. | I59: Zpracovatel: | J59: =E26 -> Vodohospodářský rozvoj a výstavba a.s.
C61: Kód dílu - Popis | J61: Cena celkem [CZK]
C63: Náklady stavby celkem | J63: =J93 -> 864964.71 | AU63: -1
...

Sheet 03 - Odtok do vodoteče
AT2: {0e5a1676-280f-4cda-86aa-2ab30d73541f}
AT3: 2
D4: KRYCÍ LIST SOUPISU PRACÍ | M4: v --- níže se nacházejí doplnkové a pomocné údaje k sestavám --- v | AT4: False
D6: Stavba:
E7: ='Rekapitulace stavby'!K6 -> Stavební úpravy přečerpávací stanice a odlehčovací komory 10 v ulici Sportovní
D8: Objekt:
E9: IO 01 - Trubní vedení
D10: Soupis:
E11: 03 - Odtok do vodoteče
D13: KSO: | F13: 827 21 51 | I13: CC-CZ:
D14: Místo: | F14: Český Brod | I14: Datum: | J14: ='Rekapitulace stavby'!AN8 -> 31. 1. 2024
D16: Zadavatel: | I16: IČ: | J16: 00235334
E17: Město Český Brod | I17: DIČ:
D19: Uchazeč: | I19: IČ: | J19: ='Rekapitulace stavby'!AN13 -> 47549793
E20: ='Rekapitulace stavby'!E14 -> 1.SčV, a.s. | I20: DIČ: | J20: ='Rekapitulace stavby'!AN14 -> CZ47549793
D22: Projektant: | I22: IČ:
E23: Ing. Petr Koblenc | I23: DIČ:
D25: Zpracovatel: | I25: IČ: | J25: 47116901
E26: Vodohospodářský rozvoj a výstavba a.s. | I26: DIČ:
D28: Poznámka:
D32: Cena bez DPH | J32: =ROUND(J93, 2) -> 936499.81
F34: Základ daně | I34: Sazba daně | J34: Výše daně
D35: DPH | E35: základní | F35: =ROUND((SUM(BE93:BE266)), 2) -> 936499.81 | I35: 0.21 | J35: =ROUND(((SUM(BE93:BE266))*I35), 2) -> 196664.96
E36: snížená | F36: =ROUND((SUM(BF93:BF266)), 2) -> 0 | I36: 0.15 | J36: =ROUND(((SUM(BF93:BF266))*I36), 2) -> 0
E37: zákl. přenesená | F37: =ROUND((SUM(BG93:BG266)), 2) -> 0 | I37: 0.21 | J37: =0 -> 0
E38: sníž. přenesená | F38: =ROUND((SUM(BH93:BH266)), 2) -> 0 | I38: 0.15 | J38: =0 -> 0
E39: nulová | F39: =ROUND((SUM(BI93:BI266)), 2) -> 0 | I39: 0 | J39: =0 -> 0
D41: Cena s DPH | G41: v | H41: CZK | J41: =SUM(J32:J39) -> 1133164.8
C47: REKAPITULACE ČLENĚNÍ SOUPISU PRACÍ
C49: Stavba:
E50: =E7 -> Stavební úpravy přečerpávací stanice a odlehčovací komory 10 v ulici Sportovní
C51: Objekt:
E52: IO 01 - Trubní vedení
C53: Soupis:
E54: =E11 -> 03 - Odtok do vodoteče
C56: Místo: | F56: =F14 -> Český Brod | I56: Datum: | J56: =IF(J14="","",J14) -> 31. 1. 2024
C58: Zadavatel: | F58: =E17 -> Město Český Brod | I58: Projektant: | J58: =E23 -> Ing. Petr Koblenc
C59: Uchazeč: | F59: =IF(E20="","",E20) -> 1.SčV, a.s. | I59: Zpracovatel: | J59: =E26 -> Vodohospodářský rozvoj a výstavba a.s.
C61: Kód dílu - Popis | J61: Cena celkem [CZK]
C63: Náklady stavby celkem | J63: =J93 -> 936499.81 | AU63: -1
...

Sheet 04 - Výtlak ČS
AT2: {bccb4e4c-8d9f-4f93-870a-487279b1cdb2}
AT3: 2
D4: KRYCÍ LIST SOUPISU PRACÍ | M4: v --- níže se nacházejí doplnkové a pomocné údaje k sestavám --- v | AT4: False
D6: Stavba:
E7: ='Rekapitulace stavby'!K6 -> Stavební úpravy přečerpávací stanice a odlehčovací komory 10 v ulici Sportovní
D8: Objekt:
E9: IO 01 - Trubní vedení
D10: Soupis:
E11: 04 - Výtlak ČS
D13: KSO: | F13: 827 21 51 | I13: CC-CZ:
D14: Místo: | F14: Český Brod | I14: Datum: | J14: ='Rekapitulace stavby'!AN8 -> 31. 1. 2024
D16: Zadavatel: | I16: IČ: | J16: 00235334
E17: Město Český Brod | I17: DIČ:
D19: Uchazeč: | I19: IČ: | J19: ='Rekapitulace stavby'!AN13 -> 47549793
E20: ='Rekapitulace stavby'!E14 -> 1.SčV, a.s. | I20: DIČ: | J20: ='Rekapitulace stavby'!AN14 -> CZ47549793
D22: Projektant: | I22: IČ:
E23: Ing. Petr Koblenc | I23: DIČ:
D25: Zpracovatel: | I25: IČ: | J25: 47116901
E26: Vodohospodářský rozvoj a výstavba a.s. | I26: DIČ:
D28: Poznámka:
D32: Cena bez DPH | J32: =ROUND(J92, 2) -> 435916.53
F34: Základ daně | I34: Sazba daně | J34: Výše daně
D35: DPH | E35: základní | F35: =ROUND((SUM(BE92:BE223)), 2) -> 435916.53 | I35: 0.21 | J35: =ROUND(((SUM(BE92:BE223))*I35), 2) -> 91542.47
E36: snížená | F36: =ROUND((SUM(BF92:BF223)), 2) -> 0 | I36: 0.15 | J36: =ROUND(((SUM(BF92:BF223))*I36), 2) -> 0
E37: zákl. přenesená | F37: =ROUND((SUM(BG92:BG223)), 2) -> 0 | I37: 0.21 | J37: =0 -> 0
E38: sníž. přenesená | F38: =ROUND((SUM(BH92:BH223)), 2) -> 0 | I38: 0.15 | J38: =0 -> 0
E39: nulová | F39: =ROUND((SUM(BI92:BI223)), 2) -> 0 | I39: 0 | J39: =0 -> 0
D41: Cena s DPH | G41: v | H41: CZK | J41: =SUM(J32:J39) -> 527459
C47: REKAPITULACE ČLENĚNÍ SOUPISU PRACÍ
C49: Stavba:
E50: =E7 -> Stavební úpravy přečerpávací stanice a odlehčovací komory 10 v ulici Sportovní
C51: Objekt:
E52: IO 01 - Trubní vedení
C53: Soupis:
E54: =E11 -> 04 - Výtlak ČS
C56: Místo: | F56: =F14 -> Český Brod | I56: Datum: | J56: =IF(J14="","",J14) -> 31. 1. 2024
C58: Zadavatel: | F58: =E17 -> Město Český Brod | I58: Projektant: | J58: =E23 -> Ing. Petr Koblenc
C59: Uchazeč: | F59: =IF(E20="","",E20) -> 1.SčV, a.s. | I59: Zpracovatel: | J59: =E26 -> Vodohospodářský rozvoj a výstavba a.s.
C61: Kód dílu - Popis | J61: Cena celkem [CZK]
C63: Náklady stavby celkem | J63: =J92 -> 435916.53 | AU63: -1
...

Sheet IO 02 - Čerpací stanice
AT2: {f255caa7-43b0-437d-9ee1-749849c9630b}
AT3: 2
D4: KRYCÍ LIST SOUPISU PRACÍ | M4: v --- níže se nacházejí doplnkové a pomocné údaje k sestavám --- v | AT4: False
D6: Stavba:
E7: ='Rekapitulace stavby'!K6 -> Stavební úpravy přečerpávací stanice a odlehčovací komory 10 v ulici Sportovní
D8: Objekt:
E9: IO 02 - Čerpací stanice
D11: KSO: | F11: 827 21 51 | I11: CC-CZ:
D12: Místo: | F12: Český Brod | I12: Datum: | J12: ='Rekapitulace stavby'!AN8 -> 31. 1. 2024
D14: Zadavatel: | I14: IČ: | J14: 00235334
E15: Město Český Brod | I15: DIČ:
D17: Uchazeč: | I17: IČ: | J17: ='Rekapitulace stavby'!AN13 -> 47549793
E18: ='Rekapitulace stavby'!E14 -> 1.SčV, a.s. | I18: DIČ: | J18: ='Rekapitulace stavby'!AN14 -> CZ47549793
D20: Projektant: | I20: IČ:
E21: Ing. Petr Koblenc | I21: DIČ:
D23: Zpracovatel: | I23: IČ: | J23: 47116901
E24: Vodohospodářský rozvoj a výstavba a.s. | I24: DIČ:
D26: Poznámka:
D30: Cena bez DPH | J30: =ROUND(J86, 2) -> 2380623.2
F32: Základ daně | I32: Sazba daně | J32: Výše daně
D33: DPH | E33: základní | F33: =ROUND((SUM(BE86:BE255)), 2) -> 2380623.2 | I33: 0.21 | J33: =ROUND(((SUM(BE86:BE255))*I33), 2) -> 499930.88
E34: snížená | F34: =ROUND((SUM(BF86:BF255)), 2) -> 0 | I34: 0.15 | J34: =ROUND(((SUM(BF86:BF255))*I34), 2) -> 0
E35: zákl. přenesená | F35: =ROUND((SUM(BG86:BG255)), 2) -> 0 | I35: 0.21 | J35: =0 -> 0
E36: sníž. přenesená | F36: =ROUND((SUM(BH86:BH255)), 2) -> 0 | I36: 0.15 | J36: =0 -> 0
E37: nulová | F37: =ROUND((SUM(BI86:BI255)), 2) -> 0 | I37: 0 | J37: =0 -> 0
D39: Cena s DPH | G39: v | H39: CZK | J39: =SUM(J30:J37) -> 2880554.1
C45: REKAPITULACE ČLENĚNÍ SOUPISU PRACÍ
C47: Stavba:
E48: =E7 -> Stavební úpravy přečerpávací stanice a odlehčovací komory 10 v ulici Sportovní
C49: Objekt:
E50: =E9 -> IO 02 - Čerpací stanice
C52: Místo: | F52: =F12 -> Český Brod | I52: Datum: | J52: =IF(J12="","",J12) -> 31. 1. 2024
C54: Zadavatel: | F54: =E15 -> Město Český Brod | I54: Projektant: | J54: =E21 -> Ing. Petr Koblenc
C55: Uchazeč: | F55: =IF(E18="","",E18) -> 1.SčV, a.s. | I55: Zpracovatel: | J55: =E24 -> Vodohospodářský rozvoj a výstavba a.s.
C57: Kód dílu - Popis | J57: Cena celkem [CZK]
C59: Náklady stavby celkem | J59: =J86 -> 2380623.2 | AU59: -1
D60: HSV - Práce a dodávky HSV | J60: =J87 -> 2380623.2
D61: 1 - Zemní práce | J61: =J88 -> 324059.38
D62: 1.4 - Zemní práce - přesuny | J62: =J138 -> 90460.46
D63: 4 - Vodorovné konstrukce | J63: =J164 -> 46340.27
...

Sheet IO 03 - Odlehčovací komora
AT2: {2c1e7e74-8335-4d28-86ec-5be58316a69f}
AT3: 2
D4: KRYCÍ LIST SOUPISU PRACÍ | M4: v --- níže se nacházejí doplnkové a pomocné údaje k sestavám --- v | AT4: False
D6: Stavba:
E7: ='Rekapitulace stavby'!K6 -> Stavební úpravy přečerpávací stanice a odlehčovací komory 10 v ulici Sportovní
D8: Objekt:
E9: IO 03 - Odlehčovací komora
D11: KSO: | F11: 827 21 51 | I11: CC-CZ:
D12: Místo: | F12: Český Brod | I12: Datum: | J12: ='Rekapitulace stavby'!AN8 -> 31. 1. 2024
D14: Zadavatel: | I14: IČ: | J14: 00235334
E15: Město Český Brod | I15: DIČ:
D17: Uchazeč: | I17: IČ: | J17: ='Rekapitulace stavby'!AN13 -> 47549793
E18: ='Rekapitulace stavby'!E14 -> 1.SčV, a.s. | I18: DIČ: | J18: ='Rekapitulace stavby'!AN14 -> CZ47549793
D20: Projektant: | I20: IČ:
E21: Ing. Petr Koblenc | I21: DIČ:
D23: Zpracovatel: | I23: IČ: | J23: 47116901
E24: Vodohospodářský rozvoj a výstavba a.s. | I24: DIČ:
D26: Poznámka:
D30: Cena bez DPH | J30: =ROUND(J85, 2) -> 746873.77
F32: Základ daně | I32: Sazba daně | J32: Výše daně
D33: DPH | E33: základní | F33: =ROUND((SUM(BE85:BE179)), 2) -> 746873.77 | I33: 0.21 | J33: =ROUND(((SUM(BE85:BE179))*I33), 2) -> 156843.49
E34: snížená | F34: =ROUND((SUM(BF85:BF179)), 2) -> 0 | I34: 0.15 | J34: =ROUND(((SUM(BF85:BF179))*I34), 2) -> 0
E35: zákl. přenesená | F35: =ROUND((SUM(BG85:BG179)), 2) -> 0 | I35: 0.21 | J35: =0 -> 0
E36: sníž. přenesená | F36: =ROUND((SUM(BH85:BH179)), 2) -> 0 | I36: 0.15 | J36: =0 -> 0
E37: nulová | F37: =ROUND((SUM(BI85:BI179)), 2) -> 0 | I37: 0 | J37: =0 -> 0
D39: Cena s DPH | G39: v | H39: CZK | J39: =SUM(J30:J37) -> 903717.26
C45: REKAPITULACE ČLENĚNÍ SOUPISU PRACÍ
C47: Stavba:
E48: =E7 -> Stavební úpravy přečerpávací stanice a odlehčovací komory 10 v ulici Sportovní
C49: Objekt:
E50: =E9 -> IO 03 - Odlehčovací komora
C52: Místo: | F52: =F12 -> Český Brod | I52: Datum: | J52: =IF(J12="","",J12) -> 31. 1. 2024
C54: Zadavatel: | F54: =E15 -> Město Český Brod | I54: Projektant: | J54: =E21 -> Ing. Petr Koblenc
C55: Uchazeč: | F55: =IF(E18="","",E18) -> 1.SčV, a.s. | I55: Zpracovatel: | J55: =E24 -> Vodohospodářský rozvoj a výstavba a.s.
C57: Kód dílu - Popis | J57: Cena celkem [CZK]
C59: Náklady stavby celkem | J59: =J85 -> 746873.77 | AU59: -1
D60: HSV - Práce a dodávky HSV | J60: =J86 -> 746873.77
D61: 1 - Zemní práce | J61: =J87 -> 155916.94
D62: 1.4 - Zemní práce - přesuny | J62: =J125 -> 55648.93
D63: 4 - Vodorovné konstrukce | J63: =J151 -> 31569.2
...

Sheet IO 04 - Usazovací nádrž
AT2: {7a304ed3-6e50-41d8-8c28-5a2741259e83}
AT3: 2
D4: KRYCÍ LIST SOUPISU PRACÍ | M4: v --- níže se nacházejí doplnkové a pomocné údaje k sestavám --- v | AT4: False
D6: Stavba:
E7: ='Rekapitulace stavby'!K6 -> Stavební úpravy přečerpávací stanice a odlehčovací komory 10 v ulici Sportovní
D8: Objekt:
E9: IO 04 - Usazovací nádrž
D11: KSO: | F11: 827 21 51 | I11: CC-CZ:
D12: Místo: | F12: Český Brod | I12: Datum: | J12: ='Rekapitulace stavby'!AN8 -> 31. 1. 2024
D14: Zadavatel: | I14: IČ: | J14: 00235334
E15: Město Český Brod | I15: DIČ:
D17: Uchazeč: | I17: IČ: | J17: ='Rekapitulace stavby'!AN13 -> 47549793
E18: ='Rekapitulace stavby'!E14 -> 1.SčV, a.s. | I18: DIČ: | J18: ='Rekapitulace stavby'!AN14 -> CZ47549793
D20: Projektant: | I20: IČ:
E21: Ing. Petr Koblenc | I21: DIČ:
D23: Zpracovatel: | I23: IČ: | J23: 47116901
E24: Vodohospodářský rozvoj a výstavba a.s. | I24: DIČ:
D26: Poznámka:
D30: Cena bez DPH | J30: =ROUND(J86, 2) -> 1111070.1
F32: Základ daně | I32: Sazba daně | J32: Výše daně
D33: DPH | E33: základní | F33: =ROUND((SUM(BE86:BE275)), 2) -> 1111070.1 | I33: 0.21 | J33: =ROUND(((SUM(BE86:BE275))*I33), 2) -> 233324.72
E34: snížená | F34: =ROUND((SUM(BF86:BF275)), 2) -> 0 | I34: 0.15 | J34: =ROUND(((SUM(BF86:BF275))*I34), 2) -> 0
E35: zákl. přenesená | F35: =ROUND((SUM(BG86:BG275)), 2) -> 0 | I35: 0.21 | J35: =0 -> 0
E36: sníž. přenesená | F36: =ROUND((SUM(BH86:BH275)), 2) -> 0 | I36: 0.15 | J36: =0 -> 0
E37: nulová | F37: =ROUND((SUM(BI86:BI275)), 2) -> 0 | I37: 0 | J37: =0 -> 0
D39: Cena s DPH | G39: v | H39: CZK | J39: =SUM(J30:J37) -> 1344394.8
C45: REKAPITULACE ČLENĚNÍ SOUPISU PRACÍ
C47: Stavba:
E48: =E7 -> Stavební úpravy přečerpávací stanice a odlehčovací komory 10 v ulici Sportovní
C49: Objekt:
E50: =E9 -> IO 04 - Usazovací nádrž
C52: Místo: | F52: =F12 -> Český Brod | I52: Datum: | J52: =IF(J12="","",J12) -> 31. 1. 2024
C54: Zadavatel: | F54: =E15 -> Město Český Brod | I54: Projektant: | J54: =E21 -> Ing. Petr Koblenc
C55: Uchazeč: | F55: =IF(E18="","",E18) -> 1.SčV, a.s. | I55: Zpracovatel: | J55: =E24 -> Vodohospodářský rozvoj a výstavba a.s.
C57: Kód dílu - Popis | J57: Cena celkem [CZK]
C59: Náklady stavby celkem | J59: =J86 -> 1111070.1 | AU59: -1
D60: HSV - Práce a dodávky HSV | J60: =J87 -> 1111070.1
D61: 1 - Zemní práce | J61: =J88 -> 278981.22
D62: 1.4 - Zemní práce - přesuny | J62: =J126 -> 118695.22
D63: 4 - Vodorovné konstrukce | J63: =J152 -> 37958.84
...

Sheet 01 - Technologická elektr...
AT2: {33cadccc-5872-41f0-8c93-6aad9d1ba1ec}
AT3: 2
D4: KRYCÍ LIST SOUPISU PRACÍ | M4: v --- níže se nacházejí doplnkové a pomocné údaje k sestavám --- v | AT4: False
D6: Stavba:
E7: ='Rekapitulace stavby'!K6 -> Stavební úpravy přečerpávací stanice a odlehčovací komory 10 v ulici Sportovní
D8: Objekt:
E9: IO 05 - Technologická elektroinstalace a SŘTP
D10: Soupis:
E11: 01 - Technologická elektroinstalace a SŘTP - přípojka NN
D13: KSO: | F13: 827 21 51 | I13: CC-CZ:
D14: Místo: | F14: Český Brod | I14: Datum: | J14: ='Rekapitulace stavby'!AN8 -> 31. 1. 2024
D16: Zadavatel: | I16: IČ: | J16: 00235334
E17: Město Český Brod | I17: DIČ:
D19: Uchazeč: | I19: IČ: | J19: ='Rekapitulace stavby'!AN13 -> 47549793
E20: ='Rekapitulace stavby'!E14 -> 1.SčV, a.s. | I20: DIČ: | J20: ='Rekapitulace stavby'!AN14 -> CZ47549793
D22: Projektant: | I22: IČ:
E23: Ing. Petr Koblenc | I23: DIČ:
D25: Zpracovatel: | I25: IČ: | J25: 47116901
E26: Vodohospodářský rozvoj a výstavba a.s. | I26: DIČ:
D28: Poznámka:
D32: Cena bez DPH | J32: =ROUND(J90, 2) -> 114693.13
F34: Základ daně | I34: Sazba daně | J34: Výše daně
D35: DPH | E35: základní | F35: =ROUND((SUM(BE90:BE184)), 2) -> 114693.13 | I35: 0.21 | J35: =ROUND(((SUM(BE90:BE184))*I35), 2) -> 24085.56
E36: snížená | F36: =ROUND((SUM(BF90:BF184)), 2) -> 0 | I36: 0.15 | J36: =ROUND(((SUM(BF90:BF184))*I36), 2) -> 0
E37: zákl. přenesená | F37: =ROUND((SUM(BG90:BG184)), 2) -> 0 | I37: 0.21 | J37: =0 -> 0
E38: sníž. přenesená | F38: =ROUND((SUM(BH90:BH184)), 2) -> 0 | I38: 0.15 | J38: =0 -> 0
E39: nulová | F39: =ROUND((SUM(BI90:BI184)), 2) -> 0 | I39: 0 | J39: =0 -> 0
D41: Cena s DPH | G41: v | H41: CZK | J41: =SUM(J32:J39) -> 138778.69
C47: REKAPITULACE ČLENĚNÍ SOUPISU PRACÍ
C49: Stavba:
E50: =E7 -> Stavební úpravy přečerpávací stanice a odlehčovací komory 10 v ulici Sportovní
C51: Objekt:
E52: IO 05 - Technologická elektroinstalace a SŘTP
C53: Soupis:
E54: =E11 -> 01 - Technologická elektroinstalace a SŘTP - přípojka NN
C56: Místo: | F56: =F14 -> Český Brod | I56: Datum: | J56: =IF(J14="","",J14) -> 31. 1. 2024
C58: Zadavatel: | F58: =E17 -> Město Český Brod | I58: Projektant: | J58: =E23 -> Ing. Petr Koblenc
C59: Uchazeč: | F59: =IF(E20="","",E20) -> 1.SčV, a.s. | I59: Zpracovatel: | J59: =E26 -> Vodohospodářský rozvoj a výstavba a.s.
C61: Kód dílu - Popis | J61: Cena celkem [CZK]
C63: Náklady stavby celkem | J63: =J90 -> 114693.13 | AU63: -1
...

Sheet 02 - Technologická elektr...
AT2: {5931e646-164a-4f7b-82ad-6c5a91870141}
AT3: 2
D4: KRYCÍ LIST SOUPISU PRACÍ | M4: v --- níže se nacházejí doplnkové a pomocné údaje k sestavám --- v | AT4: False
D6: Stavba:
E7: ='Rekapitulace stavby'!K6 -> Stavební úpravy přečerpávací stanice a odlehčovací komory 10 v ulici Sportovní
D8: Objekt:
E9: IO 05 - Technologická elektroinstalace a SŘTP
D10: Soupis:
E11: 02 - Technologická elektroinstalace a SŘTP - TE+SŘTP
D13: KSO: | F13: 827 21 51 | I13: CC-CZ:
D14: Místo: | F14: Český Brod | I14: Datum: | J14: ='Rekapitulace stavby'!AN8 -> 31. 1. 2024
D16: Zadavatel: | I16: IČ: | J16: 00235334
E17: Město Český Brod | I17: DIČ:
D19: Uchazeč: | I19: IČ: | J19: ='Rekapitulace stavby'!AN13 -> 47549793
E20: ='Rekapitulace stavby'!E14 -> 1.SčV, a.s. | I20: DIČ: | J20: ='Rekapitulace stavby'!AN14 -> CZ47549793
D22: Projektant: | I22: IČ:
E23: Ing. Petr Koblenc | I23: DIČ:
D25: Zpracovatel: | I25: IČ: | J25: 47116901
E26: Vodohospodářský rozvoj a výstavba a.s. | I26: DIČ:
D28: Poznámka:
D32: Cena bez DPH | J32: =ROUND(J116, 2) -> 490074.14
F34: Základ daně | I34: Sazba daně | J34: Výše daně
D35: DPH | E35: základní | F35: =ROUND((SUM(BE116:BE344)), 2) -> 490074.14 | I35: 0.21 | J35: =ROUND(((SUM(BE116:BE344))*I35), 2) -> 102915.57
E36: snížená | F36: =ROUND((SUM(BF116:BF344)), 2) -> 0 | I36: 0.15 | J36: =ROUND(((SUM(BF116:BF344))*I36), 2) -> 0
E37: zákl. přenesená | F37: =ROUND((SUM(BG116:BG344)), 2) -> 0 | I37: 0.21 | J37: =0 -> 0
E38: sníž. přenesená | F38: =ROUND((SUM(BH116:BH344)), 2) -> 0 | I38: 0.15 | J38: =0 -> 0
E39: nulová | F39: =ROUND((SUM(BI116:BI344)), 2) -> 0 | I39: 0 | J39: =0 -> 0
D41: Cena s DPH | G41: v | H41: CZK | J41: =SUM(J32:J39) -> 592989.71
C47: REKAPITULACE ČLENĚNÍ SOUPISU PRACÍ
C49: Stavba:
E50: =E7 -> Stavební úpravy přečerpávací stanice a odlehčovací komory 10 v ulici Sportovní
C51: Objekt:
E52: IO 05 - Technologická elektroinstalace a SŘTP
C53: Soupis:
E54: =E11 -> 02 - Technologická elektroinstalace a SŘTP - TE+SŘTP
C56: Místo: | F56: =F14 -> Český Brod | I56: Datum: | J56: =IF(J14="","",J14) -> 31. 1. 2024
C58: Zadavatel: | F58: =E17 -> Město Český Brod | I58: Projektant: | J58: =E23 -> Ing. Petr Koblenc
C59: Uchazeč: | F59: =IF(E20="","",E20) -> 1.SčV, a.s. | I59: Zpracovatel: | J59: =E26 -> Vodohospodářský rozvoj a výstavba a.s.
C61: Kód dílu - Popis | J61: Cena celkem [CZK]
C63: Náklady stavby celkem | J63: =J116 -> 490074.14 | AU63: -1
...

Sheet IO 06 - Výšková úprava vo...
AT2: {51ae576c-1f64-4032-aedb-3f784920e3b0}
AT3: 2
D4: KRYCÍ LIST SOUPISU PRACÍ | M4: v --- níže se nacházejí doplnkové a pomocné údaje k sestavám --- v | AT4: False
D6: Stavba:
E7: ='Rekapitulace stavby'!K6 -> Stavební úpravy přečerpávací stanice a odlehčovací komory 10 v ulici Sportovní
D8: Objekt:
E9: IO 06 - Výšková úprava vodovodu
D11: KSO: | F11: 827 21 51 | I11: CC-CZ:
D12: Místo: | F12: Český Brod | I12: Datum: | J12: ='Rekapitulace stavby'!AN8 -> 31. 1. 2024
D14: Zadavatel: | I14: IČ: | J14: 00235334
E15: Město Český Brod | I15: DIČ:
D17: Uchazeč: | I17: IČ: | J17: ='Rekapitulace stavby'!AN13 -> 47549793
E18: ='Rekapitulace stavby'!E14 -> 1.SčV, a.s. | I18: DIČ: | J18: ='Rekapitulace stavby'!AN14 -> CZ47549793
D20: Projektant: | I20: IČ:
E21: Ing. Petr Koblenc | I21: DIČ:
D23: Zpracovatel: | I23: IČ: | J23: 47116901
E24: Vodohospodářský rozvoj a výstavba a.s. | I24: DIČ:
D26: Poznámka:
D30: Cena bez DPH | J30: =ROUND(J86, 2) -> 455091.19
F32: Základ daně | I32: Sazba daně | J32: Výše daně
D33: DPH | E33: základní | F33: =ROUND((SUM(BE86:BE255)), 2) -> 455091.19 | I33: 0.21 | J33: =ROUND(((SUM(BE86:BE255))*I33), 2) -> 95569.15
E34: snížená | F34: =ROUND((SUM(BF86:BF255)), 2) -> 0 | I34: 0.15 | J34: =ROUND(((SUM(BF86:BF255))*I34), 2) -> 0
E35: zákl. přenesená | F35: =ROUND((SUM(BG86:BG255)), 2) -> 0 | I35: 0.21 | J35: =0 -> 0
E36: sníž. přenesená | F36: =ROUND((SUM(BH86:BH255)), 2) -> 0 | I36: 0.15 | J36: =0 -> 0
E37: nulová | F37: =ROUND((SUM(BI86:BI255)), 2) -> 0 | I37: 0 | J37: =0 -> 0
D39: Cena s DPH | G39: v | H39: CZK | J39: =SUM(J30:J37) -> 550660.34
C45: REKAPITULACE ČLENĚNÍ SOUPISU PRACÍ
C47: Stavba:
E48: =E7 -> Stavební úpravy přečerpávací stanice a odlehčovací komory 10 v ulici Sportovní
C49: Objekt:
E50: =E9 -> IO 06 - Výšková úprava vodovodu
C52: Místo: | F52: =F12 -> Český Brod | I52: Datum: | J52: =IF(J12="","",J12) -> 31. 1. 2024
C54: Zadavatel: | F54: =E15 -> Město Český Brod | I54: Projektant: | J54: =E21 -> Ing. Petr Koblenc
C55: Uchazeč: | F55: =IF(E18="","",E18) -> 1.SčV, a.s. | I55: Zpracovatel: | J55: =E24 -> Vodohospodářský rozvoj a výstavba a.s.
C57: Kód dílu - Popis | J57: Cena celkem [CZK]
C59: Náklady stavby celkem | J59: =J86 -> 455091.19 | AU59: -1
D60: HSV - Práce a dodávky HSV | J60: =J87 -> 455091.19
D61: 1.3 - Výkopové práce | J61: =J88 -> 94806.39
D62: 1.4 - Zemní práce - přesuny | J62: =J131 -> 25508.9
D63: 4 - Vodorovné konstrukce | J63: =J146 -> 61032.73
...

Sheet Pokyny pro vyplnění
C3: Struktura údajů, formát souboru a metodika pro zpracování
C4: Struktura
C6: Soubor je složen ze záložky Rekapitulace stavby a záložek s názvem soupisu prací pro jednotlivé objekty ve formátu XLSX. Každá ze záložek přitom obsahuje
C7: ještě samostatné sestavy vymezené orámovaním a nadpisem sestavy.
C9: Rekapitulace stavby obsahuje sestavu Rekapitulace stavby a Rekapitulace objektů stavby a soupisů prací.
D10: V sestavě Rekapitulace stavby jsou uvedeny informace identifikující předmět veřejné zakázky na stavební práce, KSO, CC-CZ, CZ-CPV, CZ-CPA a rekapitulaci
D11: celkové nabídkové ceny uchazeče.
D13: Termínem "uchazeč" (resp. zhotovitel) se myslí "účastník zadávacího řízení" ve smyslu zákona o zadávání veřejných zakázek.
D15: V sestavě Rekapitulace objektů stavby a soupisů prací je uvedena rekapitulace stavebních objektů, inženýrských objektů, provozních souborů,
D16: vedlejších a ostatních nákladů a ostatních nákladů s rekapitulací nabídkové ceny za jednotlivé soupisy prací. Na základě údaje Typ je možné
D17: identifikovat, zda se jedná o objekt nebo soupis prací pro daný objekt:
E18: STA | F18: Stavební objekt pozemní
E19: ING | F19: Stavební objekt inženýrský
E20: PRO | F20: Provozní soubor
E21: VON | F21: Vedlejší a ostatní náklady
E22: OST | F22: Ostatní
E23: Soupis | F23: Soupis prací pro daný typ objektu
C25: Soupis prací pro jednotlivé objekty obsahuje sestavy Krycí list soupisu prací, Rekapitulace členění soupisu prací, Soupis prací. Za soupis prací může být považován
C26: i objekt stavby v případě, že neobsahuje podřízenou zakázku.
D27: Krycí list soupisu obsahuje rekapitulaci informací o předmětu veřejné zakázky ze sestavy Rekapitulace stavby, informaci o zařazení objektu do KSO,
D28: CC-CZ, CZ-CPV, CZ-CPA a rekapitulaci celkové nabídkové ceny uchazeče za aktuální soupis prací.
D30: Rekapitulace členění soupisu prací obsahuje rekapitulaci soupisu prací ve všech úrovních členění soupisu tak, jak byla tato členění použita (např.
D31: stavební díly, funkční díly, případně jiné členění) s rekapitulací nabídkové ceny.
D33: Soupis prací obsahuje položky veškerých stavebních nebo montážních prací, dodávek materiálů a služeb nezbytných pro zhotovení stavebního objektu,
D34: inženýrského objektu, provozního souboru, vedlejších a ostatních nákladů.
D35: Pro položky soupisu prací se zobrazují následující informace:
E36: PČ | G36: Pořadové číslo položky v aktuálním soupisu
E37: TYP | G37: Typ položky: K - konstrukce, M - materiál, PP - plný popis, PSC - poznámka k souboru cen, P - poznámka k položce, VV - výkaz výměr, FIG - rozpad figur
E38: Kód | G38: Kód položky
E39: Popis | G39: Zkrácený popis položky
E40: MJ | G40: Měrná jednotka položky
E41: Množství | G41: Množství v měrné jednotce
E42: J.cena | G42: Jednotková cena položky. Zadaní může obsahovat namísto J.ceny sloupce J.materiál a J.montáž, jejichž součet definuje
G43: J.cenu položky.
E44: Cena celkem | G44: Celková cena položky daná jako součin množství a j.ceny
E45: Cenová soustava | G45: Příslušnost položky do cenové soustavy
D47: Ke každé položce soupisu prací se na samostatných řádcích může zobrazovat:
E48: Plný popis položky
E49: Poznámka k souboru cen a poznámka zadavatele
E50: Výkaz výměr
...
