Workbook
Name Print_Area: 'Pokyny pro vyplnění'!$B$2:$K$71,'Pokyny pro vyplnění'!$B$74:$K$118,'Pokyny pro vyplnění'!$B$121:$K$161,'Pokyny pro vyplnění'!$B$164:$K$219
Name Print_Titles: 'Rekapitulace stavby'!$52:$52

Sheet Rekapitulace stavby
A1: Export Komplet | AZ1: VZ | BA1: 2.0 | BB1: ZAMOK | BT1: False | BU1: False | BV1: {0e010a3d-da40-4e53-b2bf-73c498eeb638}
BS2: 0,01 | BT2: 21
BS3: 0,01 | BT3: 15
D4: REKAPITULACE STAVBY | AS4: v --- níže se nacházejí doplnkové a pomocné údaje k sestavám --- v | BE4: Návod na vyplnění | BS4: 0,001
D5: Kód: | K5: 516/002 | BE5: Měnit lze pouze buňky se žlutým podbarvením!_x000D_ _x000D_ 1) v Rekapitulaci stavby vyplňte údaje o Uchazeči (přenesou se do ostatních sestav i v jiných listech)_x000D_ _x000D_ 2) na vybraných listech vyplňte v sestavě Soupis prací ceny u položek | BS5: 0,01
D6: Stavba: | K6: Stavební úpravy přečerpávací stanice a odlehčovací komory 10 v ulici Sportovní | BS6: 0,01
D7: KSO: | K7: 827 21 51 | AK7: CC-CZ: | AN7: 22231 | BS7: 0,01
D8: Místo: | K8: Český Brod | AK8: Datum: | AN8: 31. 1. 2024 | BS8: 0,01
D9: CZ-CPV: | K9: 45231300-8 | AK9: CZ-CPA: | AN9: 42.21.13 | BS9: 0,01
D10: Zadavatel: | AK10: IČ: | AN10: 00235334 | BS10: 0,01
E11: Město Český Brod | AK11: DIČ: | BS11: 0,01
BS12: 0,01
D13: Uchazeč: | AK13: IČ: | AN13: 47549793 | BS13: 0,01
E14: 1.SčV, a.s. | AK14: DIČ: | AN14: CZ47549793 | BS14: 0,01
BS15: False
D16: Projektant: | AK16: IČ: | BS16: False
E17: Ing. Petr Koblenc | AK17: DIČ: | BS17: True
BS18: 0,01
D19: Zpracovatel: | AK19: IČ: | AN19: 47116901 | BS19: 0,01
E20: Vodohospodářský rozvoj a výstavba a.s. | AK20: DIČ: | BS20: False
D22: Poznámka:
E23: Soupis prací je sestaven s využitím Cenové soustavy ÚRS. Položky, které pochází z této cenové soustavy, jsou ve sloupci 'Cenová soustava' označeny popisem 'CS ÚRS' a úrovní příslušného kalendářního pololetí. Veškeré další informace vymezující popis a podmínky použití těchto položek z Cenové soustavy, které nejsou uvedeny přímo v soupisu prací, jsou neomezeně dálkově k dispozici na https://podminky.urs.cz._x000D_ ÚRS, které nejsou uvedeny v soupisu prací (tzv. úvodní části katalogů) jsou neomezeně dálkově k dispozici na _x000D_ Jednotlivé položky armatur a tvarovek zahrnují těsnění, podložky, šrouby, matice. Součástí položek pro nákup materiálu jsou i náklady na dopravu ze skladu na zařízení staveniště.
D26: Cena bez DPH | AK26: =ROUND(AG54,2) -> 12296109
L28: Sazba daně | W28: Základ daně | AK28: Výše daně
D29: DPH | F29: základní | L29: 0.21 | W29: =ROUND(AZ54, 2) -> 12296109 | AK29: =ROUND(AV54, 2) -> 2582182.8
F30: snížená | L30: 0.15 | W30: =ROUND(BA54, 2) -> 0 | AK30: =ROUND(AW54, 2) -> 0
F31: zákl. přenesená | L31: 0.21 | W31: =ROUND(BB54, 2) -> 0 | AK31: 0
F32: sníž. přenesená | L32: 0.15 | W32: =ROUND(BC54, 2) -> 0 | AK32: 0
F33: nulová | L33: 0 | W33: =ROUND(BD54, 2) -> 0 | AK33: 0
D35: Cena s DPH | T35: v | X35: CZK | AK35: =SUM(AK26:AK33) -> 14878291
C42: REKAPITULACE OBJEKTŮ STAVBY A SOUPISŮ PRACÍ
C44: Kód: | L44: =K5 -> 516/002
C45: Stavba: | L45: =K6 -> Stavební úpravy přečerpávací stanice a odlehčovací komory 10 v ulici Sportovní
C47: Místo: | L47: =IF(K8="","",K8) -> Český Brod | AI47: Datum: | AM47: =IF(AN8= "","",AN8) -> 31. 1. 2024
C49: Zadavatel: | L49: =IF(E11= "","",E11) -> Město Český Brod | AI49: Projektant: | AM49: =IF(E17="","",E17) -> Ing. Petr Koblenc | AS49: Informatívní údaje z listů zakázek
C50: Uchazeč: | L50: =IF(E14= "Vyplň údaj","",E14) -> 1.SčV, a.s. | AI50: Zpracovatel: | AM50: =IF(E20="","",E20) -> Vodohospodářský rozvoj a výstavba a.s.
C52: Kód | I52: Popis | AG52: Cena bez DPH [CZK] | AN52: Cena s DPH [CZK] | AQ52: Typ | AS52: z toho Ostat._x000D_ náklady [CZK] | AT52: DPH [CZK] | AU52: Normohodiny [h] | AV52: DPH základní [CZK] | AW52: DPH snížená [CZK] | AX52: DPH základní přenesená_x000D_ [CZK] | AY52: DPH snížená přenesená_x000D_ [CZK] | AZ52: Základna_x000D_ DPH základní | BA52: Základna_x000D_ DPH snížená | BB52: Základna_x000D_ DPH zákl. přenesená | BC52: Základna_x000D_ DPH sníž. přenesená | BD52: Základna_x000D_ DPH nulová
C54: Náklady stavby celkem | AG54: =ROUND(AG55+SUM(AG56:AG58)+SUM(AG63:AG66)+AG69,2) -> 12296109 | AN54: =SUM(AG54,AT54) -> 14878291 | AS54: =ROUND(AS55+SUM(AS56:AS58)+SUM(AS63:AS66)+AS69,2) -> 0 | AT54: =ROUND(SUM(AV54:AW54),2) -> 2582182.8 | AU54: =ROUND(AU55+SUM(AU56:AU58)+SUM(AU63:AU66)+AU69,5) -> 0 | AV54: =ROUND(AZ54*L29,2) -> 2582182.8 | AW54: =ROUND(BA54*L30,2) -> 0 | AX54: =ROUND(BB54*L29,2) -> 0 | AY54: =ROUND(BC54*L30,2) -> 0 | AZ54: =ROUND(AZ55+SUM(AZ56:AZ58)+SUM(AZ63:AZ66)+AZ69,2) -> 12296109 | BA54: =ROUND(BA55+SUM(BA56:BA58)+SUM(BA63:BA66)+BA69,2) -> 0 | BB54: =ROUND(BB55+SUM(BB56:BB58)+SUM(BB63:BB66)+BB69,2) -> 0 | BC54: =ROUND(BC55+SUM(BC56:BC58)+SUM(BC63:BC66)+BC69,2) -> 0 | BD54: =ROUND(BD55+SUM(BD56:BD58)+SUM(BD63:BD66)+BD69,2) -> 0 | BS54: D | BT54: 0 | BU54: ###NOIMPORT### | BV54: IMPORT | BW54: {0e010a3d-da40-4e53-b2bf-73c498eeb638} | BX54: {00000000-0000-0000-0000-000000000000} | CL54: 827 21 51
A55: / | D55: 00 | J55: Soupis vedlejších a ostatních nákladů | AG55: ='00 - Soupis vedlejších a ...'!J30 -> 347517.65 | AN55: =SUM(AG55,AT55) -> 420496.36 | AQ55: STA | AS55: 0 | AT55: =ROUND(SUM(AV55:AW55),2) -> 72978.71 | AU55: ='00 - Soupis vedlejších a ...'!P79 -> 0 | AV55: ='00 - Soupis vedlejších a ...'!J33 -> 72978.71 | AW55: ='00 - Soupis vedlejších a ...'!J34 -> 0 | AX55: ='00 - Soupis vedlejších a ...'!J35 -> 0 | AY55: ='00 - Soupis vedlejších a ...'!J36 -> 0 | AZ55: ='00 - Soupis vedlejších a ...'!F33 -> 347517.65 | BA55: ='00 - Soupis vedlejších a ...'!F34 -> 0 | BB55: ='00 - Soupis vedlejších a ...'!F35 -> 0 | BC55: ='00 - Soupis vedlejších a ...'!F36 -> 0 | BD55: ='00 - Soupis vedlejších a ...'!F37 -> 0 | BT55: 1 | BV55: IMPORT | BW55: {f715497d-4f91-41ca-9985-355311628911} | BX55: {0e010a3d-da40-4e53-b2bf-73c498eeb638} | CL55: 827 21 51 | CM55: 2
A56: / | D56: 01 | J56: Povrchy | AG56: ='01 - Povrchy'!J30 -> 2026955.7 | AN56: =SUM(AG56,AT56) -> 2452616.4 | AQ56: STA | AS56: 0 | AT56: =ROUND(SUM(AV56:AW56),2) -> 425660.7 | AU56: ='01 - Povrchy'!P94 -> 0 | AV56: ='01 - Povrchy'!J33 -> 425660.7 | AW56: ='01 - Povrchy'!J34 -> 0 | AX56: ='01 - Povrchy'!J35 -> 0 | AY56: ='01 - Povrchy'!J36 -> 0 | AZ56: ='01 - Povrchy'!F33 -> 2026955.7 | BA56: ='01 - Povrchy'!F34 -> 0 | BB56: ='01 - Povrchy'!F35 -> 0 | BC56: ='01 - Povrchy'!F36 -> 0 | BD56: ='01 - Povrchy'!F37 -> 0 | BT56: 1 | BV56: IMPORT | BW56: {31c9c8b4-9fc3-4051-9f59-9637a8a6fe4d} | BX56: {0e010a3d-da40-4e53-b2bf-73c498eeb638} | CL56: 827 21 51 | CM56: 2
A57: / | D57: 02 | J57: Rušené potrubí | AG57: ='02 - Rušené potrubí '!J30 -> 584520.52 | AN57: =SUM(AG57,AT57) -> 707269.83 | AQ57: STA | AS57: 0 | AT57: =ROUND(SUM(AV57:AW57),2) -> 122749.31 | AU57: ='02 - Rušené potrubí '!P86 -> 0 | AV57: ='02 - Rušené potrubí '!J33 -> 122749.31 | AW57: ='02 - Rušené potrubí '!J34 -> 0 | AX57: ='02 - Rušené potrubí '!J35 -> 0 | AY57: ='02 - Rušené potrubí '!J36 -> 0 | AZ57: ='02 - Rušené potrubí '!F33 -> 584520.52 | BA57: ='02 - Rušené potrubí '!F34 -> 0 | BB57: ='02 - Rušené potrubí '!F35 -> 0 | BC57: ='02 - Rušené potrubí '!F36 -> 0 | BD57: ='02 - Rušené potrubí '!F37 -> 0 | BT57: 1 | BV57: IMPORT | BW57: {cd0fef3c-e623-491b-b8a2-5c47415141a1} | BX57: {0e010a3d-da40-4e53-b2bf-73c498eeb638} | CL57: 827 21 51 | CM57: 2
D58: IO 01 | J58: Trubní vedení | AG58: =ROUND(SUM(AG59:AG62),2) -> 4038689.2 | AN58: =SUM(AG58,AT58) -> 4886814 | AQ58: STA | AS58: =ROUND(SUM(AS59:AS62),2) -> 0 | AT58: =ROUND(SUM(AV58:AW58),2) -> 848124.74 | AU58: =ROUND(SUM(AU59:AU62),5) -> 0 | AV58: =ROUND(AZ58*L29,2) -> 848124.74 | AW58: =ROUND(BA58*L30,2) -> 0 | AX58: =ROUND(BB58*L29,2) -> 0 | AY58: =ROUND(BC58*L30,2) -> 0 | AZ58: =ROUND(SUM(AZ59:AZ62),2) -> 4038689.2 | BA58: =ROUND(SUM(BA59:BA62),2) -> 0 | BB58: =ROUND(SUM(BB59:BB62),2) -> 0 | BC58: =ROUND(SUM(BC59:BC62),2) -> 0 | BD58: =ROUND(SUM(BD59:BD62),2) -> 0 | BS58: D | BT58: 1 | BU58: ###NOIMPORT### | BV58: IMPORT | BW58: {0dcb561e-4c8a-406a-87de-254c816f7ce2} | BX58: {0e010a3d-da40-4e53-b2bf-73c498eeb638} | CL58: 827 21 51 | CM58: 2
A59: / | E59: 01 | K59: Páteřní stoka | AG59: ='01 - Páteřní stoka'!J32 -> 1801308.2 | AN59: =SUM(AG59,AT59) -> 2179582.9 | AQ59: Soupis | AS59: 0 | AT59: =ROUND(SUM(AV59:AW59),2) -> 378274.72 | AU59: ='01 - Páteřní stoka'!P93 -> 0 | AV59: ='01 - Páteřní stoka'!J35 -> 378274.72 | AW59: ='01 - Páteřní stoka'!J36 -> 0 | AX59: ='01 - Páteřní stoka'!J37 -> 0 | AY59: ='01 - Páteřní stoka'!J38 -> 0 | AZ59: ='01 - Páteřní stoka'!F35 -> 1801308.2 | BA59: ='01 - Páteřní stoka'!F36 -> 0 | BB59: ='01 - Páteřní stoka'!F37 -> 0 | BC59: ='01 - Páteřní stoka'!F38 -> 0 | BD59: ='01 - Páteřní stoka'!F39 -> 0 | BT59: 2 | BV59: IMPORT | BW59: {4dce7feb-709a-4e27-91f1-d3dedfe2857f} | BX59: {0dcb561e-4c8a-406a-87de-254c816f7ce2} | CL59: 827 21 51
A60: / | E60: 02 | K60: Vypouštění nádrže na ČSOV | AG60: ='02 - Vypouštění nádrže na...'!J32 -> 864964.71 | AN60: =SUM(AG60,AT60) -> 1046607.3 | AQ60: Soupis | AS60: 0 | AT60: =ROUND(SUM(AV60:AW60),2) -> 181642.59 | AU60: ='02 - Vypouštění nádrže na...'!P93 -> 0 | AV60: ='02 - Vypouštění nádrže na...'!J35 -> 181642.59 | AW60: ='02 - Vypouštění nádrže na...'!J36 -> 0 | AX60: ='02 - Vypouštění nádrže na...'!J37 -> 0 | AY60: ='02 - Vypouštění nádrže na...'!J38 -> 0 | AZ60: ='02 - Vypouštění nádrže na...'!F35 -> 864964.71 | BA60: ='02 - Vypouštění nádrže na...'!F36 -> 0 | BB60: ='02 - Vypouštění nádrže na...'!F37 -> 0 | BC60: ='02 - Vypouštění nádrže na...'!F38 -> 0 | BD60: ='02 - Vypouštění nádrže na...'!F39 -> 0 | BT60: 2 | BV60: IMPORT | BW60: {e70173a3-91fe-4042-b9c7-8c9b8fd24477} | BX60: {0dcb561e-4c8a-406a-87de-254c816f7ce2} | CL60: 827 21 51
A61: / | E61: 03 | K61: Odtok do vodoteče | AG61: ='03 - Odtok do vodoteče'!J32 -> 936499.81 | AN61: =SUM(AG61,AT61) -> 1133164.8 | AQ61: Soupis | AS61: 0 | AT61: =ROUND(SUM(AV61:AW61),2) -> 196664.96 | AU61: ='03 - Odtok do vodoteče'!P93 -> 0 | AV61: ='03 - Odtok do vodoteče'!J35 -> 196664.96 | AW61: ='03 - Odtok do vodoteče'!J36 -> 0 | AX61: ='03 - Odtok do vodoteče'!J37 -> 0 | AY61: ='03 - Odtok do vodoteče'!J38 -> 0 | AZ61: ='03 - Odtok do vodoteče'!F35 -> 936499.81 | BA61: ='03 - Odtok do vodoteče'!F36 -> 0 | BB61: ='03 - Odtok do vodoteče'!F37 -> 0 | BC61: ='03 - Odtok do vodoteče'!F38 -> 0 | BD61: ='03 - Odtok do vodoteče'!F39 -> 0 | BT61: 2 | BV61: IMPORT | BW61: {0e5a1676-280f-4cda-86aa-2ab30d73541f} | BX61: {0dcb561e-4c8a-406a-87de-254c816f7ce2} | CL61: 827 21 51
A62: / | E62: 04 | K62: Výtlak ČS | AG62: ='04 - Výtlak ČS'!J32 -> 435916.53 | AN62: =SUM(AG62,AT62) -> 527459 | AQ62: Soupis | AS62: 0 | AT62: =ROUND(SUM(AV62:AW62),2) -> 91542.47 | AU62: ='04 - Výtlak ČS'!P92 -> 0 | AV62: ='04 - Výtlak ČS'!J35 -> 91542.47 | AW62: ='04 - Výtlak ČS'!J36 -> 0 | AX62: ='04 - Výtlak ČS'!J37 -> 0 | AY62: ='04 - Výtlak ČS'!J38 -> 0 | AZ62: ='04 - Výtlak ČS'!F35 -> 435916.53 | BA62: ='04 - Výtlak ČS'!F36 -> 0 | BB62: ='04 - Výtlak ČS'!F37 -> 0 | BC62: ='04 - Výtlak ČS'!F38 -> 0 | BD62: ='04 - Výtlak ČS'!F39 -> 0 | BT62: 2 | BV62: IMPORT | BW62: {bccb4e4c-8d9f-4f93-870a-487279b1cdb2} | BX62: {0dcb561e-4c8a-406a-87de-254c816f7ce2} | CL62: 827 21 51
A63: / | D63: IO 02 | J63: Čerpací stanice | AG63: ='IO 02 - Čerpací stanice'!J30 -> 2380623.2 | AN63: =SUM(AG63,AT63) -> 2880554.1 | AQ63: STA | AS63: 0 | AT63: =ROUND(SUM(AV63:AW63),2) -> 499930.88 | AU63: ='IO 02 - Čerpací stanice'!P86 -> 0 | AV63: ='IO 02 - Čerpací stanice'!J33 -> 499930.88 | AW63: ='IO 02 - Čerpací stanice'!J34 -> 0 | AX63: ='IO 02 - Čerpací stanice'!J35 -> 0 | AY63: ='IO 02 - Čerpací stanice'!J36 -> 0 | AZ63: ='IO 02 - Čerpací stanice'!F33 -> 2380623.2 | BA63: ='IO 02 - Čerpací stanice'!F34 -> 0 | BB63: ='IO 02 - Čerpací stanice'!F35 -> 0 | BC63: ='IO 02 - Čerpací stanice'!F36 -> 0 | BD63: ='IO 02 - Čerpací stanice'!F37 -> 0 | BT63: 1 | BV63: IMPORT | BW63: {f255caa7-43b0-437d-9ee1-749849c9630b} | BX63: {0e010a3d-da40-4e53-b2bf-73c498eeb638} | CL63: 827 21 51 | CM63: 2
A64: / | D64: IO 03 | J64: Odlehčovací komora | AG64: ='IO 03 - Odlehčovací komora'!J30 -> 746873.77 | AN64: =SUM(AG64,AT64) -> 903717.26 | AQ64: STA | AS64: 0 | AT64: =ROUND(SUM(AV64:AW64),2) -> 156843.49 | AU64: ='IO 03 - Odlehčovací komora'!P85 -> 0 | AV64: ='IO 03 - Odlehčovací komora'!J33 -> 156843.49 | AW64: ='IO 03 - Odlehčovací komora'!J34 -> 0 | AX64: ='IO 03 - Odlehčovací komora'!J35 -> 0 | AY64: ='IO 03 - Odlehčovací komora'!J36 -> 0 | AZ64: ='IO 03 - Odlehčovací komora'!F33 -> 746873.77 | BA64: ='IO 03 - Odlehčovací komora'!F34 -> 0 | BB64: ='IO 03 - Odlehčovací komora'!F35 -> 0 | BC64: ='IO 03 - Odlehčovací komora'!F36 -> 0 | BD64: ='IO 03 - Odlehčovací komora'!F37 -> 0 | BT64: 1 | BV64: IMPORT | BW64: {2c1e7e74-8335-4d28-86ec-5be58316a69f} | BX64: {0e010a3d-da40-4e53-b2bf-73c498eeb638} | CL64: 827 21 51 | CM64: 2
A65: / | D65: IO 04 | J65: Usazovací nádrž | AG65: ='IO 04 - Usazovací nádrž'!J30 -> 1111070.1 | AN65: =SUM(AG65,AT65) -> 1344394.8 | AQ65: STA | AS65: 0 | AT65: =ROUND(SUM(AV65:AW65),2) -> 233324.72 | AU65: ='IO 04 - Usazovací nádrž'!P86 -> 0 | AV65: ='IO 04 - Usazovací nádrž'!J33 -> 233324.72 | AW65: ='IO 04 - Usazovací nádrž'!J34 -> 0 | AX65: ='IO 04 - Usazovací nádrž'!J35 -> 0 | AY65: ='IO 04 - Usazovací nádrž'!J36 -> 0 | AZ65: ='IO 04 - Usazovací nádrž'!F33 -> 1111070.1 | BA65: ='IO 04 - Usazovací nádrž'!F34 -> 0 | BB65: ='IO 04 - Usazovací nádrž'!F35 -> 0 | BC65: ='IO 04 - Usazovací nádrž'!F36 -> 0 | BD65: ='IO 04 - Usazovací nádrž'!F37 -> 0 | BT65: 1 | BV65: IMPORT | BW65: {7a304ed3-6e50-41d8-8c28-5a2741259e83} | BX65: {0e010a3d-da40-4e53-b2bf-73c498eeb638} | CL65: 827 21 51 | CM65: 2
D66: IO 05 | J66: Technologická elektroinstalace a SŘTP | AG66: =ROUND(SUM(AG67:AG68),2) -> 604767.27 | AN66: =SUM(AG66,AT66) -> 731768.4 | AQ66: STA | AS66: =ROUND(SUM(AS67:AS68),2) -> 0 | AT66: =ROUND(SUM(AV66:AW66),2) -> 127001.13 | AU66: =ROUND(SUM(AU67:AU68),5) -> 0 | AV66: =ROUND(AZ66*L29,2) -> 127001.13 | AW66: =ROUND(BA66*L30,2) -> 0 | AX66: =ROUND(BB66*L29,2) -> 0 | AY66: =ROUND(BC66*L30,2) -> 0 | AZ66: =ROUND(SUM(AZ67:AZ68),2) -> 604767.27 | BA66: =ROUND(SUM(BA67:BA68),2) -> 0 | BB66: =ROUND(SUM(BB67:BB68),2) -> 0 | BC66: =ROUND(SUM(BC67:BC68),2) -> 0 | BD66: =ROUND(SUM(BD67:BD68),2) -> 0 | BS66: D | BT66: 1 | BU66: ###NOIMPORT### | BV66: IMPORT | BW66: {3e90312e-0450-436d-b086-fe664d43814f} | BX66: {0e010a3d-da40-4e53-b2bf-73c498eeb638} | CL66: 827 21 51 | CM66: 2
A67: / | E67: 01 | K67: Technologická elektroinstalace a SŘTP - přípojka NN | AG67: ='01 - Technologická elektr...'!J32 -> 114693.13 | AN67: =SUM(AG67,AT67) -> 138778.69 | AQ67: Soupis | AS67: 0 | AT67: =ROUND(SUM(AV67:AW67),2) -> 24085.56 | AU67: ='01 - Technologická elektr...'!P90 -> 0 | AV67: ='01 - Technologická elektr...'!J35 -> 24085.56 | AW67: ='01 - Technologická elektr...'!J36 -> 0 | AX67: ='01 - Technologická elektr...'!J37 -> 0 | AY67: ='01 - Technologická elektr...'!J38 -> 0 | AZ67: ='01 - Technologická elektr...'!F35 -> 114693.13 | BA67: ='01 - Technologická elektr...'!F36 -> 0 | BB67: ='01 - Technologická elektr...'!F37 -> 0 | BC67: ='01 - Technologická elektr...'!F38 -> 0 | BD67: ='01 - Technologická elektr...'!F39 -> 0 | BT67: 2 | BV67: IMPORT | BW67: {33cadccc-5872-41f0-8c93-6aad9d1ba1ec} | BX67: {3e90312e-0450-436d-b086-fe664d43814f} | CL67: 827 21 51
A68: / | E68: 02 | K68: Technologická elektroinstalace a SŘTP - TE+SŘTP | AG68: ='02 - Technologická elektr...'!J32 -> 490074.14 | AN68: =SUM(AG68,AT68) -> 592989.71 | AQ68: Soupis | AS68: 0 | AT68: =ROUND(SUM(AV68:AW68),2) -> 102915.57 | AU68: ='02 - Technologická elektr...'!P116 -> 0 | AV68: ='02 - Technologická elektr...'!J35 -> 102915.57 | AW68: ='02 - Technologická elektr...'!J36 -> 0 | AX68: ='02 - Technologická elektr...'!J37 -> 0 | AY68: ='02 - Technologická elektr...'!J38 -> 0 | AZ68: ='02 - Technologická elektr...'!F35 -> 490074.14 | BA68: ='02 - Technologická elektr...'!F36 -> 0 | BB68: ='02 - Technologická elektr...'!F37 -> 0 | BC68: ='02 - Technologická elektr...'!F38 -> 0 | BD68: ='02 - Technologická elektr...'!F39 -> 0 | BT68: 2 | BV68: IMPORT | BW68: {5931e646-164a-4f7b-82ad-6c5a91870141} | BX68: {3e90312e-0450-436d-b086-fe664d43814f} | CL68: 827 21 51
A69: / | D69: IO 06 | J69: Výšková úprava vodovodu | AG69: ='IO 06 - Výšková úprava vo...'!J30 -> 455091.19 | AN69: =SUM(AG69,AT69) -> 550660.34 | AQ69: STA | AS69: 0 | AT69: =ROUND(SUM(AV69:AW69),2) -> 95569.15 | AU69: ='IO 06 - Výšková úprava vo...'!P86 -> 0 | AV69: ='IO 06 - Výšková úprava vo...'!J33 -> 95569.15 | AW69: ='IO 06 - Výšková úprava vo...'!J34 -> 0 | AX69: ='IO 06 - Výšková úprava vo...'!J35 -> 0 | AY69: ='IO 06 - Výšková úprava vo...'!J36 -> 0 | AZ69: ='IO 06 - Výšková úprava vo...'!F33 -> 455091.19 | BA69: ='IO 06 - Výšková úprava vo...'!F34 -> 0 | BB69: ='IO 06 - Výšková úprava vo...'!F35 -> 0 | BC69: ='IO 06 - Výšková úprava vo...'!F36 -> 0 | BD69: ='IO 06 - Výšková úprava vo...'!F37 -> 0 | BT69: 1 | BV69: IMPORT | BW69: {51ae576c-1f64-4032-aedb-3f784920e3b0} | BX69: {0e010a3d-da40-4e53-b2bf-73c498eeb638} | CL69: 827 21 51 | CM69: 2

Sheet 00 - Soupis vedlejších a ...
AT2: {f715497d-4f91-41ca-9985-355311628911}
AT3: 2
D4: KRYCÍ LIST SOUPISU PRACÍ | M4: v --- níže se nacházejí doplnkové a pomocné údaje k sestavám --- v | AT4: False
D6: Stavba:
E7: ='Rekapitulace stavby'!K6 -> Stavební úpravy přečerpávací stanice a odlehčovací komory 10 v ulici Sportovní
D8: Objekt:
E9: 00 - Soupis vedlejších a ostatních nákladů
D11: KSO: | F11: 827 21 51 | I11: CC-CZ:
D12: Místo: | F12: Český Brod | I12: Datum: | J12: ='Rekapitulace stavby'!AN8 -> 31. 1. 2024
D14: Zadavatel: | I14: IČ: | J14: 00235334
E15: Město Český Brod | I15: DIČ:
D17: Uchazeč: | I17: IČ: | J17: ='Rekapitulace stavby'!AN13 -> 47549793
E18: ='Rekapitulace stavby'!E14 -> 1.SčV, a.s. | I18: DIČ: | J18: ='Rekapitulace stavby'!AN14 -> CZ47549793
D20: Projektant: | I20: IČ:
E21: Ing. Petr Koblenc | I21: DIČ:
D23: Zpracovatel: | I23: IČ: | J23: 47116901
E24: Vodohospodářský rozvoj a výstavba a.s. | I24: DIČ:
D26: Poznámka:
D30: Cena bez DPH | J30: =ROUND(J79, 2) -> 347517.65
F32: Základ daně | I32: Sazba daně | J32: Výše daně
D33: DPH | E33: základní | F33: =ROUND((SUM(BE79:BE98)), 2) -> 347517.65 | I33: 0.21 | J33: =ROUND(((SUM(BE79:BE98))*I33), 2) -> 72978.71
E34: snížená | F34: =ROUND((SUM(BF79:BF98)), 2) -> 0 | I34: 0.15 | J34: =ROUND(((SUM(BF79:BF98))*I34), 2) -> 0
E35: zákl. přenesená | F35: =ROUND((SUM(BG79:BG98)), 2) -> 0 | I35: 0.21 | J35: =0 -> 0
E36: sníž. přenesená | F36: =ROUND((SUM(BH79:BH98)), 2) -> 0 | I36: 0.15 | J36: =0 -> 0
E37: nulová | F37: =ROUND((SUM(BI79:BI98)), 2) -> 0 | I37: 0 | J37: =0 -> 0
D39: Cena s DPH | G39: v | H39: CZK | J39: =SUM(J30:J37) -> 420496.36
C45: REKAPITULACE ČLENĚNÍ SOUPISU PRACÍ
C47: Stavba:
E48: =E7 -> Stavební úpravy přečerpávací stanice a odlehčovací komory 10 v ulici Sportovní
C49: Objekt:
E50: =E9 -> 00 - Soupis vedlejších a ostatních nákladů
C52: Místo: | F52: =F12 -> Český Brod | I52: Datum: | J52: =IF(J12="","",J12) -> 31. 1. 2024
C54: Zadavatel: | F54: =E15 -> Město Český Brod | I54: Projektant: | J54: =E21 -> Ing. Petr Koblenc
C55: Uchazeč: | F55: =IF(E18="","",E18) -> 1.SčV, a.s. | I55: Zpracovatel: | J55: =E24 -> Vodohospodářský rozvoj a výstavba a.s.
C57: Kód dílu - Popis | J57: Cena celkem [CZK]
C59: Náklady stavby celkem | J59: =J79 -> 347517.65 | AU59: -1
C66: SOUPIS PRACÍ
C68: Stavba:
E69: =E7 -> Stavební úpravy přečerpávací stanice a odlehčovací komory 10 v ulici Sportovní
C70: Objekt:
E71: =E9 -> 00 - Soupis vedlejších a ostatních nákladů
C73: Místo: | F73: =F12 -> Český Brod | I73: Datum: | J73: =IF(J12="","",J12) -> 31. 1. 2024
C75: Zadavatel: | F75: =E15 -> Město Český Brod | I75: Projektant: | J75: =E21 -> Ing. Petr Koblenc
C76: Uchazeč: | F76: =IF(E18="","",E18) -> 1.SčV, a.s. | I76: Zpracovatel: | J76: =E24 -> Vodohospodářský rozvoj a výstavba a.s.
C78: PČ | D78: Typ | E78: Kód | F78: Popis | G78: MJ | H78: Množství | I78: J.cena [CZK] | J78: Cena celkem [CZK] | K78: Cenová soustava | N78: DPH | O78: J. Nh [h] | P78: Nh celkem [h] | Q78: J. hmotnost [t] | R78: Hmotnost celkem [t] | S78: J. suť [t] | T78: Suť Celkem [t]
C79: Náklady soupisu celkem | J79: =BK79 -> 347517.65 | P79: =SUM(P80:P98) -> 0 | R79: =SUM(R80:R98) -> 0 | T79: =SUM(T80:T98) -> 0 | AT79: D | AU79: -1 | BK79: =SUM(BK80:BK98) -> 347517.65
C80: 1 | D80: K | E80: 001_r | F80: Zařízení staveniště - dle technické zprávy kap. 1.1 | G80: kpl | H80: 1 | I80: 112000 | J80: =ROUND(I80*H80,2) -> 112000 | N80: základní | P80: =O80*H80 -> 0 | Q80: 0 | R80: =Q80*H80 -> 0 | S80: 0 | T80: =S80*H80 -> 0 | AR80: 1024 | AT80: K | AU80: 0 | AY80: ROZPOCET | BE80: =IF(N80="základní",J80,0) -> 112000 | BF80: =IF(N80="snížená",J80,0) -> 0 | BG80: =IF(N80="zákl. přenesená",J80,0) -> 0 | BH80: =IF(N80="sníž. přenesená",J80,0) -> 0 | BI80: =IF(N80="nulová",J80,0) -> 0 | BJ80: 1 | BK80: =ROUND(I80*H80,2) -> 112000 | BL80: 1024 | BM80: 1897052421
C81: 2 | D81: K | E81: 002_r | F81: Vytyčení inženýrských sítí - dle technické zprávy kap. 1.2 | G81: kpl | H81: 1 | I81: 8000 | J81: =ROUND(I81*H81,2) -> 8000 | N81: základní | P81: =O81*H81 -> 0 | Q81: 0 | R81: =Q81*H81 -> 0 | S81: 0 | T81: =S81*H81 -> 0 | AR81: 1024 | AT81: K | AU81: 0 | AY81: ROZPOCET | BE81: =IF(N81="základní",J81,0) -> 8000 | BF81: =IF(N81="snížená",J81,0) -> 0 | BG81: =IF(N81="zákl. přenesená",J81,0) -> 0 | BH81: =IF(N81="sníž. přenesená",J81,0) -> 0 | BI81: =IF(N81="nulová",J81,0) -> 0 | BJ81: 1 | BK81: =ROUND(I81*H81,2) -> 8000 | BL81: 1024 | BM81: -1454865275
C82: 3 | D82: K | E82: 003_r | F82: Provizorní dopravní značení - dle technické zprávy kap. 1.3 | G82: kpl | H82: 1 | I82: 69714.75 | J82: =ROUND(I82*H82,2) -> 69714.75 | N82: základní | P82: =O82*H82 -> 0 | Q82: 0 | R82: =Q82*H82 -> 0 | S82: 0 | T82: =S82*H82 -> 0 | AR82: 1024 | AT82: K | AU82: 0 | AY82: ROZPOCET | BE82: =IF(N82="základní",J82,0) -> 69714.75 | BF82: =IF(N82="snížená",J82,0) -> 0 | BG82: =IF(N82="zákl. přenesená",J82,0) -> 0 | BH82: =IF(N82="sníž. přenesená",J82,0) -> 0 | BI82: =IF(N82="nulová",J82,0) -> 0 | BJ82: 1 | BK82: =ROUND(I82*H82,2) -> 69714.75 | BL82: 1024 | BM82: 1690974124
C83: 4 | D83: K | E83: 004_r | F83: Geodetické práce - dle technické zprávy kap. 1.4 | G83: kpl | H83: 1 | I83: 16000 | J83: =ROUND(I83*H83,2) -> 16000 | N83: základní | P83: =O83*H83 -> 0 | Q83: 0 | R83: =Q83*H83 -> 0 | S83: 0 | T83: =S83*H83 -> 0 | AR83: 1024 | AT83: K | AU83: 0 | AY83: ROZPOCET | BE83: =IF(N83="základní",J83,0) -> 16000 | BF83: =IF(N83="snížená",J83,0) -> 0 | BG83: =IF(N83="zákl. přenesená",J83,0) -> 0 | BH83: =IF(N83="sníž. přenesená",J83,0) -> 0 | BI83: =IF(N83="nulová",J83,0) -> 0 | BJ83: 1 | BK83: =ROUND(I83*H83,2) -> 16000 | BL83: 1024 | BM83: -1733191638
C84: 5 | D84: K | E84: 005_r | F84: Dokumentace skutečného provedení - dle technické zprávy kap. 1.5 | G84: kpl | H84: 1 | I84: 9450 | J84: =ROUND(I84*H84,2) -> 9450 | N84: základní | P84: =O84*H84 -> 0 | Q84: 0 | R84: =Q84*H84 -> 0 | S84: 0 | T84: =S84*H84 -> 0 | AR84: 1024 | AT84: K | AU84: 0 | AY84: ROZPOCET | BE84: =IF(N84="základní",J84,0) -> 9450 | BF84: =IF(N84="snížená",J84,0) -> 0 | BG84: =IF(N84="zákl. přenesená",J84,0) -> 0 | BH84: =IF(N84="sníž. přenesená",J84,0) -> 0 | BI84: =IF(N84="nulová",J84,0) -> 0 | BJ84: 1 | BK84: =ROUND(I84*H84,2) -> 9450 | BL84: 1024 | BM84: -1046673487
C85: 6 | D85: K | E85: 006_r | F85: Průzkumné práce - dle technické zprávy kap. 1.6 | G85: kpl | H85: 1 | I85: 45000 | J85: =ROUND(I85*H85,2) -> 45000 | N85: základní | P85: =O85*H85 -> 0 | Q85: 0 | R85: =Q85*H85 -> 0 | S85: 0 | T85: =S85*H85 -> 0 | AR85: 1024 | AT85: K | AU85: 0 | AY85: ROZPOCET | BE85: =IF(N85="základní",J85,0) -> 45000 | BF85: =IF(N85="snížená",J85,0) -> 0 | BG85: =IF(N85="zákl. přenesená",J85,0) -> 0 | BH85: =IF(N85="sníž. přenesená",J85,0) -> 0 | BI85: =IF(N85="nulová",J85,0) -> 0 | BJ85: 1 | BK85: =ROUND(I85*H85,2) -> 45000 | BL85: 1024 | BM85: -1397320383
C86: 7 | D86: K | E86: 007_r | F86: Zkoušky na staveništi - dle technické zprávy kap. 1.7 | G86: kpl | H86: 1 | I86: 8000 | J86: =ROUND(I86*H86,2) -> 8000 | N86: základní | P86: =O86*H86 -> 0 | Q86: 0 | R86: =Q86*H86 -> 0 | S86: 0 | T86: =S86*H86 -> 0 | AR86: 1024 | AT86: K | AU86: 0 | AY86: ROZPOCET | BE86: =IF(N86="základní",J86,0) -> 8000 | BF86: =IF(N86="snížená",J86,0) -> 0 | BG86: =IF(N86="zákl. přenesená",J86,0) -> 0 | BH86: =IF(N86="sníž. přenesená",J86,0) -> 0 | BI86: =IF(N86="nulová",J86,0) -> 0 | BJ86: 1 | BK86: =ROUND(I86*H86,2) -> 8000 | BL86: 1024 | BM86: 2144801135
C87: 8 | D87: K | E87: 008_r | F87: Poplatky za dočasný zábor komunikací a ploch - dle technické zprávy kap. 1.8 | G87: kpl | H87: 1 | I87: 2000 | J87: =ROUND(I87*H87,2) -> 2000 | N87: základní | P87: =O87*H87 -> 0 | Q87: 0 | R87: =Q87*H87 -> 0 | S87: 0 | T87: =S87*H87 -> 0 | AR87: 1024 | AT87: K | AU87: 0 | AY87: ROZPOCET | BE87: =IF(N87="základní",J87,0) -> 2000 | BF87: =IF(N87="snížená",J87,0) -> 0 | BG87: =IF(N87="zákl. přenesená",J87,0) -> 0 | BH87: =IF(N87="sníž. přenesená",J87,0) -> 0 | BI87: =IF(N87="nulová",J87,0) -> 0 | BJ87: 1 | BK87: =ROUND(I87*H87,2) -> 2000 | BL87: 1024 | BM87: -1621834060
C88: 9 | D88: K | E88: 009_r | F88: Zajištění povolení pro nakládání s vodami v průběhu výstavby - dle technické zprávy kap. 1.9 | G88: kpl | H88: 1 | I88: 4000 | J88: =ROUND(I88*H88,2) -> 4000 | N88: základní | P88: =O88*H88 -> 0 | Q88: 0 | R88: =Q88*H88 -> 0 | S88: 0 | T88: =S88*H88 -> 0 | AR88: 1024 | AT88: K | AU88: 0 | AY88: ROZPOCET | BE88: =IF(N88="základní",J88,0) -> 4000 | BF88: =IF(N88="snížená",J88,0) -> 0 | BG88: =IF(N88="zákl. přenesená",J88,0) -> 0 | BH88: =IF(N88="sníž. přenesená",J88,0) -> 0 | BI88: =IF(N88="nulová",J88,0) -> 0 | BJ88: 1 | BK88: =ROUND(I88*H88,2) -> 4000 | BL88: 1024 | BM88: -1757128578
C89: 10 | D89: K | E89: 0010_r | F89: Činnost odpovědného statika, geodeta, hydreogeologa - dle technické zprávy kap. 1.10 | G89: kpl | H89: 1 | I89: 16000 | J89: =ROUND(I89*H89,2) -> 16000 | N89: základní | P89: =O89*H89 -> 0 | Q89: 0 | R89: =Q89*H89 -> 0 | S89: 0 | T89: =S89*H89 -> 0 | AR89: 1024 | AT89: K | AU89: 0 | AY89: ROZPOCET | BE89: =IF(N89="základní",J89,0) -> 16000 | BF89: =IF(N89="snížená",J89,0) -> 0 | BG89: =IF(N89="zákl. přenesená",J89,0) -> 0 | BH89: =IF(N89="sníž. přenesená",J89,0) -> 0 | BI89: =IF(N89="nulová",J89,0) -> 0 | BJ89: 1 | BK89: =ROUND(I89*H89,2) -> 16000 | BL89: 1024 | BM89: -1451695152
D90: P | F90: Poznámka k položce:_x000D_ včetně případných průzkumů | AT90: P | AU90: 0
C91: 11 | D91: K | E91: 0011_r | F91: Kompletační činnost - dle technické zprávy kap. 1.11 | G91: kpl | H91: 1 | I91: 2000 | J91: =ROUND(I91*H91,2) -> 2000 | N91: základní | P91: =O91*H91 -> 0 | Q91: 0 | R91: =Q91*H91 -> 0 | S91: 0 | T91: =S91*H91 -> 0 | AR91: 1024 | AT91: K | AU91: 0 | AY91: ROZPOCET | BE91: =IF(N91="základní",J91,0) -> 2000 | BF91: =IF(N91="snížená",J91,0) -> 0 | BG91: =IF(N91="zákl. přenesená",J91,0) -> 0 | BH91: =IF(N91="sníž. přenesená",J91,0) -> 0 | BI91: =IF(N91="nulová",J91,0) -> 0 | BJ91: 1 | BK91: =ROUND(I91*H91,2) -> 2000 | BL91: 1024 | BM91: 1511333559
C92: 12 | D92: K | E92: 0012_r | F92: Kontrolní a zkušební plán, technologické postupy - dle technické zprávy kap. 1.12 | G92: kpl | H92: 1 | I92: 6000 | J92: =ROUND(I92*H92,2) -> 6000 | N92: základní | P92: =O92*H92 -> 0 | Q92: 0 | R92: =Q92*H92 -> 0 | S92: 0 | T92: =S92*H92 -> 0 | AR92: 1024 | AT92: K | AU92: 0 | AY92: ROZPOCET | BE92: =IF(N92="základní",J92,0) -> 6000 | BF92: =IF(N92="snížená",J92,0) -> 0 | BG92: =IF(N92="zákl. přenesená",J92,0) -> 0 | BH92: =IF(N92="sníž. přenesená",J92,0) -> 0 | BI92: =IF(N92="nulová",J92,0) -> 0 | BJ92: 1 | BK92: =ROUND(I92*H92,2) -> 6000 | BL92: 1024 | BM92: 1687533567
C93: 13 | D93: K | E93: 0013_r | F93: Zkoušky hutnitelnosti - dle technické zprávy kap. 1.13 | G93: kpl | H93: 1 | I93: 9000 | J93: =ROUND(I93*H93,2) -> 9000 | N93: základní | P93: =O93*H93 -> 0 | Q93: 0 | R93: =Q93*H93 -> 0 | S93: 0 | T93: =S93*H93 -> 0 | AR93: 1024 | AT93: K | AU93: 0 | AY93: ROZPOCET | BE93: =IF(N93="základní",J93,0) -> 9000 | BF93: =IF(N93="snížená",J93,0) -> 0 | BG93: =IF(N93="zákl. přenesená",J93,0) -> 0 | BH93: =IF(N93="sníž. přenesená",J93,0) -> 0 | BI93: =IF(N93="nulová",J93,0) -> 0 | BJ93: 1 | BK93: =ROUND(I93*H93,2) -> 9000 | BL93: 1024 | BM93: -370744965
C94: 14 | D94: K | E94: 0014_r | F94: Havarijní plán - dle technické zprávy kap. 1.14 | G94: kpl | H94: 1 | I94: 4000 | J94: =ROUND(I94*H94,2) -> 4000 | N94: základní | P94: =O94*H94 -> 0 | Q94: 0 | R94: =Q94*H94 -> 0 | S94: 0 | T94: =S94*H94 -> 0 | AR94: 1024 | AT94: K | AU94: 0 | AY94: ROZPOCET | BE94: =IF(N94="základní",J94,0) -> 4000 | BF94: =IF(N94="snížená",J94,0) -> 0 | BG94: =IF(N94="zákl. přenesená",J94,0) -> 0 | BH94: =IF(N94="sníž. přenesená",J94,0) -> 0 | BI94: =IF(N94="nulová",J94,0) -> 0 | BJ94: 1 | BK94: =ROUND(I94*H94,2) -> 4000 | BL94: 1024 | BM94: 2074934285
C95: 15 | D95: K | E95: 0017_r | F95: Vodorovné dopravní značení - dle technické zprávy kap. 1.15 | G95: kpl | H95: 1 | I95: 2000 | J95: =ROUND(I95*H95,2) -> 2000 | N95: základní | P95: =O95*H95 -> 0 | Q95: 0 | R95: =Q95*H95 -> 0 | S95: 0 | T95: =S95*H95 -> 0 | AR95: 1024 | AT95: K | AU95: 0 | AY95: ROZPOCET | BE95: =IF(N95="základní",J95,0) -> 2000 | BF95: =IF(N95="snížená",J95,0) -> 0 | BG95: =IF(N95="zákl. přenesená",J95,0) -> 0 | BH95: =IF(N95="sníž. přenesená",J95,0) -> 0 | BI95: =IF(N95="nulová",J95,0) -> 0 | BJ95: 1 | BK95: =ROUND(I95*H95,2) -> 2000 | BL95: 1024 | BM95: -665470086
C96: 16 | D96: K | E96: 0018_r | F96: Manipulace na stávající sít, objem vypuštěné a napuštěné pitné vody s náhradním zásobením obyvatel - dle technické zprávy kap. 1.16 | G96: kpl | H96: 1 | I96: 20052.9 | J96: =ROUND(I96*H96,2) -> 20052.9 | N96: základní | P96: =O96*H96 -> 0 | Q96: 0 | R96: =Q96*H96 -> 0 | S96: 0 | T96: =S96*H96 -> 0 | AR96: 1024 | AT96: K | AU96: 0 | AY96: ROZPOCET | BE96: =IF(N96="základní",J96,0) -> 20052.9 | BF96: =IF(N96="snížená",J96,0) -> 0 | BG96: =IF(N96="zákl. přenesená",J96,0) -> 0 | BH96: =IF(N96="sníž. přenesená",J96,0) -> 0 | BI96: =IF(N96="nulová",J96,0) -> 0 | BJ96: 1 | BK96: =ROUND(I96*H96,2) -> 20052.9 | BL96: 1024 | BM96: 1849622055
C97: 17 | D97: K | E97: 0019_r | F97: Rozbory pitné vody akreditovanou laboratoří – mikrobiologický rozbor a chemická analýza vzorku pitné vody - dle technické zprávy kap. 1.17 | G97: kpl | H97: 1 | I97: 7500 | J97: =ROUND(I97*H97,2) -> 7500 | N97: základní | P97: =O97*H97 -> 0 | Q97: 0 | R97: =Q97*H97 -> 0 | S97: 0 | T97: =S97*H97 -> 0 | AR97: 1024 | AT97: K | AU97: 0 | AY97: ROZPOCET | BE97: =IF(N97="základní",J97,0) -> 7500 | BF97: =IF(N97="snížená",J97,0) -> 0 | BG97: =IF(N97="zákl. přenesená",J97,0) -> 0 | BH97: =IF(N97="sníž. přenesená",J97,0) -> 0 | BI97: =IF(N97="nulová",J97,0) -> 0 | BJ97: 1 | BK97: =ROUND(I97*H97,2) -> 7500 | BL97: 1024 | BM97: -899254768
C98: 18 | D98: K | E98: 0020_r | F98: Zpracování provozního řádku kanalizace - dle technické zprávy kap. 1.18 | G98: kpl | H98: 1 | I98: 6800 | J98: =ROUND(I98*H98,2) -> 6800 | N98: základní | P98: =O98*H98 -> 0 | Q98: 0 | R98: =Q98*H98 -> 0 | S98: 0 | T98: =S98*H98 -> 0 | AR98: 1024 | AT98: K | AU98: 0 | AY98: ROZPOCET | BE98: =IF(N98="základní",J98,0) -> 6800 | BF98: =IF(N98="snížená",J98,0) -> 0 | BG98: =IF(N98="zákl. přenesená",J98,0) -> 0 | BH98: =IF(N98="sníž. přenesená",J98,0) -> 0 | BI98: =IF(N98="nulová",J98,0) -> 0 | BJ98: 1 | BK98: =ROUND(I98*H98,2) -> 6800 | BL98: 1024 | BM98: 1810440191

Sheet 01 - Povrchy
AT2: {31c9c8b4-9fc3-4051-9f59-9637a8a6fe4d}
AT3: 2
D4: KRYCÍ LIST SOUPISU PRACÍ | M4: v --- níže se nacházejí doplnkové a pomocné údaje k sestavám --- v | AT4: False
D6: Stavba:
E7: ='Rekapitulace stavby'!K6 -> Stavební úpravy přečerpávací stanice a odlehčovací komory 10 v ulici Sportovní
D8: Objekt:
E9: 01 - Povrchy
D11: KSO: | F11: 827 21 51 | I11: CC-CZ:
D12: Místo: | F12: Český Brod | I12: Datum: | J12: ='Rekapitulace stavby'!AN8 -> 31. 1. 2024
D14: Zadavatel: | I14: IČ: | J14: 00235334
E15: Město Český Brod | I15: DIČ:
D17: Uchazeč: | I17: IČ: | J17: ='Rekapitulace stavby'!AN13 -> 47549793
E18: ='Rekapitulace stavby'!E14 -> 1.SčV, a.s. | I18: DIČ: | J18: ='Rekapitulace stavby'!AN14 -> CZ47549793
D20: Projektant: | I20: IČ:
E21: Ing. Petr Koblenc | I21: DIČ:
D23: Zpracovatel: | I23: IČ: | J23: 47116901
E24: Vodohospodářský rozvoj a výstavba a.s. | I24: DIČ:
D26: Poznámka:
D30: Cena bez DPH | J30: =ROUND(J94, 2) -> 2026955.7
F32: Základ daně | I32: Sazba daně | J32: Výše daně
D33: DPH | E33: základní | F33: =ROUND((SUM(BE94:BE355)), 2) -> 2026955.7 | I33: 0.21 | J33: =ROUND(((SUM(BE94:BE355))*I33), 2) -> 425660.7
E34: snížená | F34: =ROUND((SUM(BF94:BF355)), 2) -> 0 | I34: 0.15 | J34: =ROUND(((SUM(BF94:BF355))*I34), 2) -> 0
E35: zákl. přenesená | F35: =ROUND((SUM(BG94:BG355)), 2) -> 0 | I35: 0.21 | J35: =0 -> 0
E36: sníž. přenesená | F36: =ROUND((SUM(BH94:BH355)), 2) -> 0 | I36: 0.15 | J36: =0 -> 0
E37: nulová | F37: =ROUND((SUM(BI94:BI355)), 2) -> 0 | I37: 0 | J37: =0 -> 0
D39: Cena s DPH | G39: v | H39: CZK | J39: =SUM(J30:J37) -> 2452616.4
C45: REKAPITULACE ČLENĚNÍ SOUPISU PRACÍ
C47: Stavba:
E48: =E7 -> Stavební úpravy přečerpávací stanice a odlehčovací komory 10 v ulici Sportovní
C49: Objekt:
E50: =E9 -> 01 - Povrchy
C52: Místo: | F52: =F12 -> Český Brod | I52: Datum: | J52: =IF(J12="","",J12) -> 31. 1. 2024
C54: Zadavatel: | F54: =E15 -> Město Český Brod | I54: Projektant: | J54: =E21 -> Ing. Petr Koblenc
C55: Uchazeč: | F55: =IF(E18="","",E18) -> 1.SčV, a.s. | I55: Zpracovatel: | J55: =E24 -> Vodohospodářský rozvoj a výstavba a.s.
C57: Kód dílu - Popis | J57: Cena celkem [CZK]
C59: Náklady stavby celkem | J59: =J94 -> 2026955.7 | AU59: -1
D60: HSV - Práce a dodávky HSV | J60: =J95 -> 2026955.7
D61: 5 - Komunikace pozemní | J61: =J96 -> 22612.5
D62: 5.1 - Odstranění komunikace asfalt | J62: =J127 -> 116243
D63: 5.2 - Odstranění komunikace zámková dlažba | J63: =J146 -> 64829.9
D64: 5.3 - Odstranění chodník asfalt | J64: =J162 -> 16264
D65: 5.4 - Odstranění chodník zámková dlažba | J65: =J172 -> 20632
D66: 5.5 - Odstranění panelů | J66: =J185 -> 41582
D67: 6 - Úpravy povrchů, podlahy a osazování výplní | J67: =J192 -> 11820
D68: 6.1 - Zřízení komunikace ze živice | J68: =J202 -> 500626
D69: 6.2 - Zřízení komunikace zámková dlažba | J69: =J232 -> 644203.7
D70: 6.3 - Zřízení chodník asfalt | J70: =J265 -> 108280
D71: 6.4 - Zřízení chodník zámková dlažba | J71: =J281 -> 92450
D72: 6.5 - Zřízení zelených ploch | J72: =J298 -> 12170.61
D73: 997 - Přesun sutě | J73: =J311 -> 331442.4
D74: 998 - Přesun hmot | J74: =J353 -> 43799.59
C81: SOUPIS PRACÍ
C83: Stavba:
E84: =E7 -> Stavební úpravy přečerpávací stanice a odlehčovací komory 10 v ulici Sportovní
C85: Objekt:
E86: =E9 -> 01 - Povrchy
C88: Místo: | F88: =F12 -> Český Brod | I88: Datum: | J88: =IF(J12="","",J12) -> 31. 1. 2024
C90: Zadavatel: | F90: =E15 -> Město Český Brod | I90: Projektant: | J90: =E21 -> Ing. Petr Koblenc
C91: Uchazeč: | F91: =IF(E18="","",E18) -> 1.SčV, a.s. | I91: Zpracovatel: | J91: =E24 -> Vodohospodářský rozvoj a výstavba a.s.
C93: PČ | D93: Typ | E93: Kód | F93: Popis | G93: MJ | H93: Množství | I93: J.cena [CZK] | J93: Cena celkem [CZK] | K93: Cenová soustava | N93: DPH | O93: J. Nh [h] | P93: Nh celkem [h] | Q93: J. hmotnost [t] | R93: Hmotnost celkem [t] | S93: J. suť [t] | T93: Suť Celkem [t]
C94: Náklady soupisu celkem | J94: =BK94 -> 2026955.7 | P94: =P95 -> 0 | R94: =R95 -> 544.771 | T94: =T95 -> 857.10586 | AT94: D | AU94: -1 | BK94: =BK95 -> 2026955.7
D95: D | E95: HSV | F95: Práce a dodávky HSV | J95: =BK95 -> 2026955.7 | P95: =P96+P127+P146+P162+P172+P185+P192+P202+P232+P265+P281+P298+P311+P353 -> 0 | R95: =R96+R127+R146+R162+R172+R185+R192+R202+R232+R265+R281+R298+R311+R353 -> 544.771 | T95: =T96+T127+T146+T162+T172+T185+T192+T202+T232+T265+T281+T298+T311+T353 -> 857.10586 | AR95: 1 | AT95: D | AU95: 0 | AY95: ROZPOCET | BK95: =BK96+BK127+BK146+BK162+BK172+BK185+BK192+BK202+BK232+BK265+BK281+BK298+BK311+BK353 -> 2026955.7
D96: D | E96: 5 | F96: Komunikace pozemní | J96: =BK96 -> 22612.5 | P96: =SUM(P97:P126) -> 0 | R96: =SUM(R97:R126) -> 0 | T96: =SUM(T97:T126) -> 0.60586 | AR96: 1 | AT96: D | AU96: 1 | AY96: ROZPOCET | BK96: =SUM(BK97:BK126) -> 22612.5
C97: 1 | D97: K | E97: 741375841_r | F97: Demontáž sloupu veřejného osvětlení se zachováním funkčnosti | G97: kus | H97: 1 | I97: 158 | J97: =ROUND(I97*H97,2) -> 158 | N97: základní | P97: =O97*H97 -> 0 | Q97: 0 | R97: =Q97*H97 -> 0 | S97: 0 | T97: =S97*H97 -> 0 | AR97: 16 | AT97: K | AU97: 2 | AY97: ROZPOCET | BE97: =IF(N97="základní",J97,0) -> 158 | BF97: =IF(N97="snížená",J97,0) -> 0 | BG97: =IF(N97="zákl. přenesená",J97,0) -> 0 | BH97: =IF(N97="sníž. přenesená",J97,0) -> 0 | BI97: =IF(N97="nulová",J97,0) -> 0 | BJ97: 1 | BK97: =ROUND(I97*H97,2) -> 158 | BL97: 16 | BM97: 559479601
D98: VV | F98: "sloup VO"1 | H98: 1 | AT98: VV | AU98: 2 | AV98: 2 | AW98: True | AX98: 1 | AY98: ROZPOCET
C99: 2 | D99: K | E99: 966006211 | F99: Odstranění (demontáž) svislých dopravních značek s odklizením materiálu na skládku na vzdálenost do 20 m nebo s naložením na dopravní prostředek ze sloupů, sloupků nebo konzol | G99: kus | H99: 2 | I99: 96.6 | J99: =ROUND(I99*H99,2) -> 193.2 | K99: CS ÚRS 2024 01 | N99: základní | P99: =O99*H99 -> 0 | Q99: 0 | R99: =Q99*H99 -> 0 | S99: 0.004 | T99: =S99*H99 -> 0.008 | AR99: 4 | AT99: K | AU99: 2 | AY99: ROZPOCET | BE99: =IF(N99="základní",J99,0) -> 193.2 | BF99: =IF(N99="snížená",J99,0) -> 0 | BG99: =IF(N99="zákl. přenesená",J99,0) -> 0 | BH99: =IF(N99="sníž. přenesená",J99,0) -> 0 | BI99: =IF(N99="nulová",J99,0) -> 0 | BJ99: 1 | BK99: =ROUND(I99*H99,2) -> 193.2 | BL99: 4 | BM99: 1499167443
D100: Online PSC | F100: https://podminky.urs.cz/item/CS_URS_2024_01/966006211 | AT100: Online PSC | AU100: 2
D101: VV | F101: "svislé dopravní značení"2 | H101: 2 | AT101: VV | AU101: 2 | AV101: 2 | AW101: True | AX101: 1 | AY101: ROZPOCET
C102: 3 | D102: K | E102: 460030114 | F102: Přípravné terénní práce kácení stromů včetně naseknutí stromu, odřezání a odvětvení, odtáhnutí stromu a větví do 50 m nebo naložení na dopravní prostředek listnatých, průměru kmene přes 30 cm | G102: kus | H102: 2 | I102: 409 | J102: =ROUND(I102*H102,2) -> 818 | K102: CS ÚRS 2024 01 | N102: základní | P102: =O102*H102 -> 0 | Q102: 0 | R102: =Q102*H102 -> 0 | S102: 0 | T102: =S102*H102 -> 0 | AR102: 16 | AT102: K | AU102: 2 | AY102: ROZPOCET | BE102: =IF(N102="základní",J102,0) -> 818 | BF102: =IF(N102="snížená",J102,0) -> 0 | BG102: =IF(N102="zákl. přenesená",J102,0) -> 0 | BH102: =IF(N102="sníž. přenesená",J102,0) -> 0 | BI102: =IF(N102="nulová",J102,0) -> 0 | BJ102: 1 | BK102: =ROUND(I102*H102,2) -> 818 | BL102: 16 | BM102: -950876847
D103: Online PSC | F103: https://podminky.urs.cz/item/CS_URS_2024_01/460030114 | AT103: Online PSC | AU103: 2
D104: VV | F104: "Jírovec obvod kmene 102 a 103 cm"2 | H104: 2 | AT104: VV | AU104: 2 | AV104: 2 | AW104: True | AX104: 1 | AY104: ROZPOCET
C105: 4 | D105: K | E105: 460030115 | F105: Přípravné terénní práce kácení stromů včetně naseknutí stromu, odřezání a odvětvení, odtáhnutí stromu a větví do 50 m nebo naložení na dopravní prostředek jehličnatých, průměru kmene do 30 cm | G105: kus | H105: 13 | I105: 130 | J105: =ROUND(I105*H105,2) -> 1690 | K105: CS ÚRS 2024 01 | N105: základní | P105: =O105*H105 -> 0 | Q105: 0 | R105: =Q105*H105 -> 0 | S105: 0 | T105: =S105*H105 -> 0 | AR105: 16 | AT105: K | AU105: 2 | AY105: ROZPOCET | BE105: =IF(N105="základní",J105,0) -> 1690 | BF105: =IF(N105="snížená",J105,0) -> 0 | BG105: =IF(N105="zákl. přenesená",J105,0) -> 0 | BH105: =IF(N105="sníž. přenesená",J105,0) -> 0 | BI105: =IF(N105="nulová",J105,0) -> 0 | BJ105: 1 | BK105: =ROUND(I105*H105,2) -> 1690 | BL105: 16 | BM105: 495319707
D106: Online PSC | F106: https://podminky.urs.cz/item/CS_URS_2024_01/460030115 | AT106: Online PSC | AU106: 2
D107: VV | F107: "stromořadí smrků obvod 43 až 74 cm"12 | H107: 12 | AT107: VV | AU107: 2 | AV107: 2 | AW107: True | AX107: 0 | AY107: ROZPOCET
D108: VV | F108: "keř u pilíře NN cm"1 | H108: 1 | AT108: VV | AU108: 2 | AV108: 2 | AW108: True | AX108: 0 | AY108: ROZPOCET
D109: VV | F109: Součet | H109: 13 | AT109: VV | AU109: 2 | AV109: 4 | AW109: True | AX109: 1 | AY109: ROZPOCET
C110: 5 | D110: K | E110: 112201111 | F110: Odstranění pařezu v rovině nebo na svahu do 1:5 o průměru pařezu na řezné ploše do 200 mm | G110: kus | H110: 15 | I110: 874 | J110: =ROUND(I110*H110,2) -> 13110 | K110: CS ÚRS 2024 01 | N110: základní | P110: =O110*H110 -> 0 | Q110: 0 | R110: =Q110*H110 -> 0 | S110: 0 | T110: =S110*H110 -> 0 | AR110: 16 | AT110: K | AU110: 2 | AY110: ROZPOCET | BE110: =IF(N110="základní",J110,0) -> 13110 | BF110: =IF(N110="snížená",J110,0) -> 0 | BG110: =IF(N110="zákl. přenesená",J110,0) -> 0 | BH110: =IF(N110="sníž. přenesená",J110,0) -> 0 | BI110: =IF(N110="nulová",J110,0) -> 0 | BJ110: 1 | BK110: =ROUND(I110*H110,2) -> 13110 | BL110: 16 | BM110: -2114835918
D111: Online PSC | F111: https://podminky.urs.cz/item/CS_URS_2024_01/112201111 | AT111: Online PSC | AU111: 2
D112: VV | F112: "Jírovec obvod kmene 102 a 103 cm"2 | H112: 2 | AT112: VV | AU112: 2 | AV112: 2 | AW112: True | AX112: 0 | AY112: ROZPOCET
D113: VV | F113: "stromořadí smrků obvod 43 až 74 cm"12 | H113: 12 | AT113: VV | AU113: 2 | AV113: 2 | AW113: True | AX113: 0 | AY113: ROZPOCET
D114: VV | F114: "keř u pilíře NN cm"1 | H114: 1 | AT114: VV | AU114: 2 | AV114: 2 | AW114: True | AX114: 0 | AY114: ROZPOCET
D115: VV | F115: Součet | H115: 15 | AT115: VV | AU115: 2 | AV115: 4 | AW115: True | AX115: 1 | AY115: ROZPOCET
C116: 6 | D116: K | E116: 966071822 | F116: Rozebrání oplocení z pletiva drátěného se čtvercovými oky, výšky přes 1,6 do 2,0 m | G116: m | H116: 44.5 | I116: 79.4 | J116: =ROUND(I116*H116,2) -> 3533.3 | K116: CS ÚRS 2024 01 | N116: základní | P116: =O116*H116 -> 0 | Q116: 0 | R116: =Q116*H116 -> 0 | S116: 0.00248 | T116: =S116*H116 -> 0.11036 | AR116: 16 | AT116: K | AU116: 2 | AY116: ROZPOCET | BE116: =IF(N116="základní",J116,0) -> 3533.3 | BF116: =IF(N116="snížená",J116,0) -> 0 | BG116: =IF(N116="zákl. přenesená",J116,0) -> 0 | BH116: =IF(N116="sníž. přenesená",J116,0) -> 0 | BI116: =IF(N116="nulová",J116,0) -> 0 | BJ116: 1 | BK116: =ROUND(I116*H116,2) -> 3533.3 | BL116: 16 | BM116: -88333050
D117: Online PSC | F117: https://podminky.urs.cz/item/CS_URS_2024_01/966071822 | AT117: Online PSC | AU117: 2
D118: VV | F118: "oplocení u stromořadí"28 | H118: 28 | AT118: VV | AU118: 2 | AV118: 2 | AW118: True | AX118: 0 | AY118: ROZPOCET
D119: VV | F119: "oplocení stávající ČSOV"1,5+4+7+4 | H119: 16.5 | AT119: VV | AU119: 2 | AV119: 2 | AW119: True | AX119: 0 | AY119: ROZPOCET
D120: VV | F120: Součet | H120: 44.5 | AT120: VV | AU120: 2 | AV120: 4 | AW120: True | AX120: 1 | AY120: ROZPOCET
C121: 7 | D121: K | E121: 966073813 | F121: Rozebrání vrat a vrátek k oplocení plochy jednotlivě přes 10 do 20 m2 | G121: kus | H121: 1 | I121: 1690 | J121: =ROUND(I121*H121,2) -> 1690 | K121: CS ÚRS 2024 01 | N121: základní | P121: =O121*H121 -> 0 | Q121: 0 | R121: =Q121*H121 -> 0 | S121: 0.4 | T121: =S121*H121 -> 0.4 | AR121: 16 | AT121: K | AU121: 2 | AY121: ROZPOCET | BE121: =IF(N121="základní",J121,0) -> 1690 | BF121: =IF(N121="snížená",J121,0) -> 0 | BG121: =IF(N121="zákl. přenesená",J121,0) -> 0 | BH121: =IF(N121="sníž. přenesená",J121,0) -> 0 | BI121: =IF(N121="nulová",J121,0) -> 0 | BJ121: 1 | BK121: =ROUND(I121*H121,2) -> 1690 | BL121: 16 | BM121: 1275144846
D122: Online PSC | F122: https://podminky.urs.cz/item/CS_URS_2024_01/966073813 | AT122: Online PSC | AU122: 2
D123: VV | F123: "vrata k ČSOV"1 | H123: 1 | AT123: VV | AU123: 2 | AV123: 2 | AW123: True | AX123: 1 | AY123: ROZPOCET
C124: 8 | D124: K | E124: 966005111 | F124: Rozebrání a odstranění silničního zábradlí a ocelových svodidel s přemístěním hmot na skládku na vzdálenost do 10 m nebo s naložením na dopravní prostředek, se zásypem jam po odstraněných sloupcích a s jeho zhutněním silničního zábradlí se sloupky osazenými s betonovými patkami | G124: m | H124: 2.5 | I124: 568 | J124: =ROUND(I124*H124,2) -> 1420 | K124: CS ÚRS 2024 01 | N124: základní | P124: =O124*H124 -> 0 | Q124: 0 | R124: =Q124*H124 -> 0 | S124: 0.035 | T124: =S124*H124 -> 0.0875 | AR124: 16 | AT124: K | AU124: 2 | AY124: ROZPOCET | BE124: =IF(N124="základní",J124,0) -> 1420 | BF124: =IF(N124="snížená",J124,0) -> 0 | BG124: =IF(N124="zákl. přenesená",J124,0) -> 0 | BH124: =IF(N124="sníž. přenesená",J124,0) -> 0 | BI124: =IF(N124="nulová",J124,0) -> 0 | BJ124: 1 | BK124: =ROUND(I124*H124,2) -> 1420 | BL124: 16 | BM124: 2132342923
D125: Online PSC | F125: https://podminky.urs.cz/item/CS_URS_2024_01/966005111 | AT125: Online PSC | AU125: 2
D126: VV | F126: "odstranění zábradlí chodníku"2,5 | H126: 2.5 | AT126: VV | AU126: 2 | AV126: 2 | AW126: True | AX126: 1 | AY126: ROZPOCET
D127: D | E127: 5.1 | F127: Odstranění komunikace asfalt | J127: =BK127 -> 116243 | P127: =SUM(P128:P145) -> 0 | R127: =SUM(R128:R145) -> 0 | T127: =SUM(T128:T145) -> 264.05 | AR127: 1 | AT127: D | AU127: 1 | AY127: ROZPOCET | BK127: =SUM(BK128:BK145) -> 116243
C128: 9 | D128: K | E128: 919735113 | F128: Řezání stávajícího živičného krytu nebo podkladu hloubky přes 100 do 150 mm | G128: m | H128: 51 | I128: 158 | J128: =ROUND(I128*H128,2) -> 8058 | K128: CS ÚRS 2024 01 | N128: základní | P128: =O128*H128 -> 0 | Q128: 0 | R128: =Q128*H128 -> 0 | S128: 0 | T128: =S128*H128 -> 0 | AR128: 4 | AT128: K | AU128: 2 | AY128: ROZPOCET | BE128: =IF(N128="základní",J128,0) -> 8058 | BF128: =IF(N128="snížená",J128,0) -> 0 | BG128: =IF(N128="zákl. přenesená",J128,0) -> 0 | BH128: =IF(N128="sníž. přenesená",J128,0) -> 0 | BI128: =IF(N128="nulová",J128,0) -> 0 | BJ128: 1 | BK128: =ROUND(I128*H128,2) -> 8058 | BL128: 4 | BM128: 122742838
D129: Online PSC | F129: https://podminky.urs.cz/item/CS_URS_2024_01/919735113 | AT129: Online PSC | AU129: 2
D130: VV | F130: "nařezávání stávajícíh asfaltových ploch"8+8+35 | H130: 51 | AT130: VV | AU130: 2 | AV130: 2 | AW130: True | AX130: 1 | AY130: ROZPOCET
C131: 10 | D131: K | E131: 113202111 | F131: Vytrhání obrub s vybouráním lože, s přemístěním hmot na skládku na vzdálenost do 3 m nebo s naložením na dopravní prostředek z krajníků nebo obrubníků stojatých | G131: m | H131: 25 | I131: 114.5 | J131: =ROUND(I131*H131,2) -> 2862.5 | K131: CS ÚRS 2024 01 | N131: základní | P131: =O131*H131 -> 0 | Q131: 0 | R131: =Q131*H131 -> 0 | S131: 0.205 | T131: =S131*H131 -> 5.125 | AR131: 4 | AT131: K | AU131: 2 | AY131: ROZPOCET | BE131: =IF(N131="základní",J131,0) -> 2862.5 | BF131: =IF(N131="snížená",J131,0) -> 0 | BG131: =IF(N131="zákl. přenesená",J131,0) -> 0 | BH131: =IF(N131="sníž. přenesená",J131,0) -> 0 | BI131: =IF(N131="nulová",J131,0) -> 0 | BJ131: 1 | BK131: =ROUND(I131*H131,2) -> 2862.5 | BL131: 4 | BM131: -2038475897
D132: Online PSC | F132: https://podminky.urs.cz/item/CS_URS_2024_01/113202111 | AT132: Online PSC | AU132: 2
D133: VV | F133: "odstranění obrubníků"35-10 | H133: 25 | AT133: VV | AU133: 2 | AV133: 2 | AW133: True | AX133: 1 | AY133: ROZPOCET
...

Sheet 02 - Rušené potrubí 
AT2: {cd0fef3c-e623-491b-b8a2-5c47415141a1}
AT3: 2
D4: KRYCÍ LIST SOUPISU PRACÍ | M4: v --- níže se nacházejí doplnkové a pomocné údaje k sestavám --- v | AT4: False
D6: Stavba:
E7: ='Rekapitulace stavby'!K6 -> Stavební úpravy přečerpávací stanice a odlehčovací komory 10 v ulici Sportovní
D8: Objekt:
E9: 02 - Rušené potrubí
D11: KSO: | F11: 827 21 51 | I11: CC-CZ:
D12: Místo: | F12: Český Brod | I12: Datum: | J12: ='Rekapitulace stavby'!AN8 -> 31. 1. 2024
D14: Zadavatel: | I14: IČ: | J14: 00235334
E15: Město Český Brod | I15: DIČ:
D17: Uchazeč: | I17: IČ: | J17: ='Rekapitulace stavby'!AN13 -> 47549793
E18: ='Rekapitulace stavby'!E14 -> 1.SčV, a.s. | I18: DIČ: | J18: ='Rekapitulace stavby'!AN14 -> CZ47549793
D20: Projektant: | I20: IČ:
E21: Ing. Petr Koblenc | I21: DIČ:
D23: Zpracovatel: | I23: IČ: | J23: 47116901
E24: Vodohospodářský rozvoj a výstavba a.s. | I24: DIČ:
D26: Poznámka:
D30: Cena bez DPH | J30: =ROUND(J86, 2) -> 584520.52
F32: Základ daně | I32: Sazba daně | J32: Výše daně
D33: DPH | E33: základní | F33: =ROUND((SUM(BE86:BE260)), 2) -> 584520.52 | I33: 0.21 | J33: =ROUND(((SUM(BE86:BE260))*I33), 2) -> 122749.31
E34: snížená | F34: =ROUND((SUM(BF86:BF260)), 2) -> 0 | I34: 0.15 | J34: =ROUND(((SUM(BF86:BF260))*I34), 2) -> 0
E35: zákl. přenesená | F35: =ROUND((SUM(BG86:BG260)), 2) -> 0 | I35: 0.21 | J35: =0 -> 0
E36: sníž. přenesená | F36: =ROUND((SUM(BH86:BH260)), 2) -> 0 | I36: 0.15 | J36: =0 -> 0
E37: nulová | F37: =ROUND((SUM(BI86:BI260)), 2) -> 0 | I37: 0 | J37: =0 -> 0
D39: Cena s DPH | G39: v | H39: CZK | J39: =SUM(J30:J37) -> 707269.83
C45: REKAPITULACE ČLENĚNÍ SOUPISU PRACÍ
C47: Stavba:
E48: =E7 -> Stavební úpravy přečerpávací stanice a odlehčovací komory 10 v ulici Sportovní
C49: Objekt:
E50: =E9 -> 02 - Rušené potrubí
C52: Místo: | F52: =F12 -> Český Brod | I52: Datum: | J52: =IF(J12="","",J12) -> 31. 1. 2024
C54: Zadavatel: | F54: =E15 -> Město Český Brod | I54: Projektant: | J54: =E21 -> Ing. Petr Koblenc
C55: Uchazeč: | F55: =IF(E18="","",E18) -> 1.SčV, a.s. | I55: Zpracovatel: | J55: =E24 -> Vodohospodářský rozvoj a výstavba a.s.
C57: Kód dílu - Popis | J57: Cena celkem [CZK]
C59: Náklady stavby celkem | J59: =J86 -> 584520.52 | AU59: -1
D60: HSV - Práce a dodávky HSV | J60: =J87 -> 584520.52
D61: 1.3 - Výkopové práce | J61: =J88 -> 157216.37
D62: 1.4 - Zemní práce - přesuny | J62: =J143 -> 94876.23
D63: 4 - Vodorovné konstrukce | J63: =J155 -> 221911.77
D64: 9.1 - Rušené trubní vedení | J64: =J163 -> 86955.83
D65: 997 - Přesun sutě | J65: =J221 -> 23438.66
D66: 998 - Přesun hmot | J66: =J258 -> 121.66
C73: SOUPIS PRACÍ
C75: Stavba:
E76: =E7 -> Stavební úpravy přečerpávací stanice a odlehčovací komory 10 v ulici Sportovní
C77: Objekt:
E78: =E9 -> 02 - Rušené potrubí
C80: Místo: | F80: =F12 -> Český Brod | I80: Datum: | J80: =IF(J12="","",J12) -> 31. 1. 2024
C82: Zadavatel: | F82: =E15 -> Město Český Brod | I82: Projektant: | J82: =E21 -> Ing. Petr Koblenc
C83: Uchazeč: | F83: =IF(E18="","",E18) -> 1.SčV, a.s. | I83: Zpracovatel: | J83: =E24 -> Vodohospodářský rozvoj a výstavba a.s.
C85: PČ | D85: Typ | E85: Kód | F85: Popis | G85: MJ | H85: Množství | I85: J.cena [CZK] | J85: Cena celkem [CZK] | K85: Cenová soustava | N85: DPH | O85: J. Nh [h] | P85: Nh celkem [h] | Q85: J. hmotnost [t] | R85: Hmotnost celkem [t] | S85: J. suť [t] | T85: Suť Celkem [t]
C86: Náklady soupisu celkem | J86: =BK86 -> 584520.52 | P86: =P87 -> 0 | R86: =R87 -> 0.82223725 | T86: =T87 -> 24.07824 | AT86: D | AU86: -1 | BK86: =BK87 -> 584520.52
D87: D | E87: HSV | F87: Práce a dodávky HSV | J87: =BK87 -> 584520.52 | P87: =P88+P143+P155+P163+P221+P258 -> 0 | R87: =R88+R143+R155+R163+R221+R258 -> 0.82223725 | T87: =T88+T143+T155+T163+T221+T258 -> 24.07824 | AR87: 1 | AT87: D | AU87: 0 | AY87: ROZPOCET | BK87: =BK88+BK143+BK155+BK163+BK221+BK258 -> 584520.52
D88: D | E88: 1.3 | F88: Výkopové práce | J88: =BK88 -> 157216.37 | P88: =SUM(P89:P142) -> 0 | R88: =SUM(R89:R142) -> 0.8219625 | T88: =SUM(T89:T142) -> 0 | AR88: 1 | AT88: D | AU88: 1 | AY88: ROZPOCET | BK88: =SUM(BK89:BK142) -> 157216.37
C89: 1 | D89: K | E89: 119001421 | F89: Dočasné zajištění podzemního potrubí nebo vedení ve výkopišti ve stavu i poloze, ve kterých byla na začátku zemních prací a to s podepřením, vzepřením nebo vyvěšením, případně s ochranným bedněním, se zřízením a odstraněním zajišťovací konstrukce, s opotřebením hmot kabelů a kabelových tratí z volně ložených kabelů a to do 3 kabelů | G89: m | H89: 12.6 | I89: 428.73 | J89: =ROUND(I89*H89,2) -> 5402 | K89: CS ÚRS 2024 01 | N89: základní | P89: =O89*H89 -> 0 | Q89: 0.0369 | R89: =Q89*H89 -> 0.46494 | S89: 0 | T89: =S89*H89 -> 0 | AR89: 4 | AT89: K | AU89: 2 | AY89: ROZPOCET | BE89: =IF(N89="základní",J89,0) -> 5402 | BF89: =IF(N89="snížená",J89,0) -> 0 | BG89: =IF(N89="zákl. přenesená",J89,0) -> 0 | BH89: =IF(N89="sníž. přenesená",J89,0) -> 0 | BI89: =IF(N89="nulová",J89,0) -> 0 | BJ89: 1 | BK89: =ROUND(I89*H89,2) -> 5402 | BL89: 4 | BM89: -1176319873
D90: Online PSC | F90: https://podminky.urs.cz/item/CS_URS_2024_01/119001421 | AT90: Online PSC | AU90: 2
D91: VV | F91: "zajištění stávajícího kabelu na šířku rýhy 1,2"8*1,2 | H91: 9.6 | AT91: VV | AU91: 2 | AV91: 2 | AW91: True | AX91: 0 | AY91: ROZPOCET
D92: VV | F92: "zajištění stávajícího kabelu na šířku rýhy 1,5"2*1,5 | H92: 3 | AT92: VV | AU92: 2 | AV92: 2 | AW92: True | AX92: 0 | AY92: ROZPOCET
D93: VV | F93: Součet | H93: 12.6 | AT93: VV | AU93: 2 | AV93: 4 | AW93: True | AX93: 1 | AY93: ROZPOCET
C94: 2 | D94: K | E94: 119001412 | F94: Dočasné zajištění podzemního potrubí nebo vedení ve výkopišti ve stavu i poloze, ve kterých byla na začátku zemních prací a to s podepřením, vzepřením nebo vyvěšením, případně s ochranným bedněním, se zřízením a odstraněním zajišťovací konstrukce, s opotřebením hmot potrubí betonového, kameninového nebo železobetonového, světlosti DN přes 200 do 500 mm | G94: m | H94: 2.4 | I94: 428.73 | J94: =ROUND(I94*H94,2) -> 1028.95 | K94: CS ÚRS 2024 01 | N94: základní | P94: =O94*H94 -> 0 | Q94: 0.01269 | R94: =Q94*H94 -> 0.030456 | S94: 0 | T94: =S94*H94 -> 0 | AR94: 4 | AT94: K | AU94: 2 | AY94: ROZPOCET | BE94: =IF(N94="základní",J94,0) -> 1028.95 | BF94: =IF(N94="snížená",J94,0) -> 0 | BG94: =IF(N94="zákl. přenesená",J94,0) -> 0 | BH94: =IF(N94="sníž. přenesená",J94,0) -> 0 | BI94: =IF(N94="nulová",J94,0) -> 0 | BJ94: 1 | BK94: =ROUND(I94*H94,2) -> 1028.95 | BL94: 4 | BM94: -1945197384
D95: Online PSC | F95: https://podminky.urs.cz/item/CS_URS_2024_01/119001412 | AT95: Online PSC | AU95: 2
D96: VV | F96: "zajištění stávající kanalizace na šířku rýhy 1,2"2*1,2 | H96: 2.4 | AT96: VV | AU96: 2 | AV96: 2 | AW96: True | AX96: 1 | AY96: ROZPOCET
C97: 3 | D97: K | E97: 119001405 | F97: Dočasné zajištění podzemního potrubí nebo vedení ve výkopišti ve stavu i poloze, ve kterých byla na začátku zemních prací a to s podepřením, vzepřením nebo vyvěšením, případně s ochranným bedněním, se zřízením a odstraněním zajišťovací konstrukce, s opotřebením hmot potrubí plastového, jmenovité světlosti DN do 200 mm | G97: m | H97: 3.6 | I97: 428.73 | J97: =ROUND(I97*H97,2) -> 1543.43 | K97: CS ÚRS 2024 01 | N97: základní | P97: =O97*H97 -> 0 | Q97: 0.0369 | R97: =Q97*H97 -> 0.13284 | S97: 0 | T97: =S97*H97 -> 0 | AR97: 4 | AT97: K | AU97: 2 | AY97: ROZPOCET | BE97: =IF(N97="základní",J97,0) -> 1543.43 | BF97: =IF(N97="snížená",J97,0) -> 0 | BG97: =IF(N97="zákl. přenesená",J97,0) -> 0 | BH97: =IF(N97="sníž. přenesená",J97,0) -> 0 | BI97: =IF(N97="nulová",J97,0) -> 0 | BJ97: 1 | BK97: =ROUND(I97*H97,2) -> 1543.43 | BL97: 4 | BM97: 1765018102
D98: Online PSC | F98: https://podminky.urs.cz/item/CS_URS_2024_01/119001405 | AT98: Online PSC | AU98: 2
D99: VV | F99: "zajištění stávajícího vodovodu na šířku rýhy 1,2"3*1,2 | H99: 3.6 | AT99: VV | AU99: 2 | AV99: 2 | AW99: True | AX99: 1 | AY99: ROZPOCET
C100: 4 | D100: K | E100: 139001101 | F100: Příplatek k cenám hloubených vykopávek za ztížení vykopávky v blízkosti podzemního vedení nebo výbušnin pro jakoukoliv třídu horniny | G100: m3 | H100: 27.9 | I100: 594 | J100: =ROUND(I100*H100,2) -> 16572.6 | K100: CS ÚRS 2024 01 | N100: základní | P100: =O100*H100 -> 0 | Q100: 0 | R100: =Q100*H100 -> 0 | S100: 0 | T100: =S100*H100 -> 0 | AR100: 4 | AT100: K | AU100: 2 | AY100: ROZPOCET | BE100: =IF(N100="základní",J100,0) -> 16572.6 | BF100: =IF(N100="snížená",J100,0) -> 0 | BG100: =IF(N100="zákl. přenesená",J100,0) -> 0 | BH100: =IF(N100="sníž. přenesená",J100,0) -> 0 | BI100: =IF(N100="nulová",J100,0) -> 0 | BJ100: 1 | BK100: =ROUND(I100*H100,2) -> 16572.6 | BL100: 4 | BM100: -2075830986
D101: Online PSC | F101: https://podminky.urs.cz/item/CS_URS_2024_01/139001101 | AT101: Online PSC | AU101: 2
D102: VV | F102: "křížení"(12,6+2,4+3,6)*(0,5+0,5)*(0,5+1,0) | H102: 27.9 | AT102: VV | AU102: 2 | AV102: 2 | AW102: True | AX102: 1 | AY102: ROZPOCET
C103: 5 | D103: K | E103: 132154203 | F103: Hloubení zapažených rýh šířky přes 800 do 2 000 mm strojně s urovnáním dna do předepsaného profilu a spádu v hornině třídy těžitelnosti I skupiny 1 a 2 přes 50 do 100 m3 | G103: m3 | H103: 128.211 | I103: 453 | J103: =ROUND(I103*H103,2) -> 58079.58 | K103: CS ÚRS 2024 01 | N103: základní | P103: =O103*H103 -> 0 | Q103: 0 | R103: =Q103*H103 -> 0 | S103: 0 | T103: =S103*H103 -> 0 | AR103: 4 | AT103: K | AU103: 2 | AY103: ROZPOCET | BE103: =IF(N103="základní",J103,0) -> 58079.58 | BF103: =IF(N103="snížená",J103,0) -> 0 | BG103: =IF(N103="zákl. přenesená",J103,0) -> 0 | BH103: =IF(N103="sníž. přenesená",J103,0) -> 0 | BI103: =IF(N103="nulová",J103,0) -> 0 | BJ103: 1 | BK103: =ROUND(I103*H103,2) -> 58079.58 | BL103: 4 | BM103: -1080262787
D104: Online PSC | F104: https://podminky.urs.cz/item/CS_URS_2024_01/132154203 | AT104: Online PSC | AU104: 2
D105: VV | F105: "odstranění výtlaku"36,7*1,2*(1,8-0,44) | H105: 59.894 | AT105: VV | AU105: 2 | AV105: 2 | AW105: True | AX105: 0 | AY105: ROZPOCET
D106: VV | F106: "odstranění PVC DN 250"26,9*1,2*(2,35-0,47) | H106: 60.686 | AT106: VV | AU106: 2 | AV106: 2 | AW106: True | AX106: 0 | AY106: ROZPOCET
D107: VV | F107: "odstranění PVC DN 200"11,5*1,2*(1,84-0,47) | H107: 18.906 | AT107: VV | AU107: 2 | AV107: 2 | AW107: True | AX107: 0 | AY107: ROZPOCET
D108: VV | F108: "odstranění BET DN 400"6,6*1,5*(2,38-0,44) | H108: 19.206 | AT108: VV | AU108: 2 | AV108: 2 | AW108: True | AX108: 0 | AY108: ROZPOCET
D109: VV | F109: "odstranění BET DN 600"9,4*1,5*(2,38-0,44) | H109: 27.354 | AT109: VV | AU109: 2 | AV109: 2 | AW109: True | AX109: 0 | AY109: ROZPOCET
D110: VV | F110: "odstranění KT DN 400"8,8*1,5*(2,36-0,44) | H110: 25.344 | AT110: VV | AU110: 2 | AV110: 2 | AW110: True | AX110: 0 | AY110: ROZPOCET
D111: VV | F111: "odstranění kabelu NN"4,5*0,5*(1,2-0,18) | H111: 2.295 | AT111: VV | AU111: 2 | AV111: 2 | AW111: True | AX111: 0 | AY111: ROZPOCET
D112: VV | F112: Mezisoučet | H112: 213.685 | AT112: VV | AU112: 2 | AV112: 3 | AW112: True | AX112: 0 | AY112: ROZPOCET
D113: VV | F113: "procentuální zastoupenost třídy težitelnosti"213,685*0,6 | H113: 128.211 | AT113: VV | AU113: 2 | AV113: 2 | AW113: True | AX113: 1 | AY113: ROZPOCET
C114: 6 | D114: K | E114: 132254203 | F114: Hloubení zapažených rýh šířky přes 800 do 2 000 mm strojně s urovnáním dna do předepsaného profilu a spádu v hornině třídy těžitelnosti I skupiny 3 přes 50 do 100 m3 | G114: m3 | H114: 85.474 | I114: 719 | J114: =ROUND(I114*H114,2) -> 61455.81 | K114: CS ÚRS 2024 01 | N114: základní | P114: =O114*H114 -> 0 | Q114: 0 | R114: =Q114*H114 -> 0 | S114: 0 | T114: =S114*H114 -> 0 | AR114: 4 | AT114: K | AU114: 2 | AY114: ROZPOCET | BE114: =IF(N114="základní",J114,0) -> 61455.81 | BF114: =IF(N114="snížená",J114,0) -> 0 | BG114: =IF(N114="zákl. přenesená",J114,0) -> 0 | BH114: =IF(N114="sníž. přenesená",J114,0) -> 0 | BI114: =IF(N114="nulová",J114,0) -> 0 | BJ114: 1 | BK114: =ROUND(I114*H114,2) -> 61455.81 | BL114: 4 | BM114: 1352103109
D115: Online PSC | F115: https://podminky.urs.cz/item/CS_URS_2024_01/132254203 | AT115: Online PSC | AU115: 2
D116: VV | F116: "odstranění výtlaku"36,7*1,2*(1,8-0,44) | H116: 59.894 | AT116: VV | AU116: 2 | AV116: 2 | AW116: True | AX116: 0 | AY116: ROZPOCET
D117: VV | F117: "odstranění PVC DN 250"26,9*1,2*(2,35-0,47) | H117: 60.686 | AT117: VV | AU117: 2 | AV117: 2 | AW117: True | AX117: 0 | AY117: ROZPOCET
D118: VV | F118: "odstranění PVC DN 200"11,5*1,2*(1,84-0,47) | H118: 18.906 | AT118: VV | AU118: 2 | AV118: 2 | AW118: True | AX118: 0 | AY118: ROZPOCET
D119: VV | F119: "odstranění BET DN 400"6,6*1,5*(2,38-0,44) | H119: 19.206 | AT119: VV | AU119: 2 | AV119: 2 | AW119: True | AX119: 0 | AY119: ROZPOCET
D120: VV | F120: "odstranění BET DN 600"9,4*1,5*(2,38-0,44) | H120: 27.354 | AT120: VV | AU120: 2 | AV120: 2 | AW120: True | AX120: 0 | AY120: ROZPOCET
D121: VV | F121: "odstranění KT DN 400"8,8*1,5*(2,36-0,44) | H121: 25.344 | AT121: VV | AU121: 2 | AV121: 2 | AW121: True | AX121: 0 | AY121: ROZPOCET
D122: VV | F122: "odstranění kabelu NN"4,5*0,5*(1,2-0,18) | H122: 2.295 | AT122: VV | AU122: 2 | AV122: 2 | AW122: True | AX122: 0 | AY122: ROZPOCET
D123: VV | F123: Mezisoučet | H123: 213.685 | AT123: VV | AU123: 2 | AV123: 3 | AW123: True | AX123: 0 | AY123: ROZPOCET
D124: VV | F124: "procentuální zastoupenost třídy težitelnosti"213,685*0,4 | H124: 85.474 | AT124: VV | AU124: 2 | AV124: 2 | AW124: True | AX124: 1 | AY124: ROZPOCET
C125: 7 | D125: K | E125: 151811132 | F125: Zřízení pažicích boxů pro pažení a rozepření stěn rýh podzemního vedení hloubka výkopu do 4 m, šířka přes 1,2 do 2,5 m | G125: m2 | H125: 328.35 | I125: 31 | J125: =ROUND(I125*H125,2) -> 10178.85 | K125: CS ÚRS 2024 01 | N125: základní | P125: =O125*H125 -> 0 | Q125: 0.00059 | R125: =Q125*H125 -> 0.1937265 | S125: 0 | T125: =S125*H125 -> 0 | AR125: 4 | AT125: K | AU125: 2 | AY125: ROZPOCET | BE125: =IF(N125="základní",J125,0) -> 10178.85 | BF125: =IF(N125="snížená",J125,0) -> 0 | BG125: =IF(N125="zákl. přenesená",J125,0) -> 0 | BH125: =IF(N125="sníž. přenesená",J125,0) -> 0 | BI125: =IF(N125="nulová",J125,0) -> 0 | BJ125: 1 | BK125: =ROUND(I125*H125,2) -> 10178.85 | BL125: 4 | BM125: 167054875
D126: Online PSC | F126: https://podminky.urs.cz/item/CS_URS_2024_01/151811132 | AT126: Online PSC | AU126: 2
D127: VV | F127: "odstranění výtlaku"(36,7*(1,8-0,44))*2 | H127: 99.824 | AT127: VV | AU127: 2 | AV127: 2 | AW127: True | AX127: 0 | AY127: ROZPOCET
D128: VV | F128: "odstranění PVC DN 250"(26,9*(2,35-0,47))*2 | H128: 101.144 | AT128: VV | AU128: 2 | AV128: 2 | AW128: True | AX128: 0 | AY128: ROZPOCET
D129: VV | F129: "odstranění PVC DN 200"(11,5*(1,84-0,47))*2 | H129: 31.51 | AT129: VV | AU129: 2 | AV129: 2 | AW129: True | AX129: 0 | AY129: ROZPOCET
D130: VV | F130: "odstranění BET DN 400"(6,6*(2,38-0,44))*2 | H130: 25.608 | AT130: VV | AU130: 2 | AV130: 2 | AW130: True | AX130: 0 | AY130: ROZPOCET
D131: VV | F131: "odstranění BET DN 600"(9,4*(2,38-0,44))*2 | H131: 36.472 | AT131: VV | AU131: 2 | AV131: 2 | AW131: True | AX131: 0 | AY131: ROZPOCET
D132: VV | F132: "odstranění KT DN 400"(8,8*(2,36-0,44))*2 | H132: 33.792 | AT132: VV | AU132: 2 | AV132: 2 | AW132: True | AX132: 0 | AY132: ROZPOCET
D133: VV | F133: Součet | H133: 328.35 | AT133: VV | AU133: 2 | AV133: 4 | AW133: True | AX133: 1 | AY133: ROZPOCET
...

Sheet 01 - Páteřní stoka
AT2: {4dce7feb-709a-4e27-91f1-d3dedfe2857f}
AT3: 2
D4: KRYCÍ LIST SOUPISU PRACÍ | M4: v --- níže se nacházejí doplnkové a pomocné údaje k sestavám --- v | AT4: False
D6: Stavba:
E7: ='Rekapitulace stavby'!K6 -> Stavební úpravy přečerpávací stanice a odlehčovací komory 10 v ulici Sportovní
D8: Objekt:
E9: IO 01 - Trubní vedení
D10: Soupis:
E11: 01 - Páteřní stoka
D13: KSO: | F13: 827 21 51 | I13: CC-CZ:
D14: Místo: | F14: Český Brod | I14: Datum: | J14: ='Rekapitulace stavby'!AN8 -> 31. 1. 2024
D16: Zadavatel: | I16: IČ: | J16: 00235334
E17: Město Český Brod | I17: DIČ:
D19: Uchazeč: | I19: IČ: | J19: ='Rekapitulace stavby'!AN13 -> 47549793
E20: ='Rekapitulace stavby'!E14 -> 1.SčV, a.s. | I20: DIČ: | J20: ='Rekapitulace stavby'!AN14 -> CZ47549793
D22: Projektant: | I22: IČ:
E23: Ing. Petr Koblenc | I23: DIČ:
D25: Zpracovatel: | I25: IČ: | J25: 47116901
E26: Vodohospodářský rozvoj a výstavba a.s. | I26: DIČ:
D28: Poznámka:
D32: Cena bez DPH | J32: =ROUND(J93, 2) -> 1801308.2
F34: Základ daně | I34: Sazba daně | J34: Výše daně
D35: DPH | E35: základní | F35: =ROUND((SUM(BE93:BE352)), 2) -> 1801308.2 | I35: 0.21 | J35: =ROUND(((SUM(BE93:BE352))*I35), 2) -> 378274.72
E36: snížená | F36: =ROUND((SUM(BF93:BF352)), 2) -> 0 | I36: 0.15 | J36: =ROUND(((SUM(BF93:BF352))*I36), 2) -> 0
E37: zákl. přenesená | F37: =ROUND((SUM(BG93:BG352)), 2) -> 0 | I37: 0.21 | J37: =0 -> 0
E38: sníž. přenesená | F38: =ROUND((SUM(BH93:BH352)), 2) -> 0 | I38: 0.15 | J38: =0 -> 0
E39: nulová | F39: =ROUND((SUM(BI93:BI352)), 2) -> 0 | I39: 0 | J39: =0 -> 0
D41: Cena s DPH | G41: v | H41: CZK | J41: =SUM(J32:J39) -> 2179582.9
C47: REKAPITULACE ČLENĚNÍ SOUPISU PRACÍ
C49: Stavba:
E50: =E7 -> Stavební úpravy přečerpávací stanice a odlehčovací komory 10 v ulici Sportovní
C51: Objekt:
E52: IO 01 - Trubní vedení
C53: Soupis:
E54: =E11 -> 01 - Páteřní stoka
C56: Místo: | F56: =F14 -> Český Brod | I56: Datum: | J56: =IF(J14="","",J14) -> 31. 1. 2024
C58: Zadavatel: | F58: =E17 -> Město Český Brod | I58: Projektant: | J58: =E23 -> Ing. Petr Koblenc
C59: Uchazeč: | F59: =IF(E20="","",E20) -> 1.SčV, a.s. | I59: Zpracovatel: | J59: =E26 -> Vodohospodářský rozvoj a výstavba a.s.
C61: Kód dílu - Popis | J61: Cena celkem [CZK]
C63: Náklady stavby celkem | J63: =J93 -> 1801308.2 | AU63: -1
D64: HSV - Práce a dodávky HSV | J64: =J94 -> 1801308.2
D65: 1.3 - Výkopové práce | J65: =J95 -> 274467.5
D66: 1.4 - Zemní práce - přesuny | J66: =J170 -> 132193.92
D67: 4 - Vodorovné konstrukce | J67: =J196 -> 300496.51
D68: 8.1 - Potrubí | J68: =J253 -> 268724.21
D69: 8.2 - Kanalizační šachty prefabrikované | J69: =J278 -> 625583.5
D70: 8.4 - Trubní vedení - ostatní | J70: =J319 -> 13271.3
D71: 998 - Přesun hmot | J71: =J348 -> 186571.25
C78: SOUPIS PRACÍ
C80: Stavba:
E81: =E7 -> Stavební úpravy přečerpávací stanice a odlehčovací komory 10 v ulici Sportovní
C82: Objekt:
E83: IO 01 - Trubní vedení
C84: Soupis:
E85: =E11 -> 01 - Páteřní stoka
C87: Místo: | F87: =F14 -> Český Brod | I87: Datum: | J87: =IF(J14="","",J14) -> 31. 1. 2024
C89: Zadavatel: | F89: =E17 -> Město Český Brod | I89: Projektant: | J89: =E23 -> Ing. Petr Koblenc
C90: Uchazeč: | F90: =IF(E20="","",E20) -> 1.SčV, a.s. | I90: Zpracovatel: | J90: =E26 -> Vodohospodářský rozvoj a výstavba a.s.
C92: PČ | D92: Typ | E92: Kód | F92: Popis | G92: MJ | H92: Množství | I92: J.cena [CZK] | J92: Cena celkem [CZK] | K92: Cenová soustava | N92: DPH | O92: J. Nh [h] | P92: Nh celkem [h] | Q92: J. hmotnost [t] | R92: Hmotnost celkem [t] | S92: J. suť [t] | T92: Suť Celkem [t]
C93: Náklady soupisu celkem | J93: =BK93 -> 1801308.2 | P93: =P94 -> 0 | R93: =R94 -> 387.88494 | T93: =T94 -> 0 | AT93: D | AU93: -1 | BK93: =BK94 -> 1801308.2
D94: D | E94: HSV | F94: Práce a dodávky HSV | J94: =BK94 -> 1801308.2 | P94: =P95+P170+P196+P253+P278+P319+P348 -> 0 | R94: =R95+R170+R196+R253+R278+R319+R348 -> 387.88494 | T94: =T95+T170+T196+T253+T278+T319+T348 -> 0 | AR94: 1 | AT94: D | AU94: 0 | AY94: ROZPOCET | BK94: =BK95+BK170+BK196+BK253+BK278+BK319+BK348 -> 1801308.2
D95: D | E95: 1.3 | F95: Výkopové práce | J95: =BK95 -> 274467.5 | P95: =SUM(P96:P169) -> 0 | R95: =SUM(R96:R169) -> 0.50353108 | T95: =SUM(T96:T169) -> 0 | AR95: 1 | AT95: D | AU95: 1 | AY95: ROZPOCET | BK95: =SUM(BK96:BK169) -> 274467.5
C96: 1 | D96: K | E96: 115101202 | F96: Čerpání vody na dopravní výšku do 10 m s uvažovaným průměrným přítokem přes 500 do 1 000 l/min | G96: hod | H96: 50 | I96: 73 | J96: =ROUND(I96*H96,2) -> 3650 | K96: CS ÚRS 2024 01 | N96: základní | P96: =O96*H96 -> 0 | Q96: 4e-05 | R96: =Q96*H96 -> 0.002 | S96: 0 | T96: =S96*H96 -> 0 | AR96: 4 | AT96: K | AU96: 2 | AY96: ROZPOCET | BE96: =IF(N96="základní",J96,0) -> 3650 | BF96: =IF(N96="snížená",J96,0) -> 0 | BG96: =IF(N96="zákl. přenesená",J96,0) -> 0 | BH96: =IF(N96="sníž. přenesená",J96,0) -> 0 | BI96: =IF(N96="nulová",J96,0) -> 0 | BJ96: 1 | BK96: =ROUND(I96*H96,2) -> 3650 | BL96: 4 | BM96: 1891780679
D97: Online PSC | F97: https://podminky.urs.cz/item/CS_URS_2024_01/115101202 | AT97: Online PSC | AU97: 2
D98: VV | F98: "čerpání deš´tových vod"50 | H98: 50 | AT98: VV | AU98: 2 | AV98: 2 | AW98: True | AX98: 1 | AY98: ROZPOCET
C99: 2 | D99: K | E99: 115101203 | F99: Čerpání vody na dopravní výšku do 10 m s uvažovaným průměrným přítokem přes 1 000 do 2 000 l/min | G99: hod | H99: 720 | I99: 86 | J99: =ROUND(I99*H99,2) -> 61920 | K99: CS ÚRS 2024 01 | N99: základní | P99: =O99*H99 -> 0 | Q99: 5e-05 | R99: =Q99*H99 -> 0.036 | S99: 0 | T99: =S99*H99 -> 0 | AR99: 4 | AT99: K | AU99: 2 | AY99: ROZPOCET | BE99: =IF(N99="základní",J99,0) -> 61920 | BF99: =IF(N99="snížená",J99,0) -> 0 | BG99: =IF(N99="zákl. přenesená",J99,0) -> 0 | BH99: =IF(N99="sníž. přenesená",J99,0) -> 0 | BI99: =IF(N99="nulová",J99,0) -> 0 | BJ99: 1 | BK99: =ROUND(I99*H99,2) -> 61920 | BL99: 4 | BM99: 524412881
D100: Online PSC | F100: https://podminky.urs.cz/item/CS_URS_2024_01/115101203 | AT100: Online PSC | AU100: 2
D101: VV | F101: "přečerpávání ze stávající odlehčovací komory do šachty Š3 Q=30 l/s H=10 m"30*24 | H101: 720 | AT101: VV | AU101: 2 | AV101: 2 | AW101: True | AX101: 1 | AY101: ROZPOCET
C102: 3 | D102: K | E102: 115101302 | F102: Pohotovost záložní čerpací soupravy pro dopravní výšku do 10 m s uvažovaným průměrným přítokem přes 500 do 1 000 l/min | G102: den | H102: 100 | I102: 35 | J102: =ROUND(I102*H102,2) -> 3500 | K102: CS ÚRS 2024 01 | N102: základní | P102: =O102*H102 -> 0 | Q102: 0 | R102: =Q102*H102 -> 0 | S102: 0 | T102: =S102*H102 -> 0 | AR102: 4 | AT102: K | AU102: 2 | AY102: ROZPOCET | BE102: =IF(N102="základní",J102,0) -> 3500 | BF102: =IF(N102="snížená",J102,0) -> 0 | BG102: =IF(N102="zákl. přenesená",J102,0) -> 0 | BH102: =IF(N102="sníž. přenesená",J102,0) -> 0 | BI102: =IF(N102="nulová",J102,0) -> 0 | BJ102: 1 | BK102: =ROUND(I102*H102,2) -> 3500 | BL102: 4 | BM102: -203790707
D103: Online PSC | F103: https://podminky.urs.cz/item/CS_URS_2024_01/115101302 | AT103: Online PSC | AU103: 2
D104: VV | F104: "pohotovost čerpací stanice po dobu realizace"100 | H104: 100 | AT104: VV | AU104: 2 | AV104: 2 | AW104: True | AX104: 1 | AY104: ROZPOCET
C105: 4 | D105: K | E105: 115101303 | F105: Pohotovost záložní čerpací soupravy pro dopravní výšku do 10 m s uvažovaným průměrným přítokem přes 1 000 do 2 000 l/min | G105: den | H105: 30 | I105: 38 | J105: =ROUND(I105*H105,2) -> 1140 | K105: CS ÚRS 2024 01 | N105: základní | P105: =O105*H105 -> 0 | Q105: 0 | R105: =Q105*H105 -> 0 | S105: 0 | T105: =S105*H105 -> 0 | AR105: 4 | AT105: K | AU105: 2 | AY105: ROZPOCET | BE105: =IF(N105="základní",J105,0) -> 1140 | BF105: =IF(N105="snížená",J105,0) -> 0 | BG105: =IF(N105="zákl. přenesená",J105,0) -> 0 | BH105: =IF(N105="sníž. přenesená",J105,0) -> 0 | BI105: =IF(N105="nulová",J105,0) -> 0 | BJ105: 1 | BK105: =ROUND(I105*H105,2) -> 1140 | BL105: 4 | BM105: 1958449015
D106: Online PSC | F106: https://podminky.urs.cz/item/CS_URS_2024_01/115101303 | AT106: Online PSC | AU106: 2
D107: VV | F107: "přečerpávání ze stávající odlehčovací komory do šachty Š3 Q=30 l/s H=10 m"30 | H107: 30 | AT107: VV | AU107: 2 | AV107: 2 | AW107: True | AX107: 1 | AY107: ROZPOCET
C108: 5 | D108: K | E108: 119001421 | F108: Dočasné zajištění podzemního potrubí nebo vedení ve výkopišti ve stavu i poloze, ve kterých byla na začátku zemních prací a to s podepřením, vzepřením nebo vyvěšením, případně s ochranným bedněním, se zřízením a odstraněním zajišťovací konstrukce, s opotřebením hmot kabelů a kabelových tratí z volně ložených kabelů a to do 3 kabelů | G108: m | H108: 10 | I108: 428.73 | J108: =ROUND(I108*H108,2) -> 4287.3 | K108: CS ÚRS 2024 01 | N108: základní | P108: =O108*H108 -> 0 | Q108: 0.0369 | R108: =Q108*H108 -> 0.369 | S108: 0 | T108: =S108*H108 -> 0 | AR108: 4 | AT108: K | AU108: 2 | AY108: ROZPOCET | BE108: =IF(N108="základní",J108,0) -> 4287.3 | BF108: =IF(N108="snížená",J108,0) -> 0 | BG108: =IF(N108="zákl. přenesená",J108,0) -> 0 | BH108: =IF(N108="sníž. přenesená",J108,0) -> 0 | BI108: =IF(N108="nulová",J108,0) -> 0 | BJ108: 1 | BK108: =ROUND(I108*H108,2) -> 4287.3 | BL108: 4 | BM108: 774260126
D109: Online PSC | F109: https://podminky.urs.cz/item/CS_URS_2024_01/119001421 | AT109: Online PSC | AU109: 2
D110: VV | F110: "zajištění stávajícího kabelu na šířku rýhy"4*2,5 | H110: 10 | AT110: VV | AU110: 2 | AV110: 2 | AW110: True | AX110: 1 | AY110: ROZPOCET
C111: 6 | D111: K | E111: 139001101 | F111: Příplatek k cenám hloubených vykopávek za ztížení vykopávky v blízkosti podzemního vedení nebo výbušnin pro jakoukoliv třídu horniny | G111: m3 | H111: 15 | I111: 594 | J111: =ROUND(I111*H111,2) -> 8910 | K111: CS ÚRS 2024 01 | N111: základní | P111: =O111*H111 -> 0 | Q111: 0 | R111: =Q111*H111 -> 0 | S111: 0 | T111: =S111*H111 -> 0 | AR111: 4 | AT111: K | AU111: 2 | AY111: ROZPOCET | BE111: =IF(N111="základní",J111,0) -> 8910 | BF111: =IF(N111="snížená",J111,0) -> 0 | BG111: =IF(N111="zákl. přenesená",J111,0) -> 0 | BH111: =IF(N111="sníž. přenesená",J111,0) -> 0 | BI111: =IF(N111="nulová",J111,0) -> 0 | BJ111: 1 | BK111: =ROUND(I111*H111,2) -> 8910 | BL111: 4 | BM111: -908936648
D112: Online PSC | F112: https://podminky.urs.cz/item/CS_URS_2024_01/139001101 | AT112: Online PSC | AU112: 2
D113: VV | F113: "křížení"(10)*(0,5+0,5)*(0,5+1,0) | H113: 15 | AT113: VV | AU113: 2 | AV113: 2 | AW113: True | AX113: 1 | AY113: ROZPOCET
C114: 7 | D114: K | E114: 131151203 | F114: Hloubení zapažených jam a zářezů strojně s urovnáním dna do předepsaného profilu a spádu v hornině třídy těžitelnosti I skupiny 1 a 2 přes 50 do 100 m3 | G114: m3 | H114: 77.855 | I114: 333 | J114: =ROUND(I114*H114,2) -> 25925.72 | K114: CS ÚRS 2024 01 | N114: základní | P114: =O114*H114 -> 0 | Q114: 0 | R114: =Q114*H114 -> 0 | S114: 0 | T114: =S114*H114 -> 0 | AR114: 4 | AT114: K | AU114: 2 | AY114: ROZPOCET | BE114: =IF(N114="základní",J114,0) -> 25925.72 | BF114: =IF(N114="snížená",J114,0) -> 0 | BG114: =IF(N114="zákl. přenesená",J114,0) -> 0 | BH114: =IF(N114="sníž. přenesená",J114,0) -> 0 | BI114: =IF(N114="nulová",J114,0) -> 0 | BJ114: 1 | BK114: =ROUND(I114*H114,2) -> 25925.72 | BL114: 4 | BM114: 1170792402
D115: Online PSC | F115: https://podminky.urs.cz/item/CS_URS_2024_01/131151203 | AT115: Online PSC | AU115: 2
D116: VV | F116: "DN 1000 mimo komunikaci nebo chodník"4,5*2,5*(2,3-0,35) | H116: 21.938 | AT116: VV | AU116: 2 | AV116: 2 | AW116: True | AX116: 0 | AY116: ROZPOCET
D117: VV | F117: "DN 300 mimo komunikaci nebo chodník"7,6*1,3*(3,5-0,35) | H117: 31.122 | AT117: VV | AU117: 2 | AV117: 2 | AW117: True | AX117: 0 | AY117: ROZPOCET
D118: VV | F118: "DN 1000 v komunikaci nebo chodníku"14,9*2,5*(2,3-0,47) | H118: 68.168 | AT118: VV | AU118: 2 | AV118: 2 | AW118: True | AX118: 0 | AY118: ROZPOCET
D119: VV | F119: "DN 800 v komunikaci nebo chodníku"5,4*2,0*(2,2-0,44) | H119: 19.008 | AT119: VV | AU119: 2 | AV119: 2 | AW119: True | AX119: 0 | AY119: ROZPOCET
D120: VV | F120: "DN 400 v komunikaci nebo chodníku"7*1,5*(2,2-0,44) | H120: 18.48 | AT120: VV | AU120: 2 | AV120: 2 | AW120: True | AX120: 0 | AY120: ROZPOCET
D121: VV | F121: "rozšíření pro šachty"(3*3*2,8)*4 | H121: 100.8 | AT121: VV | AU121: 2 | AV121: 2 | AW121: True | AX121: 0 | AY121: ROZPOCET
D122: VV | F122: Mezisoučet | H122: 259.516 | AT122: VV | AU122: 2 | AV122: 3 | AW122: True | AX122: 0 | AY122: ROZPOCET
D123: VV | F123: "procentuální zastoupenost třídy težitelnosti"259,516*0,3 | H123: 77.855 | AT123: VV | AU123: 2 | AV123: 2 | AW123: True | AX123: 1 | AY123: ROZPOCET
C124: 8 | D124: K | E124: 131251203 | F124: Hloubení zapažených jam a zářezů strojně s urovnáním dna do předepsaného profilu a spádu v hornině třídy těžitelnosti I skupiny 3 přes 50 do 100 m3 | G124: m3 | H124: 51.903 | I124: 561 | J124: =ROUND(I124*H124,2) -> 29117.58 | K124: CS ÚRS 2024 01 | N124: základní | P124: =O124*H124 -> 0 | Q124: 0 | R124: =Q124*H124 -> 0 | S124: 0 | T124: =S124*H124 -> 0 | AR124: 4 | AT124: K | AU124: 2 | AY124: ROZPOCET | BE124: =IF(N124="základní",J124,0) -> 29117.58 | BF124: =IF(N124="snížená",J124,0) -> 0 | BG124: =IF(N124="zákl. přenesená",J124,0) -> 0 | BH124: =IF(N124="sníž. přenesená",J124,0) -> 0 | BI124: =IF(N124="nulová",J124,0) -> 0 | BJ124: 1 | BK124: =ROUND(I124*H124,2) -> 29117.58 | BL124: 4 | BM124: 713870474
D125: Online PSC | F125: https://podminky.urs.cz/item/CS_URS_2024_01/131251203 | AT125: Online PSC | AU125: 2
D126: VV | F126: "DN 1000 mimo komunikaci nebo chodník"4,5*2,5*(2,3-0,35) | H126: 21.938 | AT126: VV | AU126: 2 | AV126: 2 | AW126: True | AX126: 0 | AY126: ROZPOCET
D127: VV | F127: "DN 300 mimo komunikaci nebo chodník"7,6*1,3*(3,5-0,35) | H127: 31.122 | AT127: VV | AU127: 2 | AV127: 2 | AW127: True | AX127: 0 | AY127: ROZPOCET
D128: VV | F128: "DN 1000 v komunikaci nebo chodníku"14,9*2,5*(2,3-0,47) | H128: 68.168 | AT128: VV | AU128: 2 | AV128: 2 | AW128: True | AX128: 0 | AY128: ROZPOCET
D129: VV | F129: "DN 800 v komunikaci nebo chodníku"5,4*2,0*(2,2-0,44) | H129: 19.008 | AT129: VV | AU129: 2 | AV129: 2 | AW129: True | AX129: 0 | AY129: ROZPOCET
D130: VV | F130: "DN 400 v komunikaci nebo chodníku"7*1,5*(2,2-0,44) | H130: 18.48 | AT130: VV | AU130: 2 | AV130: 2 | AW130: True | AX130: 0 | AY130: ROZPOCET
D131: VV | F131: "rozšíření pro šachty"(3*3*2,8)*4 | H131: 100.8 | AT131: VV | AU131: 2 | AV131: 2 | AW131: True | AX131: 0 | AY131: ROZPOCET
D132: VV | F132: Mezisoučet | H132: 259.516 | AT132: VV | AU132: 2 | AV132: 3 | AW132: True | AX132: 0 | AY132: ROZPOCET
D133: VV | F133: "procentuální zastoupenost třídy težitelnosti"259,516*0,2 | H133: 51.903 | AT133: VV | AU133: 2 | AV133: 2 | AW133: True | AX133: 1 | AY133: ROZPOCET
...

Sheet 02 - Vypouštění nádrže na...
AT2: {e70173a3-91fe-4042-b9c7-8c9b8fd24477}
AT3: 2
D4: KRYCÍ LIST SOUPISU PRACÍ | M4: v --- níže se nacházejí doplnkové a pomocné údaje k sestavám --- v | AT4: False
D6: Stavba:
E7: ='Rekapitulace stavby'!K6 -> Stavební úpravy přečerpávací stanice a odlehčovací komory 10 v ulici Sportovní
D8: Objekt:
E9: IO 01 - Trubní vedení
D10: Soupis:
E11: 02 - Vypouštění nádrže na ČSOV
D13: KSO: | F13: 827 21 51 | I13: CC-CZ:
D14: Místo: | F14: Český Brod | I14: Datum: | J14: ='Rekapitulace stavby'!AN8 -> 31. 1. 2024
D16: Zadavatel: | I16: IČ: | J16: 00235334
E17: Město Český Brod | I17: DIČ:
D19: Uchazeč: | I19: IČ: | J19: ='Rekapitulace stavby'!AN13 -> 47549793
E20: ='Rekapitulace stavby'!E14 -> 1.SčV, a.s. | I20: DIČ: | J20: ='Rekapitulace stavby'!AN14 -> CZ47549793
D22: Projektant: | I22: IČ:
E23: Ing. Petr Koblenc | I23: DIČ:
D25: Zpracovatel: | I25: IČ: | J25: 47116901
E26: Vodohospodářský rozvoj a výstavba a.s. | I26: DIČ:
D28: Poznámka:
D32: Cena bez DPH | J32: =ROUND(J93, 2) -> 864964.71
F34: Základ daně | I34: Sazba daně | J34: Výše daně
D35: DPH | E35: základní | F35: =ROUND((SUM(BE93:BE288)), 2) -> 864964.71 | I35: 0.21 | J35: =ROUND(((SUM(BE93:BE288))*I35), 2) -> 181642.59
E36: snížená | F36: =ROUND((SUM(BF93:BF288)), 2) -> 0 | I36: 0.15 | J36: =ROUND(((SUM(BF93:BF288))*I36), 2) -> 0
E37: zákl. přenesená | F37: =ROUND((SUM(BG93:BG288)), 2) -> 0 | I37: 0.21 | J37: =0 -> 0
E38: sníž. přenesená | F38: =ROUND((SUM(BH93:BH288)), 2) -> 0 | I38: 0.15 | J38: =0 -> 0
E39: nulová | F39: =ROUND((SUM(BI93:BI288)), 2) -> 0 | I39: 0 | J39: =0 -> 0
D41: Cena s DPH | G41: v | H41: CZK | J41: =SUM(J32:J39) -> 1046607.3
C47: REKAPITULACE ČLENĚNÍ SOUPISU PRACÍ
C49: Stavba:
E50: =E7 -> Stavební úpravy přečerpávací stanice a odlehčovací komory 10 v ulici Sportovní
C51: Objekt:
E52: IO 01 - Trubní vedení
C53: Soupis:
E54: =E11 -> 02 - Vypouštění nádrže na ČSOV
C56: Místo: | F56: =F14 -> Český Brod | I56: Datum: | J56: =IF(J14="","",J14) -> 31. 1. 2024
C58: Zadavatel: | F58: =E17 -> Město Český Brod | I58: Projektant: | J58: =E23 -> Ing. Petr Koblenc
C59: Uchazeč: | F59: =IF(E20="","",E20) -> 1.SčV, a.s. | I59: Zpracovatel: | J59: =E26 -> Vodohospodářský rozvoj a výstavba a.s.
C61: Kód dílu - Popis | J61: Cena celkem [CZK]
C63: Náklady stavby celkem | J63: =J93 -> 864964.71 | AU63: -1
D64: HSV - Práce a dodávky HSV | J64: =J94 -> 864964.71
D65: 1.3 - Výkopové práce | J65: =J95 -> 353260.95
D66: 1.4 - Zemní práce - přesuny | J66: =J152 -> 119816.8
D67: 4 - Vodorovné konstrukce | J67: =J178 -> 227762.46
D68: 8.1 - Potrubí | J68: =J215 -> 78800.71
D69: 8.2 - Kanalizační šachty prefabrikované | J69: =J237 -> 49795.75
D70: 8.4 - Trubní vedení - ostatní | J70: =J272 -> 7283.2
D71: 998 - Přesun hmot | J71: =J286 -> 28244.84
C78: SOUPIS PRACÍ
C80: Stavba:
E81: =E7 -> Stavební úpravy přečerpávací stanice a odlehčovací komory 10 v ulici Sportovní
C82: Objekt:
E83: IO 01 - Trubní vedení
C84: Soupis:
E85: =E11 -> 02 - Vypouštění nádrže na ČSOV
C87: Místo: | F87: =F14 -> Český Brod | I87: Datum: | J87: =IF(J14="","",J14) -> 31. 1. 2024
C89: Zadavatel: | F89: =E17 -> Město Český Brod | I89: Projektant: | J89: =E23 -> Ing. Petr Koblenc
C90: Uchazeč: | F90: =IF(E20="","",E20) -> 1.SčV, a.s. | I90: Zpracovatel: | J90: =E26 -> Vodohospodářský rozvoj a výstavba a.s.
C92: PČ | D92: Typ | E92: Kód | F92: Popis | G92: MJ | H92: Množství | I92: J.cena [CZK] | J92: Cena celkem [CZK] | K92: Cenová soustava | N92: DPH | O92: J. Nh [h] | P92: Nh celkem [h] | Q92: J. hmotnost [t] | R92: Hmotnost celkem [t] | S92: J. suť [t] | T92: Suť Celkem [t]
C93: Náklady soupisu celkem | J93: =BK93 -> 864964.71 | P93: =P94 -> 0 | R93: =R94 -> 24.351854 | T93: =T94 -> 0 | AT93: D | AU93: -1 | BK93: =BK94 -> 864964.71
D94: D | E94: HSV | F94: Práce a dodávky HSV | J94: =BK94 -> 864964.71 | P94: =P95+P152+P178+P215+P237+P272+P286 -> 0 | R94: =R95+R152+R178+R215+R237+R272+R286 -> 24.351854 | T94: =T95+T152+T178+T215+T237+T272+T286 -> 0 | AR94: 1 | AT94: D | AU94: 0 | AY94: ROZPOCET | BK94: =BK95+BK152+BK178+BK215+BK237+BK272+BK286 -> 864964.71
D95: D | E95: 1.3 | F95: Výkopové práce | J95: =BK95 -> 353260.95 | P95: =SUM(P96:P151) -> 0 | R95: =SUM(R96:R151) -> 0.3053332 | T95: =SUM(T96:T151) -> 0 | AR95: 1 | AT95: D | AU95: 1 | AY95: ROZPOCET | BK95: =SUM(BK96:BK151) -> 353260.95
C96: 1 | D96: K | E96: 115101202 | F96: Čerpání vody na dopravní výšku do 10 m s uvažovaným průměrným přítokem přes 500 do 1 000 l/min | G96: hod | H96: 50 | I96: 73 | J96: =ROUND(I96*H96,2) -> 3650 | K96: CS ÚRS 2024 01 | N96: základní | P96: =O96*H96 -> 0 | Q96: 4e-05 | R96: =Q96*H96 -> 0.002 | S96: 0 | T96: =S96*H96 -> 0 | AR96: 4 | AT96: K | AU96: 2 | AY96: ROZPOCET | BE96: =IF(N96="základní",J96,0) -> 3650 | BF96: =IF(N96="snížená",J96,0) -> 0 | BG96: =IF(N96="zákl. přenesená",J96,0) -> 0 | BH96: =IF(N96="sníž. přenesená",J96,0) -> 0 | BI96: =IF(N96="nulová",J96,0) -> 0 | BJ96: 1 | BK96: =ROUND(I96*H96,2) -> 3650 | BL96: 4 | BM96: 1902415110
D97: Online PSC | F97: https://podminky.urs.cz/item/CS_URS_2024_01/115101202 | AT97: Online PSC | AU97: 2
D98: VV | F98: "čerpání deš´tových vod"50 | H98: 50 | AT98: VV | AU98: 2 | AV98: 2 | AW98: True | AX98: 1 | AY98: ROZPOCET
C99: 2 | D99: K | E99: 115101203 | F99: Čerpání vody na dopravní výšku do 10 m s uvažovaným průměrným přítokem přes 1 000 do 2 000 l/min | G99: hod | H99: 1440 | I99: 86 | J99: =ROUND(I99*H99,2) -> 123840 | K99: CS ÚRS 2024 01 | N99: základní | P99: =O99*H99 -> 0 | Q99: 5e-05 | R99: =Q99*H99 -> 0.072 | S99: 0 | T99: =S99*H99 -> 0 | AR99: 4 | AT99: K | AU99: 2 | AY99: ROZPOCET | BE99: =IF(N99="základní",J99,0) -> 123840 | BF99: =IF(N99="snížená",J99,0) -> 0 | BG99: =IF(N99="zákl. přenesená",J99,0) -> 0 | BH99: =IF(N99="sníž. přenesená",J99,0) -> 0 | BI99: =IF(N99="nulová",J99,0) -> 0 | BJ99: 1 | BK99: =ROUND(I99*H99,2) -> 123840 | BL99: 4 | BM99: 563669888
D100: Online PSC | F100: https://podminky.urs.cz/item/CS_URS_2024_01/115101203 | AT100: Online PSC | AU100: 2
D101: VV | F101: "přečerpávání ze stávající šachty spl. kan. ul Císaře Zikmunda do stáv OK Q=30 l/s H=10 m"60*24 | H101: 1440 | AT101: VV | AU101: 2 | AV101: 2 | AW101: True | AX101: 1 | AY101: ROZPOCET
C102: 3 | D102: K | E102: 115101302 | F102: Pohotovost záložní čerpací soupravy pro dopravní výšku do 10 m s uvažovaným průměrným přítokem přes 500 do 1 000 l/min | G102: den | H102: 100 | I102: 35 | J102: =ROUND(I102*H102,2) -> 3500 | K102: CS ÚRS 2024 01 | N102: základní | P102: =O102*H102 -> 0 | Q102: 0 | R102: =Q102*H102 -> 0 | S102: 0 | T102: =S102*H102 -> 0 | AR102: 4 | AT102: K | AU102: 2 | AY102: ROZPOCET | BE102: =IF(N102="základní",J102,0) -> 3500 | BF102: =IF(N102="snížená",J102,0) -> 0 | BG102: =IF(N102="zákl. přenesená",J102,0) -> 0 | BH102: =IF(N102="sníž. přenesená",J102,0) -> 0 | BI102: =IF(N102="nulová",J102,0) -> 0 | BJ102: 1 | BK102: =ROUND(I102*H102,2) -> 3500 | BL102: 4 | BM102: 766267427
D103: Online PSC | F103: https://podminky.urs.cz/item/CS_URS_2024_01/115101302 | AT103: Online PSC | AU103: 2
D104: VV | F104: "pohotovost čerpací stanice po dobu realizace"100 | H104: 100 | AT104: VV | AU104: 2 | AV104: 2 | AW104: True | AX104: 1 | AY104: ROZPOCET
C105: 4 | D105: K | E105: 115101303 | F105: Pohotovost záložní čerpací soupravy pro dopravní výšku do 10 m s uvažovaným průměrným přítokem přes 1 000 do 2 000 l/min | G105: den | H105: 60 | I105: 38 | J105: =ROUND(I105*H105,2) -> 2280 | K105: CS ÚRS 2024 01 | N105: základní | P105: =O105*H105 -> 0 | Q105: 0 | R105: =Q105*H105 -> 0 | S105: 0 | T105: =S105*H105 -> 0 | AR105: 4 | AT105: K | AU105: 2 | AY105: ROZPOCET | BE105: =IF(N105="základní",J105,0) -> 2280 | BF105: =IF(N105="snížená",J105,0) -> 0 | BG105: =IF(N105="zákl. přenesená",J105,0) -> 0 | BH105: =IF(N105="sníž. přenesená",J105,0) -> 0 | BI105: =IF(N105="nulová",J105,0) -> 0 | BJ105: 1 | BK105: =ROUND(I105*H105,2) -> 2280 | BL105: 4 | BM105: 1131885714
D106: Online PSC | F106: https://podminky.urs.cz/item/CS_URS_2024_01/115101303 | AT106: Online PSC | AU106: 2
D107: VV | F107: "přečerpávání ze stávající šachty spl. kan. ul Císaře Zikmunda do stáv OK Q=30 l/s H=10 m"60 | H107: 60 | AT107: VV | AU107: 2 | AV107: 2 | AW107: True | AX107: 1 | AY107: ROZPOCET
C108: 5 | D108: K | E108: 119001421 | F108: Dočasné zajištění podzemního potrubí nebo vedení ve výkopišti ve stavu i poloze, ve kterých byla na začátku zemních prací a to s podepřením, vzepřením nebo vyvěšením, případně s ochranným bedněním, se zřízením a odstraněním zajišťovací konstrukce, s opotřebením hmot kabelů a kabelových tratí z volně ložených kabelů a to do 3 kabelů | G108: m | H108: 2.6 | I108: 428.73 | J108: =ROUND(I108*H108,2) -> 1114.7 | K108: CS ÚRS 2024 01 | N108: základní | P108: =O108*H108 -> 0 | Q108: 0.0369 | R108: =Q108*H108 -> 0.09594 | S108: 0 | T108: =S108*H108 -> 0 | AR108: 4 | AT108: K | AU108: 2 | AY108: ROZPOCET | BE108: =IF(N108="základní",J108,0) -> 1114.7 | BF108: =IF(N108="snížená",J108,0) -> 0 | BG108: =IF(N108="zákl. přenesená",J108,0) -> 0 | BH108: =IF(N108="sníž. přenesená",J108,0) -> 0 | BI108: =IF(N108="nulová",J108,0) -> 0 | BJ108: 1 | BK108: =ROUND(I108*H108,2) -> 1114.7 | BL108: 4 | BM108: 1833858275
D109: Online PSC | F109: https://podminky.urs.cz/item/CS_URS_2024_01/119001421 | AT109: Online PSC | AU109: 2
D110: VV | F110: "zajištění stávajícího kabelu na šířku rýhy"2*1,3 | H110: 2.6 | AT110: VV | AU110: 2 | AV110: 2 | AW110: True | AX110: 1 | AY110: ROZPOCET
C111: 6 | D111: K | E111: 139001101 | F111: Příplatek k cenám hloubených vykopávek za ztížení vykopávky v blízkosti podzemního vedení nebo výbušnin pro jakoukoliv třídu horniny | G111: m3 | H111: 3.9 | I111: 594 | J111: =ROUND(I111*H111,2) -> 2316.6 | K111: CS ÚRS 2024 01 | N111: základní | P111: =O111*H111 -> 0 | Q111: 0 | R111: =Q111*H111 -> 0 | S111: 0 | T111: =S111*H111 -> 0 | AR111: 4 | AT111: K | AU111: 2 | AY111: ROZPOCET | BE111: =IF(N111="základní",J111,0) -> 2316.6 | BF111: =IF(N111="snížená",J111,0) -> 0 | BG111: =IF(N111="zákl. přenesená",J111,0) -> 0 | BH111: =IF(N111="sníž. přenesená",J111,0) -> 0 | BI111: =IF(N111="nulová",J111,0) -> 0 | BJ111: 1 | BK111: =ROUND(I111*H111,2) -> 2316.6 | BL111: 4 | BM111: -155381581
D112: Online PSC | F112: https://podminky.urs.cz/item/CS_URS_2024_01/139001101 | AT112: Online PSC | AU112: 2
D113: VV | F113: "křížení"(2,6)*(0,5+0,5)*(0,5+1,0) | H113: 3.9 | AT113: VV | AU113: 2 | AV113: 2 | AW113: True | AX113: 1 | AY113: ROZPOCET
C114: 7 | D114: K | E114: 132154203 | F114: Hloubení zapažených rýh šířky přes 800 do 2 000 mm strojně s urovnáním dna do předepsaného profilu a spádu v hornině třídy těžitelnosti I skupiny 1 a 2 přes 50 do 100 m3 | G114: m3 | H114: 73.099 | I114: 453 | J114: =ROUND(I114*H114,2) -> 33113.85 | K114: CS ÚRS 2024 01 | N114: základní | P114: =O114*H114 -> 0 | Q114: 0 | R114: =Q114*H114 -> 0 | S114: 0 | T114: =S114*H114 -> 0 | AR114: 4 | AT114: K | AU114: 2 | AY114: ROZPOCET | BE114: =IF(N114="základní",J114,0) -> 33113.85 | BF114: =IF(N114="snížená",J114,0) -> 0 | BG114: =IF(N114="zákl. přenesená",J114,0) -> 0 | BH114: =IF(N114="sníž. přenesená",J114,0) -> 0 | BI114: =IF(N114="nulová",J114,0) -> 0 | BJ114: 1 | BK114: =ROUND(I114*H114,2) -> 33113.85 | BL114: 4 | BM114: -445950759
D115: Online PSC | F115: https://podminky.urs.cz/item/CS_URS_2024_01/132154203 | AT115: Online PSC | AU115: 2
D116: VV | F116: "DN 300 mimo komunikaci nebo chodník"(33-4,9+6)*1,3*(3,5-0,47) | H116: 134.32 | AT116: VV | AU116: 2 | AV116: 2 | AW116: True | AX116: 0 | AY116: ROZPOCET
D117: VV | F117: "DN 300 v komunikaci nebo chodníku"4,9*1,3*(2,8-0,47) | H117: 14.842 | AT117: VV | AU117: 2 | AV117: 2 | AW117: True | AX117: 0 | AY117: ROZPOCET
D118: VV | F118: "rozšíření pro šachty"(3*3*3,5)*3 | H118: 94.5 | AT118: VV | AU118: 2 | AV118: 2 | AW118: True | AX118: 0 | AY118: ROZPOCET
D119: VV | F119: Mezisoučet | H119: 243.662 | AT119: VV | AU119: 2 | AV119: 3 | AW119: True | AX119: 0 | AY119: ROZPOCET
D120: VV | F120: "procentuální zastoupenost třídy težitelnosti"243,662*0,3 | H120: 73.099 | AT120: VV | AU120: 2 | AV120: 2 | AW120: True | AX120: 1 | AY120: ROZPOCET
C121: 8 | D121: K | E121: 132254202 | F121: Hloubení zapažených rýh šířky přes 800 do 2 000 mm strojně s urovnáním dna do předepsaného profilu a spádu v hornině třídy těžitelnosti I skupiny 3 přes 20 do 50 m3 | G121: m3 | H121: 48.732 | I121: 904 | J121: =ROUND(I121*H121,2) -> 44053.73 | K121: CS ÚRS 2024 01 | N121: základní | P121: =O121*H121 -> 0 | Q121: 0 | R121: =Q121*H121 -> 0 | S121: 0 | T121: =S121*H121 -> 0 | AR121: 4 | AT121: K | AU121: 2 | AY121: ROZPOCET | BE121: =IF(N121="základní",J121,0) -> 44053.73 | BF121: =IF(N121="snížená",J121,0) -> 0 | BG121: =IF(N121="zákl. přenesená",J121,0) -> 0 | BH121: =IF(N121="sníž. přenesená",J121,0) -> 0 | BI121: =IF(N121="nulová",J121,0) -> 0 | BJ121: 1 | BK121: =ROUND(I121*H121,2) -> 44053.73 | BL121: 4 | BM121: -1159823016
D122: Online PSC | F122: https://podminky.urs.cz/item/CS_URS_2024_01/132254202 | AT122: Online PSC | AU122: 2
D123: VV | F123: "DN 300 mimo komunikaci nebo chodník"(33-4,9+6)*1,3*(3,5-0,47) | H123: 134.32 | AT123: VV | AU123: 2 | AV123: 2 | AW123: True | AX123: 0 | AY123: ROZPOCET
D124: VV | F124: "DN 300 v komunikaci nebo chodníku"4,9*1,3*(2,8-0,47) | H124: 14.842 | AT124: VV | AU124: 2 | AV124: 2 | AW124: True | AX124: 0 | AY124: ROZPOCET
D125: VV | F125: "rozšíření pro šachty"(3*3*3,5)*3 | H125: 94.5 | AT125: VV | AU125: 2 | AV125: 2 | AW125: True | AX125: 0 | AY125: ROZPOCET
D126: VV | F126: Mezisoučet | H126: 243.662 | AT126: VV | AU126: 2 | AV126: 3 | AW126: True | AX126: 0 | AY126: ROZPOCET
D127: VV | F127: "procentuální zastoupenost třídy težitelnosti"243,662*0,2 | H127: 48.732 | AT127: VV | AU127: 2 | AV127: 2 | AW127: True | AX127: 1 | AY127: ROZPOCET
C128: 9 | D128: K | E128: 132354203 | F128: Hloubení zapažených rýh šířky přes 800 do 2 000 mm strojně s urovnáním dna do předepsaného profilu a spádu v hornině třídy těžitelnosti II skupiny 4 přes 50 do 100 m3 | G128: m3 | H128: 73.099 | I128: 968 | J128: =ROUND(I128*H128,2) -> 70759.83 | K128: CS ÚRS 2024 01 | N128: základní | P128: =O128*H128 -> 0 | Q128: 0 | R128: =Q128*H128 -> 0 | S128: 0 | T128: =S128*H128 -> 0 | AR128: 4 | AT128: K | AU128: 2 | AY128: ROZPOCET | BE128: =IF(N128="základní",J128,0) -> 70759.83 | BF128: =IF(N128="snížená",J128,0) -> 0 | BG128: =IF(N128="zákl. přenesená",J128,0) -> 0 | BH128: =IF(N128="sníž. přenesená",J128,0) -> 0 | BI128: =IF(N128="nulová",J128,0) -> 0 | BJ128: 1 | BK128: =ROUND(I128*H128,2) -> 70759.83 | BL128: 4 | BM128: 381101850
D129: Online PSC | F129: https://podminky.urs.cz/item/CS_URS_2024_01/132354203 | AT129: Online PSC | AU129: 2
D130: VV | F130: "DN 300 mimo komunikaci nebo chodník"(33-4,9+6)*1,3*(3,5-0,47) | H130: 134.32 | AT130: VV | AU130: 2 | AV130: 2 | AW130: True | AX130: 0 | AY130: ROZPOCET
D131: VV | F131: "DN 300 v komunikaci nebo chodníku"4,9*1,3*(2,8-0,47) | H131: 14.842 | AT131: VV | AU131: 2 | AV131: 2 | AW131: True | AX131: 0 | AY131: ROZPOCET
D132: VV | F132: "rozšíření pro šachty"(3*3*3,5)*3 | H132: 94.5 | AT132: VV | AU132: 2 | AV132: 2 | AW132: True | AX132: 0 | AY132: ROZPOCET
D133: VV | F133: Mezisoučet | H133: 243.662 | AT133: VV | AU133: 2 | AV133: 3 | AW133: True | AX133: 0 | AY133: ROZPOCET
...

Sheet 03 - Odtok do vodoteče
AT2: {0e5a1676-280f-4cda-86aa-2ab30d73541f}
AT3: 2
D4: KRYCÍ LIST SOUPISU PRACÍ | M4: v --- níže se nacházejí doplnkové a pomocné údaje k sestavám --- v | AT4: False
D6: Stavba:
E7: ='Rekapitulace stavby'!K6 -> Stavební úpravy přečerpávací stanice a odlehčovací komory 10 v ulici Sportovní
D8: Objekt:
E9: IO 01 - Trubní vedení
D10: Soupis:
E11: 03 - Odtok do vodoteče
D13: KSO: | F13: 827 21 51 | I13: CC-CZ:
D14: Místo: | F14: Český Brod | I14: Datum: | J14: ='Rekapitulace stavby'!AN8 -> 31. 1. 2024
D16: Zadavatel: | I16: IČ: | J16: 00235334
E17: Město Český Brod | I17: DIČ:
D19: Uchazeč: | I19: IČ: | J19: ='Rekapitulace stavby'!AN13 -> 47549793
E20: ='Rekapitulace stavby'!E14 -> 1.SčV, a.s. | I20: DIČ: | J20: ='Rekapitulace stavby'!AN14 -> CZ47549793
D22: Projektant: | I22: IČ:
E23: Ing. Petr Koblenc | I23: DIČ:
D25: Zpracovatel: | I25: IČ: | J25: 47116901
E26: Vodohospodářský rozvoj a výstavba a.s. | I26: DIČ:
D28: Poznámka:
D32: Cena bez DPH | J32: =ROUND(J93, 2) -> 936499.81
F34: Základ daně | I34: Sazba daně | J34: Výše daně
D35: DPH | E35: základní | F35: =ROUND((SUM(BE93:BE266)), 2) -> 936499.81 | I35: 0.21 | J35: =ROUND(((SUM(BE93:BE266))*I35), 2) -> 196664.96
E36: snížená | F36: =ROUND((SUM(BF93:BF266)), 2) -> 0 | I36: 0.15 | J36: =ROUND(((SUM(BF93:BF266))*I36), 2) -> 0
E37: zákl. přenesená | F37: =ROUND((SUM(BG93:BG266)), 2) -> 0 | I37: 0.21 | J37: =0 -> 0
E38: sníž. přenesená | F38: =ROUND((SUM(BH93:BH266)), 2) -> 0 | I38: 0.15 | J38: =0 -> 0
E39: nulová | F39: =ROUND((SUM(BI93:BI266)), 2) -> 0 | I39: 0 | J39: =0 -> 0
D41: Cena s DPH | G41: v | H41: CZK | J41: =SUM(J32:J39) -> 1133164.8
C47: REKAPITULACE ČLENĚNÍ SOUPISU PRACÍ
C49: Stavba:
E50: =E7 -> Stavební úpravy přečerpávací stanice a odlehčovací komory 10 v ulici Sportovní
C51: Objekt:
E52: IO 01 - Trubní vedení
C53: Soupis:
E54: =E11 -> 03 - Odtok do vodoteče
C56: Místo: | F56: =F14 -> Český Brod | I56: Datum: | J56: =IF(J14="","",J14) -> 31. 1. 2024
C58: Zadavatel: | F58: =E17 -> Město Český Brod | I58: Projektant: | J58: =E23 -> Ing. Petr Koblenc
C59: Uchazeč: | F59: =IF(E20="","",E20) -> 1.SčV, a.s. | I59: Zpracovatel: | J59: =E26 -> Vodohospodářský rozvoj a výstavba a.s.
C61: Kód dílu - Popis | J61: Cena celkem [CZK]
C63: Náklady stavby celkem | J63: =J93 -> 936499.81 | AU63: -1
D64: HSV - Práce a dodávky HSV | J64: =J94 -> 936499.81
D65: 1.3 - Výkopové práce | J65: =J95 -> 171075.61
D66: 1.4 - Zemní práce - přesuny | J66: =J146 -> 81811.02
D67: 4 - Vodorovné konstrukce | J67: =J172 -> 160027.39
D68: 8.1 - Potrubí | J68: =J208 -> 313527.57
D69: 8.2 - Kanalizační šachty prefabrikované | J69: =J215 -> 162794.45
D70: 8.4 - Trubní vedení - ostatní | J70: =J250 -> 10095.05
D71: 998 - Přesun hmot | J71: =J264 -> 37168.72
C78: SOUPIS PRACÍ
C80: Stavba:
E81: =E7 -> Stavební úpravy přečerpávací stanice a odlehčovací komory 10 v ulici Sportovní
C82: Objekt:
E83: IO 01 - Trubní vedení
C84: Soupis:
E85: =E11 -> 03 - Odtok do vodoteče
C87: Místo: | F87: =F14 -> Český Brod | I87: Datum: | J87: =IF(J14="","",J14) -> 31. 1. 2024
C89: Zadavatel: | F89: =E17 -> Město Český Brod | I89: Projektant: | J89: =E23 -> Ing. Petr Koblenc
C90: Uchazeč: | F90: =IF(E20="","",E20) -> 1.SčV, a.s. | I90: Zpracovatel: | J90: =E26 -> Vodohospodářský rozvoj a výstavba a.s.
C92: PČ | D92: Typ | E92: Kód | F92: Popis | G92: MJ | H92: Množství | I92: J.cena [CZK] | J92: Cena celkem [CZK] | K92: Cenová soustava | N92: DPH | O92: J. Nh [h] | P92: Nh celkem [h] | Q92: J. hmotnost [t] | R92: Hmotnost celkem [t] | S92: J. suť [t] | T92: Suť Celkem [t]
C93: Náklady soupisu celkem | J93: =BK93 -> 936499.81 | P93: =P94 -> 0 | R93: =R94 -> 32.044006 | T93: =T94 -> 0 | AT93: D | AU93: -1 | BK93: =BK94 -> 936499.81
D94: D | E94: HSV | F94: Práce a dodávky HSV | J94: =BK94 -> 936499.81 | P94: =P95+P146+P172+P208+P215+P250+P264 -> 0 | R94: =R95+R146+R172+R208+R215+R250+R264 -> 32.044006 | T94: =T95+T146+T172+T208+T215+T250+T264 -> 0 | AR94: 1 | AT94: D | AU94: 0 | AY94: ROZPOCET | BK94: =BK95+BK146+BK172+BK208+BK215+BK250+BK264 -> 936499.81
D95: D | E95: 1.3 | F95: Výkopové práce | J95: =BK95 -> 171075.61 | P95: =SUM(P96:P145) -> 0 | R95: =SUM(R96:R145) -> 0.20797106 | T95: =SUM(T96:T145) -> 0 | AR95: 1 | AT95: D | AU95: 1 | AY95: ROZPOCET | BK95: =SUM(BK96:BK145) -> 171075.61
C96: 1 | D96: K | E96: 115101202 | F96: Čerpání vody na dopravní výšku do 10 m s uvažovaným průměrným přítokem přes 500 do 1 000 l/min | G96: hod | H96: 50 | I96: 73 | J96: =ROUND(I96*H96,2) -> 3650 | K96: CS ÚRS 2024 01 | N96: základní | P96: =O96*H96 -> 0 | Q96: 4e-05 | R96: =Q96*H96 -> 0.002 | S96: 0 | T96: =S96*H96 -> 0 | AR96: 4 | AT96: K | AU96: 2 | AY96: ROZPOCET | BE96: =IF(N96="základní",J96,0) -> 3650 | BF96: =IF(N96="snížená",J96,0) -> 0 | BG96: =IF(N96="zákl. přenesená",J96,0) -> 0 | BH96: =IF(N96="sníž. přenesená",J96,0) -> 0 | BI96: =IF(N96="nulová",J96,0) -> 0 | BJ96: 1 | BK96: =ROUND(I96*H96,2) -> 3650 | BL96: 4 | BM96: 186328994
D97: Online PSC | F97: https://podminky.urs.cz/item/CS_URS_2024_01/115101202 | AT97: Online PSC | AU97: 2
D98: VV | F98: "čerpání deš´tových vod"50 | H98: 50 | AT98: VV | AU98: 2 | AV98: 2 | AW98: True | AX98: 1 | AY98: ROZPOCET
C99: 2 | D99: K | E99: 115101302 | F99: Pohotovost záložní čerpací soupravy pro dopravní výšku do 10 m s uvažovaným průměrným přítokem přes 500 do 1 000 l/min | G99: den | H99: 100 | I99: 35 | J99: =ROUND(I99*H99,2) -> 3500 | K99: CS ÚRS 2024 01 | N99: základní | P99: =O99*H99 -> 0 | Q99: 0 | R99: =Q99*H99 -> 0 | S99: 0 | T99: =S99*H99 -> 0 | AR99: 4 | AT99: K | AU99: 2 | AY99: ROZPOCET | BE99: =IF(N99="základní",J99,0) -> 3500 | BF99: =IF(N99="snížená",J99,0) -> 0 | BG99: =IF(N99="zákl. přenesená",J99,0) -> 0 | BH99: =IF(N99="sníž. přenesená",J99,0) -> 0 | BI99: =IF(N99="nulová",J99,0) -> 0 | BJ99: 1 | BK99: =ROUND(I99*H99,2) -> 3500 | BL99: 4 | BM99: -460299155
D100: Online PSC | F100: https://podminky.urs.cz/item/CS_URS_2024_01/115101302 | AT100: Online PSC | AU100: 2
D101: VV | F101: "pohotovost čerpací stanice po dobu realizace"100 | H101: 100 | AT101: VV | AU101: 2 | AV101: 2 | AW101: True | AX101: 1 | AY101: ROZPOCET
C102: 3 | D102: K | E102: 119001421 | F102: Dočasné zajištění podzemního potrubí nebo vedení ve výkopišti ve stavu i poloze, ve kterých byla na začátku zemních prací a to s podepřením, vzepřením nebo vyvěšením, případně s ochranným bedněním, se zřízením a odstraněním zajišťovací konstrukce, s opotřebením hmot kabelů a kabelových tratí z volně ložených kabelů a to do 3 kabelů | G102: m | H102: 4 | I102: 428.73 | J102: =ROUND(I102*H102,2) -> 1714.92 | K102: CS ÚRS 2024 01 | N102: základní | P102: =O102*H102 -> 0 | Q102: 0.0369 | R102: =Q102*H102 -> 0.1476 | S102: 0 | T102: =S102*H102 -> 0 | AR102: 4 | AT102: K | AU102: 2 | AY102: ROZPOCET | BE102: =IF(N102="základní",J102,0) -> 1714.92 | BF102: =IF(N102="snížená",J102,0) -> 0 | BG102: =IF(N102="zákl. přenesená",J102,0) -> 0 | BH102: =IF(N102="sníž. přenesená",J102,0) -> 0 | BI102: =IF(N102="nulová",J102,0) -> 0 | BJ102: 1 | BK102: =ROUND(I102*H102,2) -> 1714.92 | BL102: 4 | BM102: -875804277
D103: Online PSC | F103: https://podminky.urs.cz/item/CS_URS_2024_01/119001421 | AT103: Online PSC | AU103: 2
D104: VV | F104: "zajištění stávajícího kabelu na šířku rýhy"2*2,0 | H104: 4 | AT104: VV | AU104: 2 | AV104: 2 | AW104: True | AX104: 1 | AY104: ROZPOCET
C105: 4 | D105: K | E105: 139001101 | F105: Příplatek k cenám hloubených vykopávek za ztížení vykopávky v blízkosti podzemního vedení nebo výbušnin pro jakoukoliv třídu horniny | G105: m3 | H105: 6 | I105: 594 | J105: =ROUND(I105*H105,2) -> 3564 | K105: CS ÚRS 2024 01 | N105: základní | P105: =O105*H105 -> 0 | Q105: 0 | R105: =Q105*H105 -> 0 | S105: 0 | T105: =S105*H105 -> 0 | AR105: 4 | AT105: K | AU105: 2 | AY105: ROZPOCET | BE105: =IF(N105="základní",J105,0) -> 3564 | BF105: =IF(N105="snížená",J105,0) -> 0 | BG105: =IF(N105="zákl. přenesená",J105,0) -> 0 | BH105: =IF(N105="sníž. přenesená",J105,0) -> 0 | BI105: =IF(N105="nulová",J105,0) -> 0 | BJ105: 1 | BK105: =ROUND(I105*H105,2) -> 3564 | BL105: 4 | BM105: 1836799151
D106: Online PSC | F106: https://podminky.urs.cz/item/CS_URS_2024_01/139001101 | AT106: Online PSC | AU106: 2
D107: VV | F107: "křížení"(4)*(0,5+0,5)*(0,5+1,0) | H107: 6 | AT107: VV | AU107: 2 | AV107: 2 | AW107: True | AX107: 1 | AY107: ROZPOCET
C108: 5 | D108: K | E108: 132154202 | F108: Hloubení zapažených rýh šířky přes 800 do 2 000 mm strojně s urovnáním dna do předepsaného profilu a spádu v hornině třídy těžitelnosti I skupiny 1 a 2 přes 20 do 50 m3 | G108: m3 | H108: 48.31 | I108: 566 | J108: =ROUND(I108*H108,2) -> 27343.46 | K108: CS ÚRS 2024 01 | N108: základní | P108: =O108*H108 -> 0 | Q108: 0 | R108: =Q108*H108 -> 0 | S108: 0 | T108: =S108*H108 -> 0 | AR108: 4 | AT108: K | AU108: 2 | AY108: ROZPOCET | BE108: =IF(N108="základní",J108,0) -> 27343.46 | BF108: =IF(N108="snížená",J108,0) -> 0 | BG108: =IF(N108="zákl. přenesená",J108,0) -> 0 | BH108: =IF(N108="sníž. přenesená",J108,0) -> 0 | BI108: =IF(N108="nulová",J108,0) -> 0 | BJ108: 1 | BK108: =ROUND(I108*H108,2) -> 27343.46 | BL108: 4 | BM108: 1312439553
D109: Online PSC | F109: https://podminky.urs.cz/item/CS_URS_2024_01/132154202 | AT109: Online PSC | AU109: 2
D110: VV | F110: "DN 800 mimo komunikaci nebo chodník"(14,7+6,2+6-8)*2,0*(2,3-0,47) | H110: 69.174 | AT110: VV | AU110: 2 | AV110: 2 | AW110: True | AX110: 0 | AY110: ROZPOCET
D111: VV | F111: "DN 800 v komunikaci nebo chodníku"8,0*2,0*(2,3-0,44) | H111: 29.76 | AT111: VV | AU111: 2 | AV111: 2 | AW111: True | AX111: 0 | AY111: ROZPOCET
D112: VV | F112: "rozšíření pro šachty, včetně Š11"(3*3*2,3)*3 | H112: 62.1 | AT112: VV | AU112: 2 | AV112: 2 | AW112: True | AX112: 0 | AY112: ROZPOCET
D113: VV | F113: Mezisoučet | H113: 161.034 | AT113: VV | AU113: 2 | AV113: 3 | AW113: True | AX113: 0 | AY113: ROZPOCET
D114: VV | F114: "procentuální zastoupenost třídy težitelnosti"161,034*0,3 | H114: 48.31 | AT114: VV | AU114: 2 | AV114: 2 | AW114: True | AX114: 1 | AY114: ROZPOCET
C115: 6 | D115: K | E115: 132254202 | F115: Hloubení zapažených rýh šířky přes 800 do 2 000 mm strojně s urovnáním dna do předepsaného profilu a spádu v hornině třídy těžitelnosti I skupiny 3 přes 20 do 50 m3 | G115: m3 | H115: 32.207 | I115: 904 | J115: =ROUND(I115*H115,2) -> 29115.13 | K115: CS ÚRS 2024 01 | N115: základní | P115: =O115*H115 -> 0 | Q115: 0 | R115: =Q115*H115 -> 0 | S115: 0 | T115: =S115*H115 -> 0 | AR115: 4 | AT115: K | AU115: 2 | AY115: ROZPOCET | BE115: =IF(N115="základní",J115,0) -> 29115.13 | BF115: =IF(N115="snížená",J115,0) -> 0 | BG115: =IF(N115="zákl. přenesená",J115,0) -> 0 | BH115: =IF(N115="sníž. přenesená",J115,0) -> 0 | BI115: =IF(N115="nulová",J115,0) -> 0 | BJ115: 1 | BK115: =ROUND(I115*H115,2) -> 29115.13 | BL115: 4 | BM115: 819775298
D116: Online PSC | F116: https://podminky.urs.cz/item/CS_URS_2024_01/132254202 | AT116: Online PSC | AU116: 2
D117: VV | F117: "DN 800 mimo komunikaci nebo chodník"(14,7+6,2+6-8)*2,0*(2,3-0,47) | H117: 69.174 | AT117: VV | AU117: 2 | AV117: 2 | AW117: True | AX117: 0 | AY117: ROZPOCET
D118: VV | F118: "DN 800 v komunikaci nebo chodníku"8,0*2,0*(2,3-0,44) | H118: 29.76 | AT118: VV | AU118: 2 | AV118: 2 | AW118: True | AX118: 0 | AY118: ROZPOCET
D119: VV | F119: "rozšíření pro šachty, včetně Š11"(3*3*2,3)*3 | H119: 62.1 | AT119: VV | AU119: 2 | AV119: 2 | AW119: True | AX119: 0 | AY119: ROZPOCET
D120: VV | F120: Mezisoučet | H120: 161.034 | AT120: VV | AU120: 2 | AV120: 3 | AW120: True | AX120: 0 | AY120: ROZPOCET
D121: VV | F121: "procentuální zastoupenost třídy težitelnosti"161,034*0,2 | H121: 32.207 | AT121: VV | AU121: 2 | AV121: 2 | AW121: True | AX121: 1 | AY121: ROZPOCET
C122: 7 | D122: K | E122: 132354202 | F122: Hloubení zapažených rýh šířky přes 800 do 2 000 mm strojně s urovnáním dna do předepsaného profilu a spádu v hornině třídy těžitelnosti II skupiny 4 přes 20 do 50 m3 | G122: m3 | H122: 48.31 | I122: 1220 | J122: =ROUND(I122*H122,2) -> 58938.2 | K122: CS ÚRS 2024 01 | N122: základní | P122: =O122*H122 -> 0 | Q122: 0 | R122: =Q122*H122 -> 0 | S122: 0 | T122: =S122*H122 -> 0 | AR122: 4 | AT122: K | AU122: 2 | AY122: ROZPOCET | BE122: =IF(N122="základní",J122,0) -> 58938.2 | BF122: =IF(N122="snížená",J122,0) -> 0 | BG122: =IF(N122="zákl. přenesená",J122,0) -> 0 | BH122: =IF(N122="sníž. přenesená",J122,0) -> 0 | BI122: =IF(N122="nulová",J122,0) -> 0 | BJ122: 1 | BK122: =ROUND(I122*H122,2) -> 58938.2 | BL122: 4 | BM122: -2105881218
D123: Online PSC | F123: https://podminky.urs.cz/item/CS_URS_2024_01/132354202 | AT123: Online PSC | AU123: 2
D124: VV | F124: "DN 800 mimo komunikaci nebo chodník"(14,7+6,2+6-8)*2,0*(2,3-0,47) | H124: 69.174 | AT124: VV | AU124: 2 | AV124: 2 | AW124: True | AX124: 0 | AY124: ROZPOCET
D125: VV | F125: "DN 800 v komunikaci nebo chodníku"8,0*2,0*(2,3-0,44) | H125: 29.76 | AT125: VV | AU125: 2 | AV125: 2 | AW125: True | AX125: 0 | AY125: ROZPOCET
D126: VV | F126: "rozšíření pro šachty, včetně Š11"(3*3*2,3)*3 | H126: 62.1 | AT126: VV | AU126: 2 | AV126: 2 | AW126: True | AX126: 0 | AY126: ROZPOCET
D127: VV | F127: Mezisoučet | H127: 161.034 | AT127: VV | AU127: 2 | AV127: 3 | AW127: True | AX127: 0 | AY127: ROZPOCET
D128: VV | F128: "procentuální zastoupenost třídy težitelnosti"161,034*0,3 | H128: 48.31 | AT128: VV | AU128: 2 | AV128: 2 | AW128: True | AX128: 1 | AY128: ROZPOCET
C129: 8 | D129: K | E129: 132454202 | F129: Hloubení zapažených rýh šířky přes 800 do 2 000 mm strojně s urovnáním dna do předepsaného profilu a spádu v hornině třídy těžitelnosti II skupiny 5 přes 20 do 50 m3 | G129: m3 | H129: 32.207 | I129: 1220 | J129: =ROUND(I129*H129,2) -> 39292.54 | K129: CS ÚRS 2024 01 | N129: základní | P129: =O129*H129 -> 0 | Q129: 0 | R129: =Q129*H129 -> 0 | S129: 0 | T129: =S129*H129 -> 0 | AR129: 4 | AT129: K | AU129: 2 | AY129: ROZPOCET | BE129: =IF(N129="základní",J129,0) -> 39292.54 | BF129: =IF(N129="snížená",J129,0) -> 0 | BG129: =IF(N129="zákl. přenesená",J129,0) -> 0 | BH129: =IF(N129="sníž. přenesená",J129,0) -> 0 | BI129: =IF(N129="nulová",J129,0) -> 0 | BJ129: 1 | BK129: =ROUND(I129*H129,2) -> 39292.54 | BL129: 4 | BM129: 1050578133
D130: Online PSC | F130: https://podminky.urs.cz/item/CS_URS_2024_01/132454202 | AT130: Online PSC | AU130: 2
D131: VV | F131: "DN 800 mimo komunikaci nebo chodník"(14,7+6,2+6-8)*2,0*(2,3-0,47) | H131: 69.174 | AT131: VV | AU131: 2 | AV131: 2 | AW131: True | AX131: 0 | AY131: ROZPOCET
D132: VV | F132: "DN 800 v komunikaci nebo chodníku"8,0*2,0*(2,3-0,44) | H132: 29.76 | AT132: VV | AU132: 2 | AV132: 2 | AW132: True | AX132: 0 | AY132: ROZPOCET
D133: VV | F133: "rozšíření pro šachty, včetně Š11"(3*3*2,3)*3 | H133: 62.1 | AT133: VV | AU133: 2 | AV133: 2 | AW133: True | AX133: 0 | AY133: ROZPOCET
...

Sheet 04 - Výtlak ČS
AT2: {bccb4e4c-8d9f-4f93-870a-487279b1cdb2}
AT3: 2
D4: KRYCÍ LIST SOUPISU PRACÍ | M4: v --- níže se nacházejí doplnkové a pomocné údaje k sestavám --- v | AT4: False
D6: Stavba:
E7: ='Rekapitulace stavby'!K6 -> Stavební úpravy přečerpávací stanice a odlehčovací komory 10 v ulici Sportovní
D8: Objekt:
E9: IO 01 - Trubní vedení
D10: Soupis:
E11: 04 - Výtlak ČS
D13: KSO: | F13: 827 21 51 | I13: CC-CZ:
D14: Místo: | F14: Český Brod | I14: Datum: | J14: ='Rekapitulace stavby'!AN8 -> 31. 1. 2024
D16: Zadavatel: | I16: IČ: | J16: 00235334
E17: Město Český Brod | I17: DIČ:
D19: Uchazeč: | I19: IČ: | J19: ='Rekapitulace stavby'!AN13 -> 47549793
E20: ='Rekapitulace stavby'!E14 -> 1.SčV, a.s. | I20: DIČ: | J20: ='Rekapitulace stavby'!AN14 -> CZ47549793
D22: Projektant: | I22: IČ:
E23: Ing. Petr Koblenc | I23: DIČ:
D25: Zpracovatel: | I25: IČ: | J25: 47116901
E26: Vodohospodářský rozvoj a výstavba a.s. | I26: DIČ:
D28: Poznámka:
D32: Cena bez DPH | J32: =ROUND(J92, 2) -> 435916.53
F34: Základ daně | I34: Sazba daně | J34: Výše daně
D35: DPH | E35: základní | F35: =ROUND((SUM(BE92:BE223)), 2) -> 435916.53 | I35: 0.21 | J35: =ROUND(((SUM(BE92:BE223))*I35), 2) -> 91542.47
E36: snížená | F36: =ROUND((SUM(BF92:BF223)), 2) -> 0 | I36: 0.15 | J36: =ROUND(((SUM(BF92:BF223))*I36), 2) -> 0
E37: zákl. přenesená | F37: =ROUND((SUM(BG92:BG223)), 2) -> 0 | I37: 0.21 | J37: =0 -> 0
E38: sníž. přenesená | F38: =ROUND((SUM(BH92:BH223)), 2) -> 0 | I38: 0.15 | J38: =0 -> 0
E39: nulová | F39: =ROUND((SUM(BI92:BI223)), 2) -> 0 | I39: 0 | J39: =0 -> 0
D41: Cena s DPH | G41: v | H41: CZK | J41: =SUM(J32:J39) -> 527459
C47: REKAPITULACE ČLENĚNÍ SOUPISU PRACÍ
C49: Stavba:
E50: =E7 -> Stavební úpravy přečerpávací stanice a odlehčovací komory 10 v ulici Sportovní
C51: Objekt:
E52: IO 01 - Trubní vedení
C53: Soupis:
E54: =E11 -> 04 - Výtlak ČS
C56: Místo: | F56: =F14 -> Český Brod | I56: Datum: | J56: =IF(J14="","",J14) -> 31. 1. 2024
C58: Zadavatel: | F58: =E17 -> Město Český Brod | I58: Projektant: | J58: =E23 -> Ing. Petr Koblenc
C59: Uchazeč: | F59: =IF(E20="","",E20) -> 1.SčV, a.s. | I59: Zpracovatel: | J59: =E26 -> Vodohospodářský rozvoj a výstavba a.s.
C61: Kód dílu - Popis | J61: Cena celkem [CZK]
C63: Náklady stavby celkem | J63: =J92 -> 435916.53 | AU63: -1
D64: HSV - Práce a dodávky HSV | J64: =J93 -> 435916.53
D65: 1.3 - Výkopové práce | J65: =J94 -> 155800.99
D66: 1.4 - Zemní práce - přesuny | J66: =J141 -> 49643.3
D67: 4 - Vodorovné konstrukce | J67: =J156 -> 117885.67
D68: 8.1 - Potrubí | J68: =J178 -> 85514.78
D69: 8.4 - Trubní vedení - ostatní | J69: =J203 -> 23525.03
D70: 998 - Přesun hmot | J70: =J219 -> 3546.76
C77: SOUPIS PRACÍ
C79: Stavba:
E80: =E7 -> Stavební úpravy přečerpávací stanice a odlehčovací komory 10 v ulici Sportovní
C81: Objekt:
E82: IO 01 - Trubní vedení
C83: Soupis:
E84: =E11 -> 04 - Výtlak ČS
C86: Místo: | F86: =F14 -> Český Brod | I86: Datum: | J86: =IF(J14="","",J14) -> 31. 1. 2024
C88: Zadavatel: | F88: =E17 -> Město Český Brod | I88: Projektant: | J88: =E23 -> Ing. Petr Koblenc
C89: Uchazeč: | F89: =IF(E20="","",E20) -> 1.SčV, a.s. | I89: Zpracovatel: | J89: =E26 -> Vodohospodářský rozvoj a výstavba a.s.
C91: PČ | D91: Typ | E91: Kód | F91: Popis | G91: MJ | H91: Množství | I91: J.cena [CZK] | J91: Cena celkem [CZK] | K91: Cenová soustava | N91: DPH | O91: J. Nh [h] | P91: Nh celkem [h] | Q91: J. hmotnost [t] | R91: Hmotnost celkem [t] | S91: J. suť [t] | T91: Suť Celkem [t]
C92: Náklady soupisu celkem | J92: =BK92 -> 435916.53 | P92: =P93 -> 0 | R92: =R93 -> 1.6832072 | T92: =T93 -> 0 | AT92: D | AU92: -1 | BK92: =BK93 -> 435916.53
D93: D | E93: HSV | F93: Práce a dodávky HSV | J93: =BK93 -> 435916.53 | P93: =P94+P141+P156+P178+P203+P219 -> 0 | R93: =R94+R141+R156+R178+R203+R219 -> 1.6832072 | T93: =T94+T141+T156+T178+T203+T219 -> 0 | AR93: 1 | AT93: D | AU93: 0 | AY93: ROZPOCET | BK93: =BK94+BK141+BK156+BK178+BK203+BK219 -> 435916.53
D94: D | E94: 1.3 | F94: Výkopové práce | J94: =BK94 -> 155800.99 | P94: =SUM(P95:P140) -> 0 | R94: =SUM(R95:R140) -> 0.36299116 | T94: =SUM(T95:T140) -> 0 | AR94: 1 | AT94: D | AU94: 1 | AY94: ROZPOCET | BK94: =SUM(BK95:BK140) -> 155800.99
C95: 1 | D95: K | E95: 115101202 | F95: Čerpání vody na dopravní výšku do 10 m s uvažovaným průměrným přítokem přes 500 do 1 000 l/min | G95: hod | H95: 25 | I95: 73 | J95: =ROUND(I95*H95,2) -> 1825 | K95: CS ÚRS 2024 01 | N95: základní | P95: =O95*H95 -> 0 | Q95: 4e-05 | R95: =Q95*H95 -> 0.001 | S95: 0 | T95: =S95*H95 -> 0 | AR95: 4 | AT95: K | AU95: 2 | AY95: ROZPOCET | BE95: =IF(N95="základní",J95,0) -> 1825 | BF95: =IF(N95="snížená",J95,0) -> 0 | BG95: =IF(N95="zákl. přenesená",J95,0) -> 0 | BH95: =IF(N95="sníž. přenesená",J95,0) -> 0 | BI95: =IF(N95="nulová",J95,0) -> 0 | BJ95: 1 | BK95: =ROUND(I95*H95,2) -> 1825 | BL95: 4 | BM95: -248475068
D96: Online PSC | F96: https://podminky.urs.cz/item/CS_URS_2024_01/115101202 | AT96: Online PSC | AU96: 2
D97: VV | F97: "čerpání deš´tových vod"25 | H97: 25 | AT97: VV | AU97: 2 | AV97: 2 | AW97: True | AX97: 1 | AY97: ROZPOCET
C98: 2 | D98: K | E98: 115101302 | F98: Pohotovost záložní čerpací soupravy pro dopravní výšku do 10 m s uvažovaným průměrným přítokem přes 500 do 1 000 l/min | G98: den | H98: 30 | I98: 35 | J98: =ROUND(I98*H98,2) -> 1050 | K98: CS ÚRS 2024 01 | N98: základní | P98: =O98*H98 -> 0 | Q98: 0 | R98: =Q98*H98 -> 0 | S98: 0 | T98: =S98*H98 -> 0 | AR98: 4 | AT98: K | AU98: 2 | AY98: ROZPOCET | BE98: =IF(N98="základní",J98,0) -> 1050 | BF98: =IF(N98="snížená",J98,0) -> 0 | BG98: =IF(N98="zákl. přenesená",J98,0) -> 0 | BH98: =IF(N98="sníž. přenesená",J98,0) -> 0 | BI98: =IF(N98="nulová",J98,0) -> 0 | BJ98: 1 | BK98: =ROUND(I98*H98,2) -> 1050 | BL98: 4 | BM98: 820879010
D99: Online PSC | F99: https://podminky.urs.cz/item/CS_URS_2024_01/115101302 | AT99: Online PSC | AU99: 2
D100: VV | F100: "pohotovost čerpací stanice po dobu realizace"30 | H100: 30 | AT100: VV | AU100: 2 | AV100: 2 | AW100: True | AX100: 1 | AY100: ROZPOCET
C101: 3 | D101: K | E101: 119001421 | F101: Dočasné zajištění podzemního potrubí nebo vedení ve výkopišti ve stavu i poloze, ve kterých byla na začátku zemních prací a to s podepřením, vzepřením nebo vyvěšením, případně s ochranným bedněním, se zřízením a odstraněním zajišťovací konstrukce, s opotřebením hmot kabelů a kabelových tratí z volně ložených kabelů a to do 3 kabelů | G101: m | H101: 3.3 | I101: 428.73 | J101: =ROUND(I101*H101,2) -> 1414.81 | K101: CS ÚRS 2024 01 | N101: základní | P101: =O101*H101 -> 0 | Q101: 0.0369 | R101: =Q101*H101 -> 0.12177 | S101: 0 | T101: =S101*H101 -> 0 | AR101: 4 | AT101: K | AU101: 2 | AY101: ROZPOCET | BE101: =IF(N101="základní",J101,0) -> 1414.81 | BF101: =IF(N101="snížená",J101,0) -> 0 | BG101: =IF(N101="zákl. přenesená",J101,0) -> 0 | BH101: =IF(N101="sníž. přenesená",J101,0) -> 0 | BI101: =IF(N101="nulová",J101,0) -> 0 | BJ101: 1 | BK101: =ROUND(I101*H101,2) -> 1414.81 | BL101: 4 | BM101: 2081017718
D102: Online PSC | F102: https://podminky.urs.cz/item/CS_URS_2024_01/119001421 | AT102: Online PSC | AU102: 2
D103: VV | F103: "zajištění stávajícího kabelu na šířku rýhy"3*1,1 | H103: 3.3 | AT103: VV | AU103: 2 | AV103: 2 | AW103: True | AX103: 1 | AY103: ROZPOCET
C104: 4 | D104: K | E104: 119001405 | F104: Dočasné zajištění podzemního potrubí nebo vedení ve výkopišti ve stavu i poloze, ve kterých byla na začátku zemních prací a to s podepřením, vzepřením nebo vyvěšením, případně s ochranným bedněním, se zřízením a odstraněním zajišťovací konstrukce, s opotřebením hmot potrubí plastového, jmenovité světlosti DN do 200 mm | G104: m | H104: 2.2 | I104: 428.73 | J104: =ROUND(I104*H104,2) -> 943.21 | K104: CS ÚRS 2024 01 | N104: základní | P104: =O104*H104 -> 0 | Q104: 0.0369 | R104: =Q104*H104 -> 0.08118 | S104: 0 | T104: =S104*H104 -> 0 | AR104: 4 | AT104: K | AU104: 2 | AY104: ROZPOCET | BE104: =IF(N104="základní",J104,0) -> 943.21 | BF104: =IF(N104="snížená",J104,0) -> 0 | BG104: =IF(N104="zákl. přenesená",J104,0) -> 0 | BH104: =IF(N104="sníž. přenesená",J104,0) -> 0 | BI104: =IF(N104="nulová",J104,0) -> 0 | BJ104: 1 | BK104: =ROUND(I104*H104,2) -> 943.21 | BL104: 4 | BM104: 533744338
D105: Online PSC | F105: https://podminky.urs.cz/item/CS_URS_2024_01/119001405 | AT105: Online PSC | AU105: 2
D106: VV | F106: "zajištění stávajícího vodovodu na šířku rýhy"2*1,1 | H106: 2.2 | AT106: VV | AU106: 2 | AV106: 2 | AW106: True | AX106: 1 | AY106: ROZPOCET
C107: 5 | D107: K | E107: 119001412 | F107: Dočasné zajištění podzemního potrubí nebo vedení ve výkopišti ve stavu i poloze, ve kterých byla na začátku zemních prací a to s podepřením, vzepřením nebo vyvěšením, případně s ochranným bedněním, se zřízením a odstraněním zajišťovací konstrukce, s opotřebením hmot potrubí betonového, kameninového nebo železobetonového, světlosti DN přes 200 do 500 mm | G107: m | H107: 3.3 | I107: 428.73 | J107: =ROUND(I107*H107,2) -> 1414.81 | K107: CS ÚRS 2024 01 | N107: základní | P107: =O107*H107 -> 0 | Q107: 0.01269 | R107: =Q107*H107 -> 0.041877 | S107: 0 | T107: =S107*H107 -> 0 | AR107: 4 | AT107: K | AU107: 2 | AY107: ROZPOCET | BE107: =IF(N107="základní",J107,0) -> 1414.81 | BF107: =IF(N107="snížená",J107,0) -> 0 | BG107: =IF(N107="zákl. přenesená",J107,0) -> 0 | BH107: =IF(N107="sníž. přenesená",J107,0) -> 0 | BI107: =IF(N107="nulová",J107,0) -> 0 | BJ107: 1 | BK107: =ROUND(I107*H107,2) -> 1414.81 | BL107: 4 | BM107: 642462186
D108: Online PSC | F108: https://podminky.urs.cz/item/CS_URS_2024_01/119001412 | AT108: Online PSC | AU108: 2
D109: VV | F109: "zajištění stávající kanalizace na šířku rýhy"3*1,1 | H109: 3.3 | AT109: VV | AU109: 2 | AV109: 2 | AW109: True | AX109: 1 | AY109: ROZPOCET
C110: 6 | D110: K | E110: 119001412_R1 | F110: Dočasné zajištění podzemního potrubí nebo vedení ve výkopišti ve stavu i poloze, ve kterých byla na začátku zemních prací a to s podepřením, vzepřením nebo vyvěšením, případně s ochranným bedněním, se zřízením a odstraněním zajišťovací konstrukce, s opotř | G110: m | H110: 1.1 | I110: 428.73 | J110: =ROUND(I110*H110,2) -> 471.6 | N110: základní | P110: =O110*H110 -> 0 | Q110: 0.01269 | R110: =Q110*H110 -> 0.013959 | S110: 0 | T110: =S110*H110 -> 0 | AR110: 4 | AT110: K | AU110: 2 | AY110: ROZPOCET | BE110: =IF(N110="základní",J110,0) -> 471.6 | BF110: =IF(N110="snížená",J110,0) -> 0 | BG110: =IF(N110="zákl. přenesená",J110,0) -> 0 | BH110: =IF(N110="sníž. přenesená",J110,0) -> 0 | BI110: =IF(N110="nulová",J110,0) -> 0 | BJ110: 1 | BK110: =ROUND(I110*H110,2) -> 471.6 | BL110: 4 | BM110: -1244946913
D111: VV | F111: "zajištění stávající kanalizace na šířku rýhy"1*1,1 | H111: 1.1 | AT111: VV | AU111: 2 | AV111: 2 | AW111: True | AX111: 1 | AY111: ROZPOCET
C112: 7 | D112: K | E112: 139001101 | F112: Příplatek k cenám hloubených vykopávek za ztížení vykopávky v blízkosti podzemního vedení nebo výbušnin pro jakoukoliv třídu horniny | G112: m3 | H112: 14.85 | I112: 594 | J112: =ROUND(I112*H112,2) -> 8820.9 | K112: CS ÚRS 2024 01 | N112: základní | P112: =O112*H112 -> 0 | Q112: 0 | R112: =Q112*H112 -> 0 | S112: 0 | T112: =S112*H112 -> 0 | AR112: 4 | AT112: K | AU112: 2 | AY112: ROZPOCET | BE112: =IF(N112="základní",J112,0) -> 8820.9 | BF112: =IF(N112="snížená",J112,0) -> 0 | BG112: =IF(N112="zákl. přenesená",J112,0) -> 0 | BH112: =IF(N112="sníž. přenesená",J112,0) -> 0 | BI112: =IF(N112="nulová",J112,0) -> 0 | BJ112: 1 | BK112: =ROUND(I112*H112,2) -> 8820.9 | BL112: 4 | BM112: 1276310203
D113: Online PSC | F113: https://podminky.urs.cz/item/CS_URS_2024_01/139001101 | AT113: Online PSC | AU113: 2
D114: VV | F114: (3,3+2,2+3,3+1,1)*(0,5+0,5)*(0,5+1,0) | H114: 14.85 | AT114: VV | AU114: 2 | AV114: 2 | AW114: True | AX114: 1 | AY114: ROZPOCET
C115: 8 | D115: K | E115: 132154201 | F115: Hloubení zapažených rýh šířky přes 800 do 2 000 mm strojně s urovnáním dna do předepsaného profilu a spádu v hornině třídy těžitelnosti I skupiny 1 a 2 do 20 m3 | G115: m3 | H115: 28.862 | I115: 740 | J115: =ROUND(I115*H115,2) -> 21357.88 | K115: CS ÚRS 2024 01 | N115: základní | P115: =O115*H115 -> 0 | Q115: 0 | R115: =Q115*H115 -> 0 | S115: 0 | T115: =S115*H115 -> 0 | AR115: 4 | AT115: K | AU115: 2 | AY115: ROZPOCET | BE115: =IF(N115="základní",J115,0) -> 21357.88 | BF115: =IF(N115="snížená",J115,0) -> 0 | BG115: =IF(N115="zákl. přenesená",J115,0) -> 0 | BH115: =IF(N115="sníž. přenesená",J115,0) -> 0 | BI115: =IF(N115="nulová",J115,0) -> 0 | BJ115: 1 | BK115: =ROUND(I115*H115,2) -> 21357.88 | BL115: 4 | BM115: 2066688883
D116: Online PSC | F116: https://podminky.urs.cz/item/CS_URS_2024_01/132154201 | AT116: Online PSC | AU116: 2
D117: VV | F117: "pažený výkop"38,7*1,1*(2,7-0,44) | H117: 96.208 | AT117: VV | AU117: 2 | AV117: 2 | AW117: True | AX117: 0 | AY117: ROZPOCET
D118: VV | F118: Mezisoučet | H118: 96.208 | AT118: VV | AU118: 2 | AV118: 3 | AW118: True | AX118: 0 | AY118: ROZPOCET
D119: VV | F119: "procentuální zastoupenost třídy težitelnosti"96,208*0,3 | H119: 28.862 | AT119: VV | AU119: 2 | AV119: 2 | AW119: True | AX119: 1 | AY119: ROZPOCET
C120: 9 | D120: K | E120: 132254201 | F120: Hloubení zapažených rýh šířky přes 800 do 2 000 mm strojně s urovnáním dna do předepsaného profilu a spádu v hornině třídy těžitelnosti I skupiny 3 do 20 m3 | G120: m3 | H120: 19.242 | I120: 1170 | J120: =ROUND(I120*H120,2) -> 22513.14 | K120: CS ÚRS 2024 01 | N120: základní | P120: =O120*H120 -> 0 | Q120: 0 | R120: =Q120*H120 -> 0 | S120: 0 | T120: =S120*H120 -> 0 | AR120: 4 | AT120: K | AU120: 2 | AY120: ROZPOCET | BE120: =IF(N120="základní",J120,0) -> 22513.14 | BF120: =IF(N120="snížená",J120,0) -> 0 | BG120: =IF(N120="zákl. přenesená",J120,0) -> 0 | BH120: =IF(N120="sníž. přenesená",J120,0) -> 0 | BI120: =IF(N120="nulová",J120,0) -> 0 | BJ120: 1 | BK120: =ROUND(I120*H120,2) -> 22513.14 | BL120: 4 | BM120: -1374942252
D121: Online PSC | F121: https://podminky.urs.cz/item/CS_URS_2024_01/132254201 | AT121: Online PSC | AU121: 2
D122: VV | F122: "pažený výkop"38,7*1,1*(2,7-0,44) | H122: 96.208 | AT122: VV | AU122: 2 | AV122: 2 | AW122: True | AX122: 0 | AY122: ROZPOCET
D123: VV | F123: Mezisoučet | H123: 96.208 | AT123: VV | AU123: 2 | AV123: 3 | AW123: True | AX123: 0 | AY123: ROZPOCET
D124: VV | F124: "procentuální zastoupenost třídy težitelnosti"96,208*0,2 | H124: 19.242 | AT124: VV | AU124: 2 | AV124: 2 | AW124: True | AX124: 1 | AY124: ROZPOCET
C125: 10 | D125: K | E125: 132354201 | F125: Hloubení zapažených rýh šířky přes 800 do 2 000 mm strojně s urovnáním dna do předepsaného profilu a spádu v hornině třídy těžitelnosti II skupiny 4 do 20 m3 | G125: m3 | H125: 28.862 | I125: 1570 | J125: =ROUND(I125*H125,2) -> 45313.34 | K125: CS ÚRS 2024 01 | N125: základní | P125: =O125*H125 -> 0 | Q125: 0 | R125: =Q125*H125 -> 0 | S125: 0 | T125: =S125*H125 -> 0 | AR125: 4 | AT125: K | AU125: 2 | AY125: ROZPOCET | BE125: =IF(N125="základní",J125,0) -> 45313.34 | BF125: =IF(N125="snížená",J125,0) -> 0 | BG125: =IF(N125="zákl. přenesená",J125,0) -> 0 | BH125: =IF(N125="sníž. přenesená",J125,0) -> 0 | BI125: =IF(N125="nulová",J125,0) -> 0 | BJ125: 1 | BK125: =ROUND(I125*H125,2) -> 45313.34 | BL125: 4 | BM125: -1846169420
D126: Online PSC | F126: https://podminky.urs.cz/item/CS_URS_2024_01/132354201 | AT126: Online PSC | AU126: 2
D127: VV | F127: "pažený výkop"38,7*1,1*(2,7-0,44) | H127: 96.208 | AT127: VV | AU127: 2 | AV127: 2 | AW127: True | AX127: 0 | AY127: ROZPOCET
D128: VV | F128: Mezisoučet | H128: 96.208 | AT128: VV | AU128: 2 | AV128: 3 | AW128: True | AX128: 0 | AY128: ROZPOCET
D129: VV | F129: "procentuální zastoupenost třídy težitelnosti"96,208*0,3 | H129: 28.862 | AT129: VV | AU129: 2 | AV129: 2 | AW129: True | AX129: 1 | AY129: ROZPOCET
C130: 11 | D130: K | E130: 132454201 | F130: Hloubení zapažených rýh šířky přes 800 do 2 000 mm strojně s urovnáním dna do předepsaného profilu a spádu v hornině třídy těžitelnosti II skupiny 5 do 20 m3 | G130: m3 | H130: 19.242 | I130: 2270 | J130: =ROUND(I130*H130,2) -> 43679.34 | K130: CS ÚRS 2024 01 | N130: základní | P130: =O130*H130 -> 0 | Q130: 0 | R130: =Q130*H130 -> 0 | S130: 0 | T130: =S130*H130 -> 0 | AR130: 4 | AT130: K | AU130: 2 | AY130: ROZPOCET | BE130: =IF(N130="základní",J130,0) -> 43679.34 | BF130: =IF(N130="snížená",J130,0) -> 0 | BG130: =IF(N130="zákl. přenesená",J130,0) -> 0 | BH130: =IF(N130="sníž. přenesená",J130,0) -> 0 | BI130: =IF(N130="nulová",J130,0) -> 0 | BJ130: 1 | BK130: =ROUND(I130*H130,2) -> 43679.34 | BL130: 4 | BM130: -1709280742
D131: Online PSC | F131: https://podminky.urs.cz/item/CS_URS_2024_01/132454201 | AT131: Online PSC | AU131: 2
D132: VV | F132: "pažený výkop"38,7*1,1*(2,7-0,44) | H132: 96.208 | AT132: VV | AU132: 2 | AV132: 2 | AW132: True | AX132: 0 | AY132: ROZPOCET
D133: VV | F133: Mezisoučet | H133: 96.208 | AT133: VV | AU133: 2 | AV133: 3 | AW133: True | AX133: 0 | AY133: ROZPOCET
...

Sheet IO 02 - Čerpací stanice
AT2: {f255caa7-43b0-437d-9ee1-749849c9630b}
AT3: 2
D4: KRYCÍ LIST SOUPISU PRACÍ | M4: v --- níže se nacházejí doplnkové a pomocné údaje k sestavám --- v | AT4: False
D6: Stavba:
E7: ='Rekapitulace stavby'!K6 -> Stavební úpravy přečerpávací stanice a odlehčovací komory 10 v ulici Sportovní
D8: Objekt:
E9: IO 02 - Čerpací stanice
D11: KSO: | F11: 827 21 51 | I11: CC-CZ:
D12: Místo: | F12: Český Brod | I12: Datum: | J12: ='Rekapitulace stavby'!AN8 -> 31. 1. 2024
D14: Zadavatel: | I14: IČ: | J14: 00235334
E15: Město Český Brod | I15: DIČ:
D17: Uchazeč: | I17: IČ: | J17: ='Rekapitulace stavby'!AN13 -> 47549793
E18: ='Rekapitulace stavby'!E14 -> 1.SčV, a.s. | I18: DIČ: | J18: ='Rekapitulace stavby'!AN14 -> CZ47549793
D20: Projektant: | I20: IČ:
E21: Ing. Petr Koblenc | I21: DIČ:
D23: Zpracovatel: | I23: IČ: | J23: 47116901
E24: Vodohospodářský rozvoj a výstavba a.s. | I24: DIČ:
D26: Poznámka:
D30: Cena bez DPH | J30: =ROUND(J86, 2) -> 2380623.2
F32: Základ daně | I32: Sazba daně | J32: Výše daně
D33: DPH | E33: základní | F33: =ROUND((SUM(BE86:BE255)), 2) -> 2380623.2 | I33: 0.21 | J33: =ROUND(((SUM(BE86:BE255))*I33), 2) -> 499930.88
E34: snížená | F34: =ROUND((SUM(BF86:BF255)), 2) -> 0 | I34: 0.15 | J34: =ROUND(((SUM(BF86:BF255))*I34), 2) -> 0
E35: zákl. přenesená | F35: =ROUND((SUM(BG86:BG255)), 2) -> 0 | I35: 0.21 | J35: =0 -> 0
E36: sníž. přenesená | F36: =ROUND((SUM(BH86:BH255)), 2) -> 0 | I36: 0.15 | J36: =0 -> 0
E37: nulová | F37: =ROUND((SUM(BI86:BI255)), 2) -> 0 | I37: 0 | J37: =0 -> 0
D39: Cena s DPH | G39: v | H39: CZK | J39: =SUM(J30:J37) -> 2880554.1
C45: REKAPITULACE ČLENĚNÍ SOUPISU PRACÍ
C47: Stavba:
E48: =E7 -> Stavební úpravy přečerpávací stanice a odlehčovací komory 10 v ulici Sportovní
C49: Objekt:
E50: =E9 -> IO 02 - Čerpací stanice
C52: Místo: | F52: =F12 -> Český Brod | I52: Datum: | J52: =IF(J12="","",J12) -> 31. 1. 2024
C54: Zadavatel: | F54: =E15 -> Město Český Brod | I54: Projektant: | J54: =E21 -> Ing. Petr Koblenc
C55: Uchazeč: | F55: =IF(E18="","",E18) -> 1.SčV, a.s. | I55: Zpracovatel: | J55: =E24 -> Vodohospodářský rozvoj a výstavba a.s.
C57: Kód dílu - Popis | J57: Cena celkem [CZK]
C59: Náklady stavby celkem | J59: =J86 -> 2380623.2 | AU59: -1
D60: HSV - Práce a dodávky HSV | J60: =J87 -> 2380623.2
D61: 1 - Zemní práce | J61: =J88 -> 324059.38
D62: 1.4 - Zemní práce - přesuny | J62: =J138 -> 90460.46
D63: 4 - Vodorovné konstrukce | J63: =J164 -> 46340.27
D64: 8.1 - Čerpací stanice - stavební část | J64: =J173 -> 364120.68
D65: 8.2 - Čerpací stanice - technologie | J65: =J240 -> 1549671.7
D66: 998 - Přesun hmot | J66: =J253 -> 5970.76
C73: SOUPIS PRACÍ
C75: Stavba:
E76: =E7 -> Stavební úpravy přečerpávací stanice a odlehčovací komory 10 v ulici Sportovní
C77: Objekt:
E78: =E9 -> IO 02 - Čerpací stanice
C80: Místo: | F80: =F12 -> Český Brod | I80: Datum: | J80: =IF(J12="","",J12) -> 31. 1. 2024
C82: Zadavatel: | F82: =E15 -> Město Český Brod | I82: Projektant: | J82: =E21 -> Ing. Petr Koblenc
C83: Uchazeč: | F83: =IF(E18="","",E18) -> 1.SčV, a.s. | I83: Zpracovatel: | J83: =E24 -> Vodohospodářský rozvoj a výstavba a.s.
C85: PČ | D85: Typ | E85: Kód | F85: Popis | G85: MJ | H85: Množství | I85: J.cena [CZK] | J85: Cena celkem [CZK] | K85: Cenová soustava | N85: DPH | O85: J. Nh [h] | P85: Nh celkem [h] | Q85: J. hmotnost [t] | R85: Hmotnost celkem [t] | S85: J. suť [t] | T85: Suť Celkem [t]
C86: Náklady soupisu celkem | J86: =BK86 -> 2380623.2 | P86: =P87 -> 0 | R86: =R87 -> 40.342978 | T86: =T87 -> 0.09555 | AT86: D | AU86: -1 | BK86: =BK87 -> 2380623.2
D87: D | E87: HSV | F87: Práce a dodávky HSV | J87: =BK87 -> 2380623.2 | P87: =P88+P138+P164+P173+P240+P253 -> 0 | R87: =R88+R138+R164+R173+R240+R253 -> 40.342978 | T87: =T88+T138+T164+T173+T240+T253 -> 0.09555 | AR87: 1 | AT87: D | AU87: 0 | AY87: ROZPOCET | BK87: =BK88+BK138+BK164+BK173+BK240+BK253 -> 2380623.2
D88: D | E88: 1 | F88: Zemní práce | J88: =BK88 -> 324059.38 | P88: =SUM(P89:P137) -> 0 | R88: =SUM(R89:R137) -> 0.2465004 | T88: =SUM(T89:T137) -> 0 | AR88: 1 | AT88: D | AU88: 1 | AY88: ROZPOCET | BK88: =SUM(BK89:BK137) -> 324059.38
C89: 1 | D89: K | E89: 115101201 | F89: Čerpání vody na dopravní výšku do 10 m s uvažovaným průměrným přítokem do 500 l/min | G89: hod | H89: 25 | I89: 71 | J89: =ROUND(I89*H89,2) -> 1775 | K89: CS ÚRS 2024 01 | N89: základní | P89: =O89*H89 -> 0 | Q89: 3e-05 | R89: =Q89*H89 -> 0.00075 | S89: 0 | T89: =S89*H89 -> 0 | AR89: 4 | AT89: K | AU89: 2 | AY89: ROZPOCET | BE89: =IF(N89="základní",J89,0) -> 1775 | BF89: =IF(N89="snížená",J89,0) -> 0 | BG89: =IF(N89="zákl. přenesená",J89,0) -> 0 | BH89: =IF(N89="sníž. přenesená",J89,0) -> 0 | BI89: =IF(N89="nulová",J89,0) -> 0 | BJ89: 1 | BK89: =ROUND(I89*H89,2) -> 1775 | BL89: 4 | BM89: -47691795
D90: Online PSC | F90: https://podminky.urs.cz/item/CS_URS_2024_01/115101201 | AT90: Online PSC | AU90: 2
D91: VV | F91: "čerpání deš´tových vod"25 | H91: 25 | AT91: VV | AU91: 2 | AV91: 2 | AW91: True | AX91: 1 | AY91: ROZPOCET
C92: 2 | D92: K | E92: 115101301 | F92: Pohotovost záložní čerpací soupravy pro dopravní výšku do 10 m s uvažovaným průměrným přítokem do 500 l/min | G92: den | H92: 30 | I92: 31 | J92: =ROUND(I92*H92,2) -> 930 | K92: CS ÚRS 2024 01 | N92: základní | P92: =O92*H92 -> 0 | Q92: 0 | R92: =Q92*H92 -> 0 | S92: 0 | T92: =S92*H92 -> 0 | AR92: 4 | AT92: K | AU92: 2 | AY92: ROZPOCET | BE92: =IF(N92="základní",J92,0) -> 930 | BF92: =IF(N92="snížená",J92,0) -> 0 | BG92: =IF(N92="zákl. přenesená",J92,0) -> 0 | BH92: =IF(N92="sníž. přenesená",J92,0) -> 0 | BI92: =IF(N92="nulová",J92,0) -> 0 | BJ92: 1 | BK92: =ROUND(I92*H92,2) -> 930 | BL92: 4 | BM92: 2129866042
D93: Online PSC | F93: https://podminky.urs.cz/item/CS_URS_2024_01/115101301 | AT93: Online PSC | AU93: 2
D94: VV | F94: "pohotovost čerpací stanice po dobu realizace"30 | H94: 30 | AT94: VV | AU94: 2 | AV94: 2 | AW94: True | AX94: 1 | AY94: ROZPOCET
C95: 3 | D95: K | E95: 131151203 | F95: Hloubení zapažených jam a zářezů strojně s urovnáním dna do předepsaného profilu a spádu v hornině třídy těžitelnosti I skupiny 1 a 2 přes 50 do 100 m3 | G95: m3 | H95: 57.511 | I95: 333 | J95: =ROUND(I95*H95,2) -> 19151.16 | K95: CS ÚRS 2024 01 | N95: základní | P95: =O95*H95 -> 0 | Q95: 0 | R95: =Q95*H95 -> 0 | S95: 0 | T95: =S95*H95 -> 0 | AR95: 4 | AT95: K | AU95: 2 | AY95: ROZPOCET | BE95: =IF(N95="základní",J95,0) -> 19151.16 | BF95: =IF(N95="snížená",J95,0) -> 0 | BG95: =IF(N95="zákl. přenesená",J95,0) -> 0 | BH95: =IF(N95="sníž. přenesená",J95,0) -> 0 | BI95: =IF(N95="nulová",J95,0) -> 0 | BJ95: 1 | BK95: =ROUND(I95*H95,2) -> 19151.16 | BL95: 4 | BM95: 278138878
D96: Online PSC | F96: https://podminky.urs.cz/item/CS_URS_2024_01/131151203 | AT96: Online PSC | AU96: 2
D97: VV | F97: "výkop pažený" 6,3*6,3*(5,3-0,47) | H97: 191.703 | AT97: VV | AU97: 2 | AV97: 2 | AW97: True | AX97: 0 | AY97: ROZPOCET
D98: VV | F98: Mezisoučet | H98: 191.703 | AT98: VV | AU98: 2 | AV98: 3 | AW98: True | AX98: 0 | AY98: ROZPOCET
D99: VV | F99: "procentuální zastoupenost třídy težitelnosti"191,703*0,3 | H99: 57.511 | AT99: VV | AU99: 2 | AV99: 2 | AW99: True | AX99: 1 | AY99: ROZPOCET
C100: 4 | D100: K | E100: 131251202 | F100: Hloubení zapažených jam a zářezů strojně s urovnáním dna do předepsaného profilu a spádu v hornině třídy těžitelnosti I skupiny 3 přes 20 do 50 m3 | G100: m3 | H100: 38.341 | I100: 739 | J100: =ROUND(I100*H100,2) -> 28334 | K100: CS ÚRS 2024 01 | N100: základní | P100: =O100*H100 -> 0 | Q100: 0 | R100: =Q100*H100 -> 0 | S100: 0 | T100: =S100*H100 -> 0 | AR100: 4 | AT100: K | AU100: 2 | AY100: ROZPOCET | BE100: =IF(N100="základní",J100,0) -> 28334 | BF100: =IF(N100="snížená",J100,0) -> 0 | BG100: =IF(N100="zákl. přenesená",J100,0) -> 0 | BH100: =IF(N100="sníž. přenesená",J100,0) -> 0 | BI100: =IF(N100="nulová",J100,0) -> 0 | BJ100: 1 | BK100: =ROUND(I100*H100,2) -> 28334 | BL100: 4 | BM100: 1961584088
D101: Online PSC | F101: https://podminky.urs.cz/item/CS_URS_2024_01/131251202 | AT101: Online PSC | AU101: 2
D102: VV | F102: "výkop pažený" 6,3*6,3*(5,3-0,47) | H102: 191.703 | AT102: VV | AU102: 2 | AV102: 2 | AW102: True | AX102: 0 | AY102: ROZPOCET
D103: VV | F103: Mezisoučet | H103: 191.703 | AT103: VV | AU103: 2 | AV103: 3 | AW103: True | AX103: 0 | AY103: ROZPOCET
D104: VV | F104: "procentuální zastoupenost třídy težitelnosti"191,703*0,2 | H104: 38.341 | AT104: VV | AU104: 2 | AV104: 2 | AW104: True | AX104: 1 | AY104: ROZPOCET
C105: 5 | D105: K | E105: 131351203 | F105: Hloubení zapažených jam a zářezů strojně s urovnáním dna do předepsaného profilu a spádu v hornině třídy těžitelnosti II skupiny 4 přes 50 do 100 m3 | G105: m3 | H105: 57.511 | I105: 763 | J105: =ROUND(I105*H105,2) -> 43880.89 | K105: CS ÚRS 2024 01 | N105: základní | P105: =O105*H105 -> 0 | Q105: 0 | R105: =Q105*H105 -> 0 | S105: 0 | T105: =S105*H105 -> 0 | AR105: 4 | AT105: K | AU105: 2 | AY105: ROZPOCET | BE105: =IF(N105="základní",J105,0) -> 43880.89 | BF105: =IF(N105="snížená",J105,0) -> 0 | BG105: =IF(N105="zákl. přenesená",J105,0) -> 0 | BH105: =IF(N105="sníž. přenesená",J105,0) -> 0 | BI105: =IF(N105="nulová",J105,0) -> 0 | BJ105: 1 | BK105: =ROUND(I105*H105,2) -> 43880.89 | BL105: 4 | BM105: -743609953
D106: Online PSC | F106: https://podminky.urs.cz/item/CS_URS_2024_01/131351203 | AT106: Online PSC | AU106: 2
D107: VV | F107: "výkop pažený" 6,3*6,3*(5,3-0,47) | H107: 191.703 | AT107: VV | AU107: 2 | AV107: 2 | AW107: True | AX107: 0 | AY107: ROZPOCET
D108: VV | F108: Mezisoučet | H108: 191.703 | AT108: VV | AU108: 2 | AV108: 3 | AW108: True | AX108: 0 | AY108: ROZPOCET
D109: VV | F109: "procentuální zastoupenost třídy težitelnosti"191,703*0,3 | H109: 57.511 | AT109: VV | AU109: 2 | AV109: 2 | AW109: True | AX109: 1 | AY109: ROZPOCET
C110: 6 | D110: K | E110: 131451202 | F110: Hloubení zapažených jam a zářezů strojně s urovnáním dna do předepsaného profilu a spádu v hornině třídy těžitelnosti II skupiny 5 přes 20 do 50 m3 | G110: m3 | H110: 38.341 | I110: 1750 | J110: =ROUND(I110*H110,2) -> 67096.75 | K110: CS ÚRS 2024 01 | N110: základní | P110: =O110*H110 -> 0 | Q110: 0 | R110: =Q110*H110 -> 0 | S110: 0 | T110: =S110*H110 -> 0 | AR110: 4 | AT110: K | AU110: 2 | AY110: ROZPOCET | BE110: =IF(N110="základní",J110,0) -> 67096.75 | BF110: =IF(N110="snížená",J110,0) -> 0 | BG110: =IF(N110="zákl. přenesená",J110,0) -> 0 | BH110: =IF(N110="sníž. přenesená",J110,0) -> 0 | BI110: =IF(N110="nulová",J110,0) -> 0 | BJ110: 1 | BK110: =ROUND(I110*H110,2) -> 67096.75 | BL110: 4 | BM110: -889553930
D111: Online PSC | F111: https://podminky.urs.cz/item/CS_URS_2024_01/131451202 | AT111: Online PSC | AU111: 2
D112: VV | F112: "výkop pažený" 6,3*6,3*(5,3-0,47) | H112: 191.703 | AT112: VV | AU112: 2 | AV112: 2 | AW112: True | AX112: 0 | AY112: ROZPOCET
D113: VV | F113: Mezisoučet | H113: 191.703 | AT113: VV | AU113: 2 | AV113: 3 | AW113: True | AX113: 0 | AY113: ROZPOCET
D114: VV | F114: "procentuální zastoupenost třídy težitelnosti"191,703*0,2 | H114: 38.341 | AT114: VV | AU114: 2 | AV114: 2 | AW114: True | AX114: 1 | AY114: ROZPOCET
C115: 7 | D115: K | E115: 151101202 | F115: Zřízení pažení stěn výkopu bez rozepření nebo vzepření příložné, hloubky přes 4 do 8 m | G115: m2 | H115: 133.56 | I115: 192 | J115: =ROUND(I115*H115,2) -> 25643.52 | K115: CS ÚRS 2024 01 | N115: základní | P115: =O115*H115 -> 0 | Q115: 0.00072 | R115: =Q115*H115 -> 0.0961632 | S115: 0 | T115: =S115*H115 -> 0 | AR115: 4 | AT115: K | AU115: 2 | AY115: ROZPOCET | BE115: =IF(N115="základní",J115,0) -> 25643.52 | BF115: =IF(N115="snížená",J115,0) -> 0 | BG115: =IF(N115="zákl. přenesená",J115,0) -> 0 | BH115: =IF(N115="sníž. přenesená",J115,0) -> 0 | BI115: =IF(N115="nulová",J115,0) -> 0 | BJ115: 1 | BK115: =ROUND(I115*H115,2) -> 25643.52 | BL115: 4 | BM115: -1035454624
D116: Online PSC | F116: https://podminky.urs.cz/item/CS_URS_2024_01/151101202 | AT116: Online PSC | AU116: 2
D117: VV | F117: "zajištění jámy"4*(6,3*(5,3)) | H117: 133.56 | AT117: VV | AU117: 2 | AV117: 2 | AW117: True | AX117: 1 | AY117: ROZPOCET
C118: 8 | D118: K | E118: 151101212 | F118: Odstranění pažení stěn výkopu bez rozepření nebo vzepření s uložením pažin na vzdálenost do 3 m od okraje výkopu příložné, hloubky přes 4 do 8 m | G118: m2 | H118: 133.56 | I118: 89.4 | J118: =ROUND(I118*H118,2) -> 11940.26 | K118: CS ÚRS 2024 01 | N118: základní | P118: =O118*H118 -> 0 | Q118: 0 | R118: =Q118*H118 -> 0 | S118: 0 | T118: =S118*H118 -> 0 | AR118: 4 | AT118: K | AU118: 2 | AY118: ROZPOCET | BE118: =IF(N118="základní",J118,0) -> 11940.26 | BF118: =IF(N118="snížená",J118,0) -> 0 | BG118: =IF(N118="zákl. přenesená",J118,0) -> 0 | BH118: =IF(N118="sníž. přenesená",J118,0) -> 0 | BI118: =IF(N118="nulová",J118,0) -> 0 | BJ118: 1 | BK118: =ROUND(I118*H118,2) -> 11940.26 | BL118: 4 | BM118: -1858891819
D119: Online PSC | F119: https://podminky.urs.cz/item/CS_URS_2024_01/151101212 | AT119: Online PSC | AU119: 2
D120: VV | F120: "zajištění jámy"4*(6,3*(5,3)) | H120: 133.56 | AT120: VV | AU120: 2 | AV120: 2 | AW120: True | AX120: 1 | AY120: ROZPOCET
C121: 9 | D121: K | E121: 151101402 | F121: Zřízení vzepření zapažených stěn výkopů s potřebným přepažováním při pažení příložném, hloubky přes 4 do 8 m | G121: m2 | H121: 133.56 | I121: 312.5 | J121: =ROUND(I121*H121,2) -> 41737.5 | K121: CS ÚRS 2024 01 | N121: základní | P121: =O121*H121 -> 0 | Q121: 0.00112 | R121: =Q121*H121 -> 0.1495872 | S121: 0 | T121: =S121*H121 -> 0 | AR121: 4 | AT121: K | AU121: 2 | AY121: ROZPOCET | BE121: =IF(N121="základní",J121,0) -> 41737.5 | BF121: =IF(N121="snížená",J121,0) -> 0 | BG121: =IF(N121="zákl. přenesená",J121,0) -> 0 | BH121: =IF(N121="sníž. přenesená",J121,0) -> 0 | BI121: =IF(N121="nulová",J121,0) -> 0 | BJ121: 1 | BK121: =ROUND(I121*H121,2) -> 41737.5 | BL121: 4 | BM121: 79110918
D122: Online PSC | F122: https://podminky.urs.cz/item/CS_URS_2024_01/151101402 | AT122: Online PSC | AU122: 2
D123: VV | F123: "zajištění jámy"4*(6,3*(5,3)) | H123: 133.56 | AT123: VV | AU123: 2 | AV123: 2 | AW123: True | AX123: 1 | AY123: ROZPOCET
C124: 10 | D124: K | E124: 151101412 | F124: Odstranění vzepření stěn výkopů s uložením materiálu na vzdálenost do 3 m od kraje výkopu při pažení příložném, hloubky přes 4 do 8 m | G124: m2 | H124: 133.56 | I124: 62.7 | J124: =ROUND(I124*H124,2) -> 8374.21 | K124: CS ÚRS 2024 01 | N124: základní | P124: =O124*H124 -> 0 | Q124: 0 | R124: =Q124*H124 -> 0 | S124: 0 | T124: =S124*H124 -> 0 | AR124: 4 | AT124: K | AU124: 2 | AY124: ROZPOCET | BE124: =IF(N124="základní",J124,0) -> 8374.21 | BF124: =IF(N124="snížená",J124,0) -> 0 | BG124: =IF(N124="zákl. přenesená",J124,0) -> 0 | BH124: =IF(N124="sníž. přenesená",J124,0) -> 0 | BI124: =IF(N124="nulová",J124,0) -> 0 | BJ124: 1 | BK124: =ROUND(I124*H124,2) -> 8374.21 | BL124: 4 | BM124: -1421236989
D125: Online PSC | F125: https://podminky.urs.cz/item/CS_URS_2024_01/151101412 | AT125: Online PSC | AU125: 2
D126: VV | F126: "zajištění jámy"4*(6,3*(5,3)) | H126: 133.56 | AT126: VV | AU126: 2 | AV126: 2 | AW126: True | AX126: 1 | AY126: ROZPOCET
C127: 11 | D127: K | E127: 174251101 | F127: Zásyp sypaninou z jakékoliv horniny strojně s uložením výkopku ve vrstvách bez zhutnění jam, šachet, rýh nebo kolem objektů v těchto vykopávkách | G127: m3 | H127: 144.593 | I127: 79.3 | J127: =ROUND(I127*H127,2) -> 11466.22 | K127: CS ÚRS 2024 01 | N127: základní | P127: =O127*H127 -> 0 | Q127: 0 | R127: =Q127*H127 -> 0 | S127: 0 | T127: =S127*H127 -> 0 | AR127: 4 | AT127: K | AU127: 2 | AY127: ROZPOCET | BE127: =IF(N127="základní",J127,0) -> 11466.22 | BF127: =IF(N127="snížená",J127,0) -> 0 | BG127: =IF(N127="zákl. přenesená",J127,0) -> 0 | BH127: =IF(N127="sníž. přenesená",J127,0) -> 0 | BI127: =IF(N127="nulová",J127,0) -> 0 | BJ127: 1 | BK127: =ROUND(I127*H127,2) -> 11466.22 | BL127: 4 | BM127: -1160835081
D128: Online PSC | F128: https://podminky.urs.cz/item/CS_URS_2024_01/174251101 | AT128: Online PSC | AU128: 2
D129: VV | F129: "celkový výkop"191,703 | H129: 191.703 | AT129: VV | AU129: 2 | AV129: 2 | AW129: True | AX129: 0 | AY129: ROZPOCET
D130: VV | F130: "štěrkový polštář"-3,969 | H130: -3.969 | AT130: VV | AU130: 2 | AV130: 2 | AW130: True | AX130: 0 | AY130: ROZPOCET
D131: VV | F131: "betonová deska"-5,954 | H131: -5.954 | AT131: VV | AU131: 2 | AV131: 2 | AW131: True | AX131: 0 | AY131: ROZPOCET
D132: VV | F132: "objem nádrže"-3,14*(3,3*3,3)/4*4,35 | H132: -37.187 | AT132: VV | AU132: 2 | AV132: 2 | AW132: True | AX132: 0 | AY132: ROZPOCET
D133: VV | F133: Součet | H133: 144.593 | AT133: VV | AU133: 2 | AV133: 4 | AW133: True | AX133: 1 | AY133: ROZPOCET
...

Sheet IO 03 - Odlehčovací komora
AT2: {2c1e7e74-8335-4d28-86ec-5be58316a69f}
AT3: 2
D4: KRYCÍ LIST SOUPISU PRACÍ | M4: v --- níže se nacházejí doplnkové a pomocné údaje k sestavám --- v | AT4: False
D6: Stavba:
E7: ='Rekapitulace stavby'!K6 -> Stavební úpravy přečerpávací stanice a odlehčovací komory 10 v ulici Sportovní
D8: Objekt:
E9: IO 03 - Odlehčovací komora
D11: KSO: | F11: 827 21 51 | I11: CC-CZ:
D12: Místo: | F12: Český Brod | I12: Datum: | J12: ='Rekapitulace stavby'!AN8 -> 31. 1. 2024
D14: Zadavatel: | I14: IČ: | J14: 00235334
E15: Město Český Brod | I15: DIČ:
D17: Uchazeč: | I17: IČ: | J17: ='Rekapitulace stavby'!AN13 -> 47549793
E18: ='Rekapitulace stavby'!E14 -> 1.SčV, a.s. | I18: DIČ: | J18: ='Rekapitulace stavby'!AN14 -> CZ47549793
D20: Projektant: | I20: IČ:
E21: Ing. Petr Koblenc | I21: DIČ:
D23: Zpracovatel: | I23: IČ: | J23: 47116901
E24: Vodohospodářský rozvoj a výstavba a.s. | I24: DIČ:
D26: Poznámka:
D30: Cena bez DPH | J30: =ROUND(J85, 2) -> 746873.77
F32: Základ daně | I32: Sazba daně | J32: Výše daně
D33: DPH | E33: základní | F33: =ROUND((SUM(BE85:BE179)), 2) -> 746873.77 | I33: 0.21 | J33: =ROUND(((SUM(BE85:BE179))*I33), 2) -> 156843.49
E34: snížená | F34: =ROUND((SUM(BF85:BF179)), 2) -> 0 | I34: 0.15 | J34: =ROUND(((SUM(BF85:BF179))*I34), 2) -> 0
E35: zákl. přenesená | F35: =ROUND((SUM(BG85:BG179)), 2) -> 0 | I35: 0.21 | J35: =0 -> 0
E36: sníž. přenesená | F36: =ROUND((SUM(BH85:BH179)), 2) -> 0 | I36: 0.15 | J36: =0 -> 0
E37: nulová | F37: =ROUND((SUM(BI85:BI179)), 2) -> 0 | I37: 0 | J37: =0 -> 0
D39: Cena s DPH | G39: v | H39: CZK | J39: =SUM(J30:J37) -> 903717.26
C45: REKAPITULACE ČLENĚNÍ SOUPISU PRACÍ
C47: Stavba:
E48: =E7 -> Stavební úpravy přečerpávací stanice a odlehčovací komory 10 v ulici Sportovní
C49: Objekt:
E50: =E9 -> IO 03 - Odlehčovací komora
C52: Místo: | F52: =F12 -> Český Brod | I52: Datum: | J52: =IF(J12="","",J12) -> 31. 1. 2024
C54: Zadavatel: | F54: =E15 -> Město Český Brod | I54: Projektant: | J54: =E21 -> Ing. Petr Koblenc
C55: Uchazeč: | F55: =IF(E18="","",E18) -> 1.SčV, a.s. | I55: Zpracovatel: | J55: =E24 -> Vodohospodářský rozvoj a výstavba a.s.
C57: Kód dílu - Popis | J57: Cena celkem [CZK]
C59: Náklady stavby celkem | J59: =J85 -> 746873.77 | AU59: -1
D60: HSV - Práce a dodávky HSV | J60: =J86 -> 746873.77
D61: 1 - Zemní práce | J61: =J87 -> 155916.94
D62: 1.4 - Zemní práce - přesuny | J62: =J125 -> 55648.93
D63: 4 - Vodorovné konstrukce | J63: =J151 -> 31569.2
D64: 8.1 - Odlehčovací komora | J64: =J160 -> 498240.8
D65: 998 - Přesun hmot | J65: =J177 -> 5497.9
C72: SOUPIS PRACÍ
C74: Stavba:
E75: =E7 -> Stavební úpravy přečerpávací stanice a odlehčovací komory 10 v ulici Sportovní
C76: Objekt:
E77: =E9 -> IO 03 - Odlehčovací komora
C79: Místo: | F79: =F12 -> Český Brod | I79: Datum: | J79: =IF(J12="","",J12) -> 31. 1. 2024
C81: Zadavatel: | F81: =E15 -> Město Český Brod | I81: Projektant: | J81: =E21 -> Ing. Petr Koblenc
C82: Uchazeč: | F82: =IF(E18="","",E18) -> 1.SčV, a.s. | I82: Zpracovatel: | J82: =E24 -> Vodohospodářský rozvoj a výstavba a.s.
C84: PČ | D84: Typ | E84: Kód | F84: Popis | G84: MJ | H84: Množství | I84: J.cena [CZK] | J84: Cena celkem [CZK] | K84: Cenová soustava | N84: DPH | O84: J. Nh [h] | P84: Nh celkem [h] | Q84: J. hmotnost [t] | R84: Hmotnost celkem [t] | S84: J. suť [t] | T84: Suť Celkem [t]
C85: Náklady soupisu celkem | J85: =BK85 -> 746873.77 | P85: =P86 -> 0 | R85: =R86 -> 37.148107 | T85: =T86 -> 0 | AT85: D | AU85: -1 | BK85: =BK86 -> 746873.77
D86: D | E86: HSV | F86: Práce a dodávky HSV | J86: =BK86 -> 746873.77 | P86: =P87+P125+P151+P160+P177 -> 0 | R86: =R87+R125+R151+R160+R177 -> 37.148107 | T86: =T87+T125+T151+T160+T177 -> 0 | AR86: 1 | AT86: D | AU86: 0 | AY86: ROZPOCET | BK86: =BK87+BK125+BK151+BK160+BK177 -> 746873.77
D87: D | E87: 1 | F87: Zemní práce | J87: =BK87 -> 155916.94 | P87: =SUM(P88:P124) -> 0 | R87: =SUM(R88:R124) -> 0.00075 | T87: =SUM(T88:T124) -> 0 | AR87: 1 | AT87: D | AU87: 1 | AY87: ROZPOCET | BK87: =SUM(BK88:BK124) -> 155916.94
C88: 1 | D88: K | E88: 115101201 | F88: Čerpání vody na dopravní výšku do 10 m s uvažovaným průměrným přítokem do 500 l/min | G88: hod | H88: 25 | I88: 71 | J88: =ROUND(I88*H88,2) -> 1775 | K88: CS ÚRS 2024 01 | N88: základní | P88: =O88*H88 -> 0 | Q88: 3e-05 | R88: =Q88*H88 -> 0.00075 | S88: 0 | T88: =S88*H88 -> 0 | AR88: 4 | AT88: K | AU88: 2 | AY88: ROZPOCET | BE88: =IF(N88="základní",J88,0) -> 1775 | BF88: =IF(N88="snížená",J88,0) -> 0 | BG88: =IF(N88="zákl. přenesená",J88,0) -> 0 | BH88: =IF(N88="sníž. přenesená",J88,0) -> 0 | BI88: =IF(N88="nulová",J88,0) -> 0 | BJ88: 1 | BK88: =ROUND(I88*H88,2) -> 1775 | BL88: 4 | BM88: 264347101
D89: Online PSC | F89: https://podminky.urs.cz/item/CS_URS_2024_01/115101201 | AT89: Online PSC | AU89: 2
D90: VV | F90: "čerpání deš´tových vod"25 | H90: 25 | AT90: VV | AU90: 2 | AV90: 2 | AW90: True | AX90: 1 | AY90: ROZPOCET
C91: 2 | D91: K | E91: 115101301 | F91: Pohotovost záložní čerpací soupravy pro dopravní výšku do 10 m s uvažovaným průměrným přítokem do 500 l/min | G91: den | H91: 30 | I91: 31 | J91: =ROUND(I91*H91,2) -> 930 | K91: CS ÚRS 2024 01 | N91: základní | P91: =O91*H91 -> 0 | Q91: 0 | R91: =Q91*H91 -> 0 | S91: 0 | T91: =S91*H91 -> 0 | AR91: 4 | AT91: K | AU91: 2 | AY91: ROZPOCET | BE91: =IF(N91="základní",J91,0) -> 930 | BF91: =IF(N91="snížená",J91,0) -> 0 | BG91: =IF(N91="zákl. přenesená",J91,0) -> 0 | BH91: =IF(N91="sníž. přenesená",J91,0) -> 0 | BI91: =IF(N91="nulová",J91,0) -> 0 | BJ91: 1 | BK91: =ROUND(I91*H91,2) -> 930 | BL91: 4 | BM91: 1840582963
D92: Online PSC | F92: https://podminky.urs.cz/item/CS_URS_2024_01/115101301 | AT92: Online PSC | AU92: 2
D93: VV | F93: "pohotovost čerpací stanice po dobu realizace"30 | H93: 30 | AT93: VV | AU93: 2 | AV93: 2 | AW93: True | AX93: 1 | AY93: ROZPOCET
C94: 3 | D94: K | E94: 131151202 | F94: Hloubení zapažených jam a zářezů strojně s urovnáním dna do předepsaného profilu a spádu v hornině třídy těžitelnosti I skupiny 1 a 2 přes 20 do 50 m3 | G94: m3 | H94: 35.242 | I94: 448 | J94: =ROUND(I94*H94,2) -> 15788.42 | K94: CS ÚRS 2024 01 | N94: základní | P94: =O94*H94 -> 0 | Q94: 0 | R94: =Q94*H94 -> 0 | S94: 0 | T94: =S94*H94 -> 0 | AR94: 4 | AT94: K | AU94: 2 | AY94: ROZPOCET | BE94: =IF(N94="základní",J94,0) -> 15788.42 | BF94: =IF(N94="snížená",J94,0) -> 0 | BG94: =IF(N94="zákl. přenesená",J94,0) -> 0 | BH94: =IF(N94="sníž. přenesená",J94,0) -> 0 | BI94: =IF(N94="nulová",J94,0) -> 0 | BJ94: 1 | BK94: =ROUND(I94*H94,2) -> 15788.42 | BL94: 4 | BM94: 1997969605
D95: Online PSC | F95: https://podminky.urs.cz/item/CS_URS_2024_01/131151202 | AT95: Online PSC | AU95: 2
D96: VV | F96: "svahovaný výkop" (1/3*(2,87-0,47)*(5,2*5,2+44,98+8,65*8,65)) | H96: 117.474 | AT96: VV | AU96: 2 | AV96: 2 | AW96: True | AX96: 0 | AY96: ROZPOCET
D97: VV | F97: Mezisoučet | H97: 117.474 | AT97: VV | AU97: 2 | AV97: 3 | AW97: True | AX97: 0 | AY97: ROZPOCET
D98: VV | F98: "procentuální zastoupenost třídy težitelnosti"117,474*0,3 | H98: 35.242 | AT98: VV | AU98: 2 | AV98: 2 | AW98: True | AX98: 1 | AY98: ROZPOCET
C99: 4 | D99: K | E99: 131251202 | F99: Hloubení zapažených jam a zářezů strojně s urovnáním dna do předepsaného profilu a spádu v hornině třídy těžitelnosti I skupiny 3 přes 20 do 50 m3 | G99: m3 | H99: 23.495 | I99: 739 | J99: =ROUND(I99*H99,2) -> 17362.81 | K99: CS ÚRS 2024 01 | N99: základní | P99: =O99*H99 -> 0 | Q99: 0 | R99: =Q99*H99 -> 0 | S99: 0 | T99: =S99*H99 -> 0 | AR99: 4 | AT99: K | AU99: 2 | AY99: ROZPOCET | BE99: =IF(N99="základní",J99,0) -> 17362.81 | BF99: =IF(N99="snížená",J99,0) -> 0 | BG99: =IF(N99="zákl. přenesená",J99,0) -> 0 | BH99: =IF(N99="sníž. přenesená",J99,0) -> 0 | BI99: =IF(N99="nulová",J99,0) -> 0 | BJ99: 1 | BK99: =ROUND(I99*H99,2) -> 17362.81 | BL99: 4 | BM99: 1309264524
D100: Online PSC | F100: https://podminky.urs.cz/item/CS_URS_2024_01/131251202 | AT100: Online PSC | AU100: 2
D101: VV | F101: "svahovaný výkop" (1/3*(2,87-0,47)*(5,2*5,2+44,98+8,65*8,65)) | H101: 117.474 | AT101: VV | AU101: 2 | AV101: 2 | AW101: True | AX101: 0 | AY101: ROZPOCET
D102: VV | F102: Mezisoučet | H102: 117.474 | AT102: VV | AU102: 2 | AV102: 3 | AW102: True | AX102: 0 | AY102: ROZPOCET
D103: VV | F103: "procentuální zastoupenost třídy težitelnosti"117,474*0,2 | H103: 23.495 | AT103: VV | AU103: 2 | AV103: 2 | AW103: True | AX103: 1 | AY103: ROZPOCET
C104: 5 | D104: K | E104: 131351202 | F104: Hloubení zapažených jam a zářezů strojně s urovnáním dna do předepsaného profilu a spádu v hornině třídy těžitelnosti II skupiny 4 přes 20 do 50 m3 | G104: m3 | H104: 35.242 | I104: 987 | J104: =ROUND(I104*H104,2) -> 34783.85 | K104: CS ÚRS 2024 01 | N104: základní | P104: =O104*H104 -> 0 | Q104: 0 | R104: =Q104*H104 -> 0 | S104: 0 | T104: =S104*H104 -> 0 | AR104: 4 | AT104: K | AU104: 2 | AY104: ROZPOCET | BE104: =IF(N104="základní",J104,0) -> 34783.85 | BF104: =IF(N104="snížená",J104,0) -> 0 | BG104: =IF(N104="zákl. přenesená",J104,0) -> 0 | BH104: =IF(N104="sníž. přenesená",J104,0) -> 0 | BI104: =IF(N104="nulová",J104,0) -> 0 | BJ104: 1 | BK104: =ROUND(I104*H104,2) -> 34783.85 | BL104: 4 | BM104: 1697677922
D105: Online PSC | F105: https://podminky.urs.cz/item/CS_URS_2024_01/131351202 | AT105: Online PSC | AU105: 2
D106: VV | F106: "svahovaný výkop" (1/3*(2,87-0,47)*(5,2*5,2+44,98+8,65*8,65)) | H106: 117.474 | AT106: VV | AU106: 2 | AV106: 2 | AW106: True | AX106: 0 | AY106: ROZPOCET
D107: VV | F107: Mezisoučet | H107: 117.474 | AT107: VV | AU107: 2 | AV107: 3 | AW107: True | AX107: 0 | AY107: ROZPOCET
D108: VV | F108: "procentuální zastoupenost třídy težitelnosti"117,474*0,3 | H108: 35.242 | AT108: VV | AU108: 2 | AV108: 2 | AW108: True | AX108: 1 | AY108: ROZPOCET
C109: 6 | D109: K | E109: 131451202 | F109: Hloubení zapažených jam a zářezů strojně s urovnáním dna do předepsaného profilu a spádu v hornině třídy těžitelnosti II skupiny 5 přes 20 do 50 m3 | G109: m3 | H109: 23.495 | I109: 1750 | J109: =ROUND(I109*H109,2) -> 41116.25 | K109: CS ÚRS 2024 01 | N109: základní | P109: =O109*H109 -> 0 | Q109: 0 | R109: =Q109*H109 -> 0 | S109: 0 | T109: =S109*H109 -> 0 | AR109: 4 | AT109: K | AU109: 2 | AY109: ROZPOCET | BE109: =IF(N109="základní",J109,0) -> 41116.25 | BF109: =IF(N109="snížená",J109,0) -> 0 | BG109: =IF(N109="zákl. přenesená",J109,0) -> 0 | BH109: =IF(N109="sníž. přenesená",J109,0) -> 0 | BI109: =IF(N109="nulová",J109,0) -> 0 | BJ109: 1 | BK109: =ROUND(I109*H109,2) -> 41116.25 | BL109: 4 | BM109: -1397680287
D110: Online PSC | F110: https://podminky.urs.cz/item/CS_URS_2024_01/131451202 | AT110: Online PSC | AU110: 2
D111: VV | F111: "svahovaný výkop" (1/3*(2,87-0,47)*(5,2*5,2+44,98+8,65*8,65)) | H111: 117.474 | AT111: VV | AU111: 2 | AV111: 2 | AW111: True | AX111: 0 | AY111: ROZPOCET
D112: VV | F112: Mezisoučet | H112: 117.474 | AT112: VV | AU112: 2 | AV112: 3 | AW112: True | AX112: 0 | AY112: ROZPOCET
D113: VV | F113: "procentuální zastoupenost třídy težitelnosti"117,474*0,2 | H113: 23.495 | AT113: VV | AU113: 2 | AV113: 2 | AW113: True | AX113: 1 | AY113: ROZPOCET
C114: 7 | D114: K | E114: 174251101 | F114: Zásyp sypaninou z jakékoliv horniny strojně s uložením výkopku ve vrstvách bez zhutnění jam, šachet, rýh nebo kolem objektů v těchto vykopávkách | G114: m3 | H114: 84.916 | I114: 79.3 | J114: =ROUND(I114*H114,2) -> 6733.84 | K114: CS ÚRS 2024 01 | N114: základní | P114: =O114*H114 -> 0 | Q114: 0 | R114: =Q114*H114 -> 0 | S114: 0 | T114: =S114*H114 -> 0 | AR114: 4 | AT114: K | AU114: 2 | AY114: ROZPOCET | BE114: =IF(N114="základní",J114,0) -> 6733.84 | BF114: =IF(N114="snížená",J114,0) -> 0 | BG114: =IF(N114="zákl. přenesená",J114,0) -> 0 | BH114: =IF(N114="sníž. přenesená",J114,0) -> 0 | BI114: =IF(N114="nulová",J114,0) -> 0 | BJ114: 1 | BK114: =ROUND(I114*H114,2) -> 6733.84 | BL114: 4 | BM114: -639284764
D115: Online PSC | F115: https://podminky.urs.cz/item/CS_URS_2024_01/174251101 | AT115: Online PSC | AU115: 2
D116: VV | F116: "celkový výkop"117,474 | H116: 117.474 | AT116: VV | AU116: 2 | AV116: 2 | AW116: True | AX116: 0 | AY116: ROZPOCET
D117: VV | F117: "štěrkový polštář"-2,704 | H117: -2.704 | AT117: VV | AU117: 2 | AV117: 2 | AW117: True | AX117: 0 | AY117: ROZPOCET
D118: VV | F118: "betonová deska"-4,056 | H118: -4.056 | AT118: VV | AU118: 2 | AV118: 2 | AW118: True | AX118: 0 | AY118: ROZPOCET
D119: VV | F119: "objem nádrže"-3,14*(3,67*3,67)/4*2,44 | H119: -25.798 | AT119: VV | AU119: 2 | AV119: 2 | AW119: True | AX119: 0 | AY119: ROZPOCET
D120: VV | F120: Součet | H120: 84.916 | AT120: VV | AU120: 2 | AV120: 4 | AW120: True | AX120: 1 | AY120: ROZPOCET
C121: 8 | D121: M | E121: 58344171 | F121: štěrkodrť frakce 0/32 | G121: t | H121: 87.039 | I121: 430 | J121: =ROUND(I121*H121,2) -> 37426.77 | K121: CS ÚRS 2024 01 | N121: základní | P121: =O121*H121 -> 0 | Q121: 0 | R121: =Q121*H121 -> 0 | S121: 0 | T121: =S121*H121 -> 0 | AR121: 8 | AT121: M | AU121: 2 | AY121: ROZPOCET | BE121: =IF(N121="základní",J121,0) -> 37426.77 | BF121: =IF(N121="snížená",J121,0) -> 0 | BG121: =IF(N121="zákl. přenesená",J121,0) -> 0 | BH121: =IF(N121="sníž. přenesená",J121,0) -> 0 | BI121: =IF(N121="nulová",J121,0) -> 0 | BJ121: 1 | BK121: =ROUND(I121*H121,2) -> 37426.77 | BL121: 4 | BM121: 541408169
D122: VV | F122: "zásyp mimo komunikace a chodníky bude prováděn nakupovaným materiálem 0/32 a výkopkem v poměru 50/50"84,916*0,5 | H122: 42.458 | AT122: VV | AU122: 2 | AV122: 2 | AW122: True | AX122: 0 | AY122: ROZPOCET
D123: VV | F123: Mezisoučet | H123: 42.458 | AT123: VV | AU123: 2 | AV123: 3 | AW123: True | AX123: 0 | AY123: ROZPOCET
D124: VV | F124: "přepočet na tuny"42,458*2,05 | H124: 87.039 | AT124: VV | AU124: 2 | AV124: 2 | AW124: True | AX124: 1 | AY124: ROZPOCET
D125: D | E125: 1.4 | F125: Zemní práce - přesuny | J125: =BK125 -> 55648.93 | P125: =SUM(P126:P150) -> 0 | R125: =SUM(R126:R150) -> 0 | T125: =SUM(T126:T150) -> 0 | AR125: 1 | AT125: D | AU125: 1 | AY125: ROZPOCET | BK125: =SUM(BK126:BK150) -> 55648.93
C126: 9 | D126: K | E126: 162651112 | F126: Vodorovné přemístění výkopku nebo sypaniny po suchu na obvyklém dopravním prostředku, bez naložení výkopku, avšak se složením bez rozhrnutí z horniny třídy těžitelnosti I skupiny 1 až 3 na vzdálenost přes 4 000 do 5 000 m | G126: m3 | H126: 16.279 | I126: 80 | J126: =ROUND(I126*H126,2) -> 1302.32 | K126: CS ÚRS 2024 01 | N126: základní | P126: =O126*H126 -> 0 | Q126: 0 | R126: =Q126*H126 -> 0 | S126: 0 | T126: =S126*H126 -> 0 | AR126: 4 | AT126: K | AU126: 2 | AY126: ROZPOCET | BE126: =IF(N126="základní",J126,0) -> 1302.32 | BF126: =IF(N126="snížená",J126,0) -> 0 | BG126: =IF(N126="zákl. přenesená",J126,0) -> 0 | BH126: =IF(N126="sníž. přenesená",J126,0) -> 0 | BI126: =IF(N126="nulová",J126,0) -> 0 | BJ126: 1 | BK126: =ROUND(I126*H126,2) -> 1302.32 | BL126: 4 | BM126: -1913234862
D127: Online PSC | F127: https://podminky.urs.cz/item/CS_URS_2024_01/162651112 | AT127: Online PSC | AU127: 2
D128: VV | F128: "výkopek celkem"35,242+23,495 | H128: 58.737 | AT128: VV | AU128: 2 | AV128: 2 | AW128: True | AX128: 0 | AY128: ROZPOCET
D129: VV | F129: "použito ke zpětnému zásypu"-42,458 | H129: -42.458 | AT129: VV | AU129: 2 | AV129: 2 | AW129: True | AX129: 0 | AY129: ROZPOCET
D130: VV | F130: Mezisoučet | H130: 16.279 | AT130: VV | AU130: 2 | AV130: 3 | AW130: True | AX130: 0 | AY130: ROZPOCET
D131: VV | F131: "odvoz na skládku"16,279 | H131: 16.279 | AT131: VV | AU131: 2 | AV131: 2 | AW131: True | AX131: 1 | AY131: ROZPOCET
C132: 10 | D132: K | E132: 162651132 | F132: Vodorovné přemístění výkopku nebo sypaniny po suchu na obvyklém dopravním prostředku, bez naložení výkopku, avšak se složením bez rozhrnutí z horniny třídy těžitelnosti II skupiny 4 a 5 na vzdálenost přes 4 000 do 5 000 m | G132: m3 | H132: 58.737 | I132: 224 | J132: =ROUND(I132*H132,2) -> 13157.09 | K132: CS ÚRS 2024 01 | N132: základní | P132: =O132*H132 -> 0 | Q132: 0 | R132: =Q132*H132 -> 0 | S132: 0 | T132: =S132*H132 -> 0 | AR132: 4 | AT132: K | AU132: 2 | AY132: ROZPOCET | BE132: =IF(N132="základní",J132,0) -> 13157.09 | BF132: =IF(N132="snížená",J132,0) -> 0 | BG132: =IF(N132="zákl. přenesená",J132,0) -> 0 | BH132: =IF(N132="sníž. přenesená",J132,0) -> 0 | BI132: =IF(N132="nulová",J132,0) -> 0 | BJ132: 1 | BK132: =ROUND(I132*H132,2) -> 13157.09 | BL132: 4 | BM132: 1884847982
D133: Online PSC | F133: https://podminky.urs.cz/item/CS_URS_2024_01/162651132 | AT133: Online PSC | AU133: 2
...

Sheet IO 04 - Usazovací nádrž
AT2: {7a304ed3-6e50-41d8-8c28-5a2741259e83}
AT3: 2
D4: KRYCÍ LIST SOUPISU PRACÍ | M4: v --- níže se nacházejí doplnkové a pomocné údaje k sestavám --- v | AT4: False
D6: Stavba:
E7: ='Rekapitulace stavby'!K6 -> Stavební úpravy přečerpávací stanice a odlehčovací komory 10 v ulici Sportovní
D8: Objekt:
E9: IO 04 - Usazovací nádrž
D11: KSO: | F11: 827 21 51 | I11: CC-CZ:
D12: Místo: | F12: Český Brod | I12: Datum: | J12: ='Rekapitulace stavby'!AN8 -> 31. 1. 2024
D14: Zadavatel: | I14: IČ: | J14: 00235334
E15: Město Český Brod | I15: DIČ:
D17: Uchazeč: | I17: IČ: | J17: ='Rekapitulace stavby'!AN13 -> 47549793
E18: ='Rekapitulace stavby'!E14 -> 1.SčV, a.s. | I18: DIČ: | J18: ='Rekapitulace stavby'!AN14 -> CZ47549793
D20: Projektant: | I20: IČ:
E21: Ing. Petr Koblenc | I21: DIČ:
D23: Zpracovatel: | I23: IČ: | J23: 47116901
E24: Vodohospodářský rozvoj a výstavba a.s. | I24: DIČ:
D26: Poznámka:
D30: Cena bez DPH | J30: =ROUND(J86, 2) -> 1111070.1
F32: Základ daně | I32: Sazba daně | J32: Výše daně
D33: DPH | E33: základní | F33: =ROUND((SUM(BE86:BE275)), 2) -> 1111070.1 | I33: 0.21 | J33: =ROUND(((SUM(BE86:BE275))*I33), 2) -> 233324.72
E34: snížená | F34: =ROUND((SUM(BF86:BF275)), 2) -> 0 | I34: 0.15 | J34: =ROUND(((SUM(BF86:BF275))*I34), 2) -> 0
E35: zákl. přenesená | F35: =ROUND((SUM(BG86:BG275)), 2) -> 0 | I35: 0.21 | J35: =0 -> 0
E36: sníž. přenesená | F36: =ROUND((SUM(BH86:BH275)), 2) -> 0 | I36: 0.15 | J36: =0 -> 0
E37: nulová | F37: =ROUND((SUM(BI86:BI275)), 2) -> 0 | I37: 0 | J37: =0 -> 0
D39: Cena s DPH | G39: v | H39: CZK | J39: =SUM(J30:J37) -> 1344394.8
C45: REKAPITULACE ČLENĚNÍ SOUPISU PRACÍ
C47: Stavba:
E48: =E7 -> Stavební úpravy přečerpávací stanice a odlehčovací komory 10 v ulici Sportovní
C49: Objekt:
E50: =E9 -> IO 04 - Usazovací nádrž
C52: Místo: | F52: =F12 -> Český Brod | I52: Datum: | J52: =IF(J12="","",J12) -> 31. 1. 2024
C54: Zadavatel: | F54: =E15 -> Město Český Brod | I54: Projektant: | J54: =E21 -> Ing. Petr Koblenc
C55: Uchazeč: | F55: =IF(E18="","",E18) -> 1.SčV, a.s. | I55: Zpracovatel: | J55: =E24 -> Vodohospodářský rozvoj a výstavba a.s.
C57: Kód dílu - Popis | J57: Cena celkem [CZK]
C59: Náklady stavby celkem | J59: =J86 -> 1111070.1 | AU59: -1
D60: HSV - Práce a dodávky HSV | J60: =J87 -> 1111070.1
D61: 1 - Zemní práce | J61: =J88 -> 278981.22
D62: 1.4 - Zemní práce - přesuny | J62: =J126 -> 118695.22
D63: 4 - Vodorovné konstrukce | J63: =J152 -> 37958.84
D64: 8.1 - Usazovací nádrž - stavební část | J64: =J161 -> 531982.32
D65: 8.2 - Usazovací nádrž - technologie | J65: =J237 -> 134933.6
D66: 998 - Přesun hmot | J66: =J273 -> 8518.88
C73: SOUPIS PRACÍ
C75: Stavba:
E76: =E7 -> Stavební úpravy přečerpávací stanice a odlehčovací komory 10 v ulici Sportovní
C77: Objekt:
E78: =E9 -> IO 04 - Usazovací nádrž
C80: Místo: | F80: =F12 -> Český Brod | I80: Datum: | J80: =IF(J12="","",J12) -> 31. 1. 2024
C82: Zadavatel: | F82: =E15 -> Město Český Brod | I82: Projektant: | J82: =E21 -> Ing. Petr Koblenc
C83: Uchazeč: | F83: =IF(E18="","",E18) -> 1.SčV, a.s. | I83: Zpracovatel: | J83: =E24 -> Vodohospodářský rozvoj a výstavba a.s.
C85: PČ | D85: Typ | E85: Kód | F85: Popis | G85: MJ | H85: Množství | I85: J.cena [CZK] | J85: Cena celkem [CZK] | K85: Cenová soustava | N85: DPH | O85: J. Nh [h] | P85: Nh celkem [h] | Q85: J. hmotnost [t] | R85: Hmotnost celkem [t] | S85: J. suť [t] | T85: Suť Celkem [t]
C86: Náklady soupisu celkem | J86: =BK86 -> 1111070.1 | P86: =P87 -> 0 | R86: =R87 -> 57.559573 | T86: =T87 -> 0.08685 | AT86: D | AU86: -1 | BK86: =BK87 -> 1111070.1
D87: D | E87: HSV | F87: Práce a dodávky HSV | J87: =BK87 -> 1111070.1 | P87: =P88+P126+P152+P161+P237+P273 -> 0 | R87: =R88+R126+R152+R161+R237+R273 -> 57.559573 | T87: =T88+T126+T152+T161+T237+T273 -> 0.08685 | AR87: 1 | AT87: D | AU87: 0 | AY87: ROZPOCET | BK87: =BK88+BK126+BK152+BK161+BK237+BK273 -> 1111070.1
D88: D | E88: 1 | F88: Zemní práce | J88: =BK88 -> 278981.22 | P88: =SUM(P89:P125) -> 0 | R88: =SUM(R89:R125) -> 0.00075 | T88: =SUM(T89:T125) -> 0 | AR88: 1 | AT88: D | AU88: 1 | AY88: ROZPOCET | BK88: =SUM(BK89:BK125) -> 278981.22
C89: 1 | D89: K | E89: 115101201 | F89: Čerpání vody na dopravní výšku do 10 m s uvažovaným průměrným přítokem do 500 l/min | G89: hod | H89: 25 | I89: 71 | J89: =ROUND(I89*H89,2) -> 1775 | K89: CS ÚRS 2024 01 | N89: základní | P89: =O89*H89 -> 0 | Q89: 3e-05 | R89: =Q89*H89 -> 0.00075 | S89: 0 | T89: =S89*H89 -> 0 | AR89: 4 | AT89: K | AU89: 2 | AY89: ROZPOCET | BE89: =IF(N89="základní",J89,0) -> 1775 | BF89: =IF(N89="snížená",J89,0) -> 0 | BG89: =IF(N89="zákl. přenesená",J89,0) -> 0 | BH89: =IF(N89="sníž. přenesená",J89,0) -> 0 | BI89: =IF(N89="nulová",J89,0) -> 0 | BJ89: 1 | BK89: =ROUND(I89*H89,2) -> 1775 | BL89: 4 | BM89: 1791643569
D90: Online PSC | F90: https://podminky.urs.cz/item/CS_URS_2024_01/115101201 | AT90: Online PSC | AU90: 2
D91: VV | F91: "čerpání deš´tových vod"25 | H91: 25 | AT91: VV | AU91: 2 | AV91: 2 | AW91: True | AX91: 1 | AY91: ROZPOCET
C92: 2 | D92: K | E92: 115101301 | F92: Pohotovost záložní čerpací soupravy pro dopravní výšku do 10 m s uvažovaným průměrným přítokem do 500 l/min | G92: den | H92: 30 | I92: 31 | J92: =ROUND(I92*H92,2) -> 930 | K92: CS ÚRS 2024 01 | N92: základní | P92: =O92*H92 -> 0 | Q92: 0 | R92: =Q92*H92 -> 0 | S92: 0 | T92: =S92*H92 -> 0 | AR92: 4 | AT92: K | AU92: 2 | AY92: ROZPOCET | BE92: =IF(N92="základní",J92,0) -> 930 | BF92: =IF(N92="snížená",J92,0) -> 0 | BG92: =IF(N92="zákl. přenesená",J92,0) -> 0 | BH92: =IF(N92="sníž. přenesená",J92,0) -> 0 | BI92: =IF(N92="nulová",J92,0) -> 0 | BJ92: 1 | BK92: =ROUND(I92*H92,2) -> 930 | BL92: 4 | BM92: -1436528119
D93: Online PSC | F93: https://podminky.urs.cz/item/CS_URS_2024_01/115101301 | AT93: Online PSC | AU93: 2
D94: VV | F94: "pohotovost čerpací stanice po dobu realizace"30 | H94: 30 | AT94: VV | AU94: 2 | AV94: 2 | AW94: True | AX94: 1 | AY94: ROZPOCET
C95: 3 | D95: K | E95: 131151203 | F95: Hloubení zapažených jam a zářezů strojně s urovnáním dna do předepsaného profilu a spádu v hornině třídy těžitelnosti I skupiny 1 a 2 přes 50 do 100 m3 | G95: m3 | H95: 75.392 | I95: 333 | J95: =ROUND(I95*H95,2) -> 25105.54 | K95: CS ÚRS 2024 01 | N95: základní | P95: =O95*H95 -> 0 | Q95: 0 | R95: =Q95*H95 -> 0 | S95: 0 | T95: =S95*H95 -> 0 | AR95: 4 | AT95: K | AU95: 2 | AY95: ROZPOCET | BE95: =IF(N95="základní",J95,0) -> 25105.54 | BF95: =IF(N95="snížená",J95,0) -> 0 | BG95: =IF(N95="zákl. přenesená",J95,0) -> 0 | BH95: =IF(N95="sníž. přenesená",J95,0) -> 0 | BI95: =IF(N95="nulová",J95,0) -> 0 | BJ95: 1 | BK95: =ROUND(I95*H95,2) -> 25105.54 | BL95: 4 | BM95: 685639167
D96: Online PSC | F96: https://podminky.urs.cz/item/CS_URS_2024_01/131151203 | AT96: Online PSC | AU96: 2
D97: VV | F97: "svahovaný výkop" (1/3*(4,29-0,47)*(8,38*3,88+58,7+11,08*9,58)) | H97: 251.306 | AT97: VV | AU97: 2 | AV97: 2 | AW97: True | AX97: 0 | AY97: ROZPOCET
D98: VV | F98: Mezisoučet | H98: 251.306 | AT98: VV | AU98: 2 | AV98: 3 | AW98: True | AX98: 0 | AY98: ROZPOCET
D99: VV | F99: "procentuální zastoupenost třídy težitelnosti"251,306*0,3 | H99: 75.392 | AT99: VV | AU99: 2 | AV99: 2 | AW99: True | AX99: 1 | AY99: ROZPOCET
C100: 4 | D100: K | E100: 131251203 | F100: Hloubení zapažených jam a zářezů strojně s urovnáním dna do předepsaného profilu a spádu v hornině třídy těžitelnosti I skupiny 3 přes 50 do 100 m3 | G100: m3 | H100: 50.261 | I100: 561 | J100: =ROUND(I100*H100,2) -> 28196.42 | K100: CS ÚRS 2024 01 | N100: základní | P100: =O100*H100 -> 0 | Q100: 0 | R100: =Q100*H100 -> 0 | S100: 0 | T100: =S100*H100 -> 0 | AR100: 4 | AT100: K | AU100: 2 | AY100: ROZPOCET | BE100: =IF(N100="základní",J100,0) -> 28196.42 | BF100: =IF(N100="snížená",J100,0) -> 0 | BG100: =IF(N100="zákl. přenesená",J100,0) -> 0 | BH100: =IF(N100="sníž. přenesená",J100,0) -> 0 | BI100: =IF(N100="nulová",J100,0) -> 0 | BJ100: 1 | BK100: =ROUND(I100*H100,2) -> 28196.42 | BL100: 4 | BM100: 822900694
D101: Online PSC | F101: https://podminky.urs.cz/item/CS_URS_2024_01/131251203 | AT101: Online PSC | AU101: 2
D102: VV | F102: "svahovaný výkop" (1/3*(4,29-0,47)*(8,38*3,88+58,7+11,08*9,58)) | H102: 251.306 | AT102: VV | AU102: 2 | AV102: 2 | AW102: True | AX102: 0 | AY102: ROZPOCET
D103: VV | F103: Mezisoučet | H103: 251.306 | AT103: VV | AU103: 2 | AV103: 3 | AW103: True | AX103: 0 | AY103: ROZPOCET
D104: VV | F104: "procentuální zastoupenost třídy težitelnosti"251,306*0,2 | H104: 50.261 | AT104: VV | AU104: 2 | AV104: 2 | AW104: True | AX104: 1 | AY104: ROZPOCET
C105: 5 | D105: K | E105: 131351203 | F105: Hloubení zapažených jam a zářezů strojně s urovnáním dna do předepsaného profilu a spádu v hornině třídy těžitelnosti II skupiny 4 přes 50 do 100 m3 | G105: m3 | H105: 75.392 | I105: 763 | J105: =ROUND(I105*H105,2) -> 57524.1 | K105: CS ÚRS 2024 01 | N105: základní | P105: =O105*H105 -> 0 | Q105: 0 | R105: =Q105*H105 -> 0 | S105: 0 | T105: =S105*H105 -> 0 | AR105: 4 | AT105: K | AU105: 2 | AY105: ROZPOCET | BE105: =IF(N105="základní",J105,0) -> 57524.1 | BF105: =IF(N105="snížená",J105,0) -> 0 | BG105: =IF(N105="zákl. přenesená",J105,0) -> 0 | BH105: =IF(N105="sníž. přenesená",J105,0) -> 0 | BI105: =IF(N105="nulová",J105,0) -> 0 | BJ105: 1 | BK105: =ROUND(I105*H105,2) -> 57524.1 | BL105: 4 | BM105: 1160281801
D106: Online PSC | F106: https://podminky.urs.cz/item/CS_URS_2024_01/131351203 | AT106: Online PSC | AU106: 2
D107: VV | F107: "svahovaný výkop" (1/3*(4,29-0,47)*(8,38*3,88+58,7+11,08*9,58)) | H107: 251.306 | AT107: VV | AU107: 2 | AV107: 2 | AW107: True | AX107: 0 | AY107: ROZPOCET
D108: VV | F108: Mezisoučet | H108: 251.306 | AT108: VV | AU108: 2 | AV108: 3 | AW108: True | AX108: 0 | AY108: ROZPOCET
D109: VV | F109: "procentuální zastoupenost třídy težitelnosti"251,306*0,3 | H109: 75.392 | AT109: VV | AU109: 2 | AV109: 2 | AW109: True | AX109: 1 | AY109: ROZPOCET
C110: 6 | D110: K | E110: 131451203 | F110: Hloubení zapažených jam a zářezů strojně s urovnáním dna do předepsaného profilu a spádu v hornině třídy těžitelnosti II skupiny 5 přes 50 do 100 m3 | G110: m3 | H110: 50.261 | I110: 1350 | J110: =ROUND(I110*H110,2) -> 67852.35 | K110: CS ÚRS 2024 01 | N110: základní | P110: =O110*H110 -> 0 | Q110: 0 | R110: =Q110*H110 -> 0 | S110: 0 | T110: =S110*H110 -> 0 | AR110: 4 | AT110: K | AU110: 2 | AY110: ROZPOCET | BE110: =IF(N110="základní",J110,0) -> 67852.35 | BF110: =IF(N110="snížená",J110,0) -> 0 | BG110: =IF(N110="zákl. přenesená",J110,0) -> 0 | BH110: =IF(N110="sníž. přenesená",J110,0) -> 0 | BI110: =IF(N110="nulová",J110,0) -> 0 | BJ110: 1 | BK110: =ROUND(I110*H110,2) -> 67852.35 | BL110: 4 | BM110: 144007042
D111: Online PSC | F111: https://podminky.urs.cz/item/CS_URS_2024_01/131451203 | AT111: Online PSC | AU111: 2
D112: VV | F112: "svahovaný výkop" (1/3*(4,29-0,47)*(8,38*3,88+58,7+11,08*9,58)) | H112: 251.306 | AT112: VV | AU112: 2 | AV112: 2 | AW112: True | AX112: 0 | AY112: ROZPOCET
D113: VV | F113: Mezisoučet | H113: 251.306 | AT113: VV | AU113: 2 | AV113: 3 | AW113: True | AX113: 0 | AY113: ROZPOCET
D114: VV | F114: "procentuální zastoupenost třídy težitelnosti"251,306*0,2 | H114: 50.261 | AT114: VV | AU114: 2 | AV114: 2 | AW114: True | AX114: 1 | AY114: ROZPOCET
C115: 7 | D115: K | E115: 174251101 | F115: Zásyp sypaninou z jakékoliv horniny strojně s uložením výkopku ve vrstvách bez zhutnění jam, šachet, rýh nebo kolem objektů v těchto vykopávkách | G115: m3 | H115: 187.669 | I115: 79.3 | J115: =ROUND(I115*H115,2) -> 14882.15 | K115: CS ÚRS 2024 01 | N115: základní | P115: =O115*H115 -> 0 | Q115: 0 | R115: =Q115*H115 -> 0 | S115: 0 | T115: =S115*H115 -> 0 | AR115: 4 | AT115: K | AU115: 2 | AY115: ROZPOCET | BE115: =IF(N115="základní",J115,0) -> 14882.15 | BF115: =IF(N115="snížená",J115,0) -> 0 | BG115: =IF(N115="zákl. přenesená",J115,0) -> 0 | BH115: =IF(N115="sníž. přenesená",J115,0) -> 0 | BI115: =IF(N115="nulová",J115,0) -> 0 | BJ115: 1 | BK115: =ROUND(I115*H115,2) -> 14882.15 | BL115: 4 | BM115: 2068465273
D116: Online PSC | F116: https://podminky.urs.cz/item/CS_URS_2024_01/174251101 | AT116: Online PSC | AU116: 2
D117: VV | F117: "celkový výkop"251,306 | H117: 251.306 | AT117: VV | AU117: 2 | AV117: 2 | AW117: True | AX117: 0 | AY117: ROZPOCET
D118: VV | F118: "štěrkový polštář"-3,251 | H118: -3.251 | AT118: VV | AU118: 2 | AV118: 2 | AW118: True | AX118: 0 | AY118: ROZPOCET
D119: VV | F119: "betonová deska"-4,877 | H119: -4.877 | AT119: VV | AU119: 2 | AV119: 2 | AW119: True | AX119: 0 | AY119: ROZPOCET
D120: VV | F120: "objem nádrže"-6,88*2,38*3,39 | H120: -55.509 | AT120: VV | AU120: 2 | AV120: 2 | AW120: True | AX120: 0 | AY120: ROZPOCET
D121: VV | F121: Součet | H121: 187.669 | AT121: VV | AU121: 2 | AV121: 4 | AW121: True | AX121: 1 | AY121: ROZPOCET
C122: 8 | D122: M | E122: 58344171 | F122: štěrkodrť frakce 0/32 | G122: t | H122: 192.362 | I122: 430 | J122: =ROUND(I122*H122,2) -> 82715.66 | K122: CS ÚRS 2024 01 | N122: základní | P122: =O122*H122 -> 0 | Q122: 0 | R122: =Q122*H122 -> 0 | S122: 0 | T122: =S122*H122 -> 0 | AR122: 8 | AT122: M | AU122: 2 | AY122: ROZPOCET | BE122: =IF(N122="základní",J122,0) -> 82715.66 | BF122: =IF(N122="snížená",J122,0) -> 0 | BG122: =IF(N122="zákl. přenesená",J122,0) -> 0 | BH122: =IF(N122="sníž. přenesená",J122,0) -> 0 | BI122: =IF(N122="nulová",J122,0) -> 0 | BJ122: 1 | BK122: =ROUND(I122*H122,2) -> 82715.66 | BL122: 4 | BM122: -145986937
D123: VV | F123: "zásyp mimo komunikace a chodníky bude prováděn nakupovaným materiálem 0/32 a výkopkem v poměru 50/50"187,669*0,5 | H123: 93.835 | AT123: VV | AU123: 2 | AV123: 2 | AW123: True | AX123: 0 | AY123: ROZPOCET
D124: VV | F124: Mezisoučet | H124: 93.835 | AT124: VV | AU124: 2 | AV124: 3 | AW124: True | AX124: 0 | AY124: ROZPOCET
D125: VV | F125: "přepočet na tuny"93,835*2,05 | H125: 192.362 | AT125: VV | AU125: 2 | AV125: 2 | AW125: True | AX125: 1 | AY125: ROZPOCET
D126: D | E126: 1.4 | F126: Zemní práce - přesuny | J126: =BK126 -> 118695.22 | P126: =SUM(P127:P151) -> 0 | R126: =SUM(R127:R151) -> 0 | T126: =SUM(T127:T151) -> 0 | AR126: 1 | AT126: D | AU126: 1 | AY126: ROZPOCET | BK126: =SUM(BK127:BK151) -> 118695.22
C127: 9 | D127: K | E127: 162651112 | F127: Vodorovné přemístění výkopku nebo sypaniny po suchu na obvyklém dopravním prostředku, bez naložení výkopku, avšak se složením bez rozhrnutí z horniny třídy těžitelnosti I skupiny 1 až 3 na vzdálenost přes 4 000 do 5 000 m | G127: m3 | H127: 31.818 | I127: 80 | J127: =ROUND(I127*H127,2) -> 2545.44 | K127: CS ÚRS 2024 01 | N127: základní | P127: =O127*H127 -> 0 | Q127: 0 | R127: =Q127*H127 -> 0 | S127: 0 | T127: =S127*H127 -> 0 | AR127: 4 | AT127: K | AU127: 2 | AY127: ROZPOCET | BE127: =IF(N127="základní",J127,0) -> 2545.44 | BF127: =IF(N127="snížená",J127,0) -> 0 | BG127: =IF(N127="zákl. přenesená",J127,0) -> 0 | BH127: =IF(N127="sníž. přenesená",J127,0) -> 0 | BI127: =IF(N127="nulová",J127,0) -> 0 | BJ127: 1 | BK127: =ROUND(I127*H127,2) -> 2545.44 | BL127: 4 | BM127: 564589294
D128: Online PSC | F128: https://podminky.urs.cz/item/CS_URS_2024_01/162651112 | AT128: Online PSC | AU128: 2
D129: VV | F129: "výkopek celkem"75,392+50,261 | H129: 125.653 | AT129: VV | AU129: 2 | AV129: 2 | AW129: True | AX129: 0 | AY129: ROZPOCET
D130: VV | F130: "použito ke zpětnému zásypu"-93,835 | H130: -93.835 | AT130: VV | AU130: 2 | AV130: 2 | AW130: True | AX130: 0 | AY130: ROZPOCET
D131: VV | F131: Mezisoučet | H131: 31.818 | AT131: VV | AU131: 2 | AV131: 3 | AW131: True | AX131: 0 | AY131: ROZPOCET
D132: VV | F132: "odvoz na skládku"31,818 | H132: 31.818 | AT132: VV | AU132: 2 | AV132: 2 | AW132: True | AX132: 1 | AY132: ROZPOCET
C133: 10 | D133: K | E133: 162651132 | F133: Vodorovné přemístění výkopku nebo sypaniny po suchu na obvyklém dopravním prostředku, bez naložení výkopku, avšak se složením bez rozhrnutí z horniny třídy těžitelnosti II skupiny 4 a 5 na vzdálenost přes 4 000 do 5 000 m | G133: m3 | H133: 125.653 | I133: 224 | J133: =ROUND(I133*H133,2) -> 28146.27 | K133: CS ÚRS 2024 01 | N133: základní | P133: =O133*H133 -> 0 | Q133: 0 | R133: =Q133*H133 -> 0 | S133: 0 | T133: =S133*H133 -> 0 | AR133: 4 | AT133: K | AU133: 2 | AY133: ROZPOCET | BE133: =IF(N133="základní",J133,0) -> 28146.27 | BF133: =IF(N133="snížená",J133,0) -> 0 | BG133: =IF(N133="zákl. přenesená",J133,0) -> 0 | BH133: =IF(N133="sníž. přenesená",J133,0) -> 0 | BI133: =IF(N133="nulová",J133,0) -> 0 | BJ133: 1 | BK133: =ROUND(I133*H133,2) -> 28146.27 | BL133: 4 | BM133: -934330364
...

Sheet 01 - Technologická elektr...
AT2: {33cadccc-5872-41f0-8c93-6aad9d1ba1ec}
AT3: 2
D4: KRYCÍ LIST SOUPISU PRACÍ | M4: v --- níže se nacházejí doplnkové a pomocné údaje k sestavám --- v | AT4: False
D6: Stavba:
E7: ='Rekapitulace stavby'!K6 -> Stavební úpravy přečerpávací stanice a odlehčovací komory 10 v ulici Sportovní
D8: Objekt:
E9: IO 05 - Technologická elektroinstalace a SŘTP
D10: Soupis:
E11: 01 - Technologická elektroinstalace a SŘTP - přípojka NN
D13: KSO: | F13: 827 21 51 | I13: CC-CZ:
D14: Místo: | F14: Český Brod | I14: Datum: | J14: ='Rekapitulace stavby'!AN8 -> 31. 1. 2024
D16: Zadavatel: | I16: IČ: | J16: 00235334
E17: Město Český Brod | I17: DIČ:
D19: Uchazeč: | I19: IČ: | J19: ='Rekapitulace stavby'!AN13 -> 47549793
E20: ='Rekapitulace stavby'!E14 -> 1.SčV, a.s. | I20: DIČ: | J20: ='Rekapitulace stavby'!AN14 -> CZ47549793
D22: Projektant: | I22: IČ:
E23: Ing. Petr Koblenc | I23: DIČ:
D25: Zpracovatel: | I25: IČ: | J25: 47116901
E26: Vodohospodářský rozvoj a výstavba a.s. | I26: DIČ:
D28: Poznámka:
D32: Cena bez DPH | J32: =ROUND(J90, 2) -> 114693.13
F34: Základ daně | I34: Sazba daně | J34: Výše daně
D35: DPH | E35: základní | F35: =ROUND((SUM(BE90:BE184)), 2) -> 114693.13 | I35: 0.21 | J35: =ROUND(((SUM(BE90:BE184))*I35), 2) -> 24085.56
E36: snížená | F36: =ROUND((SUM(BF90:BF184)), 2) -> 0 | I36: 0.15 | J36: =ROUND(((SUM(BF90:BF184))*I36), 2) -> 0
E37: zákl. přenesená | F37: =ROUND((SUM(BG90:BG184)), 2) -> 0 | I37: 0.21 | J37: =0 -> 0
E38: sníž. přenesená | F38: =ROUND((SUM(BH90:BH184)), 2) -> 0 | I38: 0.15 | J38: =0 -> 0
E39: nulová | F39: =ROUND((SUM(BI90:BI184)), 2) -> 0 | I39: 0 | J39: =0 -> 0
D41: Cena s DPH | G41: v | H41: CZK | J41: =SUM(J32:J39) -> 138778.69
C47: REKAPITULACE ČLENĚNÍ SOUPISU PRACÍ
C49: Stavba:
E50: =E7 -> Stavební úpravy přečerpávací stanice a odlehčovací komory 10 v ulici Sportovní
C51: Objekt:
E52: IO 05 - Technologická elektroinstalace a SŘTP
C53: Soupis:
E54: =E11 -> 01 - Technologická elektroinstalace a SŘTP - přípojka NN
C56: Místo: | F56: =F14 -> Český Brod | I56: Datum: | J56: =IF(J14="","",J14) -> 31. 1. 2024
C58: Zadavatel: | F58: =E17 -> Město Český Brod | I58: Projektant: | J58: =E23 -> Ing. Petr Koblenc
C59: Uchazeč: | F59: =IF(E20="","",E20) -> 1.SčV, a.s. | I59: Zpracovatel: | J59: =E26 -> Vodohospodářský rozvoj a výstavba a.s.
C61: Kód dílu - Popis | J61: Cena celkem [CZK]
C63: Náklady stavby celkem | J63: =J90 -> 114693.13 | AU63: -1
D64: HSV - Práce a dodávky HSV | J64: =J91 -> 114693.13
D65: 1 - Zemní práce | J65: =J92 -> 6713.7
D66: 2 - Zakládání | J66: =J95 -> 9945.21
D67: 3 - Svislé a kompletní konstrukce | J67: =J137 -> 92784.22
D68: 4 - Vodorovné konstrukce | J68: =J183 -> 5250
C75: SOUPIS PRACÍ
C77: Stavba:
E78: =E7 -> Stavební úpravy přečerpávací stanice a odlehčovací komory 10 v ulici Sportovní
C79: Objekt:
E80: IO 05 - Technologická elektroinstalace a SŘTP
C81: Soupis:
E82: =E11 -> 01 - Technologická elektroinstalace a SŘTP - přípojka NN
C84: Místo: | F84: =F14 -> Český Brod | I84: Datum: | J84: =IF(J14="","",J14) -> 31. 1. 2024
C86: Zadavatel: | F86: =E17 -> Město Český Brod | I86: Projektant: | J86: =E23 -> Ing. Petr Koblenc
C87: Uchazeč: | F87: =IF(E20="","",E20) -> 1.SčV, a.s. | I87: Zpracovatel: | J87: =E26 -> Vodohospodářský rozvoj a výstavba a.s.
C89: PČ | D89: Typ | E89: Kód | F89: Popis | G89: MJ | H89: Množství | I89: J.cena [CZK] | J89: Cena celkem [CZK] | K89: Cenová soustava | N89: DPH | O89: J. Nh [h] | P89: Nh celkem [h] | Q89: J. hmotnost [t] | R89: Hmotnost celkem [t] | S89: J. suť [t] | T89: Suť Celkem [t]
C90: Náklady soupisu celkem | J90: =BK90 -> 114693.13 | P90: =P91 -> 0 | R90: =R91 -> 2.7470675 | T90: =T91 -> 0 | AT90: D | AU90: -1 | BK90: =BK91 -> 114693.13
D91: D | E91: HSV | F91: Práce a dodávky HSV | J91: =BK91 -> 114693.13 | P91: =P92+P95+P137+P183 -> 0 | R91: =R92+R95+R137+R183 -> 2.7470675 | T91: =T92+T95+T137+T183 -> 0 | AR91: 1 | AT91: D | AU91: 0 | AY91: ROZPOCET | BK91: =BK92+BK95+BK137+BK183 -> 114693.13
D92: D | E92: 1 | F92: Zemní práce | J92: =BK92 -> 6713.7 | P92: =SUM(P93:P94) -> 0 | R92: =SUM(R93:R94) -> 0 | T92: =SUM(T93:T94) -> 0 | AR92: 1 | AT92: D | AU92: 1 | AY92: ROZPOCET | BK92: =SUM(BK93:BK94) -> 6713.7
C93: 1 | D93: K | E93: 1_R | F93: Elektroměrová rozvodnice ER112/NVP7P, 40A | G93: kus | H93: 1 | I93: 5824.35 | J93: =ROUND(I93*H93,2) -> 5824.35 | N93: základní | P93: =O93*H93 -> 0 | Q93: 0 | R93: =Q93*H93 -> 0 | S93: 0 | T93: =S93*H93 -> 0 | AR93: 4 | AT93: K | AU93: 2 | AY93: ROZPOCET | BE93: =IF(N93="základní",J93,0) -> 5824.35 | BF93: =IF(N93="snížená",J93,0) -> 0 | BG93: =IF(N93="zákl. přenesená",J93,0) -> 0 | BH93: =IF(N93="sníž. přenesená",J93,0) -> 0 | BI93: =IF(N93="nulová",J93,0) -> 0 | BJ93: 1 | BK93: =ROUND(I93*H93,2) -> 5824.35 | BL93: 4 | BM93: -1388347955
C94: 2 | D94: K | E94: 2_R | F94: Třífázový jistič 32A, char. C, 10kA | G94: kus | H94: 1 | I94: 889.35 | J94: =ROUND(I94*H94,2) -> 889.35 | N94: základní | P94: =O94*H94 -> 0 | Q94: 0 | R94: =Q94*H94 -> 0 | S94: 0 | T94: =S94*H94 -> 0 | AR94: 4 | AT94: K | AU94: 2 | AY94: ROZPOCET | BE94: =IF(N94="základní",J94,0) -> 889.35 | BF94: =IF(N94="snížená",J94,0) -> 0 | BG94: =IF(N94="zákl. přenesená",J94,0) -> 0 | BH94: =IF(N94="sníž. přenesená",J94,0) -> 0 | BI94: =IF(N94="nulová",J94,0) -> 0 | BJ94: 1 | BK94: =ROUND(I94*H94,2) -> 889.35 | BL94: 4 | BM94: 2003606923
D95: D | E95: 2 | F95: Zakládání | J95: =BK95 -> 9945.21 | P95: =SUM(P96:P136) -> 0 | R95: =SUM(R96:R136) -> 0.01236 | T95: =SUM(T96:T136) -> 0 | AR95: 1 | AT95: D | AU95: 1 | AY95: ROZPOCET | BK95: =SUM(BK96:BK136) -> 9945.21
C96: 3 | D96: M | E96: 711030 | F96: CYKY-J 4x16 RE | G96: km | H96: 0.01 | I96: 312.9 | J96: =ROUND(I96*H96,2) -> 3.13 | N96: základní | P96: =O96*H96 -> 0 | Q96: 0.9 | R96: =Q96*H96 -> 0.009 | S96: 0 | T96: =S96*H96 -> 0 | AR96: 8 | AT96: M | AU96: 2 | AY96: ROZPOCET | BE96: =IF(N96="základní",J96,0) -> 3.13 | BF96: =IF(N96="snížená",J96,0) -> 0 | BG96: =IF(N96="zákl. přenesená",J96,0) -> 0 | BH96: =IF(N96="sníž. přenesená",J96,0) -> 0 | BI96: =IF(N96="nulová",J96,0) -> 0 | BJ96: 1 | BK96: =ROUND(I96*H96,2) -> 3.13 | BL96: 4 | BM96: 1946585622
D97: VV | F97: 0,010 | H97: 0.01 | AT97: VV | AU97: 2 | AV97: 2 | AW97: True | AX97: 1 | AY97: ROZPOCET
C98: 4 | D98: K | E98: 460171322 | F98: Hloubení nezapažených kabelových rýh strojně včetně urovnání dna s přemístěním výkopku do vzdálenosti 3 m od okraje jámy nebo s naložením na dopravní prostředek šířky 50 cm hloubky 120 cm v hornině třídy těžitelnosti I skupiny 3 | G98: m | H98: 8 | I98: 265 | J98: =ROUND(I98*H98,2) -> 2120 | K98: CS ÚRS 2024 01 | N98: základní | P98: =O98*H98 -> 0 | Q98: 0 | R98: =Q98*H98 -> 0 | S98: 0 | T98: =S98*H98 -> 0 | AR98: 64 | AT98: K | AU98: 2 | AY98: ROZPOCET | BE98: =IF(N98="základní",J98,0) -> 2120 | BF98: =IF(N98="snížená",J98,0) -> 0 | BG98: =IF(N98="zákl. přenesená",J98,0) -> 0 | BH98: =IF(N98="sníž. přenesená",J98,0) -> 0 | BI98: =IF(N98="nulová",J98,0) -> 0 | BJ98: 1 | BK98: =ROUND(I98*H98,2) -> 2120 | BL98: 64 | BM98: 1257207726
D99: Online PSC | F99: https://podminky.urs.cz/item/CS_URS_2024_01/460171322 | AT99: Online PSC | AU99: 2
D100: VV | F100: 8 | H100: 8 | AT100: VV | AU100: 2 | AV100: 2 | AW100: True | AX100: 1 | AY100: ROZPOCET
C101: 5 | D101: K | E101: 162651112 | F101: Vodorovné přemístění výkopku nebo sypaniny po suchu na obvyklém dopravním prostředku, bez naložení výkopku, avšak se složením bez rozhrnutí z horniny třídy těžitelnosti I skupiny 1 až 3 na vzdálenost přes 4 000 do 5 000 m | G101: m3 | H101: 4.8 | I101: 80 | J101: =ROUND(I101*H101,2) -> 384 | K101: CS ÚRS 2024 01 | N101: základní | P101: =O101*H101 -> 0 | Q101: 0 | R101: =Q101*H101 -> 0 | S101: 0 | T101: =S101*H101 -> 0 | AR101: 64 | AT101: K | AU101: 2 | AY101: ROZPOCET | BE101: =IF(N101="základní",J101,0) -> 384 | BF101: =IF(N101="snížená",J101,0) -> 0 | BG101: =IF(N101="zákl. přenesená",J101,0) -> 0 | BH101: =IF(N101="sníž. přenesená",J101,0) -> 0 | BI101: =IF(N101="nulová",J101,0) -> 0 | BJ101: 1 | BK101: =ROUND(I101*H101,2) -> 384 | BL101: 64 | BM101: -562375082
D102: Online PSC | F102: https://podminky.urs.cz/item/CS_URS_2024_01/162651112 | AT102: Online PSC | AU102: 2
D103: VV | F103: "výkopek celkem"8*0,5*1,2 | H103: 4.8 | AT103: VV | AU103: 2 | AV103: 2 | AW103: True | AX103: 1 | AY103: ROZPOCET
C104: 6 | D104: K | E104: 171201231 | F104: Poplatek za uložení stavebního odpadu na recyklační skládce (skládkovné) zeminy a kamení zatříděného do Katalogu odpadů pod kódem 17 05 04 | G104: t | H104: 9.12 | I104: 180 | J104: =ROUND(I104*H104,2) -> 1641.6 | K104: CS ÚRS 2024 01 | N104: základní | P104: =O104*H104 -> 0 | Q104: 0 | R104: =Q104*H104 -> 0 | S104: 0 | T104: =S104*H104 -> 0 | AR104: 64 | AT104: K | AU104: 2 | AY104: ROZPOCET | BE104: =IF(N104="základní",J104,0) -> 1641.6 | BF104: =IF(N104="snížená",J104,0) -> 0 | BG104: =IF(N104="zákl. přenesená",J104,0) -> 0 | BH104: =IF(N104="sníž. přenesená",J104,0) -> 0 | BI104: =IF(N104="nulová",J104,0) -> 0 | BJ104: 1 | BK104: =ROUND(I104*H104,2) -> 1641.6 | BL104: 64 | BM104: 827802638
D105: Online PSC | F105: https://podminky.urs.cz/item/CS_URS_2024_01/171201231 | AT105: Online PSC | AU105: 2
D106: VV | F106: "zemina na skládku"4,8 | H106: 4.8 | AT106: VV | AU106: 2 | AV106: 2 | AW106: True | AX106: 0 | AY106: ROZPOCET
D107: VV | F107: Mezisoučet | H107: 4.8 | AT107: VV | AU107: 2 | AV107: 3 | AW107: True | AX107: 0 | AY107: ROZPOCET
D108: VV | F108: "přepočet na tuny"4,8*1,9 | H108: 9.12 | AT108: VV | AU108: 2 | AV108: 2 | AW108: True | AX108: 1 | AY108: ROZPOCET
C109: 7 | D109: K | E109: 171251201 | F109: Uložení sypaniny na skládky nebo meziskládky bez hutnění s upravením uložené sypaniny do předepsaného tvaru | G109: m3 | H109: 4.8 | I109: 22 | J109: =ROUND(I109*H109,2) -> 105.6 | K109: CS ÚRS 2024 01 | N109: základní | P109: =O109*H109 -> 0 | Q109: 0 | R109: =Q109*H109 -> 0 | S109: 0 | T109: =S109*H109 -> 0 | AR109: 64 | AT109: K | AU109: 2 | AY109: ROZPOCET | BE109: =IF(N109="základní",J109,0) -> 105.6 | BF109: =IF(N109="snížená",J109,0) -> 0 | BG109: =IF(N109="zákl. přenesená",J109,0) -> 0 | BH109: =IF(N109="sníž. přenesená",J109,0) -> 0 | BI109: =IF(N109="nulová",J109,0) -> 0 | BJ109: 1 | BK109: =ROUND(I109*H109,2) -> 105.6 | BL109: 64 | BM109: 877019836
D110: Online PSC | F110: https://podminky.urs.cz/item/CS_URS_2024_01/171251201 | AT110: Online PSC | AU110: 2
D111: VV | F111: "zemina na skládku"4,8 | H111: 4.8 | AT111: VV | AU111: 2 | AV111: 2 | AW111: True | AX111: 1 | AY111: ROZPOCET
C112: 8 | D112: K | E112: 162651112 | F112: Vodorovné přemístění výkopku nebo sypaniny po suchu na obvyklém dopravním prostředku, bez naložení výkopku, avšak se složením bez rozhrnutí z horniny třídy těžitelnosti I skupiny 1 až 3 na vzdálenost přes 4 000 do 5 000 m | G112: m3 | H112: 0.7 | I112: 80 | J112: =ROUND(I112*H112,2) -> 56 | K112: CS ÚRS 2024 01 | N112: základní | P112: =O112*H112 -> 0 | Q112: 0 | R112: =Q112*H112 -> 0 | S112: 0 | T112: =S112*H112 -> 0 | AR112: 64 | AT112: K | AU112: 2 | AY112: ROZPOCET | BE112: =IF(N112="základní",J112,0) -> 56 | BF112: =IF(N112="snížená",J112,0) -> 0 | BG112: =IF(N112="zákl. přenesená",J112,0) -> 0 | BH112: =IF(N112="sníž. přenesená",J112,0) -> 0 | BI112: =IF(N112="nulová",J112,0) -> 0 | BJ112: 1 | BK112: =ROUND(I112*H112,2) -> 56 | BL112: 64 | BM112: -730313094
D113: Online PSC | F113: https://podminky.urs.cz/item/CS_URS_2024_01/162651112 | AT113: Online PSC | AU113: 2
D114: VV | F114: "výkopek celkem"0,7 | H114: 0.7 | AT114: VV | AU114: 2 | AV114: 2 | AW114: True | AX114: 1 | AY114: ROZPOCET
C115: 9 | D115: K | E115: 171201231 | F115: Poplatek za uložení stavebního odpadu na recyklační skládce (skládkovné) zeminy a kamení zatříděného do Katalogu odpadů pod kódem 17 05 04 | G115: t | H115: 1.33 | I115: 180 | J115: =ROUND(I115*H115,2) -> 239.4 | K115: CS ÚRS 2024 01 | N115: základní | P115: =O115*H115 -> 0 | Q115: 0 | R115: =Q115*H115 -> 0 | S115: 0 | T115: =S115*H115 -> 0 | AR115: 64 | AT115: K | AU115: 2 | AY115: ROZPOCET | BE115: =IF(N115="základní",J115,0) -> 239.4 | BF115: =IF(N115="snížená",J115,0) -> 0 | BG115: =IF(N115="zákl. přenesená",J115,0) -> 0 | BH115: =IF(N115="sníž. přenesená",J115,0) -> 0 | BI115: =IF(N115="nulová",J115,0) -> 0 | BJ115: 1 | BK115: =ROUND(I115*H115,2) -> 239.4 | BL115: 64 | BM115: -992850615
D116: Online PSC | F116: https://podminky.urs.cz/item/CS_URS_2024_01/171201231 | AT116: Online PSC | AU116: 2
D117: VV | F117: "zemina na skládku"0,7 | H117: 0.7 | AT117: VV | AU117: 2 | AV117: 2 | AW117: True | AX117: 0 | AY117: ROZPOCET
D118: VV | F118: Mezisoučet | H118: 0.7 | AT118: VV | AU118: 2 | AV118: 3 | AW118: True | AX118: 0 | AY118: ROZPOCET
D119: VV | F119: "přepočet na tuny"0,7*1,9 | H119: 1.33 | AT119: VV | AU119: 2 | AV119: 2 | AW119: True | AX119: 1 | AY119: ROZPOCET
C120: 10 | D120: K | E120: 171251201 | F120: Uložení sypaniny na skládky nebo meziskládky bez hutnění s upravením uložené sypaniny do předepsaného tvaru | G120: m3 | H120: 0.7 | I120: 22 | J120: =ROUND(I120*H120,2) -> 15.4 | K120: CS ÚRS 2024 01 | N120: základní | P120: =O120*H120 -> 0 | Q120: 0 | R120: =Q120*H120 -> 0 | S120: 0 | T120: =S120*H120 -> 0 | AR120: 64 | AT120: K | AU120: 2 | AY120: ROZPOCET | BE120: =IF(N120="základní",J120,0) -> 15.4 | BF120: =IF(N120="snížená",J120,0) -> 0 | BG120: =IF(N120="zákl. přenesená",J120,0) -> 0 | BH120: =IF(N120="sníž. přenesená",J120,0) -> 0 | BI120: =IF(N120="nulová",J120,0) -> 0 | BJ120: 1 | BK120: =ROUND(I120*H120,2) -> 15.4 | BL120: 64 | BM120: -83596002
D121: Online PSC | F121: https://podminky.urs.cz/item/CS_URS_2024_01/171251201 | AT121: Online PSC | AU121: 2
D122: VV | F122: "zemina na skládku"0,7 | H122: 0.7 | AT122: VV | AU122: 2 | AV122: 2 | AW122: True | AX122: 1 | AY122: ROZPOCET
C123: 11 | D123: K | E123: 460451331 | F123: Zásyp kabelových rýh strojně s přemístěním sypaniny ze vzdálenosti do 10 m, s uložením výkopku ve vrstvách včetně zhutnění a urovnání povrchu šířky 50 cm hloubky 120 cm z horniny třídy těžitelnosti I skupiny 1 a 2 | G123: m | H123: 8 | I123: 104 | J123: =ROUND(I123*H123,2) -> 832 | K123: CS ÚRS 2024 01 | N123: základní | P123: =O123*H123 -> 0 | Q123: 0 | R123: =Q123*H123 -> 0 | S123: 0 | T123: =S123*H123 -> 0 | AR123: 64 | AT123: K | AU123: 2 | AY123: ROZPOCET | BE123: =IF(N123="základní",J123,0) -> 832 | BF123: =IF(N123="snížená",J123,0) -> 0 | BG123: =IF(N123="zákl. přenesená",J123,0) -> 0 | BH123: =IF(N123="sníž. přenesená",J123,0) -> 0 | BI123: =IF(N123="nulová",J123,0) -> 0 | BJ123: 1 | BK123: =ROUND(I123*H123,2) -> 832 | BL123: 64 | BM123: 328164893
D124: Online PSC | F124: https://podminky.urs.cz/item/CS_URS_2024_01/460451331 | AT124: Online PSC | AU124: 2
D125: VV | F125: 8 | H125: 8 | AT125: VV | AU125: 2 | AV125: 2 | AW125: True | AX125: 1 | AY125: ROZPOCET
C126: 12 | D126: M | E126: 58341341 | F126: kamenivo drcené drobné frakce 0/4 | G126: t | H126: 9.84 | I126: 358 | J126: =ROUND(I126*H126,2) -> 3522.72 | K126: CS ÚRS 2024 01 | N126: základní | P126: =O126*H126 -> 0 | Q126: 0 | R126: =Q126*H126 -> 0 | S126: 0 | T126: =S126*H126 -> 0 | AR126: 8 | AT126: M | AU126: 2 | AY126: ROZPOCET | BE126: =IF(N126="základní",J126,0) -> 3522.72 | BF126: =IF(N126="snížená",J126,0) -> 0 | BG126: =IF(N126="zákl. přenesená",J126,0) -> 0 | BH126: =IF(N126="sníž. přenesená",J126,0) -> 0 | BI126: =IF(N126="nulová",J126,0) -> 0 | BJ126: 1 | BK126: =ROUND(I126*H126,2) -> 3522.72 | BL126: 4 | BM126: 1735528883
D127: VV | F127: "zásyp"8*0,5*1,2 | H127: 4.8 | AT127: VV | AU127: 2 | AV127: 2 | AW127: True | AX127: 0 | AY127: ROZPOCET
D128: VV | F128: Mezisoučet | H128: 4.8 | AT128: VV | AU128: 2 | AV128: 3 | AW128: True | AX128: 0 | AY128: ROZPOCET
D129: VV | F129: "přepočet na tuny"4,8*2,05 | H129: 9.84 | AT129: VV | AU129: 2 | AV129: 2 | AW129: True | AX129: 1 | AY129: ROZPOCET
C130: 13 | D130: K | E130: 741110053 | F130: Montáž trubek elektroinstalačních s nasunutím nebo našroubováním do krabic plastových ohebných, uložených volně, vnější Ø přes 35 mm | G130: m | H130: 8 | I130: 78.75 | J130: =ROUND(I130*H130,2) -> 630 | K130: CS ÚRS 2024 01 | N130: základní | P130: =O130*H130 -> 0 | Q130: 0 | R130: =Q130*H130 -> 0 | S130: 0 | T130: =S130*H130 -> 0 | AR130: 16 | AT130: K | AU130: 2 | AY130: ROZPOCET | BE130: =IF(N130="základní",J130,0) -> 630 | BF130: =IF(N130="snížená",J130,0) -> 0 | BG130: =IF(N130="zákl. přenesená",J130,0) -> 0 | BH130: =IF(N130="sníž. přenesená",J130,0) -> 0 | BI130: =IF(N130="nulová",J130,0) -> 0 | BJ130: 1 | BK130: =ROUND(I130*H130,2) -> 630 | BL130: 16 | BM130: 1992100523
D131: Online PSC | F131: https://podminky.urs.cz/item/CS_URS_2024_01/741110053 | AT131: Online PSC | AU131: 2
D132: VV | F132: 8 | H132: 8 | AT132: VV | AU132: 2 | AV132: 2 | AW132: True | AX132: 1 | AY132: ROZPOCET
C133: 14 | D133: M | E133: 34571352 | F133: trubka elektroinstalační ohebná dvouplášťová korugovaná (chránička) D 52/63mm, HDPE+LDPE | G133: m | H133: 8 | I133: 37.7 | J133: =ROUND(I133*H133,2) -> 301.6 | K133: CS ÚRS 2024 01 | N133: základní | P133: =O133*H133 -> 0 | Q133: 0.00035 | R133: =Q133*H133 -> 0.0028 | S133: 0 | T133: =S133*H133 -> 0 | AR133: 8 | AT133: M | AU133: 2 | AY133: ROZPOCET | BE133: =IF(N133="základní",J133,0) -> 301.6 | BF133: =IF(N133="snížená",J133,0) -> 0 | BG133: =IF(N133="zákl. přenesená",J133,0) -> 0 | BH133: =IF(N133="sníž. přenesená",J133,0) -> 0 | BI133: =IF(N133="nulová",J133,0) -> 0 | BJ133: 1 | BK133: =ROUND(I133*H133,2) -> 301.6 | BL133: 4 | BM133: 1327693679
...

Sheet 02 - Technologická elektr...
AT2: {5931e646-164a-4f7b-82ad-6c5a91870141}
AT3: 2
D4: KRYCÍ LIST SOUPISU PRACÍ | M4: v --- níže se nacházejí doplnkové a pomocné údaje k sestavám --- v | AT4: False
D6: Stavba:
E7: ='Rekapitulace stavby'!K6 -> Stavební úpravy přečerpávací stanice a odlehčovací komory 10 v ulici Sportovní
D8: Objekt:
E9: IO 05 - Technologická elektroinstalace a SŘTP
D10: Soupis:
E11: 02 - Technologická elektroinstalace a SŘTP - TE+SŘTP
D13: KSO: | F13: 827 21 51 | I13: CC-CZ:
D14: Místo: | F14: Český Brod | I14: Datum: | J14: ='Rekapitulace stavby'!AN8 -> 31. 1. 2024
D16: Zadavatel: | I16: IČ: | J16: 00235334
E17: Město Český Brod | I17: DIČ:
D19: Uchazeč: | I19: IČ: | J19: ='Rekapitulace stavby'!AN13 -> 47549793
E20: ='Rekapitulace stavby'!E14 -> 1.SčV, a.s. | I20: DIČ: | J20: ='Rekapitulace stavby'!AN14 -> CZ47549793
D22: Projektant: | I22: IČ:
E23: Ing. Petr Koblenc | I23: DIČ:
D25: Zpracovatel: | I25: IČ: | J25: 47116901
E26: Vodohospodářský rozvoj a výstavba a.s. | I26: DIČ:
D28: Poznámka:
D32: Cena bez DPH | J32: =ROUND(J116, 2) -> 490074.14
F34: Základ daně | I34: Sazba daně | J34: Výše daně
D35: DPH | E35: základní | F35: =ROUND((SUM(BE116:BE344)), 2) -> 490074.14 | I35: 0.21 | J35: =ROUND(((SUM(BE116:BE344))*I35), 2) -> 102915.57
E36: snížená | F36: =ROUND((SUM(BF116:BF344)), 2) -> 0 | I36: 0.15 | J36: =ROUND(((SUM(BF116:BF344))*I36), 2) -> 0
E37: zákl. přenesená | F37: =ROUND((SUM(BG116:BG344)), 2) -> 0 | I37: 0.21 | J37: =0 -> 0
E38: sníž. přenesená | F38: =ROUND((SUM(BH116:BH344)), 2) -> 0 | I38: 0.15 | J38: =0 -> 0
E39: nulová | F39: =ROUND((SUM(BI116:BI344)), 2) -> 0 | I39: 0 | J39: =0 -> 0
D41: Cena s DPH | G41: v | H41: CZK | J41: =SUM(J32:J39) -> 592989.71
C47: REKAPITULACE ČLENĚNÍ SOUPISU PRACÍ
C49: Stavba:
E50: =E7 -> Stavební úpravy přečerpávací stanice a odlehčovací komory 10 v ulici Sportovní
C51: Objekt:
E52: IO 05 - Technologická elektroinstalace a SŘTP
C53: Soupis:
E54: =E11 -> 02 - Technologická elektroinstalace a SŘTP - TE+SŘTP
C56: Místo: | F56: =F14 -> Český Brod | I56: Datum: | J56: =IF(J14="","",J14) -> 31. 1. 2024
C58: Zadavatel: | F58: =E17 -> Město Český Brod | I58: Projektant: | J58: =E23 -> Ing. Petr Koblenc
C59: Uchazeč: | F59: =IF(E20="","",E20) -> 1.SčV, a.s. | I59: Zpracovatel: | J59: =E26 -> Vodohospodářský rozvoj a výstavba a.s.
C61: Kód dílu - Popis | J61: Cena celkem [CZK]
C63: Náklady stavby celkem | J63: =J116 -> 490074.14 | AU63: -1
D64: HSV - Práce a dodávky HSV | J64: =J117 -> 490074.14
D65: 1 - Zemní práce | J65: =J118 -> 82682.92
D66: 2 - Zakládání | J66: =J169 -> 18606
D67: 3 - Svislé a kompletní konstrukce | J67: =J174 -> 0
D68: 3.1 - Rozváděč RM1 | J68: =J175 -> 28801.5
D69: 3.2 - Odvětrání rozváděče | J69: =J179 -> 5708.85
D70: 3.3 - Propojovací kanály a DIN lišty | J70: =J183 -> 2205.84
D71: 3.4 - Ostatní příslušenství | J71: =J187 -> 756.81
D72: 4 - Vodorovné konstrukce | J72: =J198 -> 0
D73: 4.1 - Hlavní vypínač | J73: =J199 -> 3763.31
D74: 4.2 - Přístroje NN pro jištění obvodů, přepěťové ochrany | J74: =J206 -> 8837.03
D75: 4.3 - Relé, stykače, softstarty a tepelné ochrany | J75: =J220 -> 85044.75
D76: 4.4 - Zdroje, měniče, akumulátory | J76: =J228 -> 2893.8
D77: 4.5 - Ovládací a signalizační prvky | J77: =J232 -> 2414.25
D78: 4.6 - Svorkovnice, malé pojistkové odpínače | J78: =J241 -> 5337.9
D79: 4.7 - Kabelové štítky, návlečky, vodiče | J79: =J265 -> 10354.68
D80: 5 - Komunikace pozemní | J80: =J271 -> 39800.25
D81: 6 - Úpravy povrchů, podlahy a osazování výplní | J81: =J279 -> 29820
D82: 7 - SW práce | J82: =J282 -> 29925
D83: 8 - Trubní vedení | J83: =J286 -> 17041.5
D84: 9 - Ostatní konstrukce a práce, bourání | J84: =J292 -> 60438
D85: 10 - Elektroinstalační materiál | J85: =J304 -> 0
D86: 10.1 - Kabelové nosné systémy | J86: =J305 -> 7628.25
D87: 10.2 - Kabely technologické elektroinstalace | J87: =J314 -> 10790.26
D88: 10.3 - Napojení na uzemnění | J88: =J324 -> 106.79
D89: 10.4 - Ochranné pospojení | J89: =J327 -> 761.25
D90: 10.5 - Stavební elektroinstalace | J90: =J331 -> 5716.2
D91: 10.6 - Ostatní | J91: =J337 -> 4410
D92: 11 - Zemní práce - přípravné a přidružené práce | J92: =J339 -> 5229
D93: 12 - Zemní práce - odkopávky a prokopávky | J93: =J341 -> 5250
D94: 13 - Zemní práce - hloubené vykopávky | J94: =J343 -> 15750
C101: SOUPIS PRACÍ
C103: Stavba:
E104: =E7 -> Stavební úpravy přečerpávací stanice a odlehčovací komory 10 v ulici Sportovní
C105: Objekt:
E106: IO 05 - Technologická elektroinstalace a SŘTP
C107: Soupis:
E108: =E11 -> 02 - Technologická elektroinstalace a SŘTP - TE+SŘTP
C110: Místo: | F110: =F14 -> Český Brod | I110: Datum: | J110: =IF(J14="","",J14) -> 31. 1. 2024
C112: Zadavatel: | F112: =E17 -> Město Český Brod | I112: Projektant: | J112: =E23 -> Ing. Petr Koblenc
C113: Uchazeč: | F113: =IF(E20="","",E20) -> 1.SčV, a.s. | I113: Zpracovatel: | J113: =E26 -> Vodohospodářský rozvoj a výstavba a.s.
C115: PČ | D115: Typ | E115: Kód | F115: Popis | G115: MJ | H115: Množství | I115: J.cena [CZK] | J115: Cena celkem [CZK] | K115: Cenová soustava | N115: DPH | O115: J. Nh [h] | P115: Nh celkem [h] | Q115: J. hmotnost [t] | R115: Hmotnost celkem [t] | S115: J. suť [t] | T115: Suť Celkem [t]
C116: Náklady soupisu celkem | J116: =BK116 -> 490074.14 | P116: =P117 -> 0 | R116: =R117 -> 0.074535 | T116: =T117 -> 0 | AT116: D | AU116: -1 | BK116: =BK117 -> 490074.14
D117: D | E117: HSV | F117: Práce a dodávky HSV | J117: =BK117 -> 490074.14 | P117: =P118+P169+P174+P175+P179+P183+P187+P198+P199+P206+P220+P228+P232+P241+P265+P271+P279+P282+P286+P292+P304+P305+P314+P324+P327+P331+P337+P339+P341+P343 -> 0 | R117: =R118+R169+R174+R175+R179+R183+R187+R198+R199+R206+R220+R228+R232+R241+R265+R271+R279+R282+R286+R292+R304+R305+R314+R324+R327+R331+R337+R339+R341+R343 -> 0.074535 | T117: =T118+T169+T174+T175+T179+T183+T187+T198+T199+T206+T220+T228+T232+T241+T265+T271+T279+T282+T286+T292+T304+T305+T314+T324+T327+T331+T337+T339+T341+T343 -> 0 | AR117: 1 | AT117: D | AU117: 0 | AY117: ROZPOCET | BK117: =BK118+BK169+BK174+BK175+BK179+BK183+BK187+BK198+BK199+BK206+BK220+BK228+BK232+BK241+BK265+BK271+BK279+BK282+BK286+BK292+BK304+BK305+BK314+BK324+BK327+BK331+BK337+BK339+BK341+BK343 -> 490074.14
D118: D | E118: 1 | F118: Zemní práce | J118: =BK118 -> 82682.92 | P118: =SUM(P119:P168) -> 0 | R118: =SUM(R119:R168) -> 0.074535 | T118: =SUM(T119:T168) -> 0 | AR118: 1 | AT118: D | AU118: 1 | AY118: ROZPOCET | BK118: =SUM(BK119:BK168) -> 82682.92
C119: 1 | D119: K | E119: 460171322 | F119: Hloubení nezapažených kabelových rýh strojně včetně urovnání dna s přemístěním výkopku do vzdálenosti 3 m od okraje jámy nebo s naložením na dopravní prostředek šířky 50 cm hloubky 120 cm v hornině třídy těžitelnosti I skupiny 3 | G119: m | H119: 59 | I119: 265 | J119: =ROUND(I119*H119,2) -> 15635 | K119: CS ÚRS 2024 01 | N119: základní | P119: =O119*H119 -> 0 | Q119: 0 | R119: =Q119*H119 -> 0 | S119: 0 | T119: =S119*H119 -> 0 | AR119: 64 | AT119: K | AU119: 2 | AY119: ROZPOCET | BE119: =IF(N119="základní",J119,0) -> 15635 | BF119: =IF(N119="snížená",J119,0) -> 0 | BG119: =IF(N119="zákl. přenesená",J119,0) -> 0 | BH119: =IF(N119="sníž. přenesená",J119,0) -> 0 | BI119: =IF(N119="nulová",J119,0) -> 0 | BJ119: 1 | BK119: =ROUND(I119*H119,2) -> 15635 | BL119: 64 | BM119: -2039029587
D120: Online PSC | F120: https://podminky.urs.cz/item/CS_URS_2024_01/460171322 | AT120: Online PSC | AU120: 2
D121: VV | F121: "kabelová chránička pro UN"18,5 | H121: 18.5 | AT121: VV | AU121: 2 | AV121: 2 | AW121: True | AX121: 0 | AY121: ROZPOCET
D122: VV | F122: "2*VZT pro ČSOV"2*13,5 | H122: 27 | AT122: VV | AU122: 2 | AV122: 2 | AW122: True | AX122: 0 | AY122: ROZPOCET
D123: VV | F123: "1*elektro pro ČSOV"13,5 | H123: 13.5 | AT123: VV | AU123: 2 | AV123: 2 | AW123: True | AX123: 0 | AY123: ROZPOCET
D124: VV | F124: Součet | H124: 59 | AT124: VV | AU124: 2 | AV124: 4 | AW124: True | AX124: 1 | AY124: ROZPOCET
C125: 2 | D125: K | E125: 162651112 | F125: Vodorovné přemístění výkopku nebo sypaniny po suchu na obvyklém dopravním prostředku, bez naložení výkopku, avšak se složením bez rozhrnutí z horniny třídy těžitelnosti I skupiny 1 až 3 na vzdálenost přes 4 000 do 5 000 m | G125: m3 | H125: 35.4 | I125: 80 | J125: =ROUND(I125*H125,2) -> 2832 | K125: CS ÚRS 2024 01 | N125: základní | P125: =O125*H125 -> 0 | Q125: 0 | R125: =Q125*H125 -> 0 | S125: 0 | T125: =S125*H125 -> 0 | AR125: 4 | AT125: K | AU125: 2 | AY125: ROZPOCET | BE125: =IF(N125="základní",J125,0) -> 2832 | BF125: =IF(N125="snížená",J125,0) -> 0 | BG125: =IF(N125="zákl. přenesená",J125,0) -> 0 | BH125: =IF(N125="sníž. přenesená",J125,0) -> 0 | BI125: =IF(N125="nulová",J125,0) -> 0 | BJ125: 1 | BK125: =ROUND(I125*H125,2) -> 2832 | BL125: 4 | BM125: -1337992277
D126: Online PSC | F126: https://podminky.urs.cz/item/CS_URS_2024_01/162651112 | AT126: Online PSC | AU126: 2
D127: VV | F127: "výkopek celkem"59*0,5*1,2 | H127: 35.4 | AT127: VV | AU127: 2 | AV127: 2 | AW127: True | AX127: 1 | AY127: ROZPOCET
C128: 3 | D128: K | E128: 171201231 | F128: Poplatek za uložení stavebního odpadu na recyklační skládce (skládkovné) zeminy a kamení zatříděného do Katalogu odpadů pod kódem 17 05 04 | G128: t | H128: 67.26 | I128: 180 | J128: =ROUND(I128*H128,2) -> 12106.8 | K128: CS ÚRS 2024 01 | N128: základní | P128: =O128*H128 -> 0 | Q128: 0 | R128: =Q128*H128 -> 0 | S128: 0 | T128: =S128*H128 -> 0 | AR128: 4 | AT128: K | AU128: 2 | AY128: ROZPOCET | BE128: =IF(N128="základní",J128,0) -> 12106.8 | BF128: =IF(N128="snížená",J128,0) -> 0 | BG128: =IF(N128="zákl. přenesená",J128,0) -> 0 | BH128: =IF(N128="sníž. přenesená",J128,0) -> 0 | BI128: =IF(N128="nulová",J128,0) -> 0 | BJ128: 1 | BK128: =ROUND(I128*H128,2) -> 12106.8 | BL128: 4 | BM128: -966263691
D129: Online PSC | F129: https://podminky.urs.cz/item/CS_URS_2024_01/171201231 | AT129: Online PSC | AU129: 2
