Workbook

Sheet List1
A9: Příloha č. 4 Smlouvy o dodávce tepelné energie č. | E9: 1011
A10: Předpis záloh - platební kalendář
A12: Dodavatel: | E12: Odběratel:
A14: ČESKOLIPSKÁ TEPLÁRENSKÁ a.s. | E14: Základní škola a Mateřská škola,
A15: Liberecká 132 | E15: Česká Lípa,Jižní 1903,příspěvková organizace
A16: Stará Lípa, 470 01 Česká Lípa | E16: Jižní 1903
A17: Obch.rejstřík : KS v Ústí nad Labem oddíl B,vložka 811 | E17: 470 01 Česká Lípa
A18: IČ: | B18: 64653200 | E18: IČ: | F18: 48283088
A19: DIČ: | B19: CZ64653200 | E19: DIČ: | F19: neplátce
A22: Platební kalendář záloh na tepelnou energii na rok | D22: =[1]data_doplnění!B4 -> 2024
A23: Číslo platebního kalendáře: | D23: 2151501424
A24: (daňový doklad)
A26: Datum vystavení: | B26: =[1]data_doplnění!B6 -> 45274
A27: Předmět plnění: | B27: Dodávka tepelné energie
A28: Způsob úhrady: | B28: Bezhotovostním převodem
A29: Číslo účtu dodavatele: | B29: xxxxxxxxxxxxxxx
A30: Variabilní symbol: | B30: 112024
A32: Odběrné místo: | B32: viz příloha č. 3 Ceny tepelné energie pro rok | D32: =[1]data_doplnění!B4 -> 2024
A33: Předpokládaný odběr TE : | B33: TE PRIM | C33: =O26 -> 0 | D33: GJ
B34: TE UV a TE TV z DPS | C34: 2805 | D34: GJ
B35: TE UV z VS | C35: 0 | D35: GJ
B36: TE TV z VS | C36: 0 | D36: GJ
B37: Voda pro TV | C37: 0 | D37: m³
A39: Období | B39: Datum splatnosti | C39: Základ DPH (Kč) | D39: DPH (Kč) | E39: Sazba DPH % | F39: Celkem (Kč)
A40: =[1]data_doplnění!B10 -> 1/2024 | B40: =[1]data_doplnění!C10 -> 45311 | C40: =F40/112% -> 285714.29 | D40: =F40-C40 -> 34285.714 | E40: 12 | F40: 320000
A41: =[1]data_doplnění!B11 -> 2/2024 | B41: =[1]data_doplnění!C11 -> 45342 | C41: =F41/112% -> 285714.29 | D41: =F41-C41 -> 34285.714 | E41: 12 | F41: 320000
A42: =[1]data_doplnění!B12 -> 3/2024 | B42: =[1]data_doplnění!C12 -> 45371 | C42: =F42/112% -> 285714.29 | D42: =F42-C42 -> 34285.714 | E42: 12 | F42: 320000
A43: =[1]data_doplnění!B13 -> 4/2024 | B43: =[1]data_doplnění!C13 -> 45402 | C43: =F43/112% -> 285714.29 | D43: =F43-C43 -> 34285.714 | E43: 12 | F43: 320000
A44: =[1]data_doplnění!B14 -> 5/2024 | B44: =[1]data_doplnění!C14 -> 45432 | C44: =F44/112% -> 285714.29 | D44: =F44-C44 -> 34285.714 | E44: 12 | F44: 320000
A45: =[1]data_doplnění!B15 -> 6/2024 | B45: =[1]data_doplnění!C15 -> 45463 | C45: =F45/112% -> 285714.29 | D45: =F45-C45 -> 34285.714 | E45: 12 | F45: 320000
A46: =[1]data_doplnění!B16 -> 7/2024 | B46: =[1]data_doplnění!C16 -> 45493 | C46: =F46/112% -> 285714.29 | D46: =F46-C46 -> 34285.714 | E46: 12 | F46: 320000
A47: =[1]data_doplnění!B17 -> 8/2024 | B47: =[1]data_doplnění!C17 -> 45524 | C47: =F47/112% -> 285714.29 | D47: =F47-C47 -> 34285.714 | E47: 12 | F47: 320000
A48: =[1]data_doplnění!B18 -> 9/2024 | B48: =[1]data_doplnění!C18 -> 45555 | C48: =F48/112% -> 285714.29 | D48: =F48-C48 -> 34285.714 | E48: 12 | F48: 320000
A49: =[1]data_doplnění!B19 -> 10/2024 | B49: =[1]data_doplnění!C19 -> 45585 | C49: =F49/112% -> 285714.29 | D49: =F49-C49 -> 34285.714 | E49: 12 | F49: 320000
A50: =[1]data_doplnění!B20 -> 11/2024 | B50: =[1]data_doplnění!C20 -> 45616 | C50: =F50/112% -> 285714.29 | D50: =F50-C50 -> 34285.714 | E50: 12 | F50: 320000
A51: =[1]data_doplnění!B21 -> 12/2024 | B51: =[1]data_doplnění!C21 -> 45646 | C51: =F51/112% -> 285714.29 | D51: =F51-C51 -> 34285.714 | E51: 12 | F51: 320000
A54: V České Lípě dne | B54: =[1]data_doplnění!B6 -> 45274
A57: Za dodavatele: | E57: Za odběratele:
A58: ……………………………………….. | E58: ………………………………………..
A59: xxxxxxxxxxxxxxxxxxxxxx | E59: Základní škola a Mateřská škola,
A60: vedoucí obchodního oddělení | E60: Česká Lípa,Jižní 1903,příspěvková organizace
E61: Jižní 1903
E62: 470 01 Česká Lípa
A63: Potvrzenou přílohu se sjednanými předběžnými cenami vraťte prosím obratem zpět !!!
A65: Žádáme Vás o dodržení variabilního symbolu, je vázaný na spárování platby s předpisem!
