Workbook

Sheet Rekapitulace stavby
A1: Export Komplet | AZ1: VZ | BA1: 2.0 | BB1: ZAMOK | BT1: False | BU1: False | BV1: {1222fae5-eacb-49a7-8901-b0ade3dac4c0}
BS2: 0,01 | BT2: 21
BS3: 0,01 | BT3: 15
D4: REKAPITULACE STAVBY | AS4: v --- níže se nacházejí doplnkové a pomocné údaje k sestavám --- v | BS4: 0,001
D5: Kód: | K5: 2001-R04_ZL | BS5: 0,01
D6: Stavba: | K6: KNL - výstavba objektu pro PET/CT - ZMĚNOVÉ LISTY | BS6: 0,01
D7: KSO: | K7: 8011121 | AK7: CC-CZ: | AN7: 1264 | BS7: 0,01
D8: Místo: | K8: Liberec | AK8: Datum: | AN8: 31. 1. 2022 | BS8: 0,01
D9: CZ-CPV: | K9: 45000000-7 | AK9: CZ-CPA: | AN9: 41.00.28 | BS9: 0,01
D10: Zadavatel: | AK10: IČ: | AN10: 27283933 | BS10: 0,01
E11: Krajská nemocnice Liberec, a.s. | AK11: DIČ: | AN11: CZ2728393 | BS11: 0,01
BS12: 0,01
D13: Zhotovitel: | AK13: IČ: | AN13: 26768607 | BS13: 0,01
E14: CL-EVANS s.r.o. | AK14: DIČ: | AN14: CZ26768607 | BS14: 0,01
BS15: False
D16: Projektant: | AK16: IČ: | AN16: 25410482 | BS16: False
E17: STORING spol. s r. o. | AK17: DIČ: | AN17: CZ25410482 | BS17: True
BS18: 0,01
D19: Zpracovatel: | AK19: IČ: | BS19: 0,01
AK20: DIČ: | BS20: False
D22: Poznámka:
E23: Soupis prací je sestaven s využitím Cenové soustavy ÚRS. Položky, které pochází z této cenové soustavy, jsou ve sloupci 'Cenová soustava' označeny popisem 'CS ÚRS' a úrovní příslušného kalendářního pololetí. Veškeré další informace vymezující popis a podmínky použití těchto položek z Cenové soustavy, které nejsou uvedeny přímo v soupisu prací, jsou neomezeně dálkově k dispozici na webu podminky.urs.cz.
D26: Cena bez DPH | AK26: =ROUND(AG54,2) -> -510615.65
L28: Sazba daně | W28: Základ daně | AK28: Výše daně
D29: DPH | F29: základní | L29: 0.21 | W29: =ROUND(AZ54, 2) -> -510615.65 | AK29: =ROUND(AV54, 2) -> -107229.29
F30: snížená | L30: 0.15 | W30: =ROUND(BA54, 2) -> 0 | AK30: =ROUND(AW54, 2) -> 0
F31: zákl. přenesená | L31: 0.21 | W31: =ROUND(BB54, 2) -> 0 | AK31: 0
F32: sníž. přenesená | L32: 0.15 | W32: =ROUND(BC54, 2) -> 0 | AK32: 0
F33: nulová | L33: 0 | W33: =ROUND(BD54, 2) -> 0 | AK33: 0
D35: Cena s DPH | T35: v | X35: CZK | AK35: =SUM(AK26:AK33) -> -617844.94
C42: REKAPITULACE OBJEKTŮ STAVBY A SOUPISŮ PRACÍ
C44: Kód: | L44: =K5 -> 2001-R04_ZL
C45: Stavba: | L45: =K6 -> KNL - výstavba objektu pro PET/CT - ZMĚNOVÉ LISTY
C47: Místo: | L47: =IF(K8="","",K8) -> Liberec | AI47: Datum: | AM47: =IF(AN8= "","",AN8) -> 31. 1. 2022
C49: Zadavatel: | L49: =IF(E11= "","",E11) -> Krajská nemocnice Liberec, a.s. | AI49: Projektant: | AM49: =IF(E17="","",E17) -> STORING spol. s r. o. | AS49: Informatívní údaje z listů zakázek
C50: Zhotovitel: | L50: =IF(E14="","",E14) -> CL-EVANS s.r.o. | AI50: Zpracovatel: | AM50: =IF(E20="","",E20)
C52: Kód | I52: Popis | AG52: Cena bez DPH [CZK] | AN52: Cena s DPH [CZK] | AQ52: Typ | AS52: z toho Ostat._x000D_ náklady [CZK] | AT52: DPH [CZK] | AU52: Normohodiny [h] | AV52: DPH základní [CZK] | AW52: DPH snížená [CZK] | AX52: DPH základní přenesená_x000D_ [CZK] | AY52: DPH snížená přenesená_x000D_ [CZK] | AZ52: Základna_x000D_ DPH základní | BA52: Základna_x000D_ DPH snížená | BB52: Základna_x000D_ DPH zákl. přenesená | BC52: Základna_x000D_ DPH sníž. přenesená | BD52: Základna_x000D_ DPH nulová
C54: Náklady stavby celkem | AG54: =ROUND(AG55,2) -> -510615.65 | AN54: =SUM(AG54,AT54) -> -617844.94 | AS54: =ROUND(AS55,2) -> 0 | AT54: =ROUND(SUM(AV54:AW54),2) -> -107229.29 | AU54: =ROUND(AU55,5) -> 0 | AV54: =ROUND(AZ54*L29,2) -> -107229.29 | AW54: =ROUND(BA54*L30,2) -> 0 | AX54: =ROUND(BB54*L29,2) -> 0 | AY54: =ROUND(BC54*L30,2) -> 0 | AZ54: =ROUND(AZ55,2) -> -510615.65 | BA54: =ROUND(BA55,2) -> 0 | BB54: =ROUND(BB55,2) -> 0 | BC54: =ROUND(BC55,2) -> 0 | BD54: =ROUND(BD55,2) -> 0 | BS54: D | BT54: 0 | BU54: ###NOIMPORT### | BV54: IMPORT | BW54: {1222fae5-eacb-49a7-8901-b0ade3dac4c0} | BX54: {00000000-0000-0000-0000-000000000000} | CL54: 8011121
D55: DOD_05 | J55: Nedofakturované položky | AG55: =ROUND(SUM(AG56:AG57),2) -> -510615.65 | AN55: =SUM(AG55,AT55) -> -617844.94 | AQ55: STA | AS55: =ROUND(SUM(AS56:AS57),2) -> 0 | AT55: =ROUND(SUM(AV55:AW55),2) -> -107229.29 | AU55: =ROUND(SUM(AU56:AU57),5) -> 0 | AV55: =ROUND(AZ55*L29,2) -> -107229.29 | AW55: =ROUND(BA55*L30,2) -> 0 | AX55: =ROUND(BB55*L29,2) -> 0 | AY55: =ROUND(BC55*L30,2) -> 0 | AZ55: =ROUND(SUM(AZ56:AZ57),2) -> -510615.65 | BA55: =ROUND(SUM(BA56:BA57),2) -> 0 | BB55: =ROUND(SUM(BB56:BB57),2) -> 0 | BC55: =ROUND(SUM(BC56:BC57),2) -> 0 | BD55: =ROUND(SUM(BD56:BD57),2) -> 0 | BS55: D | BT55: 1 | BU55: ###NOIMPORT### | BV55: IMPORT | BW55: {3b7d8da4-29fa-4d1d-b040-8e9ce043cacd} | BX55: {1222fae5-eacb-49a7-8901-b0ade3dac4c0} | CL55: 8011121 | CM55: 2
A56: / | E56: ZL43a | K56: Nedofaturované položky z SOD | AG56: ='ZL43a - Nedofaturované po...'!J32 -> -381286.59 | AN56: =SUM(AG56,AT56) -> -461356.77 | AQ56: Soupis | AS56: 0 | AT56: =ROUND(SUM(AV56:AW56),2) -> -80070.18 | AU56: ='ZL43a - Nedofaturované po...'!P133 -> 0 | AV56: ='ZL43a - Nedofaturované po...'!J35 -> -80070.18 | AW56: ='ZL43a - Nedofaturované po...'!J36 -> 0 | AX56: ='ZL43a - Nedofaturované po...'!J37 -> 0 | AY56: ='ZL43a - Nedofaturované po...'!J38 -> 0 | AZ56: ='ZL43a - Nedofaturované po...'!F35 -> -381286.59 | BA56: ='ZL43a - Nedofaturované po...'!F36 -> 0 | BB56: ='ZL43a - Nedofaturované po...'!F37 -> 0 | BC56: ='ZL43a - Nedofaturované po...'!F38 -> 0 | BD56: ='ZL43a - Nedofaturované po...'!F39 -> 0 | BT56: 2 | BV56: IMPORT | BW56: {b78567d1-b2f6-4c7c-9d71-1128e45756ad} | BX56: {3b7d8da4-29fa-4d1d-b040-8e9ce043cacd} | CL56: 8011121
...

Sheet ZL43a - Nedofaturované po...
AT2: {b78567d1-b2f6-4c7c-9d71-1128e45756ad}
AT3: 2
D4: KRYCÍ LIST SOUPISU PRACÍ | M4: v --- níže se nacházejí doplnkové a pomocné údaje k sestavám --- v | AT4: False
D6: Stavba:
E7: ='Rekapitulace stavby'!K6 -> KNL - výstavba objektu pro PET/CT - ZMĚNOVÉ LISTY
D8: Objekt:
E9: DOD_05 - Nedofakturované položky
D10: Soupis:
E11: ZL43a - Nedofaturované položky z SOD
D13: KSO: | F13: 8011121 | I13: CC-CZ:
D14: Místo: | F14: Liberec | I14: Datum: | J14: ='Rekapitulace stavby'!AN8 -> 31. 1. 2022
D16: Zadavatel: | I16: IČ: | J16: 27283933
E17: Krajská nemocnice Liberec, a.s. | I17: DIČ: | J17: CZ2728393
D19: Zhotovitel: | I19: IČ: | J19: 26768607
E20: CL-EVANS s.r.o. | I20: DIČ: | J20: CZ26768607
D22: Projektant: | I22: IČ: | J22: 25410482
E23: STORING spol. s r. o. | I23: DIČ: | J23: CZ25410482
D25: Zpracovatel: | I25: IČ: | J25: =IF('Rekapitulace stavby'!AN19="","",'Rekapitulace stavby'!AN19)
E26: =IF('Rekapitulace stavby'!E20="","",'Rekapitulace stavby'!E20) | I26: DIČ: | J26: =IF('Rekapitulace stavby'!AN20="","",'Rekapitulace stavby'!AN20)
D28: Poznámka:
D32: Cena bez DPH | J32: =ROUND(J133, 2) -> -381286.59
F34: Základ daně | I34: Sazba daně | J34: Výše daně
D35: DPH | E35: základní | F35: =ROUND((SUM(BE133:BE230)), 2) -> -381286.59 | I35: 0.21 | J35: =ROUND(((SUM(BE133:BE230))*I35), 2) -> -80070.18
E36: snížená | F36: =ROUND((SUM(BF133:BF230)), 2) -> 0 | I36: 0.15 | J36: =ROUND(((SUM(BF133:BF230))*I36), 2) -> 0
E37: zákl. přenesená | F37: =ROUND((SUM(BG133:BG230)), 2) -> 0 | I37: 0.21 | J37: =0 -> 0
E38: sníž. přenesená | F38: =ROUND((SUM(BH133:BH230)), 2) -> 0 | I38: 0.15 | J38: =0 -> 0
E39: nulová | F39: =ROUND((SUM(BI133:BI230)), 2) -> 0 | I39: 0 | J39: =0 -> 0
D41: Cena s DPH | G41: v | H41: CZK | J41: =SUM(J32:J39) -> -461356.77
C47: REKAPITULACE ČLENĚNÍ SOUPISU PRACÍ
C49: Stavba:
E50: =E7 -> KNL - výstavba objektu pro PET/CT - ZMĚNOVÉ LISTY
C51: Objekt:
E52: DOD_05 - Nedofakturované položky
C53: Soupis:
E54: =E11 -> ZL43a - Nedofaturované položky z SOD
C56: Místo: | F56: =F14 -> Liberec | I56: Datum: | J56: =IF(J14="","",J14) -> 31. 1. 2022
C58: Zadavatel: | F58: =E17 -> Krajská nemocnice Liberec, a.s. | I58: Projektant: | J58: =E23 -> STORING spol. s r. o.
C59: Zhotovitel: | F59: =IF(E20="","",E20) -> CL-EVANS s.r.o. | I59: Zpracovatel: | J59: =E26
C61: Kód dílu - Popis | J61: Cena celkem [CZK]
C63: Náklady stavby celkem | J63: =J133 -> -381286.59 | AU63: -1
...

Sheet ZL43b - Nedofakturované p...
AT2: {5a31f9a6-2f99-481d-a6c4-ec555324ef17}
AT3: 2
D4: KRYCÍ LIST SOUPISU PRACÍ | M4: v --- níže se nacházejí doplnkové a pomocné údaje k sestavám --- v | AT4: False
D6: Stavba:
E7: ='Rekapitulace stavby'!K6 -> KNL - výstavba objektu pro PET/CT - ZMĚNOVÉ LISTY
D8: Objekt:
E9: DOD_05 - Nedofakturované položky
D10: Soupis:
E11: ZL43b - Nedofakturované položky z dodatků
D13: KSO: | F13: 8011121 | I13: CC-CZ:
D14: Místo: | F14: Liberec | I14: Datum: | J14: ='Rekapitulace stavby'!AN8 -> 31. 1. 2022
D16: Zadavatel: | I16: IČ: | J16: 27283933
E17: Krajská nemocnice Liberec, a.s. | I17: DIČ: | J17: CZ2728393
D19: Zhotovitel: | I19: IČ: | J19: 26768607
E20: CL-EVANS s.r.o. | I20: DIČ: | J20: CZ26768607
D22: Projektant: | I22: IČ: | J22: 25410482
E23: STORING spol. s r. o. | I23: DIČ: | J23: CZ25410482
D25: Zpracovatel: | I25: IČ: | J25: =IF('Rekapitulace stavby'!AN19="","",'Rekapitulace stavby'!AN19)
E26: =IF('Rekapitulace stavby'!E20="","",'Rekapitulace stavby'!E20) | I26: DIČ: | J26: =IF('Rekapitulace stavby'!AN20="","",'Rekapitulace stavby'!AN20)
D28: Poznámka:
D32: Cena bez DPH | J32: =ROUND(J97, 2) -> -129329.06
F34: Základ daně | I34: Sazba daně | J34: Výše daně
D35: DPH | E35: základní | F35: =ROUND((SUM(BE97:BE126)), 2) -> -129329.06 | I35: 0.21 | J35: =ROUND(((SUM(BE97:BE126))*I35), 2) -> -27159.1
E36: snížená | F36: =ROUND((SUM(BF97:BF126)), 2) -> 0 | I36: 0.15 | J36: =ROUND(((SUM(BF97:BF126))*I36), 2) -> 0
E37: zákl. přenesená | F37: =ROUND((SUM(BG97:BG126)), 2) -> 0 | I37: 0.21 | J37: =0 -> 0
E38: sníž. přenesená | F38: =ROUND((SUM(BH97:BH126)), 2) -> 0 | I38: 0.15 | J38: =0 -> 0
E39: nulová | F39: =ROUND((SUM(BI97:BI126)), 2) -> 0 | I39: 0 | J39: =0 -> 0
D41: Cena s DPH | G41: v | H41: CZK | J41: =SUM(J32:J39) -> -156488.16
C47: REKAPITULACE ČLENĚNÍ SOUPISU PRACÍ
C49: Stavba:
E50: =E7 -> KNL - výstavba objektu pro PET/CT - ZMĚNOVÉ LISTY
C51: Objekt:
E52: DOD_05 - Nedofakturované položky
C53: Soupis:
E54: =E11 -> ZL43b - Nedofakturované položky z dodatků
C56: Místo: | F56: =F14 -> Liberec | I56: Datum: | J56: =IF(J14="","",J14) -> 31. 1. 2022
C58: Zadavatel: | F58: =E17 -> Krajská nemocnice Liberec, a.s. | I58: Projektant: | J58: =E23 -> STORING spol. s r. o.
C59: Zhotovitel: | F59: =IF(E20="","",E20) -> CL-EVANS s.r.o. | I59: Zpracovatel: | J59: =E26
C61: Kód dílu - Popis | J61: Cena celkem [CZK]
C63: Náklady stavby celkem | J63: =J97 -> -129329.06 | AU63: -1
...
