Workbook

Sheet Rekapitulace stavby
A1: Export Komplet | AZ1: VZ | BA1: 2.0 | BB1: ZAMOK | BT1: False | BU1: False | BV1: {1222fae5-eacb-49a7-8901-b0ade3dac4c0}
BS2: 0,01 | BT2: 21
BS3: 0,01 | BT3: 15
D4: REKAPITULACE STAVBY | AS4: v --- níže se nacházejí doplnkové a pomocné údaje k sestavám --- v | BS4: 0,001
D5: Kód: | K5: 2001-R04_ZL | BS5: 0,01
D6: Stavba: | K6: KNL - výstavba objektu pro PET/CT - ZMĚNOVÉ LISTY | BS6: 0,01
D7: KSO: | K7: 8011121 | AK7: CC-CZ: | AN7: 1264 | BS7: 0,01
D8: Místo: | K8: Liberec | AK8: Datum: | AN8: 31. 1. 2022 | BS8: 0,01
D9: CZ-CPV: | K9: 45000000-7 | AK9: CZ-CPA: | AN9: 41.00.28 | BS9: 0,01
D10: Zadavatel: | AK10: IČ: | AN10: 27283933 | BS10: 0,01
E11: Krajská nemocnice Liberec, a.s. | AK11: DIČ: | AN11: CZ2728393 | BS11: 0,01
BS12: 0,01
D13: Zhotovitel: | AK13: IČ: | AN13: 26768607 | BS13: 0,01
E14: CL-EVANS s.r.o. | AK14: DIČ: | AN14: CZ26768607 | BS14: 0,01
BS15: False
D16: Projektant: | AK16: IČ: | AN16: 25410482 | BS16: False
E17: STORING spol. s r. o. | AK17: DIČ: | AN17: CZ25410482 | BS17: True
BS18: 0,01
D19: Zpracovatel: | AK19: IČ: | BS19: 0,01
AK20: DIČ: | BS20: False
D22: Poznámka:
E23: Soupis prací je sestaven s využitím Cenové soustavy ÚRS. Položky, které pochází z této cenové soustavy, jsou ve sloupci 'Cenová soustava' označeny popisem 'CS ÚRS' a úrovní příslušného kalendářního pololetí. Veškeré další informace vymezující popis a podmínky použití těchto položek z Cenové soustavy, které nejsou uvedeny přímo v soupisu prací, jsou neomezeně dálkově k dispozici na webu podminky.urs.cz.
D26: Cena bez DPH | AK26: =ROUND(AG54,2) -> -510615.65
L28: Sazba daně | W28: Základ daně | AK28: Výše daně
D29: DPH | F29: základní | L29: 0.21 | W29: =ROUND(AZ54, 2) -> -510615.65 | AK29: =ROUND(AV54, 2) -> -107229.29
F30: snížená | L30: 0.15 | W30: =ROUND(BA54, 2) -> 0 | AK30: =ROUND(AW54, 2) -> 0
F31: zákl. přenesená | L31: 0.21 | W31: =ROUND(BB54, 2) -> 0 | AK31: 0
F32: sníž. přenesená | L32: 0.15 | W32: =ROUND(BC54, 2) -> 0 | AK32: 0
F33: nulová | L33: 0 | W33: =ROUND(BD54, 2) -> 0 | AK33: 0
D35: Cena s DPH | T35: v | X35: CZK | AK35: =SUM(AK26:AK33) -> -617844.94
C42: REKAPITULACE OBJEKTŮ STAVBY A SOUPISŮ PRACÍ
C44: Kód: | L44: =K5 -> 2001-R04_ZL
C45: Stavba: | L45: =K6 -> KNL - výstavba objektu pro PET/CT - ZMĚNOVÉ LISTY
C47: Místo: | L47: =IF(K8="","",K8) -> Liberec | AI47: Datum: | AM47: =IF(AN8= "","",AN8) -> 31. 1. 2022
C49: Zadavatel: | L49: =IF(E11= "","",E11) -> Krajská nemocnice Liberec, a.s. | AI49: Projektant: | AM49: =IF(E17="","",E17) -> STORING spol. s r. o. | AS49: Informatívní údaje z listů zakázek
C50: Zhotovitel: | L50: =IF(E14="","",E14) -> CL-EVANS s.r.o. | AI50: Zpracovatel: | AM50: =IF(E20="","",E20)
C52: Kód | I52: Popis | AG52: Cena bez DPH [CZK] | AN52: Cena s DPH [CZK] | AQ52: Typ | AS52: z toho Ostat._x000D_ náklady [CZK] | AT52: DPH [CZK] | AU52: Normohodiny [h] | AV52: DPH základní [CZK] | AW52: DPH snížená [CZK] | AX52: DPH základní přenesená_x000D_ [CZK] | AY52: DPH snížená přenesená_x000D_ [CZK] | AZ52: Základna_x000D_ DPH základní | BA52: Základna_x000D_ DPH snížená | BB52: Základna_x000D_ DPH zákl. přenesená | BC52: Základna_x000D_ DPH sníž. přenesená | BD52: Základna_x000D_ DPH nulová
C54: Náklady stavby celkem | AG54: =ROUND(AG55,2) -> -510615.65 | AN54: =SUM(AG54,AT54) -> -617844.94 | AS54: =ROUND(AS55,2) -> 0 | AT54: =ROUND(SUM(AV54:AW54),2) -> -107229.29 | AU54: =ROUND(AU55,5) -> 0 | AV54: =ROUND(AZ54*L29,2) -> -107229.29 | AW54: =ROUND(BA54*L30,2) -> 0 | AX54: =ROUND(BB54*L29,2) -> 0 | AY54: =ROUND(BC54*L30,2) -> 0 | AZ54: =ROUND(AZ55,2) -> -510615.65 | BA54: =ROUND(BA55,2) -> 0 | BB54: =ROUND(BB55,2) -> 0 | BC54: =ROUND(BC55,2) -> 0 | BD54: =ROUND(BD55,2) -> 0 | BS54: D | BT54: 0 | BU54: ###NOIMPORT### | BV54: IMPORT | BW54: {1222fae5-eacb-49a7-8901-b0ade3dac4c0} | BX54: {00000000-0000-0000-0000-000000000000} | CL54: 8011121
D55: DOD_05 | J55: Nedofakturované položky | AG55: =ROUND(SUM(AG56:AG57),2) -> -510615.65 | AN55: =SUM(AG55,AT55) -> -617844.94 | AQ55: STA | AS55: =ROUND(SUM(AS56:AS57),2) -> 0 | AT55: =ROUND(SUM(AV55:AW55),2) -> -107229.29 | AU55: =ROUND(SUM(AU56:AU57),5) -> 0 | AV55: =ROUND(AZ55*L29,2) -> -107229.29 | AW55: =ROUND(BA55*L30,2) -> 0 | AX55: =ROUND(BB55*L29,2) -> 0 | AY55: =ROUND(BC55*L30,2) -> 0 | AZ55: =ROUND(SUM(AZ56:AZ57),2) -> -510615.65 | BA55: =ROUND(SUM(BA56:BA57),2) -> 0 | BB55: =ROUND(SUM(BB56:BB57),2) -> 0 | BC55: =ROUND(SUM(BC56:BC57),2) -> 0 | BD55: =ROUND(SUM(BD56:BD57),2) -> 0 | BS55: D | BT55: 1 | BU55: ###NOIMPORT### | BV55: IMPORT | BW55: {3b7d8da4-29fa-4d1d-b040-8e9ce043cacd} | BX55: {1222fae5-eacb-49a7-8901-b0ade3dac4c0} | CL55: 8011121 | CM55: 2
A56: / | E56: ZL43a | K56: Nedofaturované položky z SOD | AG56: ='ZL43a - Nedofaturované po...'!J32 -> -381286.59 | AN56: =SUM(AG56,AT56) -> -461356.77 | AQ56: Soupis | AS56: 0 | AT56: =ROUND(SUM(AV56:AW56),2) -> -80070.18 | AU56: ='ZL43a - Nedofaturované po...'!P133 -> 0 | AV56: ='ZL43a - Nedofaturované po...'!J35 -> -80070.18 | AW56: ='ZL43a - Nedofaturované po...'!J36 -> 0 | AX56: ='ZL43a - Nedofaturované po...'!J37 -> 0 | AY56: ='ZL43a - Nedofaturované po...'!J38 -> 0 | AZ56: ='ZL43a - Nedofaturované po...'!F35 -> -381286.59 | BA56: ='ZL43a - Nedofaturované po...'!F36 -> 0 | BB56: ='ZL43a - Nedofaturované po...'!F37 -> 0 | BC56: ='ZL43a - Nedofaturované po...'!F38 -> 0 | BD56: ='ZL43a - Nedofaturované po...'!F39 -> 0 | BT56: 2 | BV56: IMPORT | BW56: {b78567d1-b2f6-4c7c-9d71-1128e45756ad} | BX56: {3b7d8da4-29fa-4d1d-b040-8e9ce043cacd} | CL56: 8011121
A57: / | E57: ZL43b | K57: Nedofakturované položky z dodatků | AG57: ='ZL43b - Nedofakturované p...'!J32 -> -129329.06 | AN57: =SUM(AG57,AT57) -> -156488.16 | AQ57: Soupis | AS57: 0 | AT57: =ROUND(SUM(AV57:AW57),2) -> -27159.1 | AU57: ='ZL43b - Nedofakturované p...'!P97 -> 0 | AV57: ='ZL43b - Nedofakturované p...'!J35 -> -27159.1 | AW57: ='ZL43b - Nedofakturované p...'!J36 -> 0 | AX57: ='ZL43b - Nedofakturované p...'!J37 -> 0 | AY57: ='ZL43b - Nedofakturované p...'!J38 -> 0 | AZ57: ='ZL43b - Nedofakturované p...'!F35 -> -129329.06 | BA57: ='ZL43b - Nedofakturované p...'!F36 -> 0 | BB57: ='ZL43b - Nedofakturované p...'!F37 -> 0 | BC57: ='ZL43b - Nedofakturované p...'!F38 -> 0 | BD57: ='ZL43b - Nedofakturované p...'!F39 -> 0 | BT57: 2 | BV57: IMPORT | BW57: {5a31f9a6-2f99-481d-a6c4-ec555324ef17} | BX57: {3b7d8da4-29fa-4d1d-b040-8e9ce043cacd} | CL57: 8011121

Sheet ZL43a - Nedofaturované po...
AT2: {b78567d1-b2f6-4c7c-9d71-1128e45756ad}
AT3: 2
D4: KRYCÍ LIST SOUPISU PRACÍ | M4: v --- níže se nacházejí doplnkové a pomocné údaje k sestavám --- v | AT4: False
D6: Stavba:
E7: ='Rekapitulace stavby'!K6 -> KNL - výstavba objektu pro PET/CT - ZMĚNOVÉ LISTY
D8: Objekt:
E9: DOD_05 - Nedofakturované položky
D10: Soupis:
E11: ZL43a - Nedofaturované položky z SOD
D13: KSO: | F13: 8011121 | I13: CC-CZ:
D14: Místo: | F14: Liberec | I14: Datum: | J14: ='Rekapitulace stavby'!AN8 -> 31. 1. 2022
D16: Zadavatel: | I16: IČ: | J16: 27283933
E17: Krajská nemocnice Liberec, a.s. | I17: DIČ: | J17: CZ2728393
D19: Zhotovitel: | I19: IČ: | J19: 26768607
E20: CL-EVANS s.r.o. | I20: DIČ: | J20: CZ26768607
D22: Projektant: | I22: IČ: | J22: 25410482
E23: STORING spol. s r. o. | I23: DIČ: | J23: CZ25410482
D25: Zpracovatel: | I25: IČ: | J25: =IF('Rekapitulace stavby'!AN19="","",'Rekapitulace stavby'!AN19)
E26: =IF('Rekapitulace stavby'!E20="","",'Rekapitulace stavby'!E20) | I26: DIČ: | J26: =IF('Rekapitulace stavby'!AN20="","",'Rekapitulace stavby'!AN20)
D28: Poznámka:
D32: Cena bez DPH | J32: =ROUND(J133, 2) -> -381286.59
F34: Základ daně | I34: Sazba daně | J34: Výše daně
D35: DPH | E35: základní | F35: =ROUND((SUM(BE133:BE230)), 2) -> -381286.59 | I35: 0.21 | J35: =ROUND(((SUM(BE133:BE230))*I35), 2) -> -80070.18
E36: snížená | F36: =ROUND((SUM(BF133:BF230)), 2) -> 0 | I36: 0.15 | J36: =ROUND(((SUM(BF133:BF230))*I36), 2) -> 0
E37: zákl. přenesená | F37: =ROUND((SUM(BG133:BG230)), 2) -> 0 | I37: 0.21 | J37: =0 -> 0
E38: sníž. přenesená | F38: =ROUND((SUM(BH133:BH230)), 2) -> 0 | I38: 0.15 | J38: =0 -> 0
E39: nulová | F39: =ROUND((SUM(BI133:BI230)), 2) -> 0 | I39: 0 | J39: =0 -> 0
D41: Cena s DPH | G41: v | H41: CZK | J41: =SUM(J32:J39) -> -461356.77
C47: REKAPITULACE ČLENĚNÍ SOUPISU PRACÍ
C49: Stavba:
E50: =E7 -> KNL - výstavba objektu pro PET/CT - ZMĚNOVÉ LISTY
C51: Objekt:
E52: DOD_05 - Nedofakturované položky
C53: Soupis:
E54: =E11 -> ZL43a - Nedofaturované položky z SOD
C56: Místo: | F56: =F14 -> Liberec | I56: Datum: | J56: =IF(J14="","",J14) -> 31. 1. 2022
C58: Zadavatel: | F58: =E17 -> Krajská nemocnice Liberec, a.s. | I58: Projektant: | J58: =E23 -> STORING spol. s r. o.
C59: Zhotovitel: | F59: =IF(E20="","",E20) -> CL-EVANS s.r.o. | I59: Zpracovatel: | J59: =E26
C61: Kód dílu - Popis | J61: Cena celkem [CZK]
C63: Náklady stavby celkem | J63: =J133 -> -381286.59 | AU63: -1
D64: 2001/01 - Část 1 - Odstranění objektu R a garáže | J64: =J134 -> -2700
D65: 9 - Ostatní konstrukce a práce, bourání | J65: =J135 -> -2700
D66: 2001/02 - Část 2 - Výstavba objektu pro PET/CT | J66: =J137 -> -378586.59
D67: SO 000 - Objekt pro PET/CT | J67: =J138 -> -378586.59
D68: D1.01.100 - Architektonicko stavební část | J68: =J139 -> -320386.14
D69: HSV - Práce a dodávky HSV | J69: =J140 -> -116777.64
D70: 4 - Vodorovné konstrukce | J70: =J141 -> -8277.4
D71: 6 - Úpravy povrchů, podlahy a osazování výplní | J71: =J147 -> -98919.98
D72: 9 - Ostatní konstrukce a práce, bourání | J72: =J152 -> -7820
D73: 997 - Přesun sutě | J73: =J154 -> -1760.26
D74: PSV - Práce a dodávky PSV | J74: =J158 -> -169557.3
D75: 764 - Konstrukce klempířské | J75: =J159 -> -7308
D76: 766-767 - Dveře | J76: =J164 -> -35835
D77: 767 - Konstrukce zámečnické | J77: =J168 -> -20410.5
D78: 767-2 - Ostatní prvky | J78: =J170 -> -17200
D79: 767-3 - Ocelové konstrukce | J79: =J173 -> -1173
D80: 776 - Podlahy povlakové | J80: =J175 -> -87630.8
D81: D1.04.100 - Zdravotně technické instalace | J81: =J180 -> -8540
D82: PSV - Práce a dodávky PSV | J82: =J181 -> -8540
D83: 725 - Zdravotechnika - zařizovací předměty | J83: =J182 -> -8540
D84: D1.04.700 - Silnoproudá elektrotechnika | J84: =J184 -> -19904.04
D85: 741.003 - Elektroinstalace osvětlení | J85: =J185 -> -19904.04
D86: D1.04.800 - Slaboproudá elektrotechnika | J86: =J189 -> -1105.03
D87: 742.4 - Systém Sestra/Pacient | J87: =J190 -> -1105.03
D88: 742.401 - Moduly systému | J88: =J191 -> -1105.03
D89: D1.06.100 - Terénní úpravy | J89: =J193 -> -4502.13
D90: HSV - Práce a dodávky HSV | J90: =J194 -> -4502.13
D91: 1 - Zemní práce | J91: =J195 -> -4502.13
D92: SO 300 - Vodohospodářské stavby | J92: =J200 -> -10845
D93: SO 303 - Přípojka dešťové kanalizace | J93: =J201 -> -4095
D94: HSV - Práce a dodávky HSV | J94: =J202 -> -4095
D95: 8 - Trubní vedení | J95: =J203 -> -4095
D96: SO 306 - Areálový vodovod (suchovod) | J96: =J206 -> -6750
D97: HSV - Práce a dodávky HSV | J97: =J207 -> -5000
D98: 8 - Trubní vedení | J98: =J208 -> -5000
D99: OST - Areálový vodovod (suchovod) - ostatní | J99: =J210 -> -1750
D100: SO 500 - Úprava areálových zpevněných ploch a komunikací | J100: =J212 -> -12699.45
D101: D1.05.100 - Komunikace a zpevněné plochy | J101: =J213 -> -12699.45
D102: 0 - Všeobecné konstrukce a práce | J102: =J214 -> -10000
D103: 5 - Komunikace | J103: =J216 -> -2699.45
D104: SO 910 - VS Mikrobiologie | J104: =J219 -> -34656
D105: D1.01.100 - Architektonicko stavební část | J105: =J220 -> -2400
D106: HSV - Práce a dodávky HSV | J106: =J221 -> -2400
D107: 9 - Ostatní konstrukce a práce, bourání | J107: =J222 -> -2400
D108: D1.04.300 - Vytápění VS | J108: =J224 -> -32256
D109: PSV - Práce a dodávky PSV | J109: =J225 -> -32256
D110: 733 - Ústřední vytápění - potrubí | J110: =J226 -> -30696
D111: 783 - Dokončovací práce - nátěry | J111: =J229 -> -1560
C118: SOUPIS PRACÍ
C120: Stavba:
E121: =E7 -> KNL - výstavba objektu pro PET/CT - ZMĚNOVÉ LISTY
C122: Objekt:
E123: DOD_05 - Nedofakturované položky
C124: Soupis:
E125: =E11 -> ZL43a - Nedofaturované položky z SOD
C127: Místo: | F127: =F14 -> Liberec | I127: Datum: | J127: =IF(J14="","",J14) -> 31. 1. 2022
C129: Zadavatel: | F129: =E17 -> Krajská nemocnice Liberec, a.s. | I129: Projektant: | J129: =E23 -> STORING spol. s r. o.
C130: Zhotovitel: | F130: =IF(E20="","",E20) -> CL-EVANS s.r.o. | I130: Zpracovatel: | J130: =E26
C132: PČ | D132: Typ | E132: Kód | F132: Popis | G132: MJ | H132: Množství | I132: J.cena [CZK] | J132: Cena celkem [CZK] | K132: Cenová soustava | N132: DPH | O132: J. Nh [h] | P132: Nh celkem [h] | Q132: J. hmotnost [t] | R132: Hmotnost celkem [t] | S132: J. suť [t] | T132: Suť Celkem [t]
C133: Náklady soupisu celkem | J133: =BK133 -> -381286.59 | P133: =P134+P137 -> 0 | R133: =R134+R137 -> -6.4417296 | T133: =T134+T137 -> -0.288 | AT133: D | AU133: -1 | BK133: =BK134+BK137 -> -381286.59
...

Sheet ZL43b - Nedofakturované p...
AT2: {5a31f9a6-2f99-481d-a6c4-ec555324ef17}
AT3: 2
D4: KRYCÍ LIST SOUPISU PRACÍ | M4: v --- níže se nacházejí doplnkové a pomocné údaje k sestavám --- v | AT4: False
D6: Stavba:
E7: ='Rekapitulace stavby'!K6 -> KNL - výstavba objektu pro PET/CT - ZMĚNOVÉ LISTY
D8: Objekt:
E9: DOD_05 - Nedofakturované položky
D10: Soupis:
E11: ZL43b - Nedofakturované položky z dodatků
D13: KSO: | F13: 8011121 | I13: CC-CZ:
D14: Místo: | F14: Liberec | I14: Datum: | J14: ='Rekapitulace stavby'!AN8 -> 31. 1. 2022
D16: Zadavatel: | I16: IČ: | J16: 27283933
E17: Krajská nemocnice Liberec, a.s. | I17: DIČ: | J17: CZ2728393
D19: Zhotovitel: | I19: IČ: | J19: 26768607
E20: CL-EVANS s.r.o. | I20: DIČ: | J20: CZ26768607
D22: Projektant: | I22: IČ: | J22: 25410482
E23: STORING spol. s r. o. | I23: DIČ: | J23: CZ25410482
D25: Zpracovatel: | I25: IČ: | J25: =IF('Rekapitulace stavby'!AN19="","",'Rekapitulace stavby'!AN19)
E26: =IF('Rekapitulace stavby'!E20="","",'Rekapitulace stavby'!E20) | I26: DIČ: | J26: =IF('Rekapitulace stavby'!AN20="","",'Rekapitulace stavby'!AN20)
D28: Poznámka:
D32: Cena bez DPH | J32: =ROUND(J97, 2) -> -129329.06
F34: Základ daně | I34: Sazba daně | J34: Výše daně
D35: DPH | E35: základní | F35: =ROUND((SUM(BE97:BE126)), 2) -> -129329.06 | I35: 0.21 | J35: =ROUND(((SUM(BE97:BE126))*I35), 2) -> -27159.1
E36: snížená | F36: =ROUND((SUM(BF97:BF126)), 2) -> 0 | I36: 0.15 | J36: =ROUND(((SUM(BF97:BF126))*I36), 2) -> 0
E37: zákl. přenesená | F37: =ROUND((SUM(BG97:BG126)), 2) -> 0 | I37: 0.21 | J37: =0 -> 0
E38: sníž. přenesená | F38: =ROUND((SUM(BH97:BH126)), 2) -> 0 | I38: 0.15 | J38: =0 -> 0
E39: nulová | F39: =ROUND((SUM(BI97:BI126)), 2) -> 0 | I39: 0 | J39: =0 -> 0
D41: Cena s DPH | G41: v | H41: CZK | J41: =SUM(J32:J39) -> -156488.16
C47: REKAPITULACE ČLENĚNÍ SOUPISU PRACÍ
C49: Stavba:
E50: =E7 -> KNL - výstavba objektu pro PET/CT - ZMĚNOVÉ LISTY
C51: Objekt:
E52: DOD_05 - Nedofakturované položky
C53: Soupis:
E54: =E11 -> ZL43b - Nedofakturované položky z dodatků
C56: Místo: | F56: =F14 -> Liberec | I56: Datum: | J56: =IF(J14="","",J14) -> 31. 1. 2022
C58: Zadavatel: | F58: =E17 -> Krajská nemocnice Liberec, a.s. | I58: Projektant: | J58: =E23 -> STORING spol. s r. o.
C59: Zhotovitel: | F59: =IF(E20="","",E20) -> CL-EVANS s.r.o. | I59: Zpracovatel: | J59: =E26
C61: Kód dílu - Popis | J61: Cena celkem [CZK]
C63: Náklady stavby celkem | J63: =J97 -> -129329.06 | AU63: -1
D64: DOD_02 - Dodatek č.2 | J64: =J98 -> -31472.42
D65: ZL05 a - ARCH URS | J65: =J99 -> -14082.3
D66: ZL05b - ARCH R POL | J66: =J105 -> -1695
D67: ZL 05e - Vytápění VS URS | J67: =J109 -> -13797.36
D68: ZL05f - ZTI URS | J68: =J111 -> -363.6
D69: ZL05i - Elektro Silno R pol | J69: =J113 -> -1534.16
D70: DOD_04 - Dodatek č.4 | J70: =J117 -> -97856.64
D71: ZL36 - Medicínská technologie | J71: =J118 -> -97856.64
D72: 4 - VRN | J72: =J119 -> -97856.64
D73: 0.30001 - Zařízení staveniště | J73: =J120 -> -33056.64
D74: 0.60001 - Územní vlivy | J74: =J123 -> -2400
D75: VRN4 - Inženýrská činnost | J75: =J125 -> -62400
C82: SOUPIS PRACÍ
C84: Stavba:
E85: =E7 -> KNL - výstavba objektu pro PET/CT - ZMĚNOVÉ LISTY
C86: Objekt:
E87: DOD_05 - Nedofakturované položky
C88: Soupis:
E89: =E11 -> ZL43b - Nedofakturované položky z dodatků
C91: Místo: | F91: =F14 -> Liberec | I91: Datum: | J91: =IF(J14="","",J14) -> 31. 1. 2022
C93: Zadavatel: | F93: =E17 -> Krajská nemocnice Liberec, a.s. | I93: Projektant: | J93: =E23 -> STORING spol. s r. o.
C94: Zhotovitel: | F94: =IF(E20="","",E20) -> CL-EVANS s.r.o. | I94: Zpracovatel: | J94: =E26
C96: PČ | D96: Typ | E96: Kód | F96: Popis | G96: MJ | H96: Množství | I96: J.cena [CZK] | J96: Cena celkem [CZK] | K96: Cenová soustava | N96: DPH | O96: J. Nh [h] | P96: Nh celkem [h] | Q96: J. hmotnost [t] | R96: Hmotnost celkem [t] | S96: J. suť [t] | T96: Suť Celkem [t]
C97: Náklady soupisu celkem | J97: =BK97 -> -129329.06 | P97: =P98+P117 -> 0 | R97: =R98+R117 -> 0 | T97: =T98+T117 -> 0 | AT97: D | AU97: -1 | BK97: =BK98+BK117 -> -129329.06
D98: D | E98: DOD_02 | F98: Dodatek č.2 | J98: =BK98 -> -31472.42 | P98: =P99+P105+P109+P111+P113 -> 0 | R98: =R99+R105+R109+R111+R113 -> 0 | T98: =T99+T105+T109+T111+T113 -> 0 | AR98: 1 | AT98: D | AU98: 0 | AY98: ROZPOCET | BK98: =BK99+BK105+BK109+BK111+BK113 -> -31472.42
D99: D | E99: ZL05 a | F99: ARCH URS | J99: =BK99 -> -14082.3 | P99: =SUM(P100:P104) -> 0 | R99: =SUM(R100:R104) -> 0 | T99: =SUM(T100:T104) -> 0 | AR99: 1 | AT99: D | AU99: 1 | AY99: ROZPOCET | BK99: =SUM(BK100:BK104) -> -14082.3
C100: 49 | D100: K | E100: 311113132 | F100: Nosná zeď tl do 200 mm z hladkých tvárnic ztraceného bednění včetně výplně z betonu tř. C 16/20 | G100: m2 | H100: -15.707 | I100: 42.91 | J100: =ROUND(I100*H100,2) -> -673.99 | N100: základní | O100: 0 | P100: =O100*H100 -> 0 | Q100: 0 | R100: =Q100*H100 -> 0 | S100: 0 | T100: =S100*H100 -> 0 | AR100: 4 | AT100: K | AU100: 2 | AY100: ROZPOCET | BE100: =IF(N100="základní",J100,0) -> -673.99 | BF100: =IF(N100="snížená",J100,0) -> 0 | BG100: =IF(N100="zákl. přenesená",J100,0) -> 0 | BH100: =IF(N100="sníž. přenesená",J100,0) -> 0 | BI100: =IF(N100="nulová",J100,0) -> 0 | BJ100: 1 | BK100: =ROUND(I100*H100,2) -> -673.99 | BL100: 4 | BM100: -1789368564
C101: 81 | D101: K | E101: 430361821 | F101: Výztuž schodišťové konstrukce a rampy betonářskou ocelí 10 505 | G101: t | H101: -0.02 | I101: 14935.38 | J101: =ROUND(I101*H101,2) -> -298.71 | N101: základní | O101: 0 | P101: =O101*H101 -> 0 | Q101: 0 | R101: =Q101*H101 -> 0 | S101: 0 | T101: =S101*H101 -> 0 | AR101: 4 | AT101: K | AU101: 2 | AY101: ROZPOCET | BE101: =IF(N101="základní",J101,0) -> -298.71 | BF101: =IF(N101="snížená",J101,0) -> 0 | BG101: =IF(N101="zákl. přenesená",J101,0) -> 0 | BH101: =IF(N101="sníž. přenesená",J101,0) -> 0 | BI101: =IF(N101="nulová",J101,0) -> 0 | BJ101: 1 | BK101: =ROUND(I101*H101,2) -> -298.71 | BL101: 4 | BM101: 684063153
C102: 87 | D102: K | E102: 612131101 | F102: Podkladní a spojovací vrstva vnitřních omítaných ploch cementový postřik nanášený ručně celoplošně stěn | G102: m2 | H102: -31.414 | I102: 3.26 | J102: =ROUND(I102*H102,2) -> -102.41 | N102: základní | O102: 0 | P102: =O102*H102 -> 0 | Q102: 0 | R102: =Q102*H102 -> 0 | S102: 0 | T102: =S102*H102 -> 0 | AR102: 4 | AT102: K | AU102: 2 | AY102: ROZPOCET | BE102: =IF(N102="základní",J102,0) -> -102.41 | BF102: =IF(N102="snížená",J102,0) -> 0 | BG102: =IF(N102="zákl. přenesená",J102,0) -> 0 | BH102: =IF(N102="sníž. přenesená",J102,0) -> 0 | BI102: =IF(N102="nulová",J102,0) -> 0 | BJ102: 1 | BK102: =ROUND(I102*H102,2) -> -102.41 | BL102: 4 | BM102: 1068031963
C103: 88 | D103: K | E103: 612321141 | F103: Vápenocementová omítka štuková dvouvrstvá vnitřních stěn nanášená ručně | G103: m2 | H103: -31.414 | I103: 7.21 | J103: =ROUND(I103*H103,2) -> -226.49 | N103: základní | O103: 0 | P103: =O103*H103 -> 0 | Q103: 0 | R103: =Q103*H103 -> 0 | S103: 0 | T103: =S103*H103 -> 0 | AR103: 4 | AT103: K | AU103: 2 | AY103: ROZPOCET | BE103: =IF(N103="základní",J103,0) -> -226.49 | BF103: =IF(N103="snížená",J103,0) -> 0 | BG103: =IF(N103="zákl. přenesená",J103,0) -> 0 | BH103: =IF(N103="sníž. přenesená",J103,0) -> 0 | BI103: =IF(N103="nulová",J103,0) -> 0 | BJ103: 1 | BK103: =ROUND(I103*H103,2) -> -226.49 | BL103: 4 | BM103: -1643390528
C104: 95 | D104: K | E104: 622221001 | F104: Montáž kontaktního zateplení lepením a mechanickým kotvením z desek z minerální vlny s podélnou orientací vláken na vnější stěny, tloušťky desek do 40 mm | G104: m2 | H104: -128.708 | I104: 99.3 | J104: =ROUND(I104*H104,2) -> -12780.7 | N104: základní | O104: 0 | P104: =O104*H104 -> 0 | Q104: 0 | R104: =Q104*H104 -> 0 | S104: 0 | T104: =S104*H104 -> 0 | AR104: 4 | AT104: K | AU104: 2 | AY104: ROZPOCET | BE104: =IF(N104="základní",J104,0) -> -12780.7 | BF104: =IF(N104="snížená",J104,0) -> 0 | BG104: =IF(N104="zákl. přenesená",J104,0) -> 0 | BH104: =IF(N104="sníž. přenesená",J104,0) -> 0 | BI104: =IF(N104="nulová",J104,0) -> 0 | BJ104: 1 | BK104: =ROUND(I104*H104,2) -> -12780.7 | BL104: 4 | BM104: 162362609
D105: D | E105: ZL05b | F105: ARCH R POL | J105: =BK105 -> -1695 | P105: =SUM(P106:P108) -> 0 | R105: =SUM(R106:R108) -> 0 | T105: =SUM(T106:T108) -> 0 | AR105: 1 | AT105: D | AU105: 1 | AY105: ROZPOCET | BK105: =SUM(BK106:BK108) -> -1695
C106: 329 | D106: K | E106: 766-030 | F106: D + M Dveře jednokřídlé,900x2100mm levé, DTD s laminacÍ HPL, ocelová zárubeň - podrobný popis viz Tabulka dveří ozn. Di030 | G106: kus | H106: -1 | I106: 565 | J106: =ROUND(I106*H106,2) -> -565 | N106: základní | O106: 0 | P106: =O106*H106 -> 0 | Q106: 0 | R106: =Q106*H106 -> 0 | S106: 0 | T106: =S106*H106 -> 0 | AR106: 4 | AT106: K | AU106: 2 | AY106: ROZPOCET | BE106: =IF(N106="základní",J106,0) -> -565 | BF106: =IF(N106="snížená",J106,0) -> 0 | BG106: =IF(N106="zákl. přenesená",J106,0) -> 0 | BH106: =IF(N106="sníž. přenesená",J106,0) -> 0 | BI106: =IF(N106="nulová",J106,0) -> 0 | BJ106: 1 | BK106: =ROUND(I106*H106,2) -> -565 | BL106: 4 | BM106: 514263428
C107: 332 | D107: K | E107: 766-033 | F107: D + M Dveře jednokřídlé,800x2100mm pravé, DTD s laminacÍ HPL, ocelová zárubeň - podrobný popis viz Tabulka dveří ozn. Di033 | G107: kus | H107: -1 | I107: 565 | J107: =ROUND(I107*H107,2) -> -565 | N107: základní | O107: 0 | P107: =O107*H107 -> 0 | Q107: 0 | R107: =Q107*H107 -> 0 | S107: 0 | T107: =S107*H107 -> 0 | AR107: 4 | AT107: K | AU107: 2 | AY107: ROZPOCET | BE107: =IF(N107="základní",J107,0) -> -565 | BF107: =IF(N107="snížená",J107,0) -> 0 | BG107: =IF(N107="zákl. přenesená",J107,0) -> 0 | BH107: =IF(N107="sníž. přenesená",J107,0) -> 0 | BI107: =IF(N107="nulová",J107,0) -> 0 | BJ107: 1 | BK107: =ROUND(I107*H107,2) -> -565 | BL107: 4 | BM107: 258155162
C108: 335 | D108: K | E108: 766-036 | F108: D + M Dveře jednokřídlé,900x2100mm levé, DTD s laminacÍ HPL, ocelová zárubeň - podrobný popis viz Tabulka dveří ozn. Di036 | G108: kus | H108: -1 | I108: 565 | J108: =ROUND(I108*H108,2) -> -565 | N108: základní | O108: 0 | P108: =O108*H108 -> 0 | Q108: 0 | R108: =Q108*H108 -> 0 | S108: 0 | T108: =S108*H108 -> 0 | AR108: 4 | AT108: K | AU108: 2 | AY108: ROZPOCET | BE108: =IF(N108="základní",J108,0) -> -565 | BF108: =IF(N108="snížená",J108,0) -> 0 | BG108: =IF(N108="zákl. přenesená",J108,0) -> 0 | BH108: =IF(N108="sníž. přenesená",J108,0) -> 0 | BI108: =IF(N108="nulová",J108,0) -> 0 | BJ108: 1 | BK108: =ROUND(I108*H108,2) -> -565 | BL108: 4 | BM108: 1988985017
D109: D | E109: ZL 05e | F109: Vytápění VS URS | J109: =BK109 -> -13797.36 | P109: =P110 -> 0 | R109: =R110 -> 0 | T109: =T110 -> 0 | AR109: 1 | AT109: D | AU109: 1 | AY109: ROZPOCET | BK109: =BK110 -> -13797.36
C110: 52 | D110: K | E110: 733121225 | F110: Potrubí ocelové hladké bezešvé v kotelnách nebo strojovnách D 89x3,6 | G110: m | H110: -24 | I110: 574.89 | J110: =ROUND(I110*H110,2) -> -13797.36 | N110: základní | O110: 0 | P110: =O110*H110 -> 0 | Q110: 0 | R110: =Q110*H110 -> 0 | S110: 0 | T110: =S110*H110 -> 0 | AR110: 4 | AT110: K | AU110: 2 | AY110: ROZPOCET | BE110: =IF(N110="základní",J110,0) -> -13797.36 | BF110: =IF(N110="snížená",J110,0) -> 0 | BG110: =IF(N110="zákl. přenesená",J110,0) -> 0 | BH110: =IF(N110="sníž. přenesená",J110,0) -> 0 | BI110: =IF(N110="nulová",J110,0) -> 0 | BJ110: 1 | BK110: =ROUND(I110*H110,2) -> -13797.36 | BL110: 4 | BM110: 164746472
D111: D | E111: ZL05f | F111: ZTI URS | J111: =BK111 -> -363.6 | P111: =P112 -> 0 | R111: =R112 -> 0 | T111: =T112 -> 0 | AR111: 1 | AT111: D | AU111: 1 | AY111: ROZPOCET | BK111: =BK112 -> -363.6
C112: 89 | D112: K | E112: 725319111 | F112: Montáž dřezu ostatních typů | G112: soubor | H112: -10 | I112: 36.36 | J112: =ROUND(I112*H112,2) -> -363.6 | N112: základní | O112: 0 | P112: =O112*H112 -> 0 | Q112: 0 | R112: =Q112*H112 -> 0 | S112: 0 | T112: =S112*H112 -> 0 | AR112: 4 | AT112: K | AU112: 2 | AY112: ROZPOCET | BE112: =IF(N112="základní",J112,0) -> -363.6 | BF112: =IF(N112="snížená",J112,0) -> 0 | BG112: =IF(N112="zákl. přenesená",J112,0) -> 0 | BH112: =IF(N112="sníž. přenesená",J112,0) -> 0 | BI112: =IF(N112="nulová",J112,0) -> 0 | BJ112: 1 | BK112: =ROUND(I112*H112,2) -> -363.6 | BL112: 4 | BM112: 2141275816
D113: D | E113: ZL05i | F113: Elektro Silno R pol | J113: =BK113 -> -1534.16 | P113: =SUM(P114:P116) -> 0 | R113: =SUM(R114:R116) -> 0 | T113: =SUM(T114:T116) -> 0 | AR113: 1 | AT113: D | AU113: 1 | AY113: ROZPOCET | BK113: =SUM(BK114:BK116) -> -1534.16
C114: 38 | D114: K | E114: 741003.005 | F114: D - SVÍTIDLO PRŮMYSLOVÉ PŘISAZENÉ / LED / 34W / 4000K / Ra 80 / IP66 / EVG, vstupní napětí 220-240V, udržovaná hodnota světelného toku po dobu životnosti 4500 lm, CRI>80, polykarbonát, optická část UV stabilizována, minimální délka svítidla 1500mm, vyzařování celkově max 150°, maximální příkon včetně zdroje 35W, PFC>0,95, životnost svítidla dle TM21 (IEC) min. 50000 hodin, rozsah provozních teplot bez ztráty záruky a parametrů 0°C-44°C,plná záruka 5 let bez vymezení výrobcem; dodávka + montáž | G114: ks | H114: -4 | I114: 77.92 | J114: =ROUND(I114*H114,2) -> -311.68 | N114: základní | O114: 0 | P114: =O114*H114 -> 0 | Q114: 0 | R114: =Q114*H114 -> 0 | S114: 0 | T114: =S114*H114 -> 0 | AR114: 4 | AT114: K | AU114: 2 | AY114: ROZPOCET | BE114: =IF(N114="základní",J114,0) -> -311.68 | BF114: =IF(N114="snížená",J114,0) -> 0 | BG114: =IF(N114="zákl. přenesená",J114,0) -> 0 | BH114: =IF(N114="sníž. přenesená",J114,0) -> 0 | BI114: =IF(N114="nulová",J114,0) -> 0 | BJ114: 1 | BK114: =ROUND(I114*H114,2) -> -311.68 | BL114: 4 | BM114: 1789187137
C115: 46 | D115: K | E115: 741003.013 | F115: Svítidlo pod kuchyňskou linku se spínačem a vidlicí; dodávka + montáž | G115: ks | H115: -20 | I115: 50.07 | J115: =ROUND(I115*H115,2) -> -1001.4 | N115: základní | O115: 0 | P115: =O115*H115 -> 0 | Q115: 0 | R115: =Q115*H115 -> 0 | S115: 0 | T115: =S115*H115 -> 0 | AR115: 4 | AT115: K | AU115: 2 | AY115: ROZPOCET | BE115: =IF(N115="základní",J115,0) -> -1001.4 | BF115: =IF(N115="snížená",J115,0) -> 0 | BG115: =IF(N115="zákl. přenesená",J115,0) -> 0 | BH115: =IF(N115="sníž. přenesená",J115,0) -> 0 | BI115: =IF(N115="nulová",J115,0) -> 0 | BJ115: 1 | BK115: =ROUND(I115*H115,2) -> -1001.4 | BL115: 4 | BM115: -80046472
C116: 51 | D116: K | E116: 741003.018 | F116: P2 - SVÍTIDLO NÁSTĚNNÉ / LED / 5,8W / IP65 / EM3h / PIKTOGRAM; dodávka + montáž | G116: ks | H116: -2 | I116: 110.54 | J116: =ROUND(I116*H116,2) -> -221.08 | N116: základní | O116: 0 | P116: =O116*H116 -> 0 | Q116: 0 | R116: =Q116*H116 -> 0 | S116: 0 | T116: =S116*H116 -> 0 | AR116: 4 | AT116: K | AU116: 2 | AY116: ROZPOCET | BE116: =IF(N116="základní",J116,0) -> -221.08 | BF116: =IF(N116="snížená",J116,0) -> 0 | BG116: =IF(N116="zákl. přenesená",J116,0) -> 0 | BH116: =IF(N116="sníž. přenesená",J116,0) -> 0 | BI116: =IF(N116="nulová",J116,0) -> 0 | BJ116: 1 | BK116: =ROUND(I116*H116,2) -> -221.08 | BL116: 4 | BM116: 910588887
D117: D | E117: DOD_04 | F117: Dodatek č.4 | J117: =BK117 -> -97856.64 | P117: =P118 -> 0 | R117: =R118 -> 0 | T117: =T118 -> 0 | AR117: 1 | AT117: D | AU117: 0 | AY117: ROZPOCET | BK117: =BK118 -> -97856.64
D118: D | E118: ZL36 | F118: Medicínská technologie | J118: =BK118 -> -97856.64 | P118: =P119 -> 0 | R118: =R119 -> 0 | T118: =T119 -> 0 | AR118: 1 | AT118: D | AU118: 1 | AY118: ROZPOCET | BK118: =BK119 -> -97856.64
D119: D | E119: 4 | F119: VRN | J119: =BK119 -> -97856.64 | P119: =P120+P123+P125 -> 0 | R119: =R120+R123+R125 -> 0 | T119: =T120+T123+T125 -> 0 | AR119: 1 | AT119: D | AU119: 2 | AY119: ROZPOCET | BK119: =BK120+BK123+BK125 -> -97856.64
D120: D | E120: 0.30001 | F120: Zařízení staveniště | J120: =BK120 -> -33056.64 | P120: =SUM(P121:P122) -> 0 | R120: =SUM(R121:R122) -> 0 | T120: =SUM(T121:T122) -> 0 | AR120: 1 | AT120: D | AU120: 3 | AY120: ROZPOCET | BK120: =SUM(BK121:BK122) -> -33056.64
C121: 17 | D121: K | E121: 0.30001x02 | F121: Oplocení staveniště po celou dobu stavby včetně vjezdů a vstupů. Oplocení výšky 1,80 m, neprůhledné, staticky zajištěno proti povětrnostním vlivům, branka a brána zamykatelná. | G121: bm | H121: -4 | I121: 1250 | J121: =ROUND(I121*H121,2) -> -5000 | N121: základní | O121: 0 | P121: =O121*H121 -> 0 | Q121: 0 | R121: =Q121*H121 -> 0 | S121: 0 | T121: =S121*H121 -> 0 | AR121: 4 | AT121: K | AU121: 4 | AY121: ROZPOCET | BE121: =IF(N121="základní",J121,0) -> -5000 | BF121: =IF(N121="snížená",J121,0) -> 0 | BG121: =IF(N121="zákl. přenesená",J121,0) -> 0 | BH121: =IF(N121="sníž. přenesená",J121,0) -> 0 | BI121: =IF(N121="nulová",J121,0) -> 0 | BJ121: 1 | BK121: =ROUND(I121*H121,2) -> -5000 | BL121: 4 | BM121: -496757279
C122: 16 | D122: K | E122: 030001000 | F122: Zařízení staveniště v minimální skladbě 1 ks buňky kancelářské, 1 ks buňky šatní pro zaměstnance, 1 ks skladového kontejneru po celou dobu stavby. | G122: soubor | H122: -0.8 | I122: 35070.8 | J122: =ROUND(I122*H122,2) -> -28056.64 | N122: základní | O122: 0 | P122: =O122*H122 -> 0 | Q122: 0 | R122: =Q122*H122 -> 0 | S122: 0 | T122: =S122*H122 -> 0 | AR122: 4 | AT122: K | AU122: 4 | AY122: ROZPOCET | BE122: =IF(N122="základní",J122,0) -> -28056.64 | BF122: =IF(N122="snížená",J122,0) -> 0 | BG122: =IF(N122="zákl. přenesená",J122,0) -> 0 | BH122: =IF(N122="sníž. přenesená",J122,0) -> 0 | BI122: =IF(N122="nulová",J122,0) -> 0 | BJ122: 1 | BK122: =ROUND(I122*H122,2) -> -28056.64 | BL122: 4 | BM122: 580707015
D123: D | E123: 0.60001 | F123: Územní vlivy | J123: =BK123 -> -2400 | P123: =P124 -> 0 | R123: =R124 -> 0 | T123: =T124 -> 0 | AR123: 1 | AT123: D | AU123: 3 | AY123: ROZPOCET | BK123: =BK124 -> -2400
C124: 27 | D124: K | E124: 0.60001x01 | F124: Zajištění bezpečnosti při plnění předmětu zakázky a zajištění ochrany životního prostředí zhotovitelem v průběhu realizace bez ovlivnění a nepříznivých dopadů na životní prostředí a okolí | G124: soubor | H124: -0.8 | I124: 3000 | J124: =ROUND(I124*H124,2) -> -2400 | N124: základní | O124: 0 | P124: =O124*H124 -> 0 | Q124: 0 | R124: =Q124*H124 -> 0 | S124: 0 | T124: =S124*H124 -> 0 | AR124: 4 | AT124: K | AU124: 4 | AY124: ROZPOCET | BE124: =IF(N124="základní",J124,0) -> -2400 | BF124: =IF(N124="snížená",J124,0) -> 0 | BG124: =IF(N124="zákl. přenesená",J124,0) -> 0 | BH124: =IF(N124="sníž. přenesená",J124,0) -> 0 | BI124: =IF(N124="nulová",J124,0) -> 0 | BJ124: 1 | BK124: =ROUND(I124*H124,2) -> -2400 | BL124: 4 | BM124: -1997787322
D125: D | E125: VRN4 | F125: Inženýrská činnost | J125: =BK125 -> -62400 | P125: =P126 -> 0 | R125: =R126 -> 0 | T125: =T126 -> 0 | AR125: 5 | AT125: D | AU125: 3 | AY125: ROZPOCET | BK125: =BK126 -> -62400
C126: 837 | D126: K | E126: 045203000 | F126: Kompletační a koordinační činnost | G126: Kč | H126: -62400 | I126: 1 | J126: =ROUND(I126*H126,2) -> -62400 | N126: základní | O126: 0 | P126: =O126*H126 -> 0 | Q126: 0 | R126: =Q126*H126 -> 0 | S126: 0 | T126: =S126*H126 -> 0 | AR126: 4 | AT126: K | AU126: 4 | AY126: ROZPOCET | BE126: =IF(N126="základní",J126,0) -> -62400 | BF126: =IF(N126="snížená",J126,0) -> 0 | BG126: =IF(N126="zákl. přenesená",J126,0) -> 0 | BH126: =IF(N126="sníž. přenesená",J126,0) -> 0 | BI126: =IF(N126="nulová",J126,0) -> 0 | BJ126: 1 | BK126: =ROUND(I126*H126,2) -> -62400 | BL126: 4 | BM126: -1056093549
