Workbook

Sheet ZL-001
B2: OBJEDNATEL: | G2: ZHOTOVITEL:
B3: Dům kultury Teplice | G3: POHL cz, a.s.
B4: Mírové náměstí 2950 | G4: Na Pomezí 2483
B5: 415 01 Teplice | G5: 252 63 Roztoky
G6: Odštěpný závod Roztoky, oblast sever
G7: Marie Kršňákové 119
G8: 403 17 Chabařovice
D9: ZMĚNOVÝ LIST
B11: Projekt: | D11: Bezbariérové úpravy objektu ZD Teplice
B12: Část: | D12: Architektonické-stavební řešení
B13: Název: | D13: Změny stavby, posun termínu
B14: ZL č.: | D14: 001
B15: Datum vystavení: | D15: 44966
B16: Podklady: | D16: DSP | F16: Počet příloh:
B18: Popis změny: | C18: Změnový list obsahuje vyčíslení změny rozsahu realizovaných prací, které byly vyvolány objektivními skutečnostmi zjištěnými v průběhu realizace, požadavky objedenatele na změny nebo doplnění a zohledňují také nedostatky projektové dokumentace a výkazu výměr.
B19: Zdůvodnění změny: | C19: Při realizaci stavby bylo nutné provést dílčí stavební změny, doplnit realizaci o požadavky objednatele a zohlednit rozdíly mezi PD a výkazem výměr. Jednotlivé změny jsou zpracovány formou dílčích rozpočtů a jsou součástí tohoto Změnového listu. Mezi skutečnosti, které se promítly do změny rozsahu prací patří zejména:
C20: 01 - doplnění nové zděné stěny pro umístění umyvadla - vyvoláno chybou zaměření objektu
C21: 02 - náklady na čištění kanalizace - vlivem malého provozu v objektu došlo k zanesení kanalizace a vyplavení sklepa
C22: 03 - doplnění vývodů pro zařizovací předměty v sousední místnosti - požadavek objednatele - bez dopadu do ceny
C23: 04 - výměna dveřních křídel na chodbě, schodišti a ve sklepě - požadavek objednatele
C24: 05 - přesun akumulačních kamen v 1.NP a 2. NP - nebylo zapracováno v PD
C25: 06 - zazdívka původních dveří - nebylo zahrnuto ve výkazu výměr
C26: 07 - demontáž podpůrné kce schodiště - zjištěno při demolici schodiště, při průzkumu nebyla kce zastižena
C27: 08 - rozíl v ceně za bourání schodiště - PD předpokládala betonové podesty, skutečné byly zastiženy cihelné klenby
C28: 09 - výkop pro základ výtahové šachty - chyba ve výkazu výměr
C29: 10 - doplnění pískovcového schodu - vyvoláno skutečnostni zjištěnými po demolici původního schodiště
C30: 11 - protiprachová opatření - bez dopadu do ceny
C31: 12 - změna podlahy chodby 2.NP - požadavek objednatele
... C40: Výše popsané změny byly projednány v rámci aktuálního řešení průběhu stavby v rámci kontrolních dnů, případně vyplynuly z upřesnění technického a architektonického řešení tak jak bylo předmětem architektonické studie a také projednání s pracovníky pam.péče.
B42: Cenový dopad (je-li nějaký): | E42: Přípočty: | F42: Odpočty: | G42: Celkem za změnu:
B43: bez DPH | E43: 738991.14 | F43: -341069.8 | G43: =E43+F43 -> 397921.34
B44: DPH 21% | E44: =0.21*E43 -> 155188.14 | F44: =0.21*F43 -> -71624.658 | G44: =0.21*G43 -> 83563.481
B45: vč. DPH | E45: =SUM(E43:E44) -> 894179.28 | F45: =SUM(F43:F44) -> -412694.46 | G45: =SUM(G43:G44) -> 481484.82
B46: Časový dopad (je-li nějaký): | D46: ANO | E46: + 3 dny - zpoždění předání staveniště + 4 dny - demontáž podpůrné konstrukce schodiště + 3 dny - ruční výkop jámy pro výtahovou šachtu + 4 dny - změna podlahové krytiny chodby ve 2.NP Celkový dopad do termínu je +14 dnů = termín dokončení díla se posouvá na 12.03.2023
B47: Dopad do standartu (je-li nějaký): | D47: NENÍ
B48: Dopad do změny PD (je-li nějaký): | D48: ANO | E48: změna zastropení výtahové šachty, dispoziční změny soc.zař. 2.NP, doplnění 1 ks venkovního kamenného schodiště a doplnění kamenných bloků na venkovních rampách, změna podlahové krytiny chodby 2.NP, změna druhu zařizovacích předmětů na soc. zařízení 2.NP
B49: Dopad na smluvní milníky (je-li nějaký): | D49: NENÍ
B50: Rizika a důsledky změny: | D50: NEJSOU
B53: Vystavil:
B54: xxx xxxxxxxx xxxxx | E54: Podpis: | G54: Datum: 20.02.2023
...

Sheet Rekapitulace stavby
A1: Export Komplet | AZ1: VZ | BA1: 2.0 | BT1: False | BU1: False | BV1: {5dbd0d00-61ee-43e4-9b91-94b359dc26a7}
AR2: >> skryté sloupce << | BS2: 0,01 | BT2: 21
BS3: 0,01 | BT3: 15
D4: REKAPITULACE STAVBY | AS4: v --- níže se nacházejí doplnkové a pomocné údaje k sestavám --- v | BS4: 0,001
D5: Kód: | K5: 8022038_ZL | BS5: 0,01
D6: Stavba: | K6: Stavební úpravy Zahradního domu Teplice - ZL | BS6: 0,01
D7: KSO: | AK7: CC-CZ: | BS7: 0,01
D8: Místo: | AK8: Datum: | AN8: 22. 10. 2021 | BS8: 0,01
BS9: 0,01
D10: Zadavatel: | AK10: IČ: | BS10: 0,01
AK11: DIČ: | BS11: 0,01
BS12: 0,01
D13: Zhotovitel: | AK13: IČ: | BS13: 0,01
E14: POHL cz, a.s. | AK14: DIČ: | BS14: 0,01
BS15: False
D16: Projektant: | AK16: IČ: | BS16: False
AK17: DIČ: | BS17: True
BS18: 0,01
D19: Zpracovatel: | AK19: IČ: | BS19: 0,01
AK20: DIČ: | BS20: False
D22: Poznámka:
E23: Soupis prací je sestaven s využitím Cenové soustavy ÚRS. Položky, které pochází z této cenové soustavy, jsou ve sloupci 'Cenová soustava' označeny popisem 'CS ÚRS' a úrovní příslušného kalendářního pololetí. Veškeré další informace vymezující popis a podmínky použití těchto položek z Cenové soustavy, které nejsou uvedeny přímo v soupisu prací, jsou neomezeně dálkově k dispozici na webu podminky.urs.cz.
D26: Cena bez DPH | AK26: =ROUND(AG54,2) -> 397921.34
L28: Sazba daně | W28: Základ daně | AK28: Výše daně
D29: DPH | F29: základní | L29: 0.21 | W29: =ROUND(AZ54, 2) -> 397921.34 | AK29: =ROUND(AV54, 2) -> 83563.48
F30: snížená | L30: 0.15 | W30: =ROUND(BA54, 2) -> 0 | AK30: =ROUND(AW54, 2) -> 0
F31: zákl. přenesená | L31: 0.21 | W31: =ROUND(BB54, 2) -> 0 | AK31: 0
F32: sníž. přenesená | L32: 0.15 | W32: =ROUND(BC54, 2) -> 0 | AK32: 0
F33: nulová | L33: 0 | W33: =ROUND(BD54, 2) -> 0 | AK33: 0
D35: Cena s DPH | T35: v | X35: CZK | AK35: =SUM(AK26:AK33) -> 481484.82
C42: REKAPITULACE OBJEKTŮ STAVBY A SOUPISŮ PRACÍ
C44: Kód: | L44: =K5 -> 8022038_ZL
C45: Stavba: | L45: =K6 -> Stavební úpravy Zahradního domu Teplice - ZL
C47: Místo: | L47: =IF(K8="","",K8) | AI47: Datum: | AM47: =IF(AN8= "","",AN8) -> 22. 10. 2021
C49: Zadavatel: | L49: =IF(E11= "","",E11) | AI49: Projektant: | AM49: =IF(E17="","",E17) | AS49: Informatívní údaje z listů zakázek
C50: Zhotovitel: | L50: =IF(E14="","",E14) -> POHL cz, a.s. | AI50: Zpracovatel: | AM50: =IF(E20="","",E20)
C52: Kód | I52: Popis | AG52: Cena bez DPH [CZK] | AN52: Cena s DPH [CZK] | AQ52: Typ | AS52: z toho Ostat._x000D_ náklady [CZK] | AT52: DPH [CZK] | AU52: Normohodiny [h] | AV52: DPH základní [CZK] | AW52: DPH snížená [CZK] | AX52: DPH základní přenesená_x000D_ [CZK] | AY52: DPH snížená přenesená_x000D_ [CZK] | AZ52: Základna_x000D_ DPH základní | BA52: Základna_x000D_ DPH snížená | BB52: Základna_x000D_ DPH zákl. přenesená | BC52: Základna_x000D_ DPH sníž. přenesená | BD52: Základna_x000D_ DPH nulová
C54: Náklady stavby celkem | AG54: =ROUND(SUM(AG55:AG74),2) -> 397921.34 | AN54: =SUM(AG54,AT54) -> 481484.82 | AS54: =ROUND(SUM(AS55:AS74),2) -> 0 | AT54: =ROUND(SUM(AV54:AW54),2) -> 83563.48 | AU54: =ROUND(SUM(AU55:AU74),5) -> 436.63484 | AV54: =ROUND(AZ54*L29,2) -> 83563.48 | AW54: =ROUND(BA54*L30,2) -> 0 | AX54: =ROUND(BB54*L29,2) -> 0 | AY54: =ROUND(BC54*L30,2) -> 0 | AZ54: =ROUND(SUM(AZ55:AZ74),2) -> 397921.34 | BA54: =ROUND(SUM(BA55:BA74),2) -> 0 | BB54: =ROUND(SUM(BB55:BB74),2) -> 0 | BC54: =ROUND(SUM(BC55:BC74),2) -> 0 | BD54: =ROUND(SUM(BD55:BD74),2) -> 0 | BS54: D | BT54: 0 | BU54: ###NOIMPORT### | BV54: IMPORT | BW54: {5dbd0d00-61ee-43e4-9b91-94b359dc26a7} | BX54: {00000000-0000-0000-0000-000000000000}
A55: / | D55: ZL - 01 | J55: Nová stěna na WC ve 2.NP vč. odpočtu části sanitární příčky | AG55: ='ZL - 01 - Nová stěna na W...'!J30 -> 13930.22 | AN55: =SUM(AG55,AT55) -> 16855.57 | AQ55: STA | AS55: 0 | AT55: =ROUND(SUM(AV55:AW55),2) -> 2925.35 | AU55: ='ZL - 01 - Nová stěna na W...'!P86 -> 7.7094 | AV55: ='ZL - 01 - Nová stěna na W...'!J33 -> 2925.35 | AW55: ='ZL - 01 - Nová stěna na W...'!J34 -> 0 | AX55: ='ZL - 01 - Nová stěna na W...'!J35 -> 0 | AY55: ='ZL - 01 - Nová stěna na W...'!J36 -> 0 | AZ55: ='ZL - 01 - Nová stěna na W...'!F33 -> 13930.22 | BA55: ='ZL - 01 - Nová stěna na W...'!F34 -> 0 | BB55: ='ZL - 01 - Nová stěna na W...'!F35 -> 0 | BC55: ='ZL - 01 - Nová stěna na W...'!F36 -> 0 | BD55: ='ZL - 01 - Nová stěna na W...'!F37 -> 0 | BT55: 1 | BV55: IMPORT | BW55: {74bf30ad-29d7-47c5-9517-15367186e598} | BX55: {5dbd0d00-61ee-43e4-9b91-94b359dc26a7} | CM55: 2
A56: / | D56: ZL - 02 | J56: voda ve sklepě | AG56: ='ZL - 02 - voda ve sklepě'!J30 -> 14188 | AN56: =SUM(AG56,AT56) -> 17167.48 | AQ56: STA | AS56: 0 | AT56: =ROUND(SUM(AV56:AW56),2) -> 2979.48 | AU56: ='ZL - 02 - voda ve sklepě'!P81 -> 8.416 | AV56: ='ZL - 02 - voda ve sklepě'!J33 -> 2979.48 | AW56: ='ZL - 02 - voda ve sklepě'!J34 -> 0 | AX56: ='ZL - 02 - voda ve sklepě'!J35 -> 0 | AY56: ='ZL - 02 - voda ve sklepě'!J36 -> 0 | AZ56: ='ZL - 02 - voda ve sklepě'!F33 -> 14188 | BA56: ='ZL - 02 - voda ve sklepě'!F34 -> 0 | BB56: ='ZL - 02 - voda ve sklepě'!F35 -> 0 | BC56: ='ZL - 02 - voda ve sklepě'!F36 -> 0 | BD56: ='ZL - 02 - voda ve sklepě'!F37 -> 0 | BT56: 1 | BV56: IMPORT | BW56: {75418678-7936-424d-a4f0-5c32edf1f6c3} | BX56: {5dbd0d00-61ee-43e4-9b91-94b359dc26a7} | CM56: 2
...

Sheet ZL - 01 - Nová stěna na W...
L2: >> skryté sloupce << | AT2: {74bf30ad-29d7-47c5-9517-15367186e598}
AT3: 2
D4: KRYCÍ LIST SOUPISU PRACÍ | M4: v --- níže se nacházejí doplnkové a pomocné údaje k sestavám --- v | AT4: False
D6: Stavba:
E7: ='Rekapitulace stavby'!K6 -> Stavební úpravy Zahradního domu Teplice - ZL
D8: Objekt:
E9: ZL - 01 - Nová stěna na WC ve 2.NP vč. odpočtu části sanitární příčky
D11: KSO: | I11: CC-CZ:
D12: Místo: | I12: Datum: | J12: ='Rekapitulace stavby'!AN8 -> 22. 10. 2021
D14: Zadavatel: | I14: IČ:
I15: DIČ:
D17: Zhotovitel: | I17: IČ:
E18: POHL cz, a.s. | I18: DIČ:
D20: Projektant: | I20: IČ:
I21: DIČ:
D23: Zpracovatel: | I23: IČ:
I24: DIČ:
D26: Poznámka:
D30: Cena bez DPH | J30: =ROUND(J86, 2) -> 13930.22
F32: Základ daně | I32: Sazba daně | J32: Výše daně
D33: DPH | E33: základní | F33: =ROUND((SUM(BE86:BE109)), 2) -> 13930.22 | I33: 0.21 | J33: =ROUND(((SUM(BE86:BE109))*I33), 2) -> 2925.35
E34: snížená | F34: =ROUND((SUM(BF86:BF109)), 2) -> 0 | I34: 0.15 | J34: =ROUND(((SUM(BF86:BF109))*I34), 2) -> 0
E35: zákl. přenesená | F35: =ROUND((SUM(BG86:BG109)), 2) -> 0 | I35: 0.21 | J35: =0 -> 0
E36: sníž. přenesená | F36: =ROUND((SUM(BH86:BH109)), 2) -> 0 | I36: 0.15 | J36: =0 -> 0
E37: nulová | F37: =ROUND((SUM(BI86:BI109)), 2) -> 0 | I37: 0 | J37: =0 -> 0
D39: Cena s DPH | G39: v | H39: CZK | J39: =SUM(J30:J37) -> 16855.57
C45: REKAPITULACE ČLENĚNÍ SOUPISU PRACÍ
C47: Stavba:
E48: =E7 -> Stavební úpravy Zahradního domu Teplice - ZL
C49: Objekt:
E50: =E9 -> ZL - 01 - Nová stěna na WC ve 2.NP vč. odpočtu části sanitární příčky
C52: Místo: | F52: =F12 | I52: Datum: | J52: =IF(J12="","",J12) -> 22. 10. 2021
C54: Zadavatel: | F54: =E15 | I54: Projektant: | J54: =E21
C55: Zhotovitel: | F55: =IF(E18="","",E18) -> POHL cz, a.s. | I55: Zpracovatel: | J55: =E24
C57: Kód dílu - Popis | J57: Cena celkem [CZK]
C59: Náklady stavby celkem | J59: =J86 -> 13930.22 | AU59: -1
D60: HSV - Práce a dodávky HSV | J60: =J87 -> 15569.1
D61: 3 - Svislé a kompletní konstrukce | J61: =J88 -> 8499.6
D62: 6 - Úpravy povrchů, podlahy a osazování výplní | J62: =J96 -> 5060.22
D63: 94 - Lešení a stavební výtahy | J63: =J98 -> 2009.28
...

Sheet ZL - 02 - voda ve sklepě
L2: >> skryté sloupce << | AT2: {75418678-7936-424d-a4f0-5c32edf1f6c3}
AT3: 2
D4: KRYCÍ LIST SOUPISU PRACÍ | M4: v --- níže se nacházejí doplnkové a pomocné údaje k sestavám --- v | AT4: False
D6: Stavba:
E7: ='Rekapitulace stavby'!K6 -> Stavební úpravy Zahradního domu Teplice - ZL
D8: Objekt:
E9: ZL - 02 - voda ve sklepě
D11: KSO: | I11: CC-CZ:
D12: Místo: | I12: Datum: | J12: ='Rekapitulace stavby'!AN8 -> 22. 10. 2021
D14: Zadavatel: | I14: IČ:
I15: DIČ:
D17: Zhotovitel: | I17: IČ:
E18: POHL cz, a.s. | I18: DIČ:
D20: Projektant: | I20: IČ:
I21: DIČ:
D23: Zpracovatel: | I23: IČ:
I24: DIČ:
D26: Poznámka:
D30: Cena bez DPH | J30: =ROUND(J81, 2) -> 14188
F32: Základ daně | I32: Sazba daně | J32: Výše daně
D33: DPH | E33: základní | F33: =ROUND((SUM(BE81:BE91)), 2) -> 14188 | I33: 0.21 | J33: =ROUND(((SUM(BE81:BE91))*I33), 2) -> 2979.48
E34: snížená | F34: =ROUND((SUM(BF81:BF91)), 2) -> 0 | I34: 0.15 | J34: =ROUND(((SUM(BF81:BF91))*I34), 2) -> 0
E35: zákl. přenesená | F35: =ROUND((SUM(BG81:BG91)), 2) -> 0 | I35: 0.21 | J35: =0 -> 0
E36: sníž. přenesená | F36: =ROUND((SUM(BH81:BH91)), 2) -> 0 | I36: 0.15 | J36: =0 -> 0
E37: nulová | F37: =ROUND((SUM(BI81:BI91)), 2) -> 0 | I37: 0 | J37: =0 -> 0
D39: Cena s DPH | G39: v | H39: CZK | J39: =SUM(J30:J37) -> 17167.48
C45: REKAPITULACE ČLENĚNÍ SOUPISU PRACÍ
C47: Stavba:
E48: =E7 -> Stavební úpravy Zahradního domu Teplice - ZL
C49: Objekt:
E50: =E9 -> ZL - 02 - voda ve sklepě
C52: Místo: | F52: =F12 | I52: Datum: | J52: =IF(J12="","",J12) -> 22. 10. 2021
C54: Zadavatel: | F54: =E15 | I54: Projektant: | J54: =E21
C55: Zhotovitel: | F55: =IF(E18="","",E18) -> POHL cz, a.s. | I55: Zpracovatel: | J55: =E24
C57: Kód dílu - Popis | J57: Cena celkem [CZK]
C59: Náklady stavby celkem | J59: =J81 -> 14188 | AU59: -1
D60: HSV - Práce a dodávky HSV | J60: =J82 -> 0
D61: 1 - OST | J61: =J83 -> 14188
C68: SOUPIS PRACÍ
C70: Stavba:
...

Sheet ZL - 03 - Doplnění vývodů...
L2: >> skryté sloupce << | AT2: {378cfee0-b842-4d16-8af1-d2b507afa719}
AT3: 2
D4: KRYCÍ LIST SOUPISU PRACÍ | M4: v --- níže se nacházejí doplnkové a pomocné údaje k sestavám --- v | AT4: False
D6: Stavba:
E7: ='Rekapitulace stavby'!K6 -> Stavební úpravy Zahradního domu Teplice - ZL
D8: Objekt:
E9: ZL - 03 - Doplnění vývodů vody a kanalizace pro myčku
D11: KSO: | I11: CC-CZ:
D12: Místo: | I12: Datum: | J12: ='Rekapitulace stavby'!AN8 -> 22. 10. 2021
D14: Zadavatel: | I14: IČ:
I15: DIČ:
D17: Zhotovitel: | I17: IČ:
E18: POHL cz, a.s. | I18: DIČ:
D20: Projektant: | I20: IČ:
I21: DIČ:
D23: Zpracovatel: | I23: IČ:
I24: DIČ:
D26: Poznámka:
D30: Cena bez DPH | J30: =ROUND(J81, 2) -> 0
F32: Základ daně | I32: Sazba daně | J32: Výše daně
D33: DPH | E33: základní | F33: =ROUND((SUM(BE81:BE84)), 2) -> 0 | I33: 0.21 | J33: =ROUND(((SUM(BE81:BE84))*I33), 2) -> 0
E34: snížená | F34: =ROUND((SUM(BF81:BF84)), 2) -> 0 | I34: 0.15 | J34: =ROUND(((SUM(BF81:BF84))*I34), 2) -> 0
E35: zákl. přenesená | F35: =ROUND((SUM(BG81:BG84)), 2) -> 0 | I35: 0.21 | J35: =0 -> 0
E36: sníž. přenesená | F36: =ROUND((SUM(BH81:BH84)), 2) -> 0 | I36: 0.15 | J36: =0 -> 0
E37: nulová | F37: =ROUND((SUM(BI81:BI84)), 2) -> 0 | I37: 0 | J37: =0 -> 0
D39: Cena s DPH | G39: v | H39: CZK | J39: =SUM(J30:J37) -> 0
C45: REKAPITULACE ČLENĚNÍ SOUPISU PRACÍ
C47: Stavba:
E48: =E7 -> Stavební úpravy Zahradního domu Teplice - ZL
C49: Objekt:
E50: =E9 -> ZL - 03 - Doplnění vývodů vody a kanalizace pro myčku
C52: Místo: | F52: =F12 | I52: Datum: | J52: =IF(J12="","",J12) -> 22. 10. 2021
C54: Zadavatel: | F54: =E15 | I54: Projektant: | J54: =E21
C55: Zhotovitel: | F55: =IF(E18="","",E18) -> POHL cz, a.s. | I55: Zpracovatel: | J55: =E24
C57: Kód dílu - Popis | J57: Cena celkem [CZK]
C59: Náklady stavby celkem | J59: =J81 -> 0 | AU59: -1
D60: OST - Ostatní | J60: =J82 -> 0
D61: O01 - Ostatní | J61: =J83 -> 0
C68: SOUPIS PRACÍ
C70: Stavba:
...

Sheet ZL - 04 - Výměna dveřního...
L2: >> skryté sloupce << | AT2: {ff292451-1ba0-4211-a6bb-06d17ac3abb8}
AT3: 2
D4: KRYCÍ LIST SOUPISU PRACÍ | M4: v --- níže se nacházejí doplnkové a pomocné údaje k sestavám --- v | AT4: False
D6: Stavba:
E7: ='Rekapitulace stavby'!K6 -> Stavební úpravy Zahradního domu Teplice - ZL
D8: Objekt:
E9: ZL - 04 - Výměna dveřního křídla vč. kování do místnosti č.4
D11: KSO: | I11: CC-CZ:
D12: Místo: | I12: Datum: | J12: ='Rekapitulace stavby'!AN8 -> 22. 10. 2021
D14: Zadavatel: | I14: IČ:
I15: DIČ:
D17: Zhotovitel: | I17: IČ:
E18: POHL cz, a.s. | I18: DIČ:
D20: Projektant: | I20: IČ:
I21: DIČ:
D23: Zpracovatel: | I23: IČ:
I24: DIČ:
D26: Poznámka:
D30: Cena bez DPH | J30: =ROUND(J83, 2) -> 45824.71
F32: Základ daně | I32: Sazba daně | J32: Výše daně
D33: DPH | E33: základní | F33: =ROUND((SUM(BE83:BE94)), 2) -> 45824.71 | I33: 0.21 | J33: =ROUND(((SUM(BE83:BE94))*I33), 2) -> 9623.19
E34: snížená | F34: =ROUND((SUM(BF83:BF94)), 2) -> 0 | I34: 0.15 | J34: =ROUND(((SUM(BF83:BF94))*I34), 2) -> 0
E35: zákl. přenesená | F35: =ROUND((SUM(BG83:BG94)), 2) -> 0 | I35: 0.21 | J35: =0 -> 0
E36: sníž. přenesená | F36: =ROUND((SUM(BH83:BH94)), 2) -> 0 | I36: 0.15 | J36: =0 -> 0
E37: nulová | F37: =ROUND((SUM(BI83:BI94)), 2) -> 0 | I37: 0 | J37: =0 -> 0
D39: Cena s DPH | G39: v | H39: CZK | J39: =SUM(J30:J37) -> 55447.9
C45: REKAPITULACE ČLENĚNÍ SOUPISU PRACÍ
C47: Stavba:
E48: =E7 -> Stavební úpravy Zahradního domu Teplice - ZL
C49: Objekt:
E50: =E9 -> ZL - 04 - Výměna dveřního křídla vč. kování do místnosti č.4
C52: Místo: | F52: =F12 | I52: Datum: | J52: =IF(J12="","",J12) -> 22. 10. 2021
C54: Zadavatel: | F54: =E15 | I54: Projektant: | J54: =E21
C55: Zhotovitel: | F55: =IF(E18="","",E18) -> POHL cz, a.s. | I55: Zpracovatel: | J55: =E24
C57: Kód dílu - Popis | J57: Cena celkem [CZK]
C59: Náklady stavby celkem | J59: =J83 -> 45824.71 | AU59: -1
D60: HSV - Práce a dodávky HSV | J60: =J84 -> 11530.8
D61: 6 - Úpravy povrchů, podlahy a osazování výplní | J61: =J85 -> 11530.8
D62: PSV - Práce a dodávky PSV | J62: =J88 -> 34293.91
D63: 766 - Konstrukce truhlářské | J63: =J89 -> 34293.91
...

Sheet ZL - 05 - přesun akumulač...
L2: >> skryté sloupce << | AT2: {5d87d106-b890-4b4b-8b4b-ace55fc539cb}
AT3: 2
D4: KRYCÍ LIST SOUPISU PRACÍ | M4: v --- níže se nacházejí doplnkové a pomocné údaje k sestavám --- v | AT4: False
D6: Stavba:
E7: ='Rekapitulace stavby'!K6 -> Stavební úpravy Zahradního domu Teplice - ZL
D8: Objekt:
E9: ZL - 05 - přesun akumulačních kamen
D11: KSO: | I11: CC-CZ:
D12: Místo: | I12: Datum: | J12: ='Rekapitulace stavby'!AN8 -> 22. 10. 2021
D14: Zadavatel: | I14: IČ:
I15: DIČ:
D17: Zhotovitel: | I17: IČ:
E18: POHL cz, a.s. | I18: DIČ:
D20: Projektant: | I20: IČ:
I21: DIČ:
D23: Zpracovatel: | I23: IČ:
I24: DIČ:
D26: Poznámka:
D30: Cena bez DPH | J30: =ROUND(J80, 2) -> 6000
F32: Základ daně | I32: Sazba daně | J32: Výše daně
D33: DPH | E33: základní | F33: =ROUND((SUM(BE80:BE82)), 2) -> 6000 | I33: 0.21 | J33: =ROUND(((SUM(BE80:BE82))*I33), 2) -> 1260
E34: snížená | F34: =ROUND((SUM(BF80:BF82)), 2) -> 0 | I34: 0.15 | J34: =ROUND(((SUM(BF80:BF82))*I34), 2) -> 0
E35: zákl. přenesená | F35: =ROUND((SUM(BG80:BG82)), 2) -> 0 | I35: 0.21 | J35: =0 -> 0
E36: sníž. přenesená | F36: =ROUND((SUM(BH80:BH82)), 2) -> 0 | I36: 0.15 | J36: =0 -> 0
E37: nulová | F37: =ROUND((SUM(BI80:BI82)), 2) -> 0 | I37: 0 | J37: =0 -> 0
D39: Cena s DPH | G39: v | H39: CZK | J39: =SUM(J30:J37) -> 7260
C45: REKAPITULACE ČLENĚNÍ SOUPISU PRACÍ
C47: Stavba:
E48: =E7 -> Stavební úpravy Zahradního domu Teplice - ZL
C49: Objekt:
E50: =E9 -> ZL - 05 - přesun akumulačních kamen
C52: Místo: | F52: =F12 | I52: Datum: | J52: =IF(J12="","",J12) -> 22. 10. 2021
C54: Zadavatel: | F54: =E15 | I54: Projektant: | J54: =E21
C55: Zhotovitel: | F55: =IF(E18="","",E18) -> POHL cz, a.s. | I55: Zpracovatel: | J55: =E24
C57: Kód dílu - Popis | J57: Cena celkem [CZK]
C59: Náklady stavby celkem | J59: =J80 -> 6000 | AU59: -1
D60: OST - Ostatní | J60: =J81 -> 6000
C67: SOUPIS PRACÍ
C69: Stavba:
E70: =E7 -> Stavební úpravy Zahradního domu Teplice - ZL
...

Sheet ZL - 06 - Zazdívka původn...
L2: >> skryté sloupce << | AT2: {4b09c9ad-1de8-4e28-8db6-576d0cdb8680}
AT3: 2
D4: KRYCÍ LIST SOUPISU PRACÍ | M4: v --- níže se nacházejí doplnkové a pomocné údaje k sestavám --- v | AT4: False
D6: Stavba:
E7: ='Rekapitulace stavby'!K6 -> Stavební úpravy Zahradního domu Teplice - ZL
D8: Objekt:
E9: ZL - 06 - Zazdívka původních dveří do WC z kanceláře
D11: KSO: | I11: CC-CZ:
D12: Místo: | I12: Datum: | J12: ='Rekapitulace stavby'!AN8 -> 22. 10. 2021
D14: Zadavatel: | I14: IČ:
I15: DIČ:
D17: Zhotovitel: | I17: IČ:
E18: POHL cz, a.s. | I18: DIČ:
D20: Projektant: | I20: IČ:
I21: DIČ:
D23: Zpracovatel: | I23: IČ:
I24: DIČ:
D26: Poznámka:
D30: Cena bez DPH | J30: =ROUND(J84, 2) -> 6840.39
F32: Základ daně | I32: Sazba daně | J32: Výše daně
D33: DPH | E33: základní | F33: =ROUND((SUM(BE84:BE101)), 2) -> 6840.39 | I33: 0.21 | J33: =ROUND(((SUM(BE84:BE101))*I33), 2) -> 1436.48
E34: snížená | F34: =ROUND((SUM(BF84:BF101)), 2) -> 0 | I34: 0.15 | J34: =ROUND(((SUM(BF84:BF101))*I34), 2) -> 0
E35: zákl. přenesená | F35: =ROUND((SUM(BG84:BG101)), 2) -> 0 | I35: 0.21 | J35: =0 -> 0
E36: sníž. přenesená | F36: =ROUND((SUM(BH84:BH101)), 2) -> 0 | I36: 0.15 | J36: =0 -> 0
E37: nulová | F37: =ROUND((SUM(BI84:BI101)), 2) -> 0 | I37: 0 | J37: =0 -> 0
D39: Cena s DPH | G39: v | H39: CZK | J39: =SUM(J30:J37) -> 8276.87
C45: REKAPITULACE ČLENĚNÍ SOUPISU PRACÍ
C47: Stavba:
E48: =E7 -> Stavební úpravy Zahradního domu Teplice - ZL
C49: Objekt:
E50: =E9 -> ZL - 06 - Zazdívka původních dveří do WC z kanceláře
C52: Místo: | F52: =F12 | I52: Datum: | J52: =IF(J12="","",J12) -> 22. 10. 2021
C54: Zadavatel: | F54: =E15 | I54: Projektant: | J54: =E21
C55: Zhotovitel: | F55: =IF(E18="","",E18) -> POHL cz, a.s. | I55: Zpracovatel: | J55: =E24
C57: Kód dílu - Popis | J57: Cena celkem [CZK]
C59: Náklady stavby celkem | J59: =J84 -> 6840.39 | AU59: -1
D60: HSV - Práce a dodávky HSV | J60: =J85 -> 6490.79
D61: 3 - Svislé a kompletní konstrukce | J61: =J86 -> 6079.8
D62: 998 - Přesun hmot | J62: =J95 -> 410.99
D63: PSV - Práce a dodávky PSV | J63: =J97 -> 349.6
...

Sheet ZL - 07 - Demontáž podpůr...
L2: >> skryté sloupce << | AT2: {5a94f719-e0df-4d1f-8b14-1c1d75e76b8c}
AT3: 2
D4: KRYCÍ LIST SOUPISU PRACÍ | M4: v --- níže se nacházejí doplnkové a pomocné údaje k sestavám --- v | AT4: False
D6: Stavba:
E7: ='Rekapitulace stavby'!K6 -> Stavební úpravy Zahradního domu Teplice - ZL
D8: Objekt:
E9: ZL - 07 - Demontáž podpůrné konstrukce schodiště
D11: KSO: | I11: CC-CZ:
D12: Místo: | I12: Datum: | J12: ='Rekapitulace stavby'!AN8 -> 22. 10. 2021
D14: Zadavatel: | I14: IČ:
I15: DIČ:
D17: Zhotovitel: | I17: IČ:
E18: POHL cz, a.s. | I18: DIČ:
D20: Projektant: | I20: IČ:
I21: DIČ:
D23: Zpracovatel: | I23: IČ:
I24: DIČ:
D26: Poznámka:
D30: Cena bez DPH | J30: =ROUND(J90, 2) -> 140815.34
F32: Základ daně | I32: Sazba daně | J32: Výše daně
D33: DPH | E33: základní | F33: =ROUND((SUM(BE90:BE122)), 2) -> 140815.34 | I33: 0.21 | J33: =ROUND(((SUM(BE90:BE122))*I33), 2) -> 29571.22
E34: snížená | F34: =ROUND((SUM(BF90:BF122)), 2) -> 0 | I34: 0.15 | J34: =ROUND(((SUM(BF90:BF122))*I34), 2) -> 0
E35: zákl. přenesená | F35: =ROUND((SUM(BG90:BG122)), 2) -> 0 | I35: 0.21 | J35: =0 -> 0
E36: sníž. přenesená | F36: =ROUND((SUM(BH90:BH122)), 2) -> 0 | I36: 0.15 | J36: =0 -> 0
E37: nulová | F37: =ROUND((SUM(BI90:BI122)), 2) -> 0 | I37: 0 | J37: =0 -> 0
D39: Cena s DPH | G39: v | H39: CZK | J39: =SUM(J30:J37) -> 170386.56
C45: REKAPITULACE ČLENĚNÍ SOUPISU PRACÍ
C47: Stavba:
E48: =E7 -> Stavební úpravy Zahradního domu Teplice - ZL
C49: Objekt:
E50: =E9 -> ZL - 07 - Demontáž podpůrné konstrukce schodiště
C52: Místo: | F52: =F12 | I52: Datum: | J52: =IF(J12="","",J12) -> 22. 10. 2021
C54: Zadavatel: | F54: =E15 | I54: Projektant: | J54: =E21
C55: Zhotovitel: | F55: =IF(E18="","",E18) -> POHL cz, a.s. | I55: Zpracovatel: | J55: =E24
C57: Kód dílu - Popis | J57: Cena celkem [CZK]
C59: Náklady stavby celkem | J59: =J90 -> 140815.34 | AU59: -1
D60: OST - Ostatní | J60: =J91 -> 140815.34
D61: HSV - Práce a dodávky HSV | J61: =J92 -> 0
D62: 3 - Svislé a kompletní konstrukce | J62: =J93 -> 4147.35
D63: 6 - Úpravy povrchů, podlahy a osazování výplní | J63: =J96 -> 4908.45
...

Sheet ZL - 08 - Rozdíl v ceně b...
L2: >> skryté sloupce << | AT2: {654d0b39-2195-4655-a9ff-576ad96f9eec}
AT3: 2
D4: KRYCÍ LIST SOUPISU PRACÍ | M4: v --- níže se nacházejí doplnkové a pomocné údaje k sestavám --- v | AT4: False
D6: Stavba:
E7: ='Rekapitulace stavby'!K6 -> Stavební úpravy Zahradního domu Teplice - ZL
D8: Objekt:
E9: ZL - 08 - Rozdíl v ceně bourání betonového schodiště vs. skutečně bourané cihelné konstrukce
D11: KSO: | I11: CC-CZ:
D12: Místo: | I12: Datum: | J12: ='Rekapitulace stavby'!AN8 -> 22. 10. 2021
D14: Zadavatel: | I14: IČ:
I15: DIČ:
D17: Zhotovitel: | I17: IČ:
E18: POHL cz, a.s. | I18: DIČ:
D20: Projektant: | I20: IČ:
I21: DIČ:
D23: Zpracovatel: | I23: IČ:
I24: DIČ:
D26: Poznámka:
D30: Cena bez DPH | J30: =ROUND(J83, 2) -> -29951.46
F32: Základ daně | I32: Sazba daně | J32: Výše daně
D33: DPH | E33: základní | F33: =ROUND((SUM(BE83:BE104)), 2) -> -29951.46 | I33: 0.21 | J33: =ROUND(((SUM(BE83:BE104))*I33), 2) -> -6289.81
E34: snížená | F34: =ROUND((SUM(BF83:BF104)), 2) -> 0 | I34: 0.15 | J34: =ROUND(((SUM(BF83:BF104))*I34), 2) -> 0
E35: zákl. přenesená | F35: =ROUND((SUM(BG83:BG104)), 2) -> 0 | I35: 0.21 | J35: =0 -> 0
E36: sníž. přenesená | F36: =ROUND((SUM(BH83:BH104)), 2) -> 0 | I36: 0.15 | J36: =0 -> 0
E37: nulová | F37: =ROUND((SUM(BI83:BI104)), 2) -> 0 | I37: 0 | J37: =0 -> 0
D39: Cena s DPH | G39: v | H39: CZK | J39: =SUM(J30:J37) -> -36241.27
C45: REKAPITULACE ČLENĚNÍ SOUPISU PRACÍ
C47: Stavba:
E48: =E7 -> Stavební úpravy Zahradního domu Teplice - ZL
C49: Objekt:
E50: =E9 -> ZL - 08 - Rozdíl v ceně bourání betonového schodiště vs. skutečně bourané cihelné konstrukce
C52: Místo: | F52: =F12 | I52: Datum: | J52: =IF(J12="","",J12) -> 22. 10. 2021
C54: Zadavatel: | F54: =E15 | I54: Projektant: | J54: =E21
C55: Zhotovitel: | F55: =IF(E18="","",E18) -> POHL cz, a.s. | I55: Zpracovatel: | J55: =E24
C57: Kód dílu - Popis | J57: Cena celkem [CZK]
C59: Náklady stavby celkem | J59: =J83 -> -29951.46 | AU59: -1
D60: HSV - Práce a dodávky HSV | J60: =J84 -> -29951.46
D61: 9 - Ostatní konstrukce a práce, bourání | J61: =J85 -> 7640.87
D62: 96 - Bourání konstrukcí | J62: =J92 -> -20416.51
D63: 997 - Přesun sutě | J63: =J98 -> -17175.82
...

Sheet ZL - 09 - Výkopy pro výta...
L2: >> skryté sloupce << | AT2: {1cf1a38c-ebd8-44ad-bdd8-7b2626bba2fb}
AT3: 2
D4: KRYCÍ LIST SOUPISU PRACÍ | M4: v --- níže se nacházejí doplnkové a pomocné údaje k sestavám --- v | AT4: False
D6: Stavba:
E7: ='Rekapitulace stavby'!K6 -> Stavební úpravy Zahradního domu Teplice - ZL
D8: Objekt:
E9: ZL - 09 - Výkopy pro výtahovou šachtu
D11: KSO: | I11: CC-CZ:
D12: Místo: | I12: Datum: | J12: ='Rekapitulace stavby'!AN8 -> 22. 10. 2021
D14: Zadavatel: | I14: IČ:
I15: DIČ:
D17: Zhotovitel: | I17: IČ:
E18: POHL cz, a.s. | I18: DIČ:
D20: Projektant: | I20: IČ:
I21: DIČ:
D23: Zpracovatel: | I23: IČ:
I24: DIČ:
D26: Poznámka:
D30: Cena bez DPH | J30: =ROUND(J86, 2) -> 84953.42
F32: Základ daně | I32: Sazba daně | J32: Výše daně
D33: DPH | E33: základní | F33: =ROUND((SUM(BE86:BE137)), 2) -> 84953.42 | I33: 0.21 | J33: =ROUND(((SUM(BE86:BE137))*I33), 2) -> 17840.22
E34: snížená | F34: =ROUND((SUM(BF86:BF137)), 2) -> 0 | I34: 0.15 | J34: =ROUND(((SUM(BF86:BF137))*I34), 2) -> 0
E35: zákl. přenesená | F35: =ROUND((SUM(BG86:BG137)), 2) -> 0 | I35: 0.21 | J35: =0 -> 0
E36: sníž. přenesená | F36: =ROUND((SUM(BH86:BH137)), 2) -> 0 | I36: 0.15 | J36: =0 -> 0
E37: nulová | F37: =ROUND((SUM(BI86:BI137)), 2) -> 0 | I37: 0 | J37: =0 -> 0
D39: Cena s DPH | G39: v | H39: CZK | J39: =SUM(J30:J37) -> 102793.64
C45: REKAPITULACE ČLENĚNÍ SOUPISU PRACÍ
C47: Stavba:
E48: =E7 -> Stavební úpravy Zahradního domu Teplice - ZL
C49: Objekt:
E50: =E9 -> ZL - 09 - Výkopy pro výtahovou šachtu
C52: Místo: | F52: =F12 | I52: Datum: | J52: =IF(J12="","",J12) -> 22. 10. 2021
C54: Zadavatel: | F54: =E15 | I54: Projektant: | J54: =E21
C55: Zhotovitel: | F55: =IF(E18="","",E18) -> POHL cz, a.s. | I55: Zpracovatel: | J55: =E24
C57: Kód dílu - Popis | J57: Cena celkem [CZK]
C59: Náklady stavby celkem | J59: =J86 -> 84953.42 | AU59: -1
D60: HSV - Práce a dodávky HSV | J60: =J87 -> 79328.6
D61: 1 - Zemní práce | J61: =J88 -> 33684.8
D62: 9 - Ostatní konstrukce a práce, bourání | J62: =J104 -> 33196.72
D63: 997 - Přesun sutě | J63: =J118 -> 12447.08
...

Sheet ZL - 10 - Doplnění pískov...
L2: >> skryté sloupce << | AT2: {64b9df15-dcec-46d0-91c2-a843353c2d03}
AT3: 2
D4: KRYCÍ LIST SOUPISU PRACÍ | M4: v --- níže se nacházejí doplnkové a pomocné údaje k sestavám --- v | AT4: False
D6: Stavba:
E7: ='Rekapitulace stavby'!K6 -> Stavební úpravy Zahradního domu Teplice - ZL
D8: Objekt:
E9: ZL - 10 - Doplnění pískovcových prvků
D11: KSO: | I11: CC-CZ:
D12: Místo: | I12: Datum: | J12: ='Rekapitulace stavby'!AN8 -> 22. 10. 2021
D14: Zadavatel: | I14: IČ:
I15: DIČ:
D17: Zhotovitel: | I17: IČ:
E18: POHL cz, a.s. | I18: DIČ:
D20: Projektant: | I20: IČ:
I21: DIČ:
D23: Zpracovatel: | I23: IČ:
I24: DIČ:
D26: Poznámka:
D30: Cena bez DPH | J30: =ROUND(J82, 2) -> 190657.99
F32: Základ daně | I32: Sazba daně | J32: Výše daně
D33: DPH | E33: základní | F33: =ROUND((SUM(BE82:BE94)), 2) -> 190657.99 | I33: 0.21 | J33: =ROUND(((SUM(BE82:BE94))*I33), 2) -> 40038.18
E34: snížená | F34: =ROUND((SUM(BF82:BF94)), 2) -> 0 | I34: 0.15 | J34: =ROUND(((SUM(BF82:BF94))*I34), 2) -> 0
E35: zákl. přenesená | F35: =ROUND((SUM(BG82:BG94)), 2) -> 0 | I35: 0.21 | J35: =0 -> 0
E36: sníž. přenesená | F36: =ROUND((SUM(BH82:BH94)), 2) -> 0 | I36: 0.15 | J36: =0 -> 0
E37: nulová | F37: =ROUND((SUM(BI82:BI94)), 2) -> 0 | I37: 0 | J37: =0 -> 0
D39: Cena s DPH | G39: v | H39: CZK | J39: =SUM(J30:J37) -> 230696.17
C45: REKAPITULACE ČLENĚNÍ SOUPISU PRACÍ
C47: Stavba:
E48: =E7 -> Stavební úpravy Zahradního domu Teplice - ZL
C49: Objekt:
E50: =E9 -> ZL - 10 - Doplnění pískovcových prvků
C52: Místo: | F52: =F12 | I52: Datum: | J52: =IF(J12="","",J12) -> 22. 10. 2021
C54: Zadavatel: | F54: =E15 | I54: Projektant: | J54: =E21
C55: Zhotovitel: | F55: =IF(E18="","",E18) -> POHL cz, a.s. | I55: Zpracovatel: | J55: =E24
C57: Kód dílu - Popis | J57: Cena celkem [CZK]
C59: Náklady stavby celkem | J59: =J82 -> 190657.99 | AU59: -1
D60: HSV - Práce a dodávky HSV | J60: =J83 -> 190657.99
D61: 4 - Vodorovné konstrukce | J61: =J84 -> 186523.17
D62: 998 - Přesun hmot | J62: =J93 -> 4134.82
C69: SOUPIS PRACÍ
...

Sheet ZL - 11 - protiprachová o...
L2: >> skryté sloupce << | AT2: {7add775d-f697-4791-a990-68d4cb68b39d}
AT3: 2
D4: KRYCÍ LIST SOUPISU PRACÍ | M4: v --- níže se nacházejí doplnkové a pomocné údaje k sestavám --- v | AT4: False
D6: Stavba:
E7: ='Rekapitulace stavby'!K6 -> Stavební úpravy Zahradního domu Teplice - ZL
D8: Objekt:
E9: ZL - 11 - protiprachová opatření
D11: KSO: | I11: CC-CZ:
D12: Místo: | I12: Datum: | J12: ='Rekapitulace stavby'!AN8 -> 22. 10. 2021
D14: Zadavatel: | I14: IČ:
I15: DIČ:
D17: Zhotovitel: | I17: IČ:
E18: POHL cz, a.s. | I18: DIČ:
D20: Projektant: | I20: IČ:
I21: DIČ:
D23: Zpracovatel: | I23: IČ:
I24: DIČ:
D26: Poznámka:
D30: Cena bez DPH | J30: =ROUND(J81, 2) -> 0
F32: Základ daně | I32: Sazba daně | J32: Výše daně
D33: DPH | E33: základní | F33: =ROUND((SUM(BE81:BE91)), 2) -> 0 | I33: 0.21 | J33: =ROUND(((SUM(BE81:BE91))*I33), 2) -> 0
E34: snížená | F34: =ROUND((SUM(BF81:BF91)), 2) -> 0 | I34: 0.15 | J34: =ROUND(((SUM(BF81:BF91))*I34), 2) -> 0
E35: zákl. přenesená | F35: =ROUND((SUM(BG81:BG91)), 2) -> 0 | I35: 0.21 | J35: =0 -> 0
E36: sníž. přenesená | F36: =ROUND((SUM(BH81:BH91)), 2) -> 0 | I36: 0.15 | J36: =0 -> 0
E37: nulová | F37: =ROUND((SUM(BI81:BI91)), 2) -> 0 | I37: 0 | J37: =0 -> 0
D39: Cena s DPH | G39: v | H39: CZK | J39: =SUM(J30:J37) -> 0
C45: REKAPITULACE ČLENĚNÍ SOUPISU PRACÍ
C47: Stavba:
E48: =E7 -> Stavební úpravy Zahradního domu Teplice - ZL
C49: Objekt:
E50: =E9 -> ZL - 11 - protiprachová opatření
C52: Místo: | F52: =F12 | I52: Datum: | J52: =IF(J12="","",J12) -> 22. 10. 2021
C54: Zadavatel: | F54: =E15 | I54: Projektant: | J54: =E21
C55: Zhotovitel: | F55: =IF(E18="","",E18) -> POHL cz, a.s. | I55: Zpracovatel: | J55: =E24
C57: Kód dílu - Popis | J57: Cena celkem [CZK]
C59: Náklady stavby celkem | J59: =J81 -> 0 | AU59: -1
D60: PSV - Práce a dodávky PSV | J60: =J82 -> 0
D61: 766 - Konstrukce truhlářské | J61: =J83 -> 0
C68: SOUPIS PRACÍ
C70: Stavba:
...

Sheet ZL - 12 - změna podlahy -...
L2: >> skryté sloupce << | AT2: {850995dd-8399-49ba-a0d0-0da585f584ff}
AT3: 2
D4: KRYCÍ LIST SOUPISU PRACÍ | M4: v --- níže se nacházejí doplnkové a pomocné údaje k sestavám --- v | AT4: False
D6: Stavba:
E7: ='Rekapitulace stavby'!K6 -> Stavební úpravy Zahradního domu Teplice - ZL
D8: Objekt:
E9: ZL - 12 - změna podlahy - chodba 2 NP
D11: KSO: | I11: CC-CZ:
D12: Místo: | I12: Datum: | J12: ='Rekapitulace stavby'!AN8 -> 22. 10. 2021
D14: Zadavatel: | I14: IČ:
I15: DIČ:
D17: Zhotovitel: | I17: IČ:
E18: POHL cz, a.s. | I18: DIČ:
D20: Projektant: | I20: IČ:
I21: DIČ:
D23: Zpracovatel: | I23: IČ:
I24: DIČ:
D26: Poznámka:
D30: Cena bez DPH | J30: =ROUND(J85, 2) -> 94731.07
F32: Základ daně | I32: Sazba daně | J32: Výše daně
D33: DPH | E33: základní | F33: =ROUND((SUM(BE85:BE110)), 2) -> 94731.07 | I33: 0.21 | J33: =ROUND(((SUM(BE85:BE110))*I33), 2) -> 19893.52
E34: snížená | F34: =ROUND((SUM(BF85:BF110)), 2) -> 0 | I34: 0.15 | J34: =ROUND(((SUM(BF85:BF110))*I34), 2) -> 0
E35: zákl. přenesená | F35: =ROUND((SUM(BG85:BG110)), 2) -> 0 | I35: 0.21 | J35: =0 -> 0
E36: sníž. přenesená | F36: =ROUND((SUM(BH85:BH110)), 2) -> 0 | I36: 0.15 | J36: =0 -> 0
E37: nulová | F37: =ROUND((SUM(BI85:BI110)), 2) -> 0 | I37: 0 | J37: =0 -> 0
D39: Cena s DPH | G39: v | H39: CZK | J39: =SUM(J30:J37) -> 114624.59
C45: REKAPITULACE ČLENĚNÍ SOUPISU PRACÍ
C47: Stavba:
E48: =E7 -> Stavební úpravy Zahradního domu Teplice - ZL
C49: Objekt:
E50: =E9 -> ZL - 12 - změna podlahy - chodba 2 NP
C52: Místo: | F52: =F12 | I52: Datum: | J52: =IF(J12="","",J12) -> 22. 10. 2021
C54: Zadavatel: | F54: =E15 | I54: Projektant: | J54: =E21
C55: Zhotovitel: | F55: =IF(E18="","",E18) -> POHL cz, a.s. | I55: Zpracovatel: | J55: =E24
C57: Kód dílu - Popis | J57: Cena celkem [CZK]
C59: Náklady stavby celkem | J59: =J85 -> 94731.07 | AU59: -1
D60: HSV - Práce a dodávky HSV | J60: =J86 -> 27407.4
D61: 6 - Úpravy povrchů, podlahy a osazování výplní | J61: =J87 -> 25893
D62: 998 - Přesun hmot | J62: =J90 -> 1514.4
D63: PSV - Práce a dodávky PSV | J63: =J92 -> 67323.67
...

Sheet ZL - 13 - výtahová šachta
L2: >> skryté sloupce << | AT2: {041cb304-08e0-4afc-ab6c-0a6f5d7cd3e5}
AT3: 2
D4: KRYCÍ LIST SOUPISU PRACÍ | M4: v --- níže se nacházejí doplnkové a pomocné údaje k sestavám --- v | AT4: False
D6: Stavba:
E7: ='Rekapitulace stavby'!K6 -> Stavební úpravy Zahradního domu Teplice - ZL
D8: Objekt:
E9: ZL - 13 - výtahová šachta
D11: KSO: | I11: CC-CZ:
D12: Místo: | I12: Datum: | J12: ='Rekapitulace stavby'!AN8 -> 22. 10. 2021
D14: Zadavatel: | I14: IČ:
I15: DIČ:
D17: Zhotovitel: | I17: IČ:
E18: POHL cz, a.s. | I18: DIČ:
D20: Projektant: | I20: IČ:
I21: DIČ:
D23: Zpracovatel: | I23: IČ:
I24: DIČ:
D26: Poznámka:
D30: Cena bez DPH | J30: =ROUND(J88, 2) -> -84065.24
F32: Základ daně | I32: Sazba daně | J32: Výše daně
D33: DPH | E33: základní | F33: =ROUND((SUM(BE88:BE148)), 2) -> -84065.24 | I33: 0.21 | J33: =ROUND(((SUM(BE88:BE148))*I33), 2) -> -17653.7
E34: snížená | F34: =ROUND((SUM(BF88:BF148)), 2) -> 0 | I34: 0.15 | J34: =ROUND(((SUM(BF88:BF148))*I34), 2) -> 0
E35: zákl. přenesená | F35: =ROUND((SUM(BG88:BG148)), 2) -> 0 | I35: 0.21 | J35: =0 -> 0
E36: sníž. přenesená | F36: =ROUND((SUM(BH88:BH148)), 2) -> 0 | I36: 0.15 | J36: =0 -> 0
E37: nulová | F37: =ROUND((SUM(BI88:BI148)), 2) -> 0 | I37: 0 | J37: =0 -> 0
D39: Cena s DPH | G39: v | H39: CZK | J39: =SUM(J30:J37) -> -101718.94
C45: REKAPITULACE ČLENĚNÍ SOUPISU PRACÍ
C47: Stavba:
E48: =E7 -> Stavební úpravy Zahradního domu Teplice - ZL
C49: Objekt:
E50: =E9 -> ZL - 13 - výtahová šachta
C52: Místo: | F52: =F12 | I52: Datum: | J52: =IF(J12="","",J12) -> 22. 10. 2021
C54: Zadavatel: | F54: =E15 | I54: Projektant: | J54: =E21
C55: Zhotovitel: | F55: =IF(E18="","",E18) -> POHL cz, a.s. | I55: Zpracovatel: | J55: =E24
C57: Kód dílu - Popis | J57: Cena celkem [CZK]
C59: Náklady stavby celkem | J59: =J88 -> -84065.24 | AU59: -1
D60: HSV - Práce a dodávky HSV | J60: =J89 -> -108968.83
D61: 3 - Svislé a kompletní konstrukce | J61: =J90 -> -17944.74
D62: 4 - Vodorovné konstrukce | J62: =J106 -> -11695.11
D63: 6 - Úpravy povrchů, podlahy a osazování výplní | J63: =J114 -> -74526.63
...

Sheet ZL - 14 - slaboproud
L2: >> skryté sloupce << | AT2: {45907b19-3b5e-4e2e-8d06-1e54910b6a50}
AT3: 2
D4: KRYCÍ LIST SOUPISU PRACÍ | M4: v --- níže se nacházejí doplnkové a pomocné údaje k sestavám --- v | AT4: False
D6: Stavba:
E7: ='Rekapitulace stavby'!K6 -> Stavební úpravy Zahradního domu Teplice - ZL
D8: Objekt:
E9: ZL - 14 - slaboproud
D11: KSO: | I11: CC-CZ:
D12: Místo: | I12: Datum: | J12: ='Rekapitulace stavby'!AN8 -> 22. 10. 2021
D14: Zadavatel: | I14: IČ:
I15: DIČ:
D17: Zhotovitel: | I17: IČ:
E18: POHL cz, a.s. | I18: DIČ:
D20: Projektant: | I20: IČ:
I21: DIČ:
D23: Zpracovatel: | I23: IČ:
I24: DIČ:
D26: Poznámka:
D30: Cena bez DPH | J30: =ROUND(J80, 2) -> -181938.9
F32: Základ daně | I32: Sazba daně | J32: Výše daně
D33: DPH | E33: základní | F33: =ROUND((SUM(BE80:BE93)), 2) -> -181938.9 | I33: 0.21 | J33: =ROUND(((SUM(BE80:BE93))*I33), 2) -> -38207.17
E34: snížená | F34: =ROUND((SUM(BF80:BF93)), 2) -> 0 | I34: 0.15 | J34: =ROUND(((SUM(BF80:BF93))*I34), 2) -> 0
E35: zákl. přenesená | F35: =ROUND((SUM(BG80:BG93)), 2) -> 0 | I35: 0.21 | J35: =0 -> 0
E36: sníž. přenesená | F36: =ROUND((SUM(BH80:BH93)), 2) -> 0 | I36: 0.15 | J36: =0 -> 0
E37: nulová | F37: =ROUND((SUM(BI80:BI93)), 2) -> 0 | I37: 0 | J37: =0 -> 0
D39: Cena s DPH | G39: v | H39: CZK | J39: =SUM(J30:J37) -> -220146.07
C45: REKAPITULACE ČLENĚNÍ SOUPISU PRACÍ
C47: Stavba:
E48: =E7 -> Stavební úpravy Zahradního domu Teplice - ZL
C49: Objekt:
E50: =E9 -> ZL - 14 - slaboproud
C52: Místo: | F52: =F12 | I52: Datum: | J52: =IF(J12="","",J12) -> 22. 10. 2021
C54: Zadavatel: | F54: =E15 | I54: Projektant: | J54: =E21
C55: Zhotovitel: | F55: =IF(E18="","",E18) -> POHL cz, a.s. | I55: Zpracovatel: | J55: =E24
C57: Kód dílu - Popis | J57: Cena celkem [CZK]
C59: Náklady stavby celkem | J59: =J80 -> -181938.9 | AU59: -1
D60: HZS - Hodinové zúčtovací sazby | J60: =J81 -> -181938.9
C67: SOUPIS PRACÍ
C69: Stavba:
E70: =E7 -> Stavební úpravy Zahradního domu Teplice - ZL
...

Sheet ZL - 15 - elektroinstalac...
L2: >> skryté sloupce << | AT2: {c1938f82-c928-429f-ba91-18cbae9a383e}
AT3: 2
D4: KRYCÍ LIST SOUPISU PRACÍ | M4: v --- níže se nacházejí doplnkové a pomocné údaje k sestavám --- v | AT4: False
D6: Stavba:
E7: ='Rekapitulace stavby'!K6 -> Stavební úpravy Zahradního domu Teplice - ZL
D8: Objekt:
E9: ZL - 15 - elektroinstalace - podsvícení obkladu schodiště
D11: KSO: | I11: CC-CZ:
D12: Místo: | I12: Datum: | J12: ='Rekapitulace stavby'!AN8 -> 22. 10. 2021
D14: Zadavatel: | I14: IČ:
I15: DIČ:
D17: Zhotovitel: | I17: IČ:
E18: POHL cz, a.s. | I18: DIČ:
D20: Projektant: | I20: IČ:
I21: DIČ:
D23: Zpracovatel: | I23: IČ:
I24: DIČ:
D26: Poznámka:
D30: Cena bez DPH | J30: =ROUND(J81, 2) -> 83335.6
F32: Základ daně | I32: Sazba daně | J32: Výše daně
D33: DPH | E33: základní | F33: =ROUND((SUM(BE81:BE89)), 2) -> 83335.6 | I33: 0.21 | J33: =ROUND(((SUM(BE81:BE89))*I33), 2) -> 17500.48
E34: snížená | F34: =ROUND((SUM(BF81:BF89)), 2) -> 0 | I34: 0.15 | J34: =ROUND(((SUM(BF81:BF89))*I34), 2) -> 0
E35: zákl. přenesená | F35: =ROUND((SUM(BG81:BG89)), 2) -> 0 | I35: 0.21 | J35: =0 -> 0
E36: sníž. přenesená | F36: =ROUND((SUM(BH81:BH89)), 2) -> 0 | I36: 0.15 | J36: =0 -> 0
E37: nulová | F37: =ROUND((SUM(BI81:BI89)), 2) -> 0 | I37: 0 | J37: =0 -> 0
D39: Cena s DPH | G39: v | H39: CZK | J39: =SUM(J30:J37) -> 100836.08
C45: REKAPITULACE ČLENĚNÍ SOUPISU PRACÍ
C47: Stavba:
E48: =E7 -> Stavební úpravy Zahradního domu Teplice - ZL
C49: Objekt:
E50: =E9 -> ZL - 15 - elektroinstalace - podsvícení obkladu schodiště
C52: Místo: | F52: =F12 | I52: Datum: | J52: =IF(J12="","",J12) -> 22. 10. 2021
C54: Zadavatel: | F54: =E15 | I54: Projektant: | J54: =E21
C55: Zhotovitel: | F55: =IF(E18="","",E18) -> POHL cz, a.s. | I55: Zpracovatel: | J55: =E24
C57: Kód dílu - Popis | J57: Cena celkem [CZK]
C59: Náklady stavby celkem | J59: =J81 -> 83335.6 | AU59: -1
D60: M - Práce a dodávky M | J60: =J82 -> 83335.6
D61: 21-M - Elektromontáže | J61: =J83 -> 83335.6
C68: SOUPIS PRACÍ
C70: Stavba:
...

Sheet ZL - 16 - změna sanitární...
L2: >> skryté sloupce << | AT2: {80ecb02d-d1eb-4c15-830e-a8c2b887aad0}
AT3: 2
D4: KRYCÍ LIST SOUPISU PRACÍ | M4: v --- níže se nacházejí doplnkové a pomocné údaje k sestavám --- v | AT4: False
D6: Stavba:
E7: ='Rekapitulace stavby'!K6 -> Stavební úpravy Zahradního domu Teplice - ZL
D8: Objekt:
E9: ZL - 16 - změna sanitárního vybavení
D11: KSO: | I11: CC-CZ:
D12: Místo: | I12: Datum: | J12: ='Rekapitulace stavby'!AN8 -> 22. 10. 2021
D14: Zadavatel: | I14: IČ:
I15: DIČ:
D17: Zhotovitel: | I17: IČ:
E18: POHL cz, a.s. | I18: DIČ:
D20: Projektant: | I20: IČ:
I21: DIČ:
D23: Zpracovatel: | I23: IČ:
I24: DIČ:
D26: Poznámka:
D30: Cena bez DPH | J30: =ROUND(J81, 2) -> -45114.2
F32: Základ daně | I32: Sazba daně | J32: Výše daně
D33: DPH | E33: základní | F33: =ROUND((SUM(BE81:BE92)), 2) -> -45114.2 | I33: 0.21 | J33: =ROUND(((SUM(BE81:BE92))*I33), 2) -> -9473.98
E34: snížená | F34: =ROUND((SUM(BF81:BF92)), 2) -> 0 | I34: 0.15 | J34: =ROUND(((SUM(BF81:BF92))*I34), 2) -> 0
E35: zákl. přenesená | F35: =ROUND((SUM(BG81:BG92)), 2) -> 0 | I35: 0.21 | J35: =0 -> 0
E36: sníž. přenesená | F36: =ROUND((SUM(BH81:BH92)), 2) -> 0 | I36: 0.15 | J36: =0 -> 0
E37: nulová | F37: =ROUND((SUM(BI81:BI92)), 2) -> 0 | I37: 0 | J37: =0 -> 0
D39: Cena s DPH | G39: v | H39: CZK | J39: =SUM(J30:J37) -> -54588.18
C45: REKAPITULACE ČLENĚNÍ SOUPISU PRACÍ
C47: Stavba:
E48: =E7 -> Stavební úpravy Zahradního domu Teplice - ZL
C49: Objekt:
E50: =E9 -> ZL - 16 - změna sanitárního vybavení
C52: Místo: | F52: =F12 | I52: Datum: | J52: =IF(J12="","",J12) -> 22. 10. 2021
C54: Zadavatel: | F54: =E15 | I54: Projektant: | J54: =E21
C55: Zhotovitel: | F55: =IF(E18="","",E18) -> POHL cz, a.s. | I55: Zpracovatel: | J55: =E24
C57: Kód dílu - Popis | J57: Cena celkem [CZK]
C59: Náklady stavby celkem | J59: =J81 -> -45114.2 | AU59: -1
D60: PSV - Práce a dodávky PSV | J60: =J82 -> -45114.2
D61: 725 - Zdravotechnika - zařizovací předměty | J61: =J83 -> -45114.2
C68: SOUPIS PRACÍ
C70: Stavba:
...

Sheet ZL - 17 - design výtahu
L2: >> skryté sloupce << | AT2: {e0410c1a-ec08-4b7c-ae17-51c2f05d0f6e}
AT3: 2
D4: KRYCÍ LIST SOUPISU PRACÍ | M4: v --- níže se nacházejí doplnkové a pomocné údaje k sestavám --- v | AT4: False
D6: Stavba:
E7: ='Rekapitulace stavby'!K6 -> Stavební úpravy Zahradního domu Teplice - ZL
D8: Objekt:
E9: ZL - 17 - design výtahu
D11: KSO: | I11: CC-CZ:
D12: Místo: | I12: Datum: | J12: ='Rekapitulace stavby'!AN8 -> 22. 10. 2021
D14: Zadavatel: | I14: IČ:
I15: DIČ:
D17: Zhotovitel: | I17: IČ:
E18: POHL cz, a.s. | I18: DIČ:
D20: Projektant: | I20: IČ:
I21: DIČ:
D23: Zpracovatel: | I23: IČ:
I24: DIČ:
D26: Poznámka:
D30: Cena bez DPH | J30: =ROUND(J81, 2) -> 0
F32: Základ daně | I32: Sazba daně | J32: Výše daně
D33: DPH | E33: základní | F33: =ROUND((SUM(BE81:BE86)), 2) -> 0 | I33: 0.21 | J33: =ROUND(((SUM(BE81:BE86))*I33), 2) -> 0
E34: snížená | F34: =ROUND((SUM(BF81:BF86)), 2) -> 0 | I34: 0.15 | J34: =ROUND(((SUM(BF81:BF86))*I34), 2) -> 0
E35: zákl. přenesená | F35: =ROUND((SUM(BG81:BG86)), 2) -> 0 | I35: 0.21 | J35: =0 -> 0
E36: sníž. přenesená | F36: =ROUND((SUM(BH81:BH86)), 2) -> 0 | I36: 0.15 | J36: =0 -> 0
E37: nulová | F37: =ROUND((SUM(BI81:BI86)), 2) -> 0 | I37: 0 | J37: =0 -> 0
D39: Cena s DPH | G39: v | H39: CZK | J39: =SUM(J30:J37) -> 0
C45: REKAPITULACE ČLENĚNÍ SOUPISU PRACÍ
C47: Stavba:
E48: =E7 -> Stavební úpravy Zahradního domu Teplice - ZL
C49: Objekt:
E50: =E9 -> ZL - 17 - design výtahu
C52: Místo: | F52: =F12 | I52: Datum: | J52: =IF(J12="","",J12) -> 22. 10. 2021
C54: Zadavatel: | F54: =E15 | I54: Projektant: | J54: =E21
C55: Zhotovitel: | F55: =IF(E18="","",E18) -> POHL cz, a.s. | I55: Zpracovatel: | J55: =E24
C57: Kód dílu - Popis | J57: Cena celkem [CZK]
C59: Náklady stavby celkem | J59: =J81 -> 0 | AU59: -1
D60: OST - Ostatní | J60: =J82 -> 0
D61: O01 - Ostatní | J61: =J83 -> 0
C68: SOUPIS PRACÍ
C70: Stavba:
...

Sheet ZL - 18 - elektro přívody...
L2: >> skryté sloupce << | AT2: {7a6aba4a-648f-4c99-83ab-0c1b5d8d0202}
AT3: 2
D4: KRYCÍ LIST SOUPISU PRACÍ | M4: v --- níže se nacházejí doplnkové a pomocné údaje k sestavám --- v | AT4: False
D6: Stavba:
E7: ='Rekapitulace stavby'!K6 -> Stavební úpravy Zahradního domu Teplice - ZL
D8: Objekt:
E9: ZL - 18 - elektro přívody k ohřívačům TUV
D11: KSO: | I11: CC-CZ:
D12: Místo: | I12: Datum: | J12: ='Rekapitulace stavby'!AN8 -> 22. 10. 2021
D14: Zadavatel: | I14: IČ:
I15: DIČ:
D17: Zhotovitel: | I17: IČ:
E18: POHL cz, a.s. | I18: DIČ:
D20: Projektant: | I20: IČ:
I21: DIČ:
D23: Zpracovatel: | I23: IČ:
I24: DIČ:
D26: Poznámka:
D30: Cena bez DPH | J30: =ROUND(J81, 2) -> 18874.8
F32: Základ daně | I32: Sazba daně | J32: Výše daně
D33: DPH | E33: základní | F33: =ROUND((SUM(BE81:BE86)), 2) -> 18874.8 | I33: 0.21 | J33: =ROUND(((SUM(BE81:BE86))*I33), 2) -> 3963.71
E34: snížená | F34: =ROUND((SUM(BF81:BF86)), 2) -> 0 | I34: 0.15 | J34: =ROUND(((SUM(BF81:BF86))*I34), 2) -> 0
E35: zákl. přenesená | F35: =ROUND((SUM(BG81:BG86)), 2) -> 0 | I35: 0.21 | J35: =0 -> 0
E36: sníž. přenesená | F36: =ROUND((SUM(BH81:BH86)), 2) -> 0 | I36: 0.15 | J36: =0 -> 0
E37: nulová | F37: =ROUND((SUM(BI81:BI86)), 2) -> 0 | I37: 0 | J37: =0 -> 0
D39: Cena s DPH | G39: v | H39: CZK | J39: =SUM(J30:J37) -> 22838.51
C45: REKAPITULACE ČLENĚNÍ SOUPISU PRACÍ
C47: Stavba:
E48: =E7 -> Stavební úpravy Zahradního domu Teplice - ZL
C49: Objekt:
E50: =E9 -> ZL - 18 - elektro přívody k ohřívačům TUV
C52: Místo: | F52: =F12 | I52: Datum: | J52: =IF(J12="","",J12) -> 22. 10. 2021
C54: Zadavatel: | F54: =E15 | I54: Projektant: | J54: =E21
C55: Zhotovitel: | F55: =IF(E18="","",E18) -> POHL cz, a.s. | I55: Zpracovatel: | J55: =E24
C57: Kód dílu - Popis | J57: Cena celkem [CZK]
C59: Náklady stavby celkem | J59: =J81 -> 18874.8 | AU59: -1
D60: M - Práce a dodávky M | J60: =J82 -> 18874.8
D61: 21-M - Elektromontáže | J61: =J83 -> 18874.8
C68: SOUPIS PRACÍ
C70: Stavba:
...

Sheet ZL - 19 - elektro chráníč...
L2: >> skryté sloupce << | AT2: {f0876326-5ef4-4f2e-aad2-e7d8ce2531d6}
AT3: 2
D4: KRYCÍ LIST SOUPISU PRACÍ | M4: v --- níže se nacházejí doplnkové a pomocné údaje k sestavám --- v | AT4: False
D6: Stavba:
E7: ='Rekapitulace stavby'!K6 -> Stavební úpravy Zahradního domu Teplice - ZL
D8: Objekt:
E9: ZL - 19 - elektro chráníčky s kabely UTP pro kamery
D11: KSO: | I11: CC-CZ:
D12: Místo: | I12: Datum: | J12: ='Rekapitulace stavby'!AN8 -> 22. 10. 2021
D14: Zadavatel: | I14: IČ:
I15: DIČ:
D17: Zhotovitel: | I17: IČ:
E18: POHL cz, a.s. | I18: DIČ:
D20: Projektant: | I20: IČ:
I21: DIČ:
D23: Zpracovatel: | I23: IČ:
I24: DIČ:
D26: Poznámka:
D30: Cena bez DPH | J30: =ROUND(J81, 2) -> 25837.2
F32: Základ daně | I32: Sazba daně | J32: Výše daně
D33: DPH | E33: základní | F33: =ROUND((SUM(BE81:BE85)), 2) -> 25837.2 | I33: 0.21 | J33: =ROUND(((SUM(BE81:BE85))*I33), 2) -> 5425.81
E34: snížená | F34: =ROUND((SUM(BF81:BF85)), 2) -> 0 | I34: 0.15 | J34: =ROUND(((SUM(BF81:BF85))*I34), 2) -> 0
E35: zákl. přenesená | F35: =ROUND((SUM(BG81:BG85)), 2) -> 0 | I35: 0.21 | J35: =0 -> 0
E36: sníž. přenesená | F36: =ROUND((SUM(BH81:BH85)), 2) -> 0 | I36: 0.15 | J36: =0 -> 0
E37: nulová | F37: =ROUND((SUM(BI81:BI85)), 2) -> 0 | I37: 0 | J37: =0 -> 0
D39: Cena s DPH | G39: v | H39: CZK | J39: =SUM(J30:J37) -> 31263.01
C45: REKAPITULACE ČLENĚNÍ SOUPISU PRACÍ
C47: Stavba:
E48: =E7 -> Stavební úpravy Zahradního domu Teplice - ZL
C49: Objekt:
E50: =E9 -> ZL - 19 - elektro chráníčky s kabely UTP pro kamery
C52: Místo: | F52: =F12 | I52: Datum: | J52: =IF(J12="","",J12) -> 22. 10. 2021
C54: Zadavatel: | F54: =E15 | I54: Projektant: | J54: =E21
C55: Zhotovitel: | F55: =IF(E18="","",E18) -> POHL cz, a.s. | I55: Zpracovatel: | J55: =E24
C57: Kód dílu - Popis | J57: Cena celkem [CZK]
C59: Náklady stavby celkem | J59: =J81 -> 25837.2 | AU59: -1
D60: M - Práce a dodávky M | J60: =J82 -> 25837.2
D61: 21-M - Elektromontáže | J61: =J83 -> 25837.2
C68: SOUPIS PRACÍ
C70: Stavba:
...

Sheet ZL - 20 - elektro doplněn...
L2: >> skryté sloupce << | AT2: {3db21d71-cc42-4033-8c93-4924a412ba23}
AT3: 2
D4: KRYCÍ LIST SOUPISU PRACÍ | M4: v --- níže se nacházejí doplnkové a pomocné údaje k sestavám --- v | AT4: False
D6: Stavba:
E7: ='Rekapitulace stavby'!K6 -> Stavební úpravy Zahradního domu Teplice - ZL
D8: Objekt:
E9: ZL - 20 - elektro doplnění přímotopů
D11: KSO: | I11: CC-CZ:
D12: Místo: | I12: Datum: | J12: ='Rekapitulace stavby'!AN8 -> 22. 10. 2021
D14: Zadavatel: | I14: IČ:
I15: DIČ:
D17: Zhotovitel: | I17: IČ:
E18: POHL cz, a.s. | I18: DIČ:
D20: Projektant: | I20: IČ:
I21: DIČ:
D23: Zpracovatel: | I23: IČ:
I24: DIČ:
D26: Poznámka:
D30: Cena bez DPH | J30: =ROUND(J81, 2) -> 13002.4
F32: Základ daně | I32: Sazba daně | J32: Výše daně
D33: DPH | E33: základní | F33: =ROUND((SUM(BE81:BE86)), 2) -> 13002.4 | I33: 0.21 | J33: =ROUND(((SUM(BE81:BE86))*I33), 2) -> 2730.5
E34: snížená | F34: =ROUND((SUM(BF81:BF86)), 2) -> 0 | I34: 0.15 | J34: =ROUND(((SUM(BF81:BF86))*I34), 2) -> 0
E35: zákl. přenesená | F35: =ROUND((SUM(BG81:BG86)), 2) -> 0 | I35: 0.21 | J35: =0 -> 0
E36: sníž. přenesená | F36: =ROUND((SUM(BH81:BH86)), 2) -> 0 | I36: 0.15 | J36: =0 -> 0
E37: nulová | F37: =ROUND((SUM(BI81:BI86)), 2) -> 0 | I37: 0 | J37: =0 -> 0
D39: Cena s DPH | G39: v | H39: CZK | J39: =SUM(J30:J37) -> 15732.9
C45: REKAPITULACE ČLENĚNÍ SOUPISU PRACÍ
C47: Stavba:
E48: =E7 -> Stavební úpravy Zahradního domu Teplice - ZL
C49: Objekt:
E50: =E9 -> ZL - 20 - elektro doplnění přímotopů
C52: Místo: | F52: =F12 | I52: Datum: | J52: =IF(J12="","",J12) -> 22. 10. 2021
C54: Zadavatel: | F54: =E15 | I54: Projektant: | J54: =E21
C55: Zhotovitel: | F55: =IF(E18="","",E18) -> POHL cz, a.s. | I55: Zpracovatel: | J55: =E24
C57: Kód dílu - Popis | J57: Cena celkem [CZK]
C59: Náklady stavby celkem | J59: =J81 -> 13002.4 | AU59: -1
D60: M - Práce a dodávky M | J60: =J82 -> 13002.4
D61: 21-M - Elektromontáže | J61: =J83 -> 13002.4
C68: SOUPIS PRACÍ
C70: Stavba:
...
