Workbook

Sheet ZL-001
B2: OBJEDNATEL: | G2: ZHOTOVITEL:
B3: Dům kultury Teplice | G3: POHL cz, a.s.
B4: Mírové náměstí 2950 | G4: Na Pomezí 2483
B5: 415 01 Teplice | G5: 252 63 Roztoky
G6: Odštěpný závod Roztoky, oblast sever
G7: Marie Kršňákové 119
G8: 403 17 Chabařovice
D9: ZMĚNOVÝ LIST
B11: Projekt: | D11: Bezbariérové úpravy objektu ZD Teplice
B12: Část: | D12: Architektonické-stavební řešení
B13: Název: | D13: Změny stavby, posun termínu
B14: ZL č.: | D14: 001
B15: Datum vystavení: | D15: 44966
B16: Podklady: | D16: DSP | F16: Počet příloh:
B18: Popis změny: | C18: Změnový list obsahuje vyčíslení změny rozsahu realizovaných prací, které byly vyvolány objektivními skutečnostmi zjištěnými v průběhu realizace, požadavky objedenatele na změny nebo doplnění a zohledňují také nedostatky projektové dokumentace a výkazu výměr.
B19: Zdůvodnění změny: | C19: Při realizaci stavby bylo nutné provést dílčí stavební změny, doplnit realizaci o požadavky objednatele a zohlednit rozdíly mezi PD a výkazem výměr. Jednotlivé změny jsou zpracovány formou dílčích rozpočtů a jsou součástí tohoto Změnového listu. Mezi skutečnosti, které se promítly do změny rozsahu prací patří zejména:
C20: 01 - doplnění nové zděné stěny pro umístění umyvadla - vyvoláno chybou zaměření objektu
C21: 02 - náklady na čištění kanalizace - vlivem malého provozu v objektu došlo k zanesení kanalizace a vyplavení sklepa
C22: 03 - doplnění vývodů pro zařizovací předměty v sousední místnosti - požadavek objednatele - bez dopadu do ceny
C23: 04 - výměna dveřních křídel na chodbě, schodišti a ve sklepě - požadavek objednatele
C24: 05 - přesun akumulačních kamen v 1.NP a 2. NP - nebylo zapracováno v PD
C25: 06 - zazdívka původních dveří - nebylo zahrnuto ve výkazu výměr
C26: 07 - demontáž podpůrné kce schodiště - zjištěno při demolici schodiště, při průzkumu nebyla kce zastižena
C27: 08 - rozíl v ceně za bourání schodiště - PD předpokládala betonové podesty, skutečné byly zastiženy cihelné klenby
C28: 09 - výkop pro základ výtahové šachty - chyba ve výkazu výměr
C29: 10 - doplnění pískovcového schodu - vyvoláno skutečnostni zjištěnými po demolici původního schodiště
C30: 11 - protiprachová opatření - bez dopadu do ceny
C31: 12 - změna podlahy chodby 2.NP - požadavek objednatele
... C40: Výše popsané změny byly projednány v rámci aktuálního řešení průběhu stavby v rámci kontrolních dnů, případně vyplynuly z upřesnění technického a architektonického řešení tak jak bylo předmětem architektonické studie a také projednání s pracovníky pam.péče.
B42: Cenový dopad (je-li nějaký): | E42: Přípočty: | F42: Odpočty: | G42: Celkem za změnu:
B43: bez DPH | E43: 738991.14 | F43: -341069.8 | G43: =E43+F43 -> 397921.34
B44: DPH 21% | E44: =0.21*E43 -> 155188.14 | F44: =0.21*F43 -> -71624.658 | G44: =0.21*G43 -> 83563.481
B45: vč. DPH | E45: =SUM(E43:E44) -> 894179.28 | F45: =SUM(F43:F44) -> -412694.46 | G45: =SUM(G43:G44) -> 481484.82
B46: Časový dopad (je-li nějaký): | D46: ANO | E46: + 3 dny - zpoždění předání staveniště + 4 dny - demontáž podpůrné konstrukce schodiště + 3 dny - ruční výkop jámy pro výtahovou šachtu + 4 dny - změna podlahové krytiny chodby ve 2.NP Celkový dopad do termínu je +14 dnů = termín dokončení díla se posouvá na 12.03.2023
B47: Dopad do standartu (je-li nějaký): | D47: NENÍ
B48: Dopad do změny PD (je-li nějaký): | D48: ANO | E48: změna zastropení výtahové šachty, dispoziční změny soc.zař. 2.NP, doplnění 1 ks venkovního kamenného schodiště a doplnění kamenných bloků na venkovních rampách, změna podlahové krytiny chodby 2.NP, změna druhu zařizovacích předmětů na soc. zařízení 2.NP
B49: Dopad na smluvní milníky (je-li nějaký): | D49: NENÍ
B50: Rizika a důsledky změny: | D50: NEJSOU
B53: Vystavil:
B54: xxx xxxxxxxx xxxxx | E54: Podpis: | G54: Datum: 20.02.2023
B55: (ZHOTOVITEL)
B57: Ověřil:
B58: xxxx xxxxxx xxxxxx | E58: Podpis: | G58: Datum: 20.02.2023
B59: (TDS)
B61: xxxx xxxxx xxxxx xxxxxxxx | E61: Podpis: | G61: Datum: 20.02.2023
B62: (PROJEKTANT)
B64: Schválil:
B65: Ing. Přemysl šoba | E65: Podpis: | G65: Datum: 20.02.2023
B66: (OBJEDNATEL)

Sheet Rekapitulace stavby
A1: Export Komplet | AZ1: VZ | BA1: 2.0 | BT1: False | BU1: False | BV1: {5dbd0d00-61ee-43e4-9b91-94b359dc26a7}
AR2: >> skryté sloupce << | BS2: 0,01 | BT2: 21
BS3: 0,01 | BT3: 15
D4: REKAPITULACE STAVBY | AS4: v --- níže se nacházejí doplnkové a pomocné údaje k sestavám --- v | BS4: 0,001
D5: Kód: | K5: 8022038_ZL | BS5: 0,01
D6: Stavba: | K6: Stavební úpravy Zahradního domu Teplice - ZL | BS6: 0,01
D7: KSO: | AK7: CC-CZ: | BS7: 0,01
D8: Místo: | AK8: Datum: | AN8: 22. 10. 2021 | BS8: 0,01
BS9: 0,01
D10: Zadavatel: | AK10: IČ: | BS10: 0,01
AK11: DIČ: | BS11: 0,01
BS12: 0,01
D13: Zhotovitel: | AK13: IČ: | BS13: 0,01
E14: POHL cz, a.s. | AK14: DIČ: | BS14: 0,01
BS15: False
D16: Projektant: | AK16: IČ: | BS16: False
AK17: DIČ: | BS17: True
BS18: 0,01
D19: Zpracovatel: | AK19: IČ: | BS19: 0,01
AK20: DIČ: | BS20: False
D22: Poznámka:
E23: Soupis prací je sestaven s využitím Cenové soustavy ÚRS. Položky, které pochází z této cenové soustavy, jsou ve sloupci 'Cenová soustava' označeny popisem 'CS ÚRS' a úrovní příslušného kalendářního pololetí. Veškeré další informace vymezující popis a podmínky použití těchto položek z Cenové soustavy, které nejsou uvedeny přímo v soupisu prací, jsou neomezeně dálkově k dispozici na webu podminky.urs.cz.
D26: Cena bez DPH | AK26: =ROUND(AG54,2) -> 397921.34
L28: Sazba daně | W28: Základ daně | AK28: Výše daně
D29: DPH | F29: základní | L29: 0.21 | W29: =ROUND(AZ54, 2) -> 397921.34 | AK29: =ROUND(AV54, 2) -> 83563.48
F30: snížená | L30: 0.15 | W30: =ROUND(BA54, 2) -> 0 | AK30: =ROUND(AW54, 2) -> 0
F31: zákl. přenesená | L31: 0.21 | W31: =ROUND(BB54, 2) -> 0 | AK31: 0
F32: sníž. přenesená | L32: 0.15 | W32: =ROUND(BC54, 2) -> 0 | AK32: 0
F33: nulová | L33: 0 | W33: =ROUND(BD54, 2) -> 0 | AK33: 0
D35: Cena s DPH | T35: v | X35: CZK | AK35: =SUM(AK26:AK33) -> 481484.82
C42: REKAPITULACE OBJEKTŮ STAVBY A SOUPISŮ PRACÍ
C44: Kód: | L44: =K5 -> 8022038_ZL
C45: Stavba: | L45: =K6 -> Stavební úpravy Zahradního domu Teplice - ZL
C47: Místo: | L47: =IF(K8="","",K8) | AI47: Datum: | AM47: =IF(AN8= "","",AN8) -> 22. 10. 2021
C49: Zadavatel: | L49: =IF(E11= "","",E11) | AI49: Projektant: | AM49: =IF(E17="","",E17) | AS49: Informatívní údaje z listů zakázek
C50: Zhotovitel: | L50: =IF(E14="","",E14) -> POHL cz, a.s. | AI50: Zpracovatel: | AM50: =IF(E20="","",E20)
C52: Kód | I52: Popis | AG52: Cena bez DPH [CZK] | AN52: Cena s DPH [CZK] | AQ52: Typ | AS52: z toho Ostat._x000D_ náklady [CZK] | AT52: DPH [CZK] | AU52: Normohodiny [h] | AV52: DPH základní [CZK] | AW52: DPH snížená [CZK] | AX52: DPH základní přenesená_x000D_ [CZK] | AY52: DPH snížená přenesená_x000D_ [CZK] | AZ52: Základna_x000D_ DPH základní | BA52: Základna_x000D_ DPH snížená | BB52: Základna_x000D_ DPH zákl. přenesená | BC52: Základna_x000D_ DPH sníž. přenesená | BD52: Základna_x000D_ DPH nulová
C54: Náklady stavby celkem | AG54: =ROUND(SUM(AG55:AG74),2) -> 397921.34 | AN54: =SUM(AG54,AT54) -> 481484.82 | AS54: =ROUND(SUM(AS55:AS74),2) -> 0 | AT54: =ROUND(SUM(AV54:AW54),2) -> 83563.48 | AU54: =ROUND(SUM(AU55:AU74),5) -> 436.63484 | AV54: =ROUND(AZ54*L29,2) -> 83563.48 | AW54: =ROUND(BA54*L30,2) -> 0 | AX54: =ROUND(BB54*L29,2) -> 0 | AY54: =ROUND(BC54*L30,2) -> 0 | AZ54: =ROUND(SUM(AZ55:AZ74),2) -> 397921.34 | BA54: =ROUND(SUM(BA55:BA74),2) -> 0 | BB54: =ROUND(SUM(BB55:BB74),2) -> 0 | BC54: =ROUND(SUM(BC55:BC74),2) -> 0 | BD54: =ROUND(SUM(BD55:BD74),2) -> 0 | BS54: D | BT54: 0 | BU54: ###NOIMPORT### | BV54: IMPORT | BW54: {5dbd0d00-61ee-43e4-9b91-94b359dc26a7} | BX54: {00000000-0000-0000-0000-000000000000}
A55: / | D55: ZL - 01 | J55: Nová stěna na WC ve 2.NP vč. odpočtu části sanitární příčky | AG55: ='ZL - 01 - Nová stěna na W...'!J30 -> 13930.22 | AN55: =SUM(AG55,AT55) -> 16855.57 | AQ55: STA | AS55: 0 | AT55: =ROUND(SUM(AV55:AW55),2) -> 2925.35 | AU55: ='ZL - 01 - Nová stěna na W...'!P86 -> 7.7094 | AV55: ='ZL - 01 - Nová stěna na W...'!J33 -> 2925.35 | AW55: ='ZL - 01 - Nová stěna na W...'!J34 -> 0 | AX55: ='ZL - 01 - Nová stěna na W...'!J35 -> 0 | AY55: ='ZL - 01 - Nová stěna na W...'!J36 -> 0 | AZ55: ='ZL - 01 - Nová stěna na W...'!F33 -> 13930.22 | BA55: ='ZL - 01 - Nová stěna na W...'!F34 -> 0 | BB55: ='ZL - 01 - Nová stěna na W...'!F35 -> 0 | BC55: ='ZL - 01 - Nová stěna na W...'!F36 -> 0 | BD55: ='ZL - 01 - Nová stěna na W...'!F37 -> 0 | BT55: 1 | BV55: IMPORT | BW55: {74bf30ad-29d7-47c5-9517-15367186e598} | BX55: {5dbd0d00-61ee-43e4-9b91-94b359dc26a7} | CM55: 2
A56: / | D56: ZL - 02 | J56: voda ve sklepě | AG56: ='ZL - 02 - voda ve sklepě'!J30 -> 14188 | AN56: =SUM(AG56,AT56) -> 17167.48 | AQ56: STA | AS56: 0 | AT56: =ROUND(SUM(AV56:AW56),2) -> 2979.48 | AU56: ='ZL - 02 - voda ve sklepě'!P81 -> 8.416 | AV56: ='ZL - 02 - voda ve sklepě'!J33 -> 2979.48 | AW56: ='ZL - 02 - voda ve sklepě'!J34 -> 0 | AX56: ='ZL - 02 - voda ve sklepě'!J35 -> 0 | AY56: ='ZL - 02 - voda ve sklepě'!J36 -> 0 | AZ56: ='ZL - 02 - voda ve sklepě'!F33 -> 14188 | BA56: ='ZL - 02 - voda ve sklepě'!F34 -> 0 | BB56: ='ZL - 02 - voda ve sklepě'!F35 -> 0 | BC56: ='ZL - 02 - voda ve sklepě'!F36 -> 0 | BD56: ='ZL - 02 - voda ve sklepě'!F37 -> 0 | BT56: 1 | BV56: IMPORT | BW56: {75418678-7936-424d-a4f0-5c32edf1f6c3} | BX56: {5dbd0d00-61ee-43e4-9b91-94b359dc26a7} | CM56: 2
A57: / | D57: ZL - 03 | J57: Doplnění vývodů vody a kanalizace pro myčku | AG57: ='ZL - 03 - Doplnění vývodů...'!J30 -> 0 | AN57: =SUM(AG57,AT57) -> 0 | AQ57: STA | AS57: 0 | AT57: =ROUND(SUM(AV57:AW57),2) -> 0 | AU57: ='ZL - 03 - Doplnění vývodů...'!P81 -> 0 | AV57: ='ZL - 03 - Doplnění vývodů...'!J33 -> 0 | AW57: ='ZL - 03 - Doplnění vývodů...'!J34 -> 0 | AX57: ='ZL - 03 - Doplnění vývodů...'!J35 -> 0 | AY57: ='ZL - 03 - Doplnění vývodů...'!J36 -> 0 | AZ57: ='ZL - 03 - Doplnění vývodů...'!F33 -> 0 | BA57: ='ZL - 03 - Doplnění vývodů...'!F34 -> 0 | BB57: ='ZL - 03 - Doplnění vývodů...'!F35 -> 0 | BC57: ='ZL - 03 - Doplnění vývodů...'!F36 -> 0 | BD57: ='ZL - 03 - Doplnění vývodů...'!F37 -> 0 | BT57: 1 | BV57: IMPORT | BW57: {378cfee0-b842-4d16-8af1-d2b507afa719} | BX57: {5dbd0d00-61ee-43e4-9b91-94b359dc26a7} | CM57: 2
A58: / | D58: ZL - 04 | J58: Výměna dveřního křídla vč. kování do místnosti č.4 | AG58: ='ZL - 04 - Výměna dveřního...'!J30 -> 45824.71 | AN58: =SUM(AG58,AT58) -> 55447.9 | AQ58: STA | AS58: 0 | AT58: =ROUND(SUM(AV58:AW58),2) -> 9623.19 | AU58: ='ZL - 04 - Výměna dveřního...'!P83 -> 0 | AV58: ='ZL - 04 - Výměna dveřního...'!J33 -> 9623.19 | AW58: ='ZL - 04 - Výměna dveřního...'!J34 -> 0 | AX58: ='ZL - 04 - Výměna dveřního...'!J35 -> 0 | AY58: ='ZL - 04 - Výměna dveřního...'!J36 -> 0 | AZ58: ='ZL - 04 - Výměna dveřního...'!F33 -> 45824.71 | BA58: ='ZL - 04 - Výměna dveřního...'!F34 -> 0 | BB58: ='ZL - 04 - Výměna dveřního...'!F35 -> 0 | BC58: ='ZL - 04 - Výměna dveřního...'!F36 -> 0 | BD58: ='ZL - 04 - Výměna dveřního...'!F37 -> 0 | BT58: 1 | BV58: IMPORT | BW58: {ff292451-1ba0-4211-a6bb-06d17ac3abb8} | BX58: {5dbd0d00-61ee-43e4-9b91-94b359dc26a7} | CM58: 2
A59: / | D59: ZL - 05 | J59: přesun akumulačních kamen | AG59: ='ZL - 05 - přesun akumulač...'!J30 -> 6000 | AN59: =SUM(AG59,AT59) -> 7260 | AQ59: STA | AS59: 0 | AT59: =ROUND(SUM(AV59:AW59),2) -> 1260 | AU59: ='ZL - 05 - přesun akumulač...'!P80 -> 0 | AV59: ='ZL - 05 - přesun akumulač...'!J33 -> 1260 | AW59: ='ZL - 05 - přesun akumulač...'!J34 -> 0 | AX59: ='ZL - 05 - přesun akumulač...'!J35 -> 0 | AY59: ='ZL - 05 - přesun akumulač...'!J36 -> 0 | AZ59: ='ZL - 05 - přesun akumulač...'!F33 -> 6000 | BA59: ='ZL - 05 - přesun akumulač...'!F34 -> 0 | BB59: ='ZL - 05 - přesun akumulač...'!F35 -> 0 | BC59: ='ZL - 05 - přesun akumulač...'!F36 -> 0 | BD59: ='ZL - 05 - přesun akumulač...'!F37 -> 0 | BT59: 1 | BV59: IMPORT | BW59: {5d87d106-b890-4b4b-8b4b-ace55fc539cb} | BX59: {5dbd0d00-61ee-43e4-9b91-94b359dc26a7} | CM59: 2
A60: / | D60: ZL - 06 | J60: Zazdívka původních dveří do WC z kanceláře | AG60: ='ZL - 06 - Zazdívka původn...'!J30 -> 6840.39 | AN60: =SUM(AG60,AT60) -> 8276.87 | AQ60: STA | AS60: 0 | AT60: =ROUND(SUM(AV60:AW60),2) -> 1436.48 | AU60: ='ZL - 06 - Zazdívka původn...'!P84 -> 0 | AV60: ='ZL - 06 - Zazdívka původn...'!J33 -> 1436.48 | AW60: ='ZL - 06 - Zazdívka původn...'!J34 -> 0 | AX60: ='ZL - 06 - Zazdívka původn...'!J35 -> 0 | AY60: ='ZL - 06 - Zazdívka původn...'!J36 -> 0 | AZ60: ='ZL - 06 - Zazdívka původn...'!F33 -> 6840.39 | BA60: ='ZL - 06 - Zazdívka původn...'!F34 -> 0 | BB60: ='ZL - 06 - Zazdívka původn...'!F35 -> 0 | BC60: ='ZL - 06 - Zazdívka původn...'!F36 -> 0 | BD60: ='ZL - 06 - Zazdívka původn...'!F37 -> 0 | BT60: 1 | BV60: IMPORT | BW60: {4b09c9ad-1de8-4e28-8db6-576d0cdb8680} | BX60: {5dbd0d00-61ee-43e4-9b91-94b359dc26a7} | CM60: 2
A61: / | D61: ZL - 07 | J61: Demontáž podpůrné konstrukce schodiště | AG61: ='ZL - 07 - Demontáž podpůr...'!J30 -> 140815.34 | AN61: =SUM(AG61,AT61) -> 170386.56 | AQ61: STA | AS61: 0 | AT61: =ROUND(SUM(AV61:AW61),2) -> 29571.22 | AU61: ='ZL - 07 - Demontáž podpůr...'!P90 -> 71.08527 | AV61: ='ZL - 07 - Demontáž podpůr...'!J33 -> 29571.22 | AW61: ='ZL - 07 - Demontáž podpůr...'!J34 -> 0 | AX61: ='ZL - 07 - Demontáž podpůr...'!J35 -> 0 | AY61: ='ZL - 07 - Demontáž podpůr...'!J36 -> 0 | AZ61: ='ZL - 07 - Demontáž podpůr...'!F33 -> 140815.34 | BA61: ='ZL - 07 - Demontáž podpůr...'!F34 -> 0 | BB61: ='ZL - 07 - Demontáž podpůr...'!F35 -> 0 | BC61: ='ZL - 07 - Demontáž podpůr...'!F36 -> 0 | BD61: ='ZL - 07 - Demontáž podpůr...'!F37 -> 0 | BT61: 1 | BV61: IMPORT | BW61: {5a94f719-e0df-4d1f-8b14-1c1d75e76b8c} | BX61: {5dbd0d00-61ee-43e4-9b91-94b359dc26a7} | CM61: 2
A62: / | D62: ZL - 08 | J62: Rozdíl v ceně bourání betonového schodiště vs. skutečně bourané cihelné konstrukce | AG62: ='ZL - 08 - Rozdíl v ceně b...'!J30 -> -29951.46 | AN62: =SUM(AG62,AT62) -> -36241.27 | AQ62: STA | AS62: 0 | AT62: =ROUND(SUM(AV62:AW62),2) -> -6289.81 | AU62: ='ZL - 08 - Rozdíl v ceně b...'!P83 -> 14.125284 | AV62: ='ZL - 08 - Rozdíl v ceně b...'!J33 -> -6289.81 | AW62: ='ZL - 08 - Rozdíl v ceně b...'!J34 -> 0 | AX62: ='ZL - 08 - Rozdíl v ceně b...'!J35 -> 0 | AY62: ='ZL - 08 - Rozdíl v ceně b...'!J36 -> 0 | AZ62: ='ZL - 08 - Rozdíl v ceně b...'!F33 -> -29951.46 | BA62: ='ZL - 08 - Rozdíl v ceně b...'!F34 -> 0 | BB62: ='ZL - 08 - Rozdíl v ceně b...'!F35 -> 0 | BC62: ='ZL - 08 - Rozdíl v ceně b...'!F36 -> 0 | BD62: ='ZL - 08 - Rozdíl v ceně b...'!F37 -> 0 | BT62: 1 | BV62: IMPORT | BW62: {654d0b39-2195-4655-a9ff-576ad96f9eec} | BX62: {5dbd0d00-61ee-43e4-9b91-94b359dc26a7} | CM62: 2
A63: / | D63: ZL - 09 | J63: Výkopy pro výtahovou šachtu | AG63: ='ZL - 09 - Výkopy pro výta...'!J30 -> 84953.42 | AN63: =SUM(AG63,AT63) -> 102793.64 | AQ63: STA | AS63: 0 | AT63: =ROUND(SUM(AV63:AW63),2) -> 17840.22 | AU63: ='ZL - 09 - Výkopy pro výta...'!P86 -> 142.10569 | AV63: ='ZL - 09 - Výkopy pro výta...'!J33 -> 17840.22 | AW63: ='ZL - 09 - Výkopy pro výta...'!J34 -> 0 | AX63: ='ZL - 09 - Výkopy pro výta...'!J35 -> 0 | AY63: ='ZL - 09 - Výkopy pro výta...'!J36 -> 0 | AZ63: ='ZL - 09 - Výkopy pro výta...'!F33 -> 84953.42 | BA63: ='ZL - 09 - Výkopy pro výta...'!F34 -> 0 | BB63: ='ZL - 09 - Výkopy pro výta...'!F35 -> 0 | BC63: ='ZL - 09 - Výkopy pro výta...'!F36 -> 0 | BD63: ='ZL - 09 - Výkopy pro výta...'!F37 -> 0 | BT63: 1 | BV63: IMPORT | BW63: {1cf1a38c-ebd8-44ad-bdd8-7b2626bba2fb} | BX63: {5dbd0d00-61ee-43e4-9b91-94b359dc26a7} | CM63: 2
A64: / | D64: ZL - 10 | J64: Doplnění pískovcových prvků | AG64: ='ZL - 10 - Doplnění pískov...'!J30 -> 190657.99 | AN64: =SUM(AG64,AT64) -> 230696.17 | AQ64: STA | AS64: 0 | AT64: =ROUND(SUM(AV64:AW64),2) -> 40038.18 | AU64: ='ZL - 10 - Doplnění pískov...'!P82 -> 0 | AV64: ='ZL - 10 - Doplnění pískov...'!J33 -> 40038.18 | AW64: ='ZL - 10 - Doplnění pískov...'!J34 -> 0 | AX64: ='ZL - 10 - Doplnění pískov...'!J35 -> 0 | AY64: ='ZL - 10 - Doplnění pískov...'!J36 -> 0 | AZ64: ='ZL - 10 - Doplnění pískov...'!F33 -> 190657.99 | BA64: ='ZL - 10 - Doplnění pískov...'!F34 -> 0 | BB64: ='ZL - 10 - Doplnění pískov...'!F35 -> 0 | BC64: ='ZL - 10 - Doplnění pískov...'!F36 -> 0 | BD64: ='ZL - 10 - Doplnění pískov...'!F37 -> 0 | BT64: 1 | BV64: IMPORT | BW64: {64b9df15-dcec-46d0-91c2-a843353c2d03} | BX64: {5dbd0d00-61ee-43e4-9b91-94b359dc26a7} | CM64: 2
A65: / | D65: ZL - 11 | J65: protiprachová opatření | AG65: ='ZL - 11 - protiprachová o...'!J30 -> 0 | AN65: =SUM(AG65,AT65) -> 0 | AQ65: STA | AS65: 0 | AT65: =ROUND(SUM(AV65:AW65),2) -> 0 | AU65: ='ZL - 11 - protiprachová o...'!P81 -> 0 | AV65: ='ZL - 11 - protiprachová o...'!J33 -> 0 | AW65: ='ZL - 11 - protiprachová o...'!J34 -> 0 | AX65: ='ZL - 11 - protiprachová o...'!J35 -> 0 | AY65: ='ZL - 11 - protiprachová o...'!J36 -> 0 | AZ65: ='ZL - 11 - protiprachová o...'!F33 -> 0 | BA65: ='ZL - 11 - protiprachová o...'!F34 -> 0 | BB65: ='ZL - 11 - protiprachová o...'!F35 -> 0 | BC65: ='ZL - 11 - protiprachová o...'!F36 -> 0 | BD65: ='ZL - 11 - protiprachová o...'!F37 -> 0 | BT65: 1 | BV65: IMPORT | BW65: {7add775d-f697-4791-a990-68d4cb68b39d} | BX65: {5dbd0d00-61ee-43e4-9b91-94b359dc26a7} | CM65: 2
A66: / | D66: ZL - 12 | J66: změna podlahy - chodba 2 NP | AG66: ='ZL - 12 - změna podlahy -...'!J30 -> 94731.07 | AN66: =SUM(AG66,AT66) -> 114624.59 | AQ66: STA | AS66: 0 | AT66: =ROUND(SUM(AV66:AW66),2) -> 19893.52 | AU66: ='ZL - 12 - změna podlahy -...'!P85 -> 16.8693 | AV66: ='ZL - 12 - změna podlahy -...'!J33 -> 19893.52 | AW66: ='ZL - 12 - změna podlahy -...'!J34 -> 0 | AX66: ='ZL - 12 - změna podlahy -...'!J35 -> 0 | AY66: ='ZL - 12 - změna podlahy -...'!J36 -> 0 | AZ66: ='ZL - 12 - změna podlahy -...'!F33 -> 94731.07 | BA66: ='ZL - 12 - změna podlahy -...'!F34 -> 0 | BB66: ='ZL - 12 - změna podlahy -...'!F35 -> 0 | BC66: ='ZL - 12 - změna podlahy -...'!F36 -> 0 | BD66: ='ZL - 12 - změna podlahy -...'!F37 -> 0 | BT66: 1 | BV66: IMPORT | BW66: {850995dd-8399-49ba-a0d0-0da585f584ff} | BX66: {5dbd0d00-61ee-43e4-9b91-94b359dc26a7} | CM66: 2
A67: / | D67: ZL - 13 | J67: výtahová šachta | AG67: ='ZL - 13 - výtahová šachta'!J30 -> -84065.24 | AN67: =SUM(AG67,AT67) -> -101718.94 | AQ67: STA | AS67: 0 | AT67: =ROUND(SUM(AV67:AW67),2) -> -17653.7 | AU67: ='ZL - 13 - výtahová šachta'!P88 -> 9.28389 | AV67: ='ZL - 13 - výtahová šachta'!J33 -> -17653.7 | AW67: ='ZL - 13 - výtahová šachta'!J34 -> 0 | AX67: ='ZL - 13 - výtahová šachta'!J35 -> 0 | AY67: ='ZL - 13 - výtahová šachta'!J36 -> 0 | AZ67: ='ZL - 13 - výtahová šachta'!F33 -> -84065.24 | BA67: ='ZL - 13 - výtahová šachta'!F34 -> 0 | BB67: ='ZL - 13 - výtahová šachta'!F35 -> 0 | BC67: ='ZL - 13 - výtahová šachta'!F36 -> 0 | BD67: ='ZL - 13 - výtahová šachta'!F37 -> 0 | BT67: 1 | BV67: IMPORT | BW67: {041cb304-08e0-4afc-ab6c-0a6f5d7cd3e5} | BX67: {5dbd0d00-61ee-43e4-9b91-94b359dc26a7} | CM67: 2
A68: / | D68: ZL - 14 | J68: slaboproud | AG68: ='ZL - 14 - slaboproud'!J30 -> -181938.9 | AN68: =SUM(AG68,AT68) -> -220146.07 | AQ68: STA | AS68: 0 | AT68: =ROUND(SUM(AV68:AW68),2) -> -38207.17 | AU68: ='ZL - 14 - slaboproud'!P80 -> 0 | AV68: ='ZL - 14 - slaboproud'!J33 -> -38207.17 | AW68: ='ZL - 14 - slaboproud'!J34 -> 0 | AX68: ='ZL - 14 - slaboproud'!J35 -> 0 | AY68: ='ZL - 14 - slaboproud'!J36 -> 0 | AZ68: ='ZL - 14 - slaboproud'!F33 -> -181938.9 | BA68: ='ZL - 14 - slaboproud'!F34 -> 0 | BB68: ='ZL - 14 - slaboproud'!F35 -> 0 | BC68: ='ZL - 14 - slaboproud'!F36 -> 0 | BD68: ='ZL - 14 - slaboproud'!F37 -> 0 | BT68: 1 | BV68: IMPORT | BW68: {45907b19-3b5e-4e2e-8d06-1e54910b6a50} | BX68: {5dbd0d00-61ee-43e4-9b91-94b359dc26a7} | CM68: 2
A69: / | D69: ZL - 15 | J69: elektroinstalace - podsvícení obkladu schodiště | AG69: ='ZL - 15 - elektroinstalac...'!J30 -> 83335.6 | AN69: =SUM(AG69,AT69) -> 100836.08 | AQ69: STA | AS69: 0 | AT69: =ROUND(SUM(AV69:AW69),2) -> 17500.48 | AU69: ='ZL - 15 - elektroinstalac...'!P81 -> 64.032 | AV69: ='ZL - 15 - elektroinstalac...'!J33 -> 17500.48 | AW69: ='ZL - 15 - elektroinstalac...'!J34 -> 0 | AX69: ='ZL - 15 - elektroinstalac...'!J35 -> 0 | AY69: ='ZL - 15 - elektroinstalac...'!J36 -> 0 | AZ69: ='ZL - 15 - elektroinstalac...'!F33 -> 83335.6 | BA69: ='ZL - 15 - elektroinstalac...'!F34 -> 0 | BB69: ='ZL - 15 - elektroinstalac...'!F35 -> 0 | BC69: ='ZL - 15 - elektroinstalac...'!F36 -> 0 | BD69: ='ZL - 15 - elektroinstalac...'!F37 -> 0 | BT69: 1 | BV69: IMPORT | BW69: {c1938f82-c928-429f-ba91-18cbae9a383e} | BX69: {5dbd0d00-61ee-43e4-9b91-94b359dc26a7} | CM69: 2
A70: / | D70: ZL - 16 | J70: změna sanitárního vybavení | AG70: ='ZL - 16 - změna sanitární...'!J30 -> -45114.2 | AN70: =SUM(AG70,AT70) -> -54588.18 | AQ70: STA | AS70: 0 | AT70: =ROUND(SUM(AV70:AW70),2) -> -9473.98 | AU70: ='ZL - 16 - změna sanitární...'!P81 -> 0 | AV70: ='ZL - 16 - změna sanitární...'!J33 -> -9473.98 | AW70: ='ZL - 16 - změna sanitární...'!J34 -> 0 | AX70: ='ZL - 16 - změna sanitární...'!J35 -> 0 | AY70: ='ZL - 16 - změna sanitární...'!J36 -> 0 | AZ70: ='ZL - 16 - změna sanitární...'!F33 -> -45114.2 | BA70: ='ZL - 16 - změna sanitární...'!F34 -> 0 | BB70: ='ZL - 16 - změna sanitární...'!F35 -> 0 | BC70: ='ZL - 16 - změna sanitární...'!F36 -> 0 | BD70: ='ZL - 16 - změna sanitární...'!F37 -> 0 | BT70: 1 | BV70: IMPORT | BW70: {80ecb02d-d1eb-4c15-830e-a8c2b887aad0} | BX70: {5dbd0d00-61ee-43e4-9b91-94b359dc26a7} | CM70: 2
A71: / | D71: ZL - 17 | J71: design výtahu | AG71: 0 | AN71: 0 | AQ71: STA | AS71: 0 | AT71: =ROUND(SUM(AV71:AW71),2) -> 0 | AU71: ='ZL - 17 - design výtahu'!P81 -> 0 | AV71: ='ZL - 17 - design výtahu'!J33 -> 0 | AW71: ='ZL - 17 - design výtahu'!J34 -> 0 | AX71: ='ZL - 17 - design výtahu'!J35 -> 0 | AY71: ='ZL - 17 - design výtahu'!J36 -> 0 | AZ71: ='ZL - 17 - design výtahu'!F33 -> 0 | BA71: ='ZL - 17 - design výtahu'!F34 -> 0 | BB71: ='ZL - 17 - design výtahu'!F35 -> 0 | BC71: ='ZL - 17 - design výtahu'!F36 -> 0 | BD71: ='ZL - 17 - design výtahu'!F37 -> 0 | BT71: 1 | BV71: IMPORT | BW71: {e0410c1a-ec08-4b7c-ae17-51c2f05d0f6e} | BX71: {5dbd0d00-61ee-43e4-9b91-94b359dc26a7} | CM71: 2
A72: / | D72: ZL - 18 | J72: elektro přívody k ohřívačům TUV | AG72: ='ZL - 18 - elektro přívody...'!J30 -> 18874.8 | AN72: =SUM(AG72,AT72) -> 22838.51 | AQ72: STA | AS72: 0 | AT72: =ROUND(SUM(AV72:AW72),2) -> 3963.71 | AU72: ='ZL - 18 - elektro přívody...'!P81 -> 34.336 | AV72: ='ZL - 18 - elektro přívody...'!J33 -> 3963.71 | AW72: ='ZL - 18 - elektro přívody...'!J34 -> 0 | AX72: ='ZL - 18 - elektro přívody...'!J35 -> 0 | AY72: ='ZL - 18 - elektro přívody...'!J36 -> 0 | AZ72: ='ZL - 18 - elektro přívody...'!F33 -> 18874.8 | BA72: ='ZL - 18 - elektro přívody...'!F34 -> 0 | BB72: ='ZL - 18 - elektro přívody...'!F35 -> 0 | BC72: ='ZL - 18 - elektro přívody...'!F36 -> 0 | BD72: ='ZL - 18 - elektro přívody...'!F37 -> 0 | BT72: 1 | BV72: IMPORT | BW72: {7a6aba4a-648f-4c99-83ab-0c1b5d8d0202} | BX72: {5dbd0d00-61ee-43e4-9b91-94b359dc26a7} | CM72: 2
A73: / | D73: ZL - 19 | J73: elektro chráníčky s kabely UTP pro kamery | AG73: ='ZL - 19 - elektro chráníč...'!J30 -> 25837.2 | AN73: =SUM(AG73,AT73) -> 31263.01 | AQ73: STA | AS73: 0 | AT73: =ROUND(SUM(AV73:AW73),2) -> 5425.81 | AU73: ='ZL - 19 - elektro chráníč...'!P81 -> 50.112 | AV73: ='ZL - 19 - elektro chráníč...'!J33 -> 5425.81 | AW73: ='ZL - 19 - elektro chráníč...'!J34 -> 0 | AX73: ='ZL - 19 - elektro chráníč...'!J35 -> 0 | AY73: ='ZL - 19 - elektro chráníč...'!J36 -> 0 | AZ73: ='ZL - 19 - elektro chráníč...'!F33 -> 25837.2 | BA73: ='ZL - 19 - elektro chráníč...'!F34 -> 0 | BB73: ='ZL - 19 - elektro chráníč...'!F35 -> 0 | BC73: ='ZL - 19 - elektro chráníč...'!F36 -> 0 | BD73: ='ZL - 19 - elektro chráníč...'!F37 -> 0 | BT73: 1 | BV73: IMPORT | BW73: {f0876326-5ef4-4f2e-aad2-e7d8ce2531d6} | BX73: {5dbd0d00-61ee-43e4-9b91-94b359dc26a7} | CM73: 2
A74: / | D74: ZL - 20 | J74: elektro doplnění přímotopů | AG74: ='ZL - 20 - elektro doplněn...'!J30 -> 13002.4 | AN74: =SUM(AG74,AT74) -> 15732.9 | AQ74: STA | AS74: 0 | AT74: =ROUND(SUM(AV74:AW74),2) -> 2730.5 | AU74: ='ZL - 20 - elektro doplněn...'!P81 -> 18.56 | AV74: ='ZL - 20 - elektro doplněn...'!J33 -> 2730.5 | AW74: ='ZL - 20 - elektro doplněn...'!J34 -> 0 | AX74: ='ZL - 20 - elektro doplněn...'!J35 -> 0 | AY74: ='ZL - 20 - elektro doplněn...'!J36 -> 0 | AZ74: ='ZL - 20 - elektro doplněn...'!F33 -> 13002.4 | BA74: ='ZL - 20 - elektro doplněn...'!F34 -> 0 | BB74: ='ZL - 20 - elektro doplněn...'!F35 -> 0 | BC74: ='ZL - 20 - elektro doplněn...'!F36 -> 0 | BD74: ='ZL - 20 - elektro doplněn...'!F37 -> 0 | BT74: 1 | BV74: IMPORT | BW74: {3db21d71-cc42-4033-8c93-4924a412ba23} | BX74: {5dbd0d00-61ee-43e4-9b91-94b359dc26a7} | CM74: 2

Sheet ZL - 01 - Nová stěna na W...
L2: >> skryté sloupce << | AT2: {74bf30ad-29d7-47c5-9517-15367186e598}
AT3: 2
D4: KRYCÍ LIST SOUPISU PRACÍ | M4: v --- níže se nacházejí doplnkové a pomocné údaje k sestavám --- v | AT4: False
D6: Stavba:
E7: ='Rekapitulace stavby'!K6 -> Stavební úpravy Zahradního domu Teplice - ZL
D8: Objekt:
E9: ZL - 01 - Nová stěna na WC ve 2.NP vč. odpočtu části sanitární příčky
D11: KSO: | I11: CC-CZ:
D12: Místo: | I12: Datum: | J12: ='Rekapitulace stavby'!AN8 -> 22. 10. 2021
D14: Zadavatel: | I14: IČ:
I15: DIČ:
D17: Zhotovitel: | I17: IČ:
E18: POHL cz, a.s. | I18: DIČ:
D20: Projektant: | I20: IČ:
I21: DIČ:
D23: Zpracovatel: | I23: IČ:
I24: DIČ:
D26: Poznámka:
D30: Cena bez DPH | J30: =ROUND(J86, 2) -> 13930.22
F32: Základ daně | I32: Sazba daně | J32: Výše daně
D33: DPH | E33: základní | F33: =ROUND((SUM(BE86:BE109)), 2) -> 13930.22 | I33: 0.21 | J33: =ROUND(((SUM(BE86:BE109))*I33), 2) -> 2925.35
E34: snížená | F34: =ROUND((SUM(BF86:BF109)), 2) -> 0 | I34: 0.15 | J34: =ROUND(((SUM(BF86:BF109))*I34), 2) -> 0
E35: zákl. přenesená | F35: =ROUND((SUM(BG86:BG109)), 2) -> 0 | I35: 0.21 | J35: =0 -> 0
E36: sníž. přenesená | F36: =ROUND((SUM(BH86:BH109)), 2) -> 0 | I36: 0.15 | J36: =0 -> 0
E37: nulová | F37: =ROUND((SUM(BI86:BI109)), 2) -> 0 | I37: 0 | J37: =0 -> 0
D39: Cena s DPH | G39: v | H39: CZK | J39: =SUM(J30:J37) -> 16855.57
C45: REKAPITULACE ČLENĚNÍ SOUPISU PRACÍ
C47: Stavba:
E48: =E7 -> Stavební úpravy Zahradního domu Teplice - ZL
C49: Objekt:
E50: =E9 -> ZL - 01 - Nová stěna na WC ve 2.NP vč. odpočtu části sanitární příčky
C52: Místo: | F52: =F12 | I52: Datum: | J52: =IF(J12="","",J12) -> 22. 10. 2021
C54: Zadavatel: | F54: =E15 | I54: Projektant: | J54: =E21
C55: Zhotovitel: | F55: =IF(E18="","",E18) -> POHL cz, a.s. | I55: Zpracovatel: | J55: =E24
C57: Kód dílu - Popis | J57: Cena celkem [CZK]
C59: Náklady stavby celkem | J59: =J86 -> 13930.22 | AU59: -1
D60: HSV - Práce a dodávky HSV | J60: =J87 -> 15569.1
D61: 3 - Svislé a kompletní konstrukce | J61: =J88 -> 8499.6
D62: 6 - Úpravy povrchů, podlahy a osazování výplní | J62: =J96 -> 5060.22
D63: 94 - Lešení a stavební výtahy | J63: =J98 -> 2009.28
D64: PSV - Práce a dodávky PSV | J64: =J101 -> -1638.88
D65: 763 - Konstrukce suché výstavby | J65: =J102 -> -3544.2
D66: 784 - Dokončovací práce - malby a tapety | J66: =J106 -> 1905.32
C73: SOUPIS PRACÍ
C75: Stavba:
E76: =E7 -> Stavební úpravy Zahradního domu Teplice - ZL
C77: Objekt:
E78: =E9 -> ZL - 01 - Nová stěna na WC ve 2.NP vč. odpočtu části sanitární příčky
C80: Místo: | F80: =F12 | I80: Datum: | J80: =IF(J12="","",J12) -> 22. 10. 2021
C82: Zadavatel: | F82: =E15 | I82: Projektant: | J82: =E21
C83: Zhotovitel: | F83: =IF(E18="","",E18) -> POHL cz, a.s. | I83: Zpracovatel: | J83: =E24
C85: PČ | D85: Typ | E85: Kód | F85: Popis | G85: MJ | H85: Množství | I85: J.cena [CZK] | J85: Cena celkem [CZK] | K85: Cenová soustava | N85: DPH | O85: J. Nh [h] | P85: Nh celkem [h] | Q85: J. hmotnost [t] | R85: Hmotnost celkem [t] | S85: J. suť [t] | T85: Suť Celkem [t]
C86: Náklady soupisu celkem | J86: =BK86 -> 13930.22 | P86: =P87+P101 -> 7.7094 | R86: =R87+R101 -> 0.775175 | T86: =T87+T101 -> 0 | AT86: D | AU86: -1 | BK86: =BK87+BK101 -> 13930.22
D87: D | E87: HSV | F87: Práce a dodávky HSV | J87: =BK87 -> 15569.1 | P87: =P88+P96+P98 -> 2.1918 | R87: =R88+R96+R98 -> 0.753744 | T87: =T88+T96+T98 -> 0 | AR87: 1 | AT87: D | AU87: 0 | AY87: ROZPOCET | BK87: =BK88+BK96+BK98 -> 15569.1
D88: D | E88: 3 | F88: Svislé a kompletní konstrukce | J88: =BK88 -> 8499.6 | P88: =SUM(P89:P95) -> 2.1918 | R88: =SUM(R89:R95) -> 0.5619 | T88: =SUM(T89:T95) -> 0 | AR88: 1 | AT88: D | AU88: 1 | AY88: ROZPOCET | BK88: =SUM(BK89:BK95) -> 8499.6
C89: 1 | D89: K | E89: 342244221 | F89: Příčky jednoduché z cihel děrovaných broušených, na tenkovrstvou maltu, pevnost cihel do P15, tl. příčky 140 mm | G89: m2 | H89: 3 | I89: 1730.5 | J89: =ROUND(I89*H89,2) -> 5191.5 | N89: základní | O89: 0 | P89: =O89*H89 -> 0 | Q89: 0.10445 | R89: =Q89*H89 -> 0.31335 | S89: 0 | T89: =S89*H89 -> 0 | AR89: 4 | AT89: K | AU89: 2 | AY89: ROZPOCET | BE89: =IF(N89="základní",J89,0) -> 5191.5 | BF89: =IF(N89="snížená",J89,0) -> 0 | BG89: =IF(N89="zákl. přenesená",J89,0) -> 0 | BH89: =IF(N89="sníž. přenesená",J89,0) -> 0 | BI89: =IF(N89="nulová",J89,0) -> 0 | BJ89: 1 | BK89: =ROUND(I89*H89,2) -> 5191.5 | BL89: 4 | BM89: 1854779725
C90: 2 | D90: K | E90: 342272215 | F90: Příčky z pórobetonových tvárnic hladkých na tenké maltové lože objemová hmotnost do 500 kg/m3, tloušťka příčky 75 mm | G90: m2 | H90: 1.2 | I90: 629 | J90: =ROUND(I90*H90,2) -> 754.8 | N90: základní | O90: 0.514 | P90: =O90*H90 -> 0.6168 | Q90: 0.0525 | R90: =Q90*H90 -> 0.063 | S90: 0 | T90: =S90*H90 -> 0 | AR90: 4 | AT90: K | AU90: 2 | AY90: ROZPOCET | BE90: =IF(N90="základní",J90,0) -> 754.8 | BF90: =IF(N90="snížená",J90,0) -> 0 | BG90: =IF(N90="zákl. přenesená",J90,0) -> 0 | BH90: =IF(N90="sníž. přenesená",J90,0) -> 0 | BI90: =IF(N90="nulová",J90,0) -> 0 | BJ90: 1 | BK90: =ROUND(I90*H90,2) -> 754.8 | BL90: 4 | BM90: 366832314
D91: Online PSC | F91: https://podminky.urs.cz/item/CS_URS_2022_02/342272215 | AT91: Online PSC | AU91: 2
D92: VV | F92: 2*0,6 | H92: 1.2 | AT92: VV | AU92: 2 | AV92: 2 | AW92: True | AX92: 1 | AY92: ROZPOCET
C93: 3 | D93: K | E93: 342272225 | F93: Příčky z pórobetonových tvárnic hladkých na tenké maltové lože objemová hmotnost do 500 kg/m3, tloušťka příčky 100 mm | G93: m2 | H93: 3 | I93: 723 | J93: =ROUND(I93*H93,2) -> 2169 | N93: základní | O93: 0.525 | P93: =O93*H93 -> 1.575 | Q93: 0.06172 | R93: =Q93*H93 -> 0.18516 | S93: 0 | T93: =S93*H93 -> 0 | AR93: 4 | AT93: K | AU93: 2 | AY93: ROZPOCET | BE93: =IF(N93="základní",J93,0) -> 2169 | BF93: =IF(N93="snížená",J93,0) -> 0 | BG93: =IF(N93="zákl. přenesená",J93,0) -> 0 | BH93: =IF(N93="sníž. přenesená",J93,0) -> 0 | BI93: =IF(N93="nulová",J93,0) -> 0 | BJ93: 1 | BK93: =ROUND(I93*H93,2) -> 2169 | BL93: 4 | BM93: 991308695
D94: Online PSC | F94: https://podminky.urs.cz/item/CS_URS_2022_02/342272225 | AT94: Online PSC | AU94: 2
C95: 4 | D95: K | E95: 342291121 | F95: Ukotvení příček plochými kotvami, do konstrukce cihelné | G95: m | H95: 3 | I95: 128.1 | J95: =ROUND(I95*H95,2) -> 384.3 | N95: základní | O95: 0 | P95: =O95*H95 -> 0 | Q95: 0.00013 | R95: =Q95*H95 -> 0.00039 | S95: 0 | T95: =S95*H95 -> 0 | AR95: 4 | AT95: K | AU95: 2 | AY95: ROZPOCET | BE95: =IF(N95="základní",J95,0) -> 384.3 | BF95: =IF(N95="snížená",J95,0) -> 0 | BG95: =IF(N95="zákl. přenesená",J95,0) -> 0 | BH95: =IF(N95="sníž. přenesená",J95,0) -> 0 | BI95: =IF(N95="nulová",J95,0) -> 0 | BJ95: 1 | BK95: =ROUND(I95*H95,2) -> 384.3 | BL95: 4 | BM95: -317610332
D96: D | E96: 6 | F96: Úpravy povrchů, podlahy a osazování výplní | J96: =BK96 -> 5060.22 | P96: =P97 -> 0 | R96: =R97 -> 0.187476 | T96: =T97 -> 0 | AR96: 1 | AT96: D | AU96: 1 | AY96: ROZPOCET | BK96: =BK97 -> 5060.22
C97: 5 | D97: K | E97: 611321145 | F97: Omítka vápenocementová vnitřních ploch nanášená ručně dvouvrstvá, tloušťky jádrové omítky do 10 mm a tloušťky štuku do 3 mm štuková schodišťových konstrukcí stropů, stěn, ramen nebo nosníků | G97: m2 | H97: 10.2 | I97: 496.1 | J97: =ROUND(I97*H97,2) -> 5060.22 | N97: základní | O97: 0 | P97: =O97*H97 -> 0 | Q97: 0.01838 | R97: =Q97*H97 -> 0.187476 | S97: 0 | T97: =S97*H97 -> 0 | AR97: 4 | AT97: K | AU97: 2 | AY97: ROZPOCET | BE97: =IF(N97="základní",J97,0) -> 5060.22 | BF97: =IF(N97="snížená",J97,0) -> 0 | BG97: =IF(N97="zákl. přenesená",J97,0) -> 0 | BH97: =IF(N97="sníž. přenesená",J97,0) -> 0 | BI97: =IF(N97="nulová",J97,0) -> 0 | BJ97: 1 | BK97: =ROUND(I97*H97,2) -> 5060.22 | BL97: 4 | BM97: -1117583778
D98: D | E98: 94 | F98: Lešení a stavební výtahy | J98: =BK98 -> 2009.28 | P98: =SUM(P99:P100) -> 0 | R98: =SUM(R99:R100) -> 0.004368 | T98: =SUM(T99:T100) -> 0 | AR98: 1 | AT98: D | AU98: 1 | AY98: ROZPOCET | BK98: =SUM(BK99:BK100) -> 2009.28
C99: 6 | D99: K | E99: 949101111 | F99: Lešení pomocné pracovní pro objekty pozemních staveb pro zatížení do 150 kg/m2, o výšce lešeňové podlahy do 1,9 m | G99: m2 | H99: 33.6 | I99: 59.8 | J99: =ROUND(I99*H99,2) -> 2009.28 | N99: základní | O99: 0 | P99: =O99*H99 -> 0 | Q99: 0.00013 | R99: =Q99*H99 -> 0.004368 | S99: 0 | T99: =S99*H99 -> 0 | AR99: 4 | AT99: K | AU99: 2 | AY99: ROZPOCET | BE99: =IF(N99="základní",J99,0) -> 2009.28 | BF99: =IF(N99="snížená",J99,0) -> 0 | BG99: =IF(N99="zákl. přenesená",J99,0) -> 0 | BH99: =IF(N99="sníž. přenesená",J99,0) -> 0 | BI99: =IF(N99="nulová",J99,0) -> 0 | BJ99: 1 | BK99: =ROUND(I99*H99,2) -> 2009.28 | BL99: 4 | BM99: -1836564119
D100: VV | F100: 4,2*4+3*1+3*0,6+2*1*6 | H100: 33.6 | AT100: VV | AU100: 2 | AV100: 2 | AW100: True | AX100: 1 | AY100: ROZPOCET
D101: D | E101: PSV | F101: Práce a dodávky PSV | J101: =BK101 -> -1638.88 | P101: =P102+P106 -> 5.5176 | R101: =R102+R106 -> 0.021431 | T101: =T102+T106 -> 0 | AR101: 2 | AT101: D | AU101: 0 | AY101: ROZPOCET | BK101: =BK102+BK106 -> -1638.88
D102: D | E102: 763 | F102: Konstrukce suché výstavby | J102: =BK102 -> -3544.2 | P102: =SUM(P103:P105) -> 5.5176 | R102: =SUM(R103:R105) -> 0.011403 | T102: =SUM(T103:T105) -> 0 | AR102: 2 | AT102: D | AU102: 1 | AY102: ROZPOCET | BK102: =SUM(BK103:BK105) -> -3544.2
C103: 7 | D103: K | E103: 763R01 | F103: Oprava stropní a stěnové konstrukce, zakrytí boku rozvaděče a průvlaku - Heraklit deskami + lepidlo s perlinkou | G103: m2 | H103: 5.7 | I103: 945 | J103: =ROUND(I103*H103,2) -> 5386.5 | N103: základní | O103: 0.968 | P103: =O103*H103 -> 5.5176 | Q103: 0.01259 | R103: =Q103*H103 -> 0.071763 | S103: 0 | T103: =S103*H103 -> 0 | AR103: 16 | AT103: K | AU103: 2 | AY103: ROZPOCET | BE103: =IF(N103="základní",J103,0) -> 5386.5 | BF103: =IF(N103="snížená",J103,0) -> 0 | BG103: =IF(N103="zákl. přenesená",J103,0) -> 0 | BH103: =IF(N103="sníž. přenesená",J103,0) -> 0 | BI103: =IF(N103="nulová",J103,0) -> 0 | BJ103: 1 | BK103: =ROUND(I103*H103,2) -> 5386.5 | BL103: 16 | BM103: 980834494
D104: VV | F104: 2,1*1*2+2,5*0,6 | H104: 5.7 | AT104: VV | AU104: 2 | AV104: 2 | AW104: True | AX104: 1 | AY104: ROZPOCET
C105: 8 | D105: K | E105: 763411116.R | F105: Sanitární příčky vhodné do mokrého prostředí dělící z kompaktních desek tl. 26,3mm | G105: m2 | H105: -3 | I105: 2976.9 | J105: =ROUND(I105*H105,2) -> -8930.7 | N105: základní | O105: 0 | P105: =O105*H105 -> 0 | Q105: 0.02012 | R105: =Q105*H105 -> -0.06036 | S105: 0 | T105: =S105*H105 -> 0 | AR105: 16 | AT105: K | AU105: 2 | AY105: ROZPOCET | BE105: =IF(N105="základní",J105,0) -> -8930.7 | BF105: =IF(N105="snížená",J105,0) -> 0 | BG105: =IF(N105="zákl. přenesená",J105,0) -> 0 | BH105: =IF(N105="sníž. přenesená",J105,0) -> 0 | BI105: =IF(N105="nulová",J105,0) -> 0 | BJ105: 1 | BK105: =ROUND(I105*H105,2) -> -8930.7 | BL105: 16 | BM105: -257157614
D106: D | E106: 784 | F106: Dokončovací práce - malby a tapety | J106: =BK106 -> 1905.32 | P106: =SUM(P107:P109) -> 0 | R106: =SUM(R107:R109) -> 0.010028 | T106: =SUM(T107:T109) -> 0 | AR106: 2 | AT106: D | AU106: 1 | AY106: ROZPOCET | BK106: =SUM(BK107:BK109) -> 1905.32
C107: 9 | D107: K | E107: 784111001 | F107: Oprášení (ometení) podkladu v místnostech výšky do 3,80 m | G107: m2 | H107: 21.8 | I107: 3.8 | J107: =ROUND(I107*H107,2) -> 82.84 | N107: základní | O107: 0 | P107: =O107*H107 -> 0 | Q107: 0 | R107: =Q107*H107 -> 0 | S107: 0 | T107: =S107*H107 -> 0 | AR107: 16 | AT107: K | AU107: 2 | AY107: ROZPOCET | BE107: =IF(N107="základní",J107,0) -> 82.84 | BF107: =IF(N107="snížená",J107,0) -> 0 | BG107: =IF(N107="zákl. přenesená",J107,0) -> 0 | BH107: =IF(N107="sníž. přenesená",J107,0) -> 0 | BI107: =IF(N107="nulová",J107,0) -> 0 | BJ107: 1 | BK107: =ROUND(I107*H107,2) -> 82.84 | BL107: 16 | BM107: 1935658177
C108: 10 | D108: K | E108: 784181101 | F108: Penetrace podkladu jednonásobná základní akrylátová bezbarvá v místnostech výšky do 3,80 m | G108: m2 | H108: 21.8 | I108: 14.1 | J108: =ROUND(I108*H108,2) -> 307.38 | N108: základní | O108: 0 | P108: =O108*H108 -> 0 | Q108: 0.0002 | R108: =Q108*H108 -> 0.00436 | S108: 0 | T108: =S108*H108 -> 0 | AR108: 16 | AT108: K | AU108: 2 | AY108: ROZPOCET | BE108: =IF(N108="základní",J108,0) -> 307.38 | BF108: =IF(N108="snížená",J108,0) -> 0 | BG108: =IF(N108="zákl. přenesená",J108,0) -> 0 | BH108: =IF(N108="sníž. přenesená",J108,0) -> 0 | BI108: =IF(N108="nulová",J108,0) -> 0 | BJ108: 1 | BK108: =ROUND(I108*H108,2) -> 307.38 | BL108: 16 | BM108: -368756411
C109: 11 | D109: K | E109: 784211101 | F109: Malby z malířských směsí oděruvzdorných za mokra dvojnásobné, bílé za mokra oděruvzdorné výborně v místnostech výšky do 3,80 m | G109: m2 | H109: 21.8 | I109: 69.5 | J109: =ROUND(I109*H109,2) -> 1515.1 | N109: základní | O109: 0 | P109: =O109*H109 -> 0 | Q109: 0.00026 | R109: =Q109*H109 -> 0.005668 | S109: 0 | T109: =S109*H109 -> 0 | AR109: 16 | AT109: K | AU109: 2 | AY109: ROZPOCET | BE109: =IF(N109="základní",J109,0) -> 1515.1 | BF109: =IF(N109="snížená",J109,0) -> 0 | BG109: =IF(N109="zákl. přenesená",J109,0) -> 0 | BH109: =IF(N109="sníž. přenesená",J109,0) -> 0 | BI109: =IF(N109="nulová",J109,0) -> 0 | BJ109: 1 | BK109: =ROUND(I109*H109,2) -> 1515.1 | BL109: 16 | BM109: 69698360

Sheet ZL - 02 - voda ve sklepě
L2: >> skryté sloupce << | AT2: {75418678-7936-424d-a4f0-5c32edf1f6c3}
AT3: 2
D4: KRYCÍ LIST SOUPISU PRACÍ | M4: v --- níže se nacházejí doplnkové a pomocné údaje k sestavám --- v | AT4: False
D6: Stavba:
E7: ='Rekapitulace stavby'!K6 -> Stavební úpravy Zahradního domu Teplice - ZL
D8: Objekt:
E9: ZL - 02 - voda ve sklepě
D11: KSO: | I11: CC-CZ:
D12: Místo: | I12: Datum: | J12: ='Rekapitulace stavby'!AN8 -> 22. 10. 2021
D14: Zadavatel: | I14: IČ:
I15: DIČ:
D17: Zhotovitel: | I17: IČ:
E18: POHL cz, a.s. | I18: DIČ:
D20: Projektant: | I20: IČ:
I21: DIČ:
D23: Zpracovatel: | I23: IČ:
I24: DIČ:
D26: Poznámka:
D30: Cena bez DPH | J30: =ROUND(J81, 2) -> 14188
F32: Základ daně | I32: Sazba daně | J32: Výše daně
D33: DPH | E33: základní | F33: =ROUND((SUM(BE81:BE91)), 2) -> 14188 | I33: 0.21 | J33: =ROUND(((SUM(BE81:BE91))*I33), 2) -> 2979.48
E34: snížená | F34: =ROUND((SUM(BF81:BF91)), 2) -> 0 | I34: 0.15 | J34: =ROUND(((SUM(BF81:BF91))*I34), 2) -> 0
E35: zákl. přenesená | F35: =ROUND((SUM(BG81:BG91)), 2) -> 0 | I35: 0.21 | J35: =0 -> 0
E36: sníž. přenesená | F36: =ROUND((SUM(BH81:BH91)), 2) -> 0 | I36: 0.15 | J36: =0 -> 0
E37: nulová | F37: =ROUND((SUM(BI81:BI91)), 2) -> 0 | I37: 0 | J37: =0 -> 0
D39: Cena s DPH | G39: v | H39: CZK | J39: =SUM(J30:J37) -> 17167.48
C45: REKAPITULACE ČLENĚNÍ SOUPISU PRACÍ
C47: Stavba:
E48: =E7 -> Stavební úpravy Zahradního domu Teplice - ZL
C49: Objekt:
E50: =E9 -> ZL - 02 - voda ve sklepě
C52: Místo: | F52: =F12 | I52: Datum: | J52: =IF(J12="","",J12) -> 22. 10. 2021
C54: Zadavatel: | F54: =E15 | I54: Projektant: | J54: =E21
C55: Zhotovitel: | F55: =IF(E18="","",E18) -> POHL cz, a.s. | I55: Zpracovatel: | J55: =E24
C57: Kód dílu - Popis | J57: Cena celkem [CZK]
C59: Náklady stavby celkem | J59: =J81 -> 14188 | AU59: -1
D60: HSV - Práce a dodávky HSV | J60: =J82 -> 0
D61: 1 - OST | J61: =J83 -> 14188
C68: SOUPIS PRACÍ
C70: Stavba:
E71: =E7 -> Stavební úpravy Zahradního domu Teplice - ZL
C72: Objekt:
E73: =E9 -> ZL - 02 - voda ve sklepě
C75: Místo: | F75: =F12 | I75: Datum: | J75: =IF(J12="","",J12) -> 22. 10. 2021
C77: Zadavatel: | F77: =E15 | I77: Projektant: | J77: =E21
C78: Zhotovitel: | F78: =IF(E18="","",E18) -> POHL cz, a.s. | I78: Zpracovatel: | J78: =E24
C80: PČ | D80: Typ | E80: Kód | F80: Popis | G80: MJ | H80: Množství | I80: J.cena [CZK] | J80: Cena celkem [CZK] | K80: Cenová soustava | N80: DPH | O80: J. Nh [h] | P80: Nh celkem [h] | Q80: J. hmotnost [t] | R80: Hmotnost celkem [t] | S80: J. suť [t] | T80: Suť Celkem [t]
C81: Náklady soupisu celkem | J81: =BK81 -> 14188 | P81: =P82+P83 -> 8.416 | R81: =R82+R83 -> 0.00072 | T81: =T82+T83 -> 0 | AT81: D | AU81: -1 | BK81: =BK82+BK83 -> 14188
D82: D | E82: HSV | F82: Práce a dodávky HSV | J82: =BK82 -> 0 | P82: 0 | R82: 0 | T82: 0 | AR82: 1 | AT82: D | AU82: 0 | AY82: ROZPOCET | BK82: 0
D83: D | E83: 1 | F83: OST | J83: =BK83 -> 14188 | P83: =SUM(P84:P91) -> 8.416 | R83: =SUM(R84:R91) -> 0.00072 | T83: =SUM(T84:T91) -> 0 | AR83: 1 | AT83: D | AU83: 0 | AY83: ROZPOCET | BK83: =SUM(BK84:BK91) -> 14188
C84: 1 | D84: K | E84: 115101201 | F84: Čerpání vody na dopravní výšku do 10 m s uvažovaným průměrným přítokem do 500 l/min | G84: hod | H84: 24 | I84: 88.5 | J84: =ROUND(I84*H84,2) -> 2124 | N84: základní | O84: 0.184 | P84: =O84*H84 -> 4.416 | Q84: 3e-05 | R84: =Q84*H84 -> 0.00072 | S84: 0 | T84: =S84*H84 -> 0 | AR84: 4 | AT84: K | AU84: 1 | AY84: ROZPOCET | BE84: =IF(N84="základní",J84,0) -> 2124 | BF84: =IF(N84="snížená",J84,0) -> 0 | BG84: =IF(N84="zákl. přenesená",J84,0) -> 0 | BH84: =IF(N84="sníž. přenesená",J84,0) -> 0 | BI84: =IF(N84="nulová",J84,0) -> 0 | BJ84: 1 | BK84: =ROUND(I84*H84,2) -> 2124 | BL84: 4 | BM84: 2100929770
D85: Online PSC | F85: https://podminky.urs.cz/item/CS_URS_2022_02/115101201 | AT85: Online PSC | AU85: 1
C86: 2 | D86: K | E86: HZS2211 | F86: Hodinové zúčtovací sazby profesí PSV provádění stavebních instalací instalatér - obsluha čerpadla | G86: hod | H86: 4 | I86: 474 | J86: =ROUND(I86*H86,2) -> 1896 | N86: základní | O86: 1 | P86: =O86*H86 -> 4 | Q86: 0 | R86: =Q86*H86 -> 0 | S86: 0 | T86: =S86*H86 -> 0 | AR86: 512 | AT86: K | AU86: 1 | AY86: ROZPOCET | BE86: =IF(N86="základní",J86,0) -> 1896 | BF86: =IF(N86="snížená",J86,0) -> 0 | BG86: =IF(N86="zákl. přenesená",J86,0) -> 0 | BH86: =IF(N86="sníž. přenesená",J86,0) -> 0 | BI86: =IF(N86="nulová",J86,0) -> 0 | BJ86: 1 | BK86: =ROUND(I86*H86,2) -> 1896 | BL86: 512 | BM86: 210964466
D87: Online PSC | F87: https://podminky.urs.cz/item/CS_URS_2022_02/HZS2211 | AT87: Online PSC | AU87: 1
C88: 3 | D88: K | E88: R | F88: Tlakové čištění - protlak | G88: m | H88: 15 | I88: 300 | J88: =ROUND(I88*H88,2) -> 4500 | N88: základní | O88: 0 | P88: =O88*H88 -> 0 | Q88: 0 | R88: =Q88*H88 -> 0 | S88: 0 | T88: =S88*H88 -> 0 | AR88: 4 | AT88: K | AU88: 1 | AY88: ROZPOCET | BE88: =IF(N88="základní",J88,0) -> 4500 | BF88: =IF(N88="snížená",J88,0) -> 0 | BG88: =IF(N88="zákl. přenesená",J88,0) -> 0 | BH88: =IF(N88="sníž. přenesená",J88,0) -> 0 | BI88: =IF(N88="nulová",J88,0) -> 0 | BJ88: 1 | BK88: =ROUND(I88*H88,2) -> 4500 | BL88: 4 | BM88: -183460335
C89: 4 | D89: K | E89: R.1 | F89: Dopravné - doplnění vody | G89: kpl | H89: 2 | I89: 600 | J89: =ROUND(I89*H89,2) -> 1200 | N89: základní | O89: 0 | P89: =O89*H89 -> 0 | Q89: 0 | R89: =Q89*H89 -> 0 | S89: 0 | T89: =S89*H89 -> 0 | AR89: 4 | AT89: K | AU89: 1 | AY89: ROZPOCET | BE89: =IF(N89="základní",J89,0) -> 1200 | BF89: =IF(N89="snížená",J89,0) -> 0 | BG89: =IF(N89="zákl. přenesená",J89,0) -> 0 | BH89: =IF(N89="sníž. přenesená",J89,0) -> 0 | BI89: =IF(N89="nulová",J89,0) -> 0 | BJ89: 1 | BK89: =ROUND(I89*H89,2) -> 1200 | BL89: 4 | BM89: -1348798599
C90: 5 | D90: K | E90: HZS 22111 | F90: vyčištění po ukončení | G90: hod | H90: 7 | I90: 474 | J90: =ROUND(I90*H90,2) -> 3318 | N90: základní | O90: 0 | P90: =O90*H90 -> 0 | Q90: 0 | R90: =Q90*H90 -> 0 | S90: 0 | T90: =S90*H90 -> 0 | AR90: 4 | AT90: K | AU90: 1 | AY90: ROZPOCET | BE90: =IF(N90="základní",J90,0) -> 3318 | BF90: =IF(N90="snížená",J90,0) -> 0 | BG90: =IF(N90="zákl. přenesená",J90,0) -> 0 | BH90: =IF(N90="sníž. přenesená",J90,0) -> 0 | BI90: =IF(N90="nulová",J90,0) -> 0 | BJ90: 1 | BK90: =ROUND(I90*H90,2) -> 3318 | BL90: 4 | BM90: -1220588318
C91: 6 | D91: K | E91: R.2 | F91: VRN | G91: kpl | H91: 1 | I91: 1150 | J91: =ROUND(I91*H91,2) -> 1150 | N91: základní | O91: 0 | P91: =O91*H91 -> 0 | Q91: 0 | R91: =Q91*H91 -> 0 | S91: 0 | T91: =S91*H91 -> 0 | AR91: 4 | AT91: K | AU91: 1 | AY91: ROZPOCET | BE91: =IF(N91="základní",J91,0) -> 1150 | BF91: =IF(N91="snížená",J91,0) -> 0 | BG91: =IF(N91="zákl. přenesená",J91,0) -> 0 | BH91: =IF(N91="sníž. přenesená",J91,0) -> 0 | BI91: =IF(N91="nulová",J91,0) -> 0 | BJ91: 1 | BK91: =ROUND(I91*H91,2) -> 1150 | BL91: 4 | BM91: -73771305

Sheet ZL - 03 - Doplnění vývodů...
L2: >> skryté sloupce << | AT2: {378cfee0-b842-4d16-8af1-d2b507afa719}
AT3: 2
D4: KRYCÍ LIST SOUPISU PRACÍ | M4: v --- níže se nacházejí doplnkové a pomocné údaje k sestavám --- v | AT4: False
D6: Stavba:
E7: ='Rekapitulace stavby'!K6 -> Stavební úpravy Zahradního domu Teplice - ZL
D8: Objekt:
E9: ZL - 03 - Doplnění vývodů vody a kanalizace pro myčku
D11: KSO: | I11: CC-CZ:
D12: Místo: | I12: Datum: | J12: ='Rekapitulace stavby'!AN8 -> 22. 10. 2021
D14: Zadavatel: | I14: IČ:
I15: DIČ:
D17: Zhotovitel: | I17: IČ:
E18: POHL cz, a.s. | I18: DIČ:
D20: Projektant: | I20: IČ:
I21: DIČ:
D23: Zpracovatel: | I23: IČ:
I24: DIČ:
D26: Poznámka:
D30: Cena bez DPH | J30: =ROUND(J81, 2) -> 0
F32: Základ daně | I32: Sazba daně | J32: Výše daně
D33: DPH | E33: základní | F33: =ROUND((SUM(BE81:BE84)), 2) -> 0 | I33: 0.21 | J33: =ROUND(((SUM(BE81:BE84))*I33), 2) -> 0
E34: snížená | F34: =ROUND((SUM(BF81:BF84)), 2) -> 0 | I34: 0.15 | J34: =ROUND(((SUM(BF81:BF84))*I34), 2) -> 0
E35: zákl. přenesená | F35: =ROUND((SUM(BG81:BG84)), 2) -> 0 | I35: 0.21 | J35: =0 -> 0
E36: sníž. přenesená | F36: =ROUND((SUM(BH81:BH84)), 2) -> 0 | I36: 0.15 | J36: =0 -> 0
E37: nulová | F37: =ROUND((SUM(BI81:BI84)), 2) -> 0 | I37: 0 | J37: =0 -> 0
D39: Cena s DPH | G39: v | H39: CZK | J39: =SUM(J30:J37) -> 0
C45: REKAPITULACE ČLENĚNÍ SOUPISU PRACÍ
C47: Stavba:
E48: =E7 -> Stavební úpravy Zahradního domu Teplice - ZL
C49: Objekt:
E50: =E9 -> ZL - 03 - Doplnění vývodů vody a kanalizace pro myčku
C52: Místo: | F52: =F12 | I52: Datum: | J52: =IF(J12="","",J12) -> 22. 10. 2021
C54: Zadavatel: | F54: =E15 | I54: Projektant: | J54: =E21
C55: Zhotovitel: | F55: =IF(E18="","",E18) -> POHL cz, a.s. | I55: Zpracovatel: | J55: =E24
C57: Kód dílu - Popis | J57: Cena celkem [CZK]
C59: Náklady stavby celkem | J59: =J81 -> 0 | AU59: -1
D60: OST - Ostatní | J60: =J82 -> 0
D61: O01 - Ostatní | J61: =J83 -> 0
C68: SOUPIS PRACÍ
C70: Stavba:
E71: =E7 -> Stavební úpravy Zahradního domu Teplice - ZL
C72: Objekt:
E73: =E9 -> ZL - 03 - Doplnění vývodů vody a kanalizace pro myčku
C75: Místo: | F75: =F12 | I75: Datum: | J75: =IF(J12="","",J12) -> 22. 10. 2021
C77: Zadavatel: | F77: =E15 | I77: Projektant: | J77: =E21
C78: Zhotovitel: | F78: =IF(E18="","",E18) -> POHL cz, a.s. | I78: Zpracovatel: | J78: =E24
C80: PČ | D80: Typ | E80: Kód | F80: Popis | G80: MJ | H80: Množství | I80: J.cena [CZK] | J80: Cena celkem [CZK] | K80: Cenová soustava | N80: DPH | O80: J. Nh [h] | P80: Nh celkem [h] | Q80: J. hmotnost [t] | R80: Hmotnost celkem [t] | S80: J. suť [t] | T80: Suť Celkem [t]
C81: Náklady soupisu celkem | J81: =BK81 -> 0 | P81: =P82 -> 0 | R81: =R82 -> 0 | T81: =T82 -> 0 | AT81: D | AU81: -1 | BK81: =BK82 -> 0
D82: D | E82: OST | F82: Ostatní | J82: =BK82 -> 0 | P82: =P83 -> 0 | R82: =R83 -> 0 | T82: =T83 -> 0 | AR82: 4 | AT82: D | AU82: 0 | AY82: ROZPOCET | BK82: =BK83 -> 0
D83: D | E83: O01 | F83: Ostatní | J83: =BK83 -> 0 | P83: =P84 -> 0 | R83: =R84 -> 0 | T83: =T84 -> 0 | AR83: 4 | AT83: D | AU83: 1 | AY83: ROZPOCET | BK83: =BK84 -> 0
C84: 1 | D84: K | E84: r01.3 | F84: nebude uplatněno | G84: kpl | H84: 0 | I84: 0 | J84: =ROUND(I84*H84,2) -> 0 | N84: základní | O84: 0 | P84: =O84*H84 -> 0 | Q84: 0 | R84: =Q84*H84 -> 0 | S84: 0 | T84: =S84*H84 -> 0 | AR84: 512 | AT84: K | AU84: 2 | AY84: ROZPOCET | BE84: =IF(N84="základní",J84,0) -> 0 | BF84: =IF(N84="snížená",J84,0) -> 0 | BG84: =IF(N84="zákl. přenesená",J84,0) -> 0 | BH84: =IF(N84="sníž. přenesená",J84,0) -> 0 | BI84: =IF(N84="nulová",J84,0) -> 0 | BJ84: 1 | BK84: =ROUND(I84*H84,2) -> 0 | BL84: 512 | BM84: 2034743144

Sheet ZL - 04 - Výměna dveřního...
L2: >> skryté sloupce << | AT2: {ff292451-1ba0-4211-a6bb-06d17ac3abb8}
AT3: 2
D4: KRYCÍ LIST SOUPISU PRACÍ | M4: v --- níže se nacházejí doplnkové a pomocné údaje k sestavám --- v | AT4: False
D6: Stavba:
E7: ='Rekapitulace stavby'!K6 -> Stavební úpravy Zahradního domu Teplice - ZL
D8: Objekt:
E9: ZL - 04 - Výměna dveřního křídla vč. kování do místnosti č.4
D11: KSO: | I11: CC-CZ:
D12: Místo: | I12: Datum: | J12: ='Rekapitulace stavby'!AN8 -> 22. 10. 2021
D14: Zadavatel: | I14: IČ:
I15: DIČ:
D17: Zhotovitel: | I17: IČ:
E18: POHL cz, a.s. | I18: DIČ:
D20: Projektant: | I20: IČ:
I21: DIČ:
D23: Zpracovatel: | I23: IČ:
I24: DIČ:
D26: Poznámka:
D30: Cena bez DPH | J30: =ROUND(J83, 2) -> 45824.71
F32: Základ daně | I32: Sazba daně | J32: Výše daně
D33: DPH | E33: základní | F33: =ROUND((SUM(BE83:BE94)), 2) -> 45824.71 | I33: 0.21 | J33: =ROUND(((SUM(BE83:BE94))*I33), 2) -> 9623.19
E34: snížená | F34: =ROUND((SUM(BF83:BF94)), 2) -> 0 | I34: 0.15 | J34: =ROUND(((SUM(BF83:BF94))*I34), 2) -> 0
E35: zákl. přenesená | F35: =ROUND((SUM(BG83:BG94)), 2) -> 0 | I35: 0.21 | J35: =0 -> 0
E36: sníž. přenesená | F36: =ROUND((SUM(BH83:BH94)), 2) -> 0 | I36: 0.15 | J36: =0 -> 0
E37: nulová | F37: =ROUND((SUM(BI83:BI94)), 2) -> 0 | I37: 0 | J37: =0 -> 0
D39: Cena s DPH | G39: v | H39: CZK | J39: =SUM(J30:J37) -> 55447.9
C45: REKAPITULACE ČLENĚNÍ SOUPISU PRACÍ
C47: Stavba:
E48: =E7 -> Stavební úpravy Zahradního domu Teplice - ZL
C49: Objekt:
E50: =E9 -> ZL - 04 - Výměna dveřního křídla vč. kování do místnosti č.4
C52: Místo: | F52: =F12 | I52: Datum: | J52: =IF(J12="","",J12) -> 22. 10. 2021
C54: Zadavatel: | F54: =E15 | I54: Projektant: | J54: =E21
C55: Zhotovitel: | F55: =IF(E18="","",E18) -> POHL cz, a.s. | I55: Zpracovatel: | J55: =E24
C57: Kód dílu - Popis | J57: Cena celkem [CZK]
C59: Náklady stavby celkem | J59: =J83 -> 45824.71 | AU59: -1
D60: HSV - Práce a dodávky HSV | J60: =J84 -> 11530.8
D61: 6 - Úpravy povrchů, podlahy a osazování výplní | J61: =J85 -> 11530.8
D62: PSV - Práce a dodávky PSV | J62: =J88 -> 34293.91
D63: 766 - Konstrukce truhlářské | J63: =J89 -> 34293.91
C70: SOUPIS PRACÍ
C72: Stavba:
E73: =E7 -> Stavební úpravy Zahradního domu Teplice - ZL
C74: Objekt:
E75: =E9 -> ZL - 04 - Výměna dveřního křídla vč. kování do místnosti č.4
C77: Místo: | F77: =F12 | I77: Datum: | J77: =IF(J12="","",J12) -> 22. 10. 2021
C79: Zadavatel: | F79: =E15 | I79: Projektant: | J79: =E21
C80: Zhotovitel: | F80: =IF(E18="","",E18) -> POHL cz, a.s. | I80: Zpracovatel: | J80: =E24
C82: PČ | D82: Typ | E82: Kód | F82: Popis | G82: MJ | H82: Množství | I82: J.cena [CZK] | J82: Cena celkem [CZK] | K82: Cenová soustava | N82: DPH | O82: J. Nh [h] | P82: Nh celkem [h] | Q82: J. hmotnost [t] | R82: Hmotnost celkem [t] | S82: J. suť [t] | T82: Suť Celkem [t]
C83: Náklady soupisu celkem | J83: =BK83 -> 45824.71 | P83: =P84+P88 -> 0 | R83: =R84+R88 -> 0.09543 | T83: =T84+T88 -> 0 | AT83: D | AU83: -1 | BK83: =BK84+BK88 -> 45824.71
D84: D | E84: HSV | F84: Práce a dodávky HSV | J84: =BK84 -> 11530.8 | P84: =P85 -> 0 | R84: =R85 -> 0.03138 | T84: =T85 -> 0 | AR84: 1 | AT84: D | AU84: 0 | AY84: ROZPOCET | BK84: =BK85 -> 11530.8
D85: D | E85: 6 | F85: Úpravy povrchů, podlahy a osazování výplní | J85: =BK85 -> 11530.8 | P85: =SUM(P86:P87) -> 0 | R85: =SUM(R86:R87) -> 0.03138 | T85: =SUM(T86:T87) -> 0 | AR85: 1 | AT85: D | AU85: 1 | AY85: ROZPOCET | BK85: =SUM(BK86:BK87) -> 11530.8
C86: 1 | D86: K | E86: 642942611 | F86: Osazování zárubní nebo rámů kovových dveřních lisovaných nebo z úhelníků bez dveřních křídel na montážní pěnu, plochy otvoru do 2,5 m2 | G86: kus | H86: 2 | I86: 843.7 | J86: =ROUND(I86*H86,2) -> 1687.4 | N86: základní | O86: 0 | P86: =O86*H86 -> 0 | Q86: 0.00048 | R86: =Q86*H86 -> 0.00096 | S86: 0 | T86: =S86*H86 -> 0 | AR86: 4 | AT86: K | AU86: 2 | AY86: ROZPOCET | BE86: =IF(N86="základní",J86,0) -> 1687.4 | BF86: =IF(N86="snížená",J86,0) -> 0 | BG86: =IF(N86="zákl. přenesená",J86,0) -> 0 | BH86: =IF(N86="sníž. přenesená",J86,0) -> 0 | BI86: =IF(N86="nulová",J86,0) -> 0 | BJ86: 1 | BK86: =ROUND(I86*H86,2) -> 1687.4 | BL86: 4 | BM86: 2124629158
C87: 2 | D87: M | E87: 55331487 | F87: zárubeň jednokřídlá ocelová pro zdění tl stěny 110-150mm rozměru 800/1970, 2100mm | G87: kus | H87: 2 | I87: 4921.7 | J87: =ROUND(I87*H87,2) -> 9843.4 | N87: základní | O87: 0 | P87: =O87*H87 -> 0 | Q87: 0.01521 | R87: =Q87*H87 -> 0.03042 | S87: 0 | T87: =S87*H87 -> 0 | AR87: 8 | AT87: M | AU87: 2 | AY87: ROZPOCET | BE87: =IF(N87="základní",J87,0) -> 9843.4 | BF87: =IF(N87="snížená",J87,0) -> 0 | BG87: =IF(N87="zákl. přenesená",J87,0) -> 0 | BH87: =IF(N87="sníž. přenesená",J87,0) -> 0 | BI87: =IF(N87="nulová",J87,0) -> 0 | BJ87: 1 | BK87: =ROUND(I87*H87,2) -> 9843.4 | BL87: 4 | BM87: 664095261
D88: D | E88: PSV | F88: Práce a dodávky PSV | J88: =BK88 -> 34293.91 | P88: =P89 -> 0 | R88: =R89 -> 0.06405 | T88: =T89 -> 0 | AR88: 2 | AT88: D | AU88: 0 | AY88: ROZPOCET | BK88: =BK89 -> 34293.91
D89: D | E89: 766 | F89: Konstrukce truhlářské | J89: =BK89 -> 34293.91 | P89: =SUM(P90:P94) -> 0 | R89: =SUM(R90:R94) -> 0.06405 | T89: =SUM(T90:T94) -> 0 | AR89: 2 | AT89: D | AU89: 1 | AY89: ROZPOCET | BK89: =SUM(BK90:BK94) -> 34293.91
C90: 3 | D90: K | E90: 766660001 | F90: Montáž dveřních křídel dřevěných nebo plastových otevíravých do ocelové zárubně povrchově upravených jednokřídlových, šířky do 800 mm | G90: kus | H90: 3 | I90: 2109.3 | J90: =ROUND(I90*H90,2) -> 6327.9 | N90: základní | O90: 0 | P90: =O90*H90 -> 0 | Q90: 0 | R90: =Q90*H90 -> 0 | S90: 0 | T90: =S90*H90 -> 0 | AR90: 16 | AT90: K | AU90: 2 | AY90: ROZPOCET | BE90: =IF(N90="základní",J90,0) -> 6327.9 | BF90: =IF(N90="snížená",J90,0) -> 0 | BG90: =IF(N90="zákl. přenesená",J90,0) -> 0 | BH90: =IF(N90="sníž. přenesená",J90,0) -> 0 | BI90: =IF(N90="nulová",J90,0) -> 0 | BJ90: 1 | BK90: =ROUND(I90*H90,2) -> 6327.9 | BL90: 16 | BM90: 1268340329
C91: 4 | D91: M | E91: 61162086 | F91: dveře jednokřídlé dřevotřískové povrch laminátový plné 800x1970-2100mm vč.kování | G91: kus | H91: 3 | I91: 8788.8 | J91: =ROUND(I91*H91,2) -> 26366.4 | N91: základní | O91: 0 | P91: =O91*H91 -> 0 | Q91: 0.0195 | R91: =Q91*H91 -> 0.0585 | S91: 0 | T91: =S91*H91 -> 0 | AR91: 32 | AT91: M | AU91: 2 | AY91: ROZPOCET | BE91: =IF(N91="základní",J91,0) -> 26366.4 | BF91: =IF(N91="snížená",J91,0) -> 0 | BG91: =IF(N91="zákl. přenesená",J91,0) -> 0 | BH91: =IF(N91="sníž. přenesená",J91,0) -> 0 | BI91: =IF(N91="nulová",J91,0) -> 0 | BJ91: 1 | BK91: =ROUND(I91*H91,2) -> 26366.4 | BL91: 16 | BM91: 1202849426
C92: 5 | D92: K | E92: 766695213 | F92: Montáž ostatních truhlářských konstrukcí prahů dveří jednokřídlových, šířky přes 100 mm | G92: kus | H92: 3 | I92: 140.6 | J92: =ROUND(I92*H92,2) -> 421.8 | N92: základní | O92: 0 | P92: =O92*H92 -> 0 | Q92: 0 | R92: =Q92*H92 -> 0 | S92: 0 | T92: =S92*H92 -> 0 | AR92: 16 | AT92: K | AU92: 2 | AY92: ROZPOCET | BE92: =IF(N92="základní",J92,0) -> 421.8 | BF92: =IF(N92="snížená",J92,0) -> 0 | BG92: =IF(N92="zákl. přenesená",J92,0) -> 0 | BH92: =IF(N92="sníž. přenesená",J92,0) -> 0 | BI92: =IF(N92="nulová",J92,0) -> 0 | BJ92: 1 | BK92: =ROUND(I92*H92,2) -> 421.8 | BL92: 16 | BM92: -395732270
C93: 6 | D93: M | E93: 61187161 | F93: práh dveřní dřevěný dubový tl 20mm dl 820mm š 150mm | G93: kus | H93: 3 | I93: 351.6 | J93: =ROUND(I93*H93,2) -> 1054.8 | N93: základní | O93: 0 | P93: =O93*H93 -> 0 | Q93: 0.00185 | R93: =Q93*H93 -> 0.00555 | S93: 0 | T93: =S93*H93 -> 0 | AR93: 32 | AT93: M | AU93: 2 | AY93: ROZPOCET | BE93: =IF(N93="základní",J93,0) -> 1054.8 | BF93: =IF(N93="snížená",J93,0) -> 0 | BG93: =IF(N93="zákl. přenesená",J93,0) -> 0 | BH93: =IF(N93="sníž. přenesená",J93,0) -> 0 | BI93: =IF(N93="nulová",J93,0) -> 0 | BJ93: 1 | BK93: =ROUND(I93*H93,2) -> 1054.8 | BL93: 16 | BM93: -1543592508
C94: 7 | D94: K | E94: 998766202 | F94: Přesun hmot pro konstrukce truhlářské stanovený procentní sazbou (%) z ceny vodorovná dopravní vzdálenost do 50 m v objektech výšky přes 6 do 12 m | G94: % | H94: 1.08 | I94: 113.9 | J94: =ROUND(I94*H94,2) -> 123.01 | N94: základní | O94: 0 | P94: =O94*H94 -> 0 | Q94: 0 | R94: =Q94*H94 -> 0 | S94: 0 | T94: =S94*H94 -> 0 | AR94: 16 | AT94: K | AU94: 2 | AY94: ROZPOCET | BE94: =IF(N94="základní",J94,0) -> 123.01 | BF94: =IF(N94="snížená",J94,0) -> 0 | BG94: =IF(N94="zákl. přenesená",J94,0) -> 0 | BH94: =IF(N94="sníž. přenesená",J94,0) -> 0 | BI94: =IF(N94="nulová",J94,0) -> 0 | BJ94: 1 | BK94: =ROUND(I94*H94,2) -> 123.01 | BL94: 16 | BM94: -630459559

Sheet ZL - 05 - přesun akumulač...
L2: >> skryté sloupce << | AT2: {5d87d106-b890-4b4b-8b4b-ace55fc539cb}
AT3: 2
D4: KRYCÍ LIST SOUPISU PRACÍ | M4: v --- níže se nacházejí doplnkové a pomocné údaje k sestavám --- v | AT4: False
D6: Stavba:
E7: ='Rekapitulace stavby'!K6 -> Stavební úpravy Zahradního domu Teplice - ZL
D8: Objekt:
E9: ZL - 05 - přesun akumulačních kamen
D11: KSO: | I11: CC-CZ:
D12: Místo: | I12: Datum: | J12: ='Rekapitulace stavby'!AN8 -> 22. 10. 2021
D14: Zadavatel: | I14: IČ:
I15: DIČ:
D17: Zhotovitel: | I17: IČ:
E18: POHL cz, a.s. | I18: DIČ:
D20: Projektant: | I20: IČ:
I21: DIČ:
D23: Zpracovatel: | I23: IČ:
I24: DIČ:
D26: Poznámka:
D30: Cena bez DPH | J30: =ROUND(J80, 2) -> 6000
F32: Základ daně | I32: Sazba daně | J32: Výše daně
D33: DPH | E33: základní | F33: =ROUND((SUM(BE80:BE82)), 2) -> 6000 | I33: 0.21 | J33: =ROUND(((SUM(BE80:BE82))*I33), 2) -> 1260
E34: snížená | F34: =ROUND((SUM(BF80:BF82)), 2) -> 0 | I34: 0.15 | J34: =ROUND(((SUM(BF80:BF82))*I34), 2) -> 0
E35: zákl. přenesená | F35: =ROUND((SUM(BG80:BG82)), 2) -> 0 | I35: 0.21 | J35: =0 -> 0
E36: sníž. přenesená | F36: =ROUND((SUM(BH80:BH82)), 2) -> 0 | I36: 0.15 | J36: =0 -> 0
E37: nulová | F37: =ROUND((SUM(BI80:BI82)), 2) -> 0 | I37: 0 | J37: =0 -> 0
D39: Cena s DPH | G39: v | H39: CZK | J39: =SUM(J30:J37) -> 7260
C45: REKAPITULACE ČLENĚNÍ SOUPISU PRACÍ
C47: Stavba:
E48: =E7 -> Stavební úpravy Zahradního domu Teplice - ZL
C49: Objekt:
E50: =E9 -> ZL - 05 - přesun akumulačních kamen
C52: Místo: | F52: =F12 | I52: Datum: | J52: =IF(J12="","",J12) -> 22. 10. 2021
C54: Zadavatel: | F54: =E15 | I54: Projektant: | J54: =E21
C55: Zhotovitel: | F55: =IF(E18="","",E18) -> POHL cz, a.s. | I55: Zpracovatel: | J55: =E24
C57: Kód dílu - Popis | J57: Cena celkem [CZK]
C59: Náklady stavby celkem | J59: =J80 -> 6000 | AU59: -1
D60: OST - Ostatní | J60: =J81 -> 6000
C67: SOUPIS PRACÍ
C69: Stavba:
E70: =E7 -> Stavební úpravy Zahradního domu Teplice - ZL
C71: Objekt:
E72: =E9 -> ZL - 05 - přesun akumulačních kamen
C74: Místo: | F74: =F12 | I74: Datum: | J74: =IF(J12="","",J12) -> 22. 10. 2021
C76: Zadavatel: | F76: =E15 | I76: Projektant: | J76: =E21
C77: Zhotovitel: | F77: =IF(E18="","",E18) -> POHL cz, a.s. | I77: Zpracovatel: | J77: =E24
C79: PČ | D79: Typ | E79: Kód | F79: Popis | G79: MJ | H79: Množství | I79: J.cena [CZK] | J79: Cena celkem [CZK] | K79: Cenová soustava | N79: DPH | O79: J. Nh [h] | P79: Nh celkem [h] | Q79: J. hmotnost [t] | R79: Hmotnost celkem [t] | S79: J. suť [t] | T79: Suť Celkem [t]
C80: Náklady soupisu celkem | J80: =BK80 -> 6000 | P80: =P81 -> 0 | R80: =R81 -> 0 | T80: =T81 -> 0 | AT80: D | AU80: -1 | BK80: =BK81 -> 6000
D81: D | E81: OST | F81: Ostatní | J81: =BK81 -> 6000 | P81: =P82 -> 0 | R81: =R82 -> 0 | T81: =T82 -> 0 | AR81: 4 | AT81: D | AU81: 0 | AY81: ROZPOCET | BK81: =BK82 -> 6000
C82: 1 | D82: K | E82: R01 | F82: přesun kamen akumulačních - manipulace vč. připojení | G82: kpl | H82: 1 | I82: 6000 | J82: =ROUND(I82*H82,2) -> 6000 | N82: základní | O82: 0 | P82: =O82*H82 -> 0 | Q82: 0 | R82: =Q82*H82 -> 0 | S82: 0 | T82: =S82*H82 -> 0 | AR82: 4 | AT82: K | AU82: 1 | AY82: ROZPOCET | BE82: =IF(N82="základní",J82,0) -> 6000 | BF82: =IF(N82="snížená",J82,0) -> 0 | BG82: =IF(N82="zákl. přenesená",J82,0) -> 0 | BH82: =IF(N82="sníž. přenesená",J82,0) -> 0 | BI82: =IF(N82="nulová",J82,0) -> 0 | BJ82: 1 | BK82: =ROUND(I82*H82,2) -> 6000 | BL82: 4 | BM82: 1936621095

Sheet ZL - 06 - Zazdívka původn...
L2: >> skryté sloupce << | AT2: {4b09c9ad-1de8-4e28-8db6-576d0cdb8680}
AT3: 2
D4: KRYCÍ LIST SOUPISU PRACÍ | M4: v --- níže se nacházejí doplnkové a pomocné údaje k sestavám --- v | AT4: False
D6: Stavba:
E7: ='Rekapitulace stavby'!K6 -> Stavební úpravy Zahradního domu Teplice - ZL
D8: Objekt:
E9: ZL - 06 - Zazdívka původních dveří do WC z kanceláře
D11: KSO: | I11: CC-CZ:
D12: Místo: | I12: Datum: | J12: ='Rekapitulace stavby'!AN8 -> 22. 10. 2021
D14: Zadavatel: | I14: IČ:
I15: DIČ:
D17: Zhotovitel: | I17: IČ:
E18: POHL cz, a.s. | I18: DIČ:
D20: Projektant: | I20: IČ:
I21: DIČ:
D23: Zpracovatel: | I23: IČ:
I24: DIČ:
D26: Poznámka:
D30: Cena bez DPH | J30: =ROUND(J84, 2) -> 6840.39
F32: Základ daně | I32: Sazba daně | J32: Výše daně
D33: DPH | E33: základní | F33: =ROUND((SUM(BE84:BE101)), 2) -> 6840.39 | I33: 0.21 | J33: =ROUND(((SUM(BE84:BE101))*I33), 2) -> 1436.48
E34: snížená | F34: =ROUND((SUM(BF84:BF101)), 2) -> 0 | I34: 0.15 | J34: =ROUND(((SUM(BF84:BF101))*I34), 2) -> 0
E35: zákl. přenesená | F35: =ROUND((SUM(BG84:BG101)), 2) -> 0 | I35: 0.21 | J35: =0 -> 0
E36: sníž. přenesená | F36: =ROUND((SUM(BH84:BH101)), 2) -> 0 | I36: 0.15 | J36: =0 -> 0
E37: nulová | F37: =ROUND((SUM(BI84:BI101)), 2) -> 0 | I37: 0 | J37: =0 -> 0
D39: Cena s DPH | G39: v | H39: CZK | J39: =SUM(J30:J37) -> 8276.87
C45: REKAPITULACE ČLENĚNÍ SOUPISU PRACÍ
C47: Stavba:
E48: =E7 -> Stavební úpravy Zahradního domu Teplice - ZL
C49: Objekt:
E50: =E9 -> ZL - 06 - Zazdívka původních dveří do WC z kanceláře
C52: Místo: | F52: =F12 | I52: Datum: | J52: =IF(J12="","",J12) -> 22. 10. 2021
C54: Zadavatel: | F54: =E15 | I54: Projektant: | J54: =E21
C55: Zhotovitel: | F55: =IF(E18="","",E18) -> POHL cz, a.s. | I55: Zpracovatel: | J55: =E24
C57: Kód dílu - Popis | J57: Cena celkem [CZK]
C59: Náklady stavby celkem | J59: =J84 -> 6840.39 | AU59: -1
D60: HSV - Práce a dodávky HSV | J60: =J85 -> 6490.79
D61: 3 - Svislé a kompletní konstrukce | J61: =J86 -> 6079.8
D62: 998 - Přesun hmot | J62: =J95 -> 410.99
D63: PSV - Práce a dodávky PSV | J63: =J97 -> 349.6
D64: 784 - Dokončovací práce - malby a tapety | J64: =J98 -> 349.6
C71: SOUPIS PRACÍ
C73: Stavba:
E74: =E7 -> Stavební úpravy Zahradního domu Teplice - ZL
C75: Objekt:
E76: =E9 -> ZL - 06 - Zazdívka původních dveří do WC z kanceláře
C78: Místo: | F78: =F12 | I78: Datum: | J78: =IF(J12="","",J12) -> 22. 10. 2021
C80: Zadavatel: | F80: =E15 | I80: Projektant: | J80: =E21
C81: Zhotovitel: | F81: =IF(E18="","",E18) -> POHL cz, a.s. | I81: Zpracovatel: | J81: =E24
C83: PČ | D83: Typ | E83: Kód | F83: Popis | G83: MJ | H83: Množství | I83: J.cena [CZK] | J83: Cena celkem [CZK] | K83: Cenová soustava | N83: DPH | O83: J. Nh [h] | P83: Nh celkem [h] | Q83: J. hmotnost [t] | R83: Hmotnost celkem [t] | S83: J. suť [t] | T83: Suť Celkem [t]
C84: Náklady soupisu celkem | J84: =BK84 -> 6840.39 | P84: =P85+P97 -> 0 | R84: =R85+R97 -> 0.31374 | T84: =T85+T97 -> 0 | AT84: D | AU84: -1 | BK84: =BK85+BK97 -> 6840.39
D85: D | E85: HSV | F85: Práce a dodávky HSV | J85: =BK85 -> 6490.79 | P85: =P86+P95 -> 0 | R85: =R86+R95 -> 0.3119 | T85: =T86+T95 -> 0 | AR85: 1 | AT85: D | AU85: 0 | AY85: ROZPOCET | BK85: =BK86+BK95 -> 6490.79
D86: D | E86: 3 | F86: Svislé a kompletní konstrukce | J86: =BK86 -> 6079.8 | P86: =SUM(P87:P94) -> 0 | R86: =SUM(R87:R94) -> 0.3119 | T86: =SUM(T87:T94) -> 0 | AR86: 1 | AT86: D | AU86: 1 | AY86: ROZPOCET | BK86: =SUM(BK87:BK94) -> 6079.8
C87: 1 | D87: K | E87: 342244221 | F87: Příčky jednoduché z cihel děrovaných broušených, na tenkovrstvou maltu, pevnost cihel do P15, tl. příčky 140 mm | G87: m2 | H87: 2 | I87: 1730.5 | J87: =ROUND(I87*H87,2) -> 3461 | N87: základní | O87: 0 | P87: =O87*H87 -> 0 | Q87: 0.10445 | R87: =Q87*H87 -> 0.2089 | S87: 0 | T87: =S87*H87 -> 0 | AR87: 4 | AT87: K | AU87: 2 | AY87: ROZPOCET | BE87: =IF(N87="základní",J87,0) -> 3461 | BF87: =IF(N87="snížená",J87,0) -> 0 | BG87: =IF(N87="zákl. přenesená",J87,0) -> 0 | BH87: =IF(N87="sníž. přenesená",J87,0) -> 0 | BI87: =IF(N87="nulová",J87,0) -> 0 | BJ87: 1 | BK87: =ROUND(I87*H87,2) -> 3461 | BL87: 4 | BM87: 1572364766
D88: VV | F88: zazdívka původních dveří do WC z kanceláře | AT88: VV | AU88: 2 | AV88: 1 | AW88: True | AX88: 0 | AY88: ROZPOCET
D89: VV | F89: 2*1 | H89: 2 | AT89: VV | AU89: 2 | AV89: 2 | AW89: True | AX89: 1 | AY89: ROZPOCET
C90: 2 | D90: K | E90: 612131101 | F90: Podkladní a spojovací vrstva vnitřních omítaných ploch cementový postřik nanášený ručně celoplošně stěn | G90: m2 | H90: 4 | I90: 113.6 | J90: =ROUND(I90*H90,2) -> 454.4 | N90: základní | O90: 0 | P90: =O90*H90 -> 0 | Q90: 0.00735 | R90: =Q90*H90 -> 0.0294 | S90: 0 | T90: =S90*H90 -> 0 | AR90: 4 | AT90: K | AU90: 2 | AY90: ROZPOCET | BE90: =IF(N90="základní",J90,0) -> 454.4 | BF90: =IF(N90="snížená",J90,0) -> 0 | BG90: =IF(N90="zákl. přenesená",J90,0) -> 0 | BH90: =IF(N90="sníž. přenesená",J90,0) -> 0 | BI90: =IF(N90="nulová",J90,0) -> 0 | BJ90: 1 | BK90: =ROUND(I90*H90,2) -> 454.4 | BL90: 4 | BM90: -271673457
D91: VV | F91: zazdívka původních dveří do WC z kanceláře | AT91: VV | AU91: 2 | AV91: 1 | AW91: True | AX91: 0 | AY91: ROZPOCET
D92: VV | F92: 2*1*2 | H92: 4 | AT92: VV | AU92: 2 | AV92: 2 | AW92: True | AX92: 1 | AY92: ROZPOCET
C93: 3 | D93: K | E93: 612321121 | F93: Omítka vápenocementová vnitřních ploch nanášená ručně jednovrstvá, tloušťky do 10 mm hladká svislých konstrukcí stěn | G93: m2 | H93: 4 | I93: 342.1 | J93: =ROUND(I93*H93,2) -> 1368.4 | N93: základní | O93: 0 | P93: =O93*H93 -> 0 | Q93: 0.0154 | R93: =Q93*H93 -> 0.0616 | S93: 0 | T93: =S93*H93 -> 0 | AR93: 4 | AT93: K | AU93: 2 | AY93: ROZPOCET | BE93: =IF(N93="základní",J93,0) -> 1368.4 | BF93: =IF(N93="snížená",J93,0) -> 0 | BG93: =IF(N93="zákl. přenesená",J93,0) -> 0 | BH93: =IF(N93="sníž. přenesená",J93,0) -> 0 | BI93: =IF(N93="nulová",J93,0) -> 0 | BJ93: 1 | BK93: =ROUND(I93*H93,2) -> 1368.4 | BL93: 4 | BM93: 2142718849
C94: 4 | D94: K | E94: 612321131 | F94: Potažení vnitřních ploch vápenocementovým štukem tloušťky do 3 mm svislých konstrukcí stěn | G94: m2 | H94: 4 | I94: 199 | J94: =ROUND(I94*H94,2) -> 796 | N94: základní | O94: 0 | P94: =O94*H94 -> 0 | Q94: 0.003 | R94: =Q94*H94 -> 0.012 | S94: 0 | T94: =S94*H94 -> 0 | AR94: 4 | AT94: K | AU94: 2 | AY94: ROZPOCET | BE94: =IF(N94="základní",J94,0) -> 796 | BF94: =IF(N94="snížená",J94,0) -> 0 | BG94: =IF(N94="zákl. přenesená",J94,0) -> 0 | BH94: =IF(N94="sníž. přenesená",J94,0) -> 0 | BI94: =IF(N94="nulová",J94,0) -> 0 | BJ94: 1 | BK94: =ROUND(I94*H94,2) -> 796 | BL94: 4 | BM94: 820412771
D95: D | E95: 998 | F95: Přesun hmot | J95: =BK95 -> 410.99 | P95: =P96 -> 0 | R95: =R96 -> 0 | T95: =T96 -> 0 | AR95: 1 | AT95: D | AU95: 1 | AY95: ROZPOCET | BK95: =BK96 -> 410.99
C96: 5 | D96: K | E96: 998018002 | F96: Přesun hmot pro budovy občanské výstavby, bydlení, výrobu a služby ruční - bez užití mechanizace vodorovná dopravní vzdálenost do 100 m pro budovy s jakoukoliv nosnou konstrukcí výšky přes 6 do 12 m | G96: t | H96: 0.314 | I96: 1308.9 | J96: =ROUND(I96*H96,2) -> 410.99 | N96: základní | O96: 0 | P96: =O96*H96 -> 0 | Q96: 0 | R96: =Q96*H96 -> 0 | S96: 0 | T96: =S96*H96 -> 0 | AR96: 4 | AT96: K | AU96: 2 | AY96: ROZPOCET | BE96: =IF(N96="základní",J96,0) -> 410.99 | BF96: =IF(N96="snížená",J96,0) -> 0 | BG96: =IF(N96="zákl. přenesená",J96,0) -> 0 | BH96: =IF(N96="sníž. přenesená",J96,0) -> 0 | BI96: =IF(N96="nulová",J96,0) -> 0 | BJ96: 1 | BK96: =ROUND(I96*H96,2) -> 410.99 | BL96: 4 | BM96: -1598911136
D97: D | E97: PSV | F97: Práce a dodávky PSV | J97: =BK97 -> 349.6 | P97: =P98 -> 0 | R97: =R98 -> 0.00184 | T97: =T98 -> 0 | AR97: 2 | AT97: D | AU97: 0 | AY97: ROZPOCET | BK97: =BK98 -> 349.6
D98: D | E98: 784 | F98: Dokončovací práce - malby a tapety | J98: =BK98 -> 349.6 | P98: =SUM(P99:P101) -> 0 | R98: =SUM(R99:R101) -> 0.00184 | T98: =SUM(T99:T101) -> 0 | AR98: 2 | AT98: D | AU98: 1 | AY98: ROZPOCET | BK98: =SUM(BK99:BK101) -> 349.6
C99: 6 | D99: K | E99: 784111001 | F99: Oprášení (ometení) podkladu v místnostech výšky do 3,80 m | G99: m2 | H99: 4 | I99: 3.8 | J99: =ROUND(I99*H99,2) -> 15.2 | N99: základní | O99: 0 | P99: =O99*H99 -> 0 | Q99: 0 | R99: =Q99*H99 -> 0 | S99: 0 | T99: =S99*H99 -> 0 | AR99: 16 | AT99: K | AU99: 2 | AY99: ROZPOCET | BE99: =IF(N99="základní",J99,0) -> 15.2 | BF99: =IF(N99="snížená",J99,0) -> 0 | BG99: =IF(N99="zákl. přenesená",J99,0) -> 0 | BH99: =IF(N99="sníž. přenesená",J99,0) -> 0 | BI99: =IF(N99="nulová",J99,0) -> 0 | BJ99: 1 | BK99: =ROUND(I99*H99,2) -> 15.2 | BL99: 16 | BM99: 419238778
C100: 7 | D100: K | E100: 784181101 | F100: Penetrace podkladu jednonásobná základní akrylátová bezbarvá v místnostech výšky do 3,80 m | G100: m2 | H100: 4 | I100: 14.1 | J100: =ROUND(I100*H100,2) -> 56.4 | N100: základní | O100: 0 | P100: =O100*H100 -> 0 | Q100: 0.0002 | R100: =Q100*H100 -> 0.0008 | S100: 0 | T100: =S100*H100 -> 0 | AR100: 16 | AT100: K | AU100: 2 | AY100: ROZPOCET | BE100: =IF(N100="základní",J100,0) -> 56.4 | BF100: =IF(N100="snížená",J100,0) -> 0 | BG100: =IF(N100="zákl. přenesená",J100,0) -> 0 | BH100: =IF(N100="sníž. přenesená",J100,0) -> 0 | BI100: =IF(N100="nulová",J100,0) -> 0 | BJ100: 1 | BK100: =ROUND(I100*H100,2) -> 56.4 | BL100: 16 | BM100: 1261528447
C101: 8 | D101: K | E101: 784211101 | F101: Malby z malířských směsí oděruvzdorných za mokra dvojnásobné, bílé za mokra oděruvzdorné výborně v místnostech výšky do 3,80 m | G101: m2 | H101: 4 | I101: 69.5 | J101: =ROUND(I101*H101,2) -> 278 | N101: základní | O101: 0 | P101: =O101*H101 -> 0 | Q101: 0.00026 | R101: =Q101*H101 -> 0.00104 | S101: 0 | T101: =S101*H101 -> 0 | AR101: 16 | AT101: K | AU101: 2 | AY101: ROZPOCET | BE101: =IF(N101="základní",J101,0) -> 278 | BF101: =IF(N101="snížená",J101,0) -> 0 | BG101: =IF(N101="zákl. přenesená",J101,0) -> 0 | BH101: =IF(N101="sníž. přenesená",J101,0) -> 0 | BI101: =IF(N101="nulová",J101,0) -> 0 | BJ101: 1 | BK101: =ROUND(I101*H101,2) -> 278 | BL101: 16 | BM101: 434447432

Sheet ZL - 07 - Demontáž podpůr...
L2: >> skryté sloupce << | AT2: {5a94f719-e0df-4d1f-8b14-1c1d75e76b8c}
AT3: 2
D4: KRYCÍ LIST SOUPISU PRACÍ | M4: v --- níže se nacházejí doplnkové a pomocné údaje k sestavám --- v | AT4: False
D6: Stavba:
E7: ='Rekapitulace stavby'!K6 -> Stavební úpravy Zahradního domu Teplice - ZL
D8: Objekt:
E9: ZL - 07 - Demontáž podpůrné konstrukce schodiště
D11: KSO: | I11: CC-CZ:
D12: Místo: | I12: Datum: | J12: ='Rekapitulace stavby'!AN8 -> 22. 10. 2021
D14: Zadavatel: | I14: IČ:
I15: DIČ:
D17: Zhotovitel: | I17: IČ:
E18: POHL cz, a.s. | I18: DIČ:
D20: Projektant: | I20: IČ:
I21: DIČ:
D23: Zpracovatel: | I23: IČ:
I24: DIČ:
D26: Poznámka:
D30: Cena bez DPH | J30: =ROUND(J90, 2) -> 140815.34
F32: Základ daně | I32: Sazba daně | J32: Výše daně
D33: DPH | E33: základní | F33: =ROUND((SUM(BE90:BE122)), 2) -> 140815.34 | I33: 0.21 | J33: =ROUND(((SUM(BE90:BE122))*I33), 2) -> 29571.22
E34: snížená | F34: =ROUND((SUM(BF90:BF122)), 2) -> 0 | I34: 0.15 | J34: =ROUND(((SUM(BF90:BF122))*I34), 2) -> 0
E35: zákl. přenesená | F35: =ROUND((SUM(BG90:BG122)), 2) -> 0 | I35: 0.21 | J35: =0 -> 0
E36: sníž. přenesená | F36: =ROUND((SUM(BH90:BH122)), 2) -> 0 | I36: 0.15 | J36: =0 -> 0
E37: nulová | F37: =ROUND((SUM(BI90:BI122)), 2) -> 0 | I37: 0 | J37: =0 -> 0
D39: Cena s DPH | G39: v | H39: CZK | J39: =SUM(J30:J37) -> 170386.56
C45: REKAPITULACE ČLENĚNÍ SOUPISU PRACÍ
C47: Stavba:
E48: =E7 -> Stavební úpravy Zahradního domu Teplice - ZL
C49: Objekt:
E50: =E9 -> ZL - 07 - Demontáž podpůrné konstrukce schodiště
C52: Místo: | F52: =F12 | I52: Datum: | J52: =IF(J12="","",J12) -> 22. 10. 2021
C54: Zadavatel: | F54: =E15 | I54: Projektant: | J54: =E21
C55: Zhotovitel: | F55: =IF(E18="","",E18) -> POHL cz, a.s. | I55: Zpracovatel: | J55: =E24
C57: Kód dílu - Popis | J57: Cena celkem [CZK]
C59: Náklady stavby celkem | J59: =J90 -> 140815.34 | AU59: -1
D60: OST - Ostatní | J60: =J91 -> 140815.34
D61: HSV - Práce a dodávky HSV | J61: =J92 -> 0
D62: 3 - Svislé a kompletní konstrukce | J62: =J93 -> 4147.35
D63: 6 - Úpravy povrchů, podlahy a osazování výplní | J63: =J96 -> 4908.45
D64: 9 - Ostatní konstrukce a práce, bourání | J64: =J98 -> 86557.78
D65: 997 - Přesun sutě | J65: =J107 -> 1413.3
D66: 998 - Přesun hmot | J66: =J113 -> 2616.49
D67: PSV - Práce a dodávky PSV | J67: =J115 -> 0
D68: 767 - Konstrukce zámečnické | J68: =J116 -> 33671.97
D69: VRN - Vedlejší rozpočtové náklady | J69: =J120 -> 0
D70: VRN4 - Inženýrská činnost | J70: =J121 -> 7500
C77: SOUPIS PRACÍ
C79: Stavba:
E80: =E7 -> Stavební úpravy Zahradního domu Teplice - ZL
C81: Objekt:
E82: =E9 -> ZL - 07 - Demontáž podpůrné konstrukce schodiště
C84: Místo: | F84: =F12 | I84: Datum: | J84: =IF(J12="","",J12) -> 22. 10. 2021
C86: Zadavatel: | F86: =E15 | I86: Projektant: | J86: =E21
C87: Zhotovitel: | F87: =IF(E18="","",E18) -> POHL cz, a.s. | I87: Zpracovatel: | J87: =E24
C89: PČ | D89: Typ | E89: Kód | F89: Popis | G89: MJ | H89: Množství | I89: J.cena [CZK] | J89: Cena celkem [CZK] | K89: Cenová soustava | N89: DPH | O89: J. Nh [h] | P89: Nh celkem [h] | Q89: J. hmotnost [t] | R89: Hmotnost celkem [t] | S89: J. suť [t] | T89: Suť Celkem [t]
C90: Náklady soupisu celkem | J90: =BK90 -> 140815.34 | P90: =P91 -> 71.08527 | R90: =R91 -> 1.9985284 | T90: =T91 -> 2.22751 | AT90: D | AU90: -1 | BK90: =BK91 -> 140815.34
D91: D | E91: OST | F91: Ostatní | J91: =BK91 -> 140815.34 | P91: =P92+P93+P96+P98+P107+P113+P115+P116+P120+P121 -> 71.08527 | R91: =R92+R93+R96+R98+R107+R113+R115+R116+R120+R121 -> 1.9985284 | T91: =T92+T93+T96+T98+T107+T113+T115+T116+T120+T121 -> 2.22751 | AR91: 4 | AT91: D | AU91: 0 | AY91: ROZPOCET | BK91: =BK92+BK93+BK96+BK98+BK107+BK113+BK115+BK116+BK120+BK121 -> 140815.34
D92: D | E92: HSV | F92: Práce a dodávky HSV | J92: =BK92 -> 0 | P92: 0 | R92: 0 | T92: 0 | AR92: 4 | AT92: D | AU92: 1 | AY92: ROZPOCET | BK92: 0
D93: D | E93: 3 | F93: Svislé a kompletní konstrukce | J93: =BK93 -> 4147.35 | P93: =SUM(P94:P95) -> 0 | R93: =SUM(R94:R95) -> 0.7956075 | T93: =SUM(T94:T95) -> 0 | AR93: 4 | AT93: D | AU93: 1 | AY93: ROZPOCET | BK93: =SUM(BK94:BK95) -> 4147.35
C94: 1 | D94: K | E94: 346244361 | F94: Zazdívka o tl 65 mm rýh, nik nebo kapes z cihel pálených | G94: m2 | H94: 6.45 | I94: 643 | J94: =ROUND(I94*H94,2) -> 4147.35 | N94: základní | O94: 0 | P94: =O94*H94 -> 0 | Q94: 0.12335 | R94: =Q94*H94 -> 0.7956075 | S94: 0 | T94: =S94*H94 -> 0 | AR94: 512 | AT94: K | AU94: 2 | AY94: ROZPOCET | BE94: =IF(N94="základní",J94,0) -> 4147.35 | BF94: =IF(N94="snížená",J94,0) -> 0 | BG94: =IF(N94="zákl. přenesená",J94,0) -> 0 | BH94: =IF(N94="sníž. přenesená",J94,0) -> 0 | BI94: =IF(N94="nulová",J94,0) -> 0 | BJ94: 1 | BK94: =ROUND(I94*H94,2) -> 4147.35 | BL94: 512 | BM94: -1147350345
D95: VV | F95: (3,7*4+1,3*2*2+1,45*2*2)*0,25 | H95: 6.45 | AT95: VV | AU95: 2 | AV95: 2 | AW95: True | AX95: 1 | AY95: ROZPOCET
D96: D | E96: 6 | F96: Úpravy povrchů, podlahy a osazování výplní | J96: =BK96 -> 4908.45 | P96: =P97 -> 0 | R96: =R97 -> 0.250905 | T96: =T97 -> 0 | AR96: 4 | AT96: D | AU96: 1 | AY96: ROZPOCET | BK96: =BK97 -> 4908.45
C97: 2 | D97: K | E97: 612325102 | F97: Vápenocementová hrubá omítka rýh ve stěnách š přes 150 do 300 mm | G97: m2 | H97: 6.45 | I97: 761 | J97: =ROUND(I97*H97,2) -> 4908.45 | N97: základní | O97: 0 | P97: =O97*H97 -> 0 | Q97: 0.0389 | R97: =Q97*H97 -> 0.250905 | S97: 0 | T97: =S97*H97 -> 0 | AR97: 512 | AT97: K | AU97: 2 | AY97: ROZPOCET | BE97: =IF(N97="základní",J97,0) -> 4908.45 | BF97: =IF(N97="snížená",J97,0) -> 0 | BG97: =IF(N97="zákl. přenesená",J97,0) -> 0 | BH97: =IF(N97="sníž. přenesená",J97,0) -> 0 | BI97: =IF(N97="nulová",J97,0) -> 0 | BJ97: 1 | BK97: =ROUND(I97*H97,2) -> 4908.45 | BL97: 512 | BM97: -2068635106
D98: D | E98: 9 | F98: Ostatní konstrukce a práce, bourání | J98: =BK98 -> 86557.78 | P98: =SUM(P99:P106) -> 0 | R98: =SUM(R99:R106) -> 0.9520159 | T98: =SUM(T99:T106) -> 0.9804 | AR98: 4 | AT98: D | AU98: 1 | AY98: ROZPOCET | BK98: =SUM(BK99:BK106) -> 86557.78
C99: 3 | D99: K | E99: 943221111 | F99: Montáž lešení prostorového rámového těžkého s podlahami zatížení tř. 4 do 300 kg/m2 v do 10 m | G99: m3 | H99: 263.925 | I99: 49.3 | J99: =ROUND(I99*H99,2) -> 13011.5 | N99: základní | O99: 0 | P99: =O99*H99 -> 0 | Q99: 0 | R99: =Q99*H99 -> 0 | S99: 0 | T99: =S99*H99 -> 0 | AR99: 512 | AT99: K | AU99: 2 | AY99: ROZPOCET | BE99: =IF(N99="základní",J99,0) -> 13011.5 | BF99: =IF(N99="snížená",J99,0) -> 0 | BG99: =IF(N99="zákl. přenesená",J99,0) -> 0 | BH99: =IF(N99="sníž. přenesená",J99,0) -> 0 | BI99: =IF(N99="nulová",J99,0) -> 0 | BJ99: 1 | BK99: =ROUND(I99*H99,2) -> 13011.5 | BL99: 512 | BM99: 2006957356
D100: VV | F100: 4,1*6,05*(2,64+0,36+2,32)*2 | H100: 263.925 | AT100: VV | AU100: 2 | AV100: 2 | AW100: True | AX100: 1 | AY100: ROZPOCET
C101: 4 | D101: K | E101: 943221211 | F101: Příplatek k lešení prostorovému rámovému těžkému s podlahami tř.4 v 10 m za první a ZKD den použití | G101: m3 | H101: 2639.25 | I101: 1.99 | J101: =ROUND(I101*H101,2) -> 5252.11 | N101: základní | O101: 0 | P101: =O101*H101 -> 0 | Q101: 0 | R101: =Q101*H101 -> 0 | S101: 0 | T101: =S101*H101 -> 0 | AR101: 512 | AT101: K | AU101: 2 | AY101: ROZPOCET | BE101: =IF(N101="základní",J101,0) -> 5252.11 | BF101: =IF(N101="snížená",J101,0) -> 0 | BG101: =IF(N101="zákl. přenesená",J101,0) -> 0 | BH101: =IF(N101="sníž. přenesená",J101,0) -> 0 | BI101: =IF(N101="nulová",J101,0) -> 0 | BJ101: 1 | BK101: =ROUND(I101*H101,2) -> 5252.11 | BL101: 512 | BM101: 622331151
C102: 5 | D102: K | E102: 943221811 | F102: Demontáž lešení prostorového rámového těžkého s podlahami zatížení tř. 4 do 300 kg/m2 v do 10 m | G102: m3 | H102: 263.925 | I102: 40.4 | J102: =ROUND(I102*H102,2) -> 10662.57 | N102: základní | O102: 0 | P102: =O102*H102 -> 0 | Q102: 0 | R102: =Q102*H102 -> 0 | S102: 0 | T102: =S102*H102 -> 0 | AR102: 512 | AT102: K | AU102: 2 | AY102: ROZPOCET | BE102: =IF(N102="základní",J102,0) -> 10662.57 | BF102: =IF(N102="snížená",J102,0) -> 0 | BG102: =IF(N102="zákl. přenesená",J102,0) -> 0 | BH102: =IF(N102="sníž. přenesená",J102,0) -> 0 | BI102: =IF(N102="nulová",J102,0) -> 0 | BJ102: 1 | BK102: =ROUND(I102*H102,2) -> 10662.57 | BL102: 512 | BM102: 1815865832
C103: 6 | D103: K | E103: 974031155 | F103: Vysekání rýh ve zdivu cihelném hl do 100 mm š do 200 mm | G103: m | H103: 25.8 | I103: 234 | J103: =ROUND(I103*H103,2) -> 6037.2 | N103: základní | O103: 0 | P103: =O103*H103 -> 0 | Q103: 0 | R103: =Q103*H103 -> 0 | S103: 0.038 | T103: =S103*H103 -> 0.9804 | AR103: 512 | AT103: K | AU103: 2 | AY103: ROZPOCET | BE103: =IF(N103="základní",J103,0) -> 6037.2 | BF103: =IF(N103="snížená",J103,0) -> 0 | BG103: =IF(N103="zákl. přenesená",J103,0) -> 0 | BH103: =IF(N103="sníž. přenesená",J103,0) -> 0 | BI103: =IF(N103="nulová",J103,0) -> 0 | BJ103: 1 | BK103: =ROUND(I103*H103,2) -> 6037.2 | BL103: 512 | BM103: 1442070076
D104: VV | F104: 3,7*4+1,3*2*2+1,45*2*2 | H104: 25.8 | AT104: VV | AU104: 2 | AV104: 2 | AW104: True | AX104: 1 | AY104: ROZPOCET
C105: 7 | D105: K | E105: 975063131 | F105: Podchycení schodů a podest oboustranně podepřených rovných v do 3,5 m pro zatížení do 800 kg/m2 | G105: m2 | H105: 49.61 | I105: 1040 | J105: =ROUND(I105*H105,2) -> 51594.4 | N105: základní | O105: 0 | P105: =O105*H105 -> 0 | Q105: 0.01919 | R105: =Q105*H105 -> 0.9520159 | S105: 0 | T105: =S105*H105 -> 0 | AR105: 512 | AT105: K | AU105: 2 | AY105: ROZPOCET | BE105: =IF(N105="základní",J105,0) -> 51594.4 | BF105: =IF(N105="snížená",J105,0) -> 0 | BG105: =IF(N105="zákl. přenesená",J105,0) -> 0 | BH105: =IF(N105="sníž. přenesená",J105,0) -> 0 | BI105: =IF(N105="nulová",J105,0) -> 0 | BJ105: 1 | BK105: =ROUND(I105*H105,2) -> 51594.4 | BL105: 512 | BM105: -2091096279
D106: VV | F106: 4,1*6,05*2 | H106: 49.61 | AT106: VV | AU106: 2 | AV106: 2 | AW106: True | AX106: 1 | AY106: ROZPOCET
D107: D | E107: 997 | F107: Přesun sutě | J107: =BK107 -> 1413.3 | P107: =SUM(P108:P112) -> 0 | R107: =SUM(R108:R112) -> 0 | T107: =SUM(T108:T112) -> 0 | AR107: 4 | AT107: D | AU107: 1 | AY107: ROZPOCET | BK107: =SUM(BK108:BK112) -> 1413.3
C108: 8 | D108: K | E108: 997013153 | F108: Vnitrostaveništní doprava suti a vybouraných hmot vodorovně do 50 m svisle s omezením mechanizace pro budovy a haly výšky přes 9 do 12 m | G108: t | H108: 2.228 | I108: 1053 | J108: =ROUND(I108*H108,2) -> 2346.08 | N108: základní | O108: 0 | P108: =O108*H108 -> 0 | Q108: 0 | R108: =Q108*H108 -> 0 | S108: 0 | T108: =S108*H108 -> 0 | AR108: 512 | AT108: K | AU108: 2 | AY108: ROZPOCET | BE108: =IF(N108="základní",J108,0) -> 2346.08 | BF108: =IF(N108="snížená",J108,0) -> 0 | BG108: =IF(N108="zákl. přenesená",J108,0) -> 0 | BH108: =IF(N108="sníž. přenesená",J108,0) -> 0 | BI108: =IF(N108="nulová",J108,0) -> 0 | BJ108: 1 | BK108: =ROUND(I108*H108,2) -> 2346.08 | BL108: 512 | BM108: 540717896
C109: 9 | D109: K | E109: 997013501 | F109: Odvoz suti a vybouraných hmot na skládku nebo meziskládku se složením, na vzdálenost do 1 km | G109: t | H109: 2.228 | I109: 235.4 | J109: =ROUND(I109*H109,2) -> 524.47 | N109: základní | O109: 0 | P109: =O109*H109 -> 0 | Q109: 0 | R109: =Q109*H109 -> 0 | S109: 0 | T109: =S109*H109 -> 0 | AR109: 512 | AT109: K | AU109: 2 | AY109: ROZPOCET | BE109: =IF(N109="základní",J109,0) -> 524.47 | BF109: =IF(N109="snížená",J109,0) -> 0 | BG109: =IF(N109="zákl. přenesená",J109,0) -> 0 | BH109: =IF(N109="sníž. přenesená",J109,0) -> 0 | BI109: =IF(N109="nulová",J109,0) -> 0 | BJ109: 1 | BK109: =ROUND(I109*H109,2) -> 524.47 | BL109: 512 | BM109: -1228062808
C110: 10 | D110: K | E110: 997013509.1 | F110: Odvoz suti a vybouraných hmot na skládku nebo meziskládku se složením, na vzdálenost Příplatek k ceně za každý další i započatý 1 km přes 1 km | G110: t | H110: 15.596 | I110: 32.8 | J110: =ROUND(I110*H110,2) -> 511.55 | N110: základní | O110: 0 | P110: =O110*H110 -> 0 | Q110: 0 | R110: =Q110*H110 -> 0 | S110: 0 | T110: =S110*H110 -> 0 | AR110: 512 | AT110: K | AU110: 2 | AY110: ROZPOCET | BE110: =IF(N110="základní",J110,0) -> 511.55 | BF110: =IF(N110="snížená",J110,0) -> 0 | BG110: =IF(N110="zákl. přenesená",J110,0) -> 0 | BH110: =IF(N110="sníž. přenesená",J110,0) -> 0 | BI110: =IF(N110="nulová",J110,0) -> 0 | BJ110: 1 | BK110: =ROUND(I110*H110,2) -> 511.55 | BL110: 512 | BM110: -337162890
C111: 11 | D111: K | E111: 997013863 | F111: Poplatek za uložení stavebního odpadu na recyklační skládce (skládkovné) cihelného zatříděného do Katalogu odpadů pod kódem 17 01 02 | G111: t | H111: 0.98 | I111: 675 | J111: =ROUND(I111*H111,2) -> 661.5 | N111: základní | O111: 0 | P111: =O111*H111 -> 0 | Q111: 0 | R111: =Q111*H111 -> 0 | S111: 0 | T111: =S111*H111 -> 0 | AR111: 512 | AT111: K | AU111: 2 | AY111: ROZPOCET | BE111: =IF(N111="základní",J111,0) -> 661.5 | BF111: =IF(N111="snížená",J111,0) -> 0 | BG111: =IF(N111="zákl. přenesená",J111,0) -> 0 | BH111: =IF(N111="sníž. přenesená",J111,0) -> 0 | BI111: =IF(N111="nulová",J111,0) -> 0 | BJ111: 1 | BK111: =ROUND(I111*H111,2) -> 661.5 | BL111: 512 | BM111: 1610198675
C112: 12 | D112: K | E112: Indiv.kalk.997 | F112: odpočet výtěžnosti ocelových konstrukcí | G112: t | H112: 1.247 | I112: -2109.3 | J112: =ROUND(I112*H112,2) -> -2630.3 | N112: základní | O112: 0 | P112: =O112*H112 -> 0 | Q112: 0 | R112: =Q112*H112 -> 0 | S112: 0 | T112: =S112*H112 -> 0 | AR112: 512 | AT112: K | AU112: 2 | AY112: ROZPOCET | BE112: =IF(N112="základní",J112,0) -> -2630.3 | BF112: =IF(N112="snížená",J112,0) -> 0 | BG112: =IF(N112="zákl. přenesená",J112,0) -> 0 | BH112: =IF(N112="sníž. přenesená",J112,0) -> 0 | BI112: =IF(N112="nulová",J112,0) -> 0 | BJ112: 1 | BK112: =ROUND(I112*H112,2) -> -2630.3 | BL112: 512 | BM112: -1880726090
D113: D | E113: 998 | F113: Přesun hmot | J113: =BK113 -> 2616.49 | P113: =P114 -> 0 | R113: =R114 -> 0 | T113: =T114 -> 0 | AR113: 4 | AT113: D | AU113: 1 | AY113: ROZPOCET | BK113: =BK114 -> 2616.49
C114: 13 | D114: K | E114: 998018002 | F114: Přesun hmot ruční pro budovy v přes 6 do 12 m | G114: t | H114: 1.999 | I114: 1308.9 | J114: =ROUND(I114*H114,2) -> 2616.49 | N114: základní | O114: 0 | P114: =O114*H114 -> 0 | Q114: 0 | R114: =Q114*H114 -> 0 | S114: 0 | T114: =S114*H114 -> 0 | AR114: 512 | AT114: K | AU114: 2 | AY114: ROZPOCET | BE114: =IF(N114="základní",J114,0) -> 2616.49 | BF114: =IF(N114="snížená",J114,0) -> 0 | BG114: =IF(N114="zákl. přenesená",J114,0) -> 0 | BH114: =IF(N114="sníž. přenesená",J114,0) -> 0 | BI114: =IF(N114="nulová",J114,0) -> 0 | BJ114: 1 | BK114: =ROUND(I114*H114,2) -> 2616.49 | BL114: 512 | BM114: 545230795
D115: D | E115: PSV | F115: Práce a dodávky PSV | J115: =BK115 -> 0 | P115: 0 | R115: 0 | T115: 0 | AR115: 4 | AT115: D | AU115: 1 | AY115: ROZPOCET | BK115: 0
D116: D | E116: 767 | F116: Konstrukce zámečnické | J116: =BK116 -> 33671.97 | P116: =SUM(P117:P119) -> 71.08527 | R116: =SUM(R117:R119) -> 0 | T116: =SUM(T117:T119) -> 1.24711 | AR116: 4 | AT116: D | AU116: 1 | AY116: ROZPOCET | BK116: =SUM(BK117:BK119) -> 33671.97
C117: 14 | D117: K | E117: 767996701 | F117: Demontáž ostatních zámečnických konstrukcí o hmotnosti jednotlivých dílů řezáním do 50 kg | G117: kg | H117: 1247.11 | I117: 27 | J117: =ROUND(I117*H117,2) -> 33671.97 | N117: základní | O117: 0.057 | P117: =O117*H117 -> 71.08527 | Q117: 0 | R117: =Q117*H117 -> 0 | S117: 0.001 | T117: =S117*H117 -> 1.24711 | AR117: 512 | AT117: K | AU117: 2 | AY117: ROZPOCET | BE117: =IF(N117="základní",J117,0) -> 33671.97 | BF117: =IF(N117="snížená",J117,0) -> 0 | BG117: =IF(N117="zákl. přenesená",J117,0) -> 0 | BH117: =IF(N117="sníž. přenesená",J117,0) -> 0 | BI117: =IF(N117="nulová",J117,0) -> 0 | BJ117: 1 | BK117: =ROUND(I117*H117,2) -> 33671.97 | BL117: 512 | BM117: 1338072832
D118: Online PSC | F118: https://podminky.urs.cz/item/CS_URS_2022_02/767996701 | AT118: Online PSC | AU118: 2
D119: VV | F119: 31,1*(3,7*3*2+4,1*2*2+1,5) | H119: 1247.11 | AT119: VV | AU119: 2 | AV119: 2 | AW119: True | AX119: 1 | AY119: ROZPOCET
D120: D | E120: VRN | F120: Vedlejší rozpočtové náklady | J120: =BK120 -> 0 | P120: 0 | R120: 0 | T120: 0 | AR120: 4 | AT120: D | AU120: 1 | AY120: ROZPOCET | BK120: 0
D121: D | E121: VRN4 | F121: Inženýrská činnost | J121: =BK121 -> 7500 | P121: =P122 -> 0 | R121: =R122 -> 0 | T121: =T122 -> 0 | AR121: 4 | AT121: D | AU121: 1 | AY121: ROZPOCET | BK121: =BK122 -> 7500
C122: 15 | D122: K | E122: 041903000 | F122: Dozor jiné osoby - statický posudek, demontáž OK schodiště | G122: hod | H122: 6 | I122: 1250 | J122: =ROUND(I122*H122,2) -> 7500 | N122: základní | O122: 0 | P122: =O122*H122 -> 0 | Q122: 0 | R122: =Q122*H122 -> 0 | S122: 0 | T122: =S122*H122 -> 0 | AR122: 512 | AT122: K | AU122: 2 | AY122: ROZPOCET | BE122: =IF(N122="základní",J122,0) -> 7500 | BF122: =IF(N122="snížená",J122,0) -> 0 | BG122: =IF(N122="zákl. přenesená",J122,0) -> 0 | BH122: =IF(N122="sníž. přenesená",J122,0) -> 0 | BI122: =IF(N122="nulová",J122,0) -> 0 | BJ122: 1 | BK122: =ROUND(I122*H122,2) -> 7500 | BL122: 512 | BM122: 1610554661

Sheet ZL - 08 - Rozdíl v ceně b...
L2: >> skryté sloupce << | AT2: {654d0b39-2195-4655-a9ff-576ad96f9eec}
AT3: 2
D4: KRYCÍ LIST SOUPISU PRACÍ | M4: v --- níže se nacházejí doplnkové a pomocné údaje k sestavám --- v | AT4: False
D6: Stavba:
E7: ='Rekapitulace stavby'!K6 -> Stavební úpravy Zahradního domu Teplice - ZL
D8: Objekt:
E9: ZL - 08 - Rozdíl v ceně bourání betonového schodiště vs. skutečně bourané cihelné konstrukce
D11: KSO: | I11: CC-CZ:
D12: Místo: | I12: Datum: | J12: ='Rekapitulace stavby'!AN8 -> 22. 10. 2021
D14: Zadavatel: | I14: IČ:
I15: DIČ:
D17: Zhotovitel: | I17: IČ:
E18: POHL cz, a.s. | I18: DIČ:
D20: Projektant: | I20: IČ:
I21: DIČ:
D23: Zpracovatel: | I23: IČ:
I24: DIČ:
D26: Poznámka:
D30: Cena bez DPH | J30: =ROUND(J83, 2) -> -29951.46
F32: Základ daně | I32: Sazba daně | J32: Výše daně
D33: DPH | E33: základní | F33: =ROUND((SUM(BE83:BE104)), 2) -> -29951.46 | I33: 0.21 | J33: =ROUND(((SUM(BE83:BE104))*I33), 2) -> -6289.81
E34: snížená | F34: =ROUND((SUM(BF83:BF104)), 2) -> 0 | I34: 0.15 | J34: =ROUND(((SUM(BF83:BF104))*I34), 2) -> 0
E35: zákl. přenesená | F35: =ROUND((SUM(BG83:BG104)), 2) -> 0 | I35: 0.21 | J35: =0 -> 0
E36: sníž. přenesená | F36: =ROUND((SUM(BH83:BH104)), 2) -> 0 | I36: 0.15 | J36: =0 -> 0
E37: nulová | F37: =ROUND((SUM(BI83:BI104)), 2) -> 0 | I37: 0 | J37: =0 -> 0
D39: Cena s DPH | G39: v | H39: CZK | J39: =SUM(J30:J37) -> -36241.27
C45: REKAPITULACE ČLENĚNÍ SOUPISU PRACÍ
C47: Stavba:
E48: =E7 -> Stavební úpravy Zahradního domu Teplice - ZL
C49: Objekt:
E50: =E9 -> ZL - 08 - Rozdíl v ceně bourání betonového schodiště vs. skutečně bourané cihelné konstrukce
C52: Místo: | F52: =F12 | I52: Datum: | J52: =IF(J12="","",J12) -> 22. 10. 2021
C54: Zadavatel: | F54: =E15 | I54: Projektant: | J54: =E21
C55: Zhotovitel: | F55: =IF(E18="","",E18) -> POHL cz, a.s. | I55: Zpracovatel: | J55: =E24
C57: Kód dílu - Popis | J57: Cena celkem [CZK]
C59: Náklady stavby celkem | J59: =J83 -> -29951.46 | AU59: -1
D60: HSV - Práce a dodávky HSV | J60: =J84 -> -29951.46
D61: 9 - Ostatní konstrukce a práce, bourání | J61: =J85 -> 7640.87
D62: 96 - Bourání konstrukcí | J62: =J92 -> -20416.51
D63: 997 - Přesun sutě | J63: =J98 -> -17175.82
C70: SOUPIS PRACÍ
C72: Stavba:
E73: =E7 -> Stavební úpravy Zahradního domu Teplice - ZL
C74: Objekt:
E75: =E9 -> ZL - 08 - Rozdíl v ceně bourání betonového schodiště vs. skutečně bourané cihelné konstrukce
C77: Místo: | F77: =F12 | I77: Datum: | J77: =IF(J12="","",J12) -> 22. 10. 2021
C79: Zadavatel: | F79: =E15 | I79: Projektant: | J79: =E21
C80: Zhotovitel: | F80: =IF(E18="","",E18) -> POHL cz, a.s. | I80: Zpracovatel: | J80: =E24
C82: PČ | D82: Typ | E82: Kód | F82: Popis | G82: MJ | H82: Množství | I82: J.cena [CZK] | J82: Cena celkem [CZK] | K82: Cenová soustava | N82: DPH | O82: J. Nh [h] | P82: Nh celkem [h] | Q82: J. hmotnost [t] | R82: Hmotnost celkem [t] | S82: J. suť [t] | T82: Suť Celkem [t]
C83: Náklady soupisu celkem | J83: =BK83 -> -29951.46 | P83: =P84 -> 14.125284 | R83: =R84 -> 0 | T83: =T84 -> -10.120526 | AT83: D | AU83: -1 | BK83: =BK84 -> -29951.46
D84: D | E84: HSV | F84: Práce a dodávky HSV | J84: =BK84 -> -29951.46 | P84: =P85+P92+P98 -> 14.125284 | R84: =R85+R92+R98 -> 0 | T84: =T85+T92+T98 -> -10.120526 | AR84: 1 | AT84: D | AU84: 0 | AY84: ROZPOCET | BK84: =BK85+BK92+BK98 -> -29951.46
D85: D | E85: 9 | F85: Ostatní konstrukce a práce, bourání | J85: =BK85 -> 7640.87 | P85: =SUM(P86:P91) -> 14.125284 | R85: =SUM(R86:R91) -> 0 | T85: =SUM(T86:T91) -> 7.723474 | AR85: 1 | AT85: D | AU85: 1 | AY85: ROZPOCET | BK85: =SUM(BK86:BK91) -> 7640.87
C86: 1 | D86: K | E86: 963031439 | F86: Bourání cihelných kleneb na maltu vápennou nebo vápenocementovou, tl. do 450 mm | G86: m2 | H86: 20.651 | I86: 370 | J86: =ROUND(I86*H86,2) -> 7640.87 | N86: základní | O86: 0.684 | P86: =O86*H86 -> 14.125284 | Q86: 0 | R86: =Q86*H86 -> 0 | S86: 0.374 | T86: =S86*H86 -> 7.723474 | AR86: 4 | AT86: K | AU86: 2 | AY86: ROZPOCET | BE86: =IF(N86="základní",J86,0) -> 7640.87 | BF86: =IF(N86="snížená",J86,0) -> 0 | BG86: =IF(N86="zákl. přenesená",J86,0) -> 0 | BH86: =IF(N86="sníž. přenesená",J86,0) -> 0 | BI86: =IF(N86="nulová",J86,0) -> 0 | BJ86: 1 | BK86: =ROUND(I86*H86,2) -> 7640.87 | BL86: 4 | BM86: -371860153
D87: Online PSC | F87: https://podminky.urs.cz/item/CS_URS_2022_02/963031439 | AT87: Online PSC | AU87: 2
D88: VV | F88: "bourání podesty s úrovní H.H. +3,000" (4,1*1,35+1,485*0,385*2) | H88: 6.678 | AT88: VV | AU88: 2 | AV88: 2 | AW88: True | AX88: 0 | AY88: ROZPOCET
D89: VV | F89: "bourání podesty s úrovní H.H. +4,450" (4,1*1,2+1,485*0,435+1,485*0,385) | H89: 6.138 | AT89: VV | AU89: 2 | AV89: 2 | AW89: True | AX89: 0 | AY89: ROZPOCET
D90: VV | F90: "bourání podesty s úrovní H.H. +5,680" (4,1*1,785+1,475*0,35) | H90: 7.835 | AT90: VV | AU90: 2 | AV90: 2 | AW90: True | AX90: 0 | AY90: ROZPOCET
D91: VV | F91: Součet | H91: 20.651 | AT91: VV | AU91: 2 | AV91: 4 | AW91: False | AX91: 1 | AY91: ROZPOCET
D92: D | E92: 96 | F92: Bourání konstrukcí | J92: =BK92 -> -20416.51 | P92: =SUM(P93:P97) -> 0 | R92: =SUM(R93:R97) -> 0 | T92: =SUM(T93:T97) -> -17.844 | AR92: 1 | AT92: D | AU92: 1 | AY92: ROZPOCET | BK92: =SUM(BK93:BK97) -> -20416.51
C93: 2 | D93: K | E93: 963051113 | F93: Bourání železobetonových stropů deskových, tl. přes 80 mm | G93: m3 | H93: -7.435 | I93: 2746 | J93: =ROUND(I93*H93,2) -> -20416.51 | N93: základní | O93: 0 | P93: =O93*H93 -> 0 | Q93: 0 | R93: =Q93*H93 -> 0 | S93: 2.4 | T93: =S93*H93 -> -17.844 | AR93: 4 | AT93: K | AU93: 2 | AY93: ROZPOCET | BE93: =IF(N93="základní",J93,0) -> -20416.51 | BF93: =IF(N93="snížená",J93,0) -> 0 | BG93: =IF(N93="zákl. přenesená",J93,0) -> 0 | BH93: =IF(N93="sníž. přenesená",J93,0) -> 0 | BI93: =IF(N93="nulová",J93,0) -> 0 | BJ93: 1 | BK93: =ROUND(I93*H93,2) -> -20416.51 | BL93: 4 | BM93: 1222664478
D94: VV | F94: "bourání podesty s úrovní H.H. +3,000" -(4,1*1,35+1,485*0,385*2)*0,36 | H94: -2.404 | AT94: VV | AU94: 2 | AV94: 2 | AW94: True | AX94: 0 | AY94: ROZPOCET
D95: VV | F95: "bourání podesty s úrovní H.H. +4,450" -(4,1*1,2+1,485*0,435+1,485*0,385)*0,36 | H95: -2.21 | AT95: VV | AU95: 2 | AV95: 2 | AW95: True | AX95: 0 | AY95: ROZPOCET
D96: VV | F96: "bourání podesty s úrovní H.H. +5,680" -(4,1*1,785+1,475*0,35)*0,36 | H96: -2.821 | AT96: VV | AU96: 2 | AV96: 2 | AW96: True | AX96: 0 | AY96: ROZPOCET
D97: VV | F97: Součet | H97: -7.435 | AT97: VV | AU97: 2 | AV97: 4 | AW97: False | AX97: 1 | AY97: ROZPOCET
D98: D | E98: 997 | F98: Přesun sutě | J98: =BK98 -> -17175.82 | P98: =SUM(P99:P104) -> 0 | R98: =SUM(R99:R104) -> 0 | T98: =SUM(T99:T104) -> 0 | AR98: 1 | AT98: D | AU98: 1 | AY98: ROZPOCET | BK98: =SUM(BK99:BK104) -> -17175.82
C99: 3 | D99: K | E99: 997013153 | F99: Vnitrostaveništní doprava suti a vybouraných hmot vodorovně do 50 m svisle s omezením mechanizace pro budovy a haly výšky přes 9 do 12 m | G99: t | H99: -10.121 | I99: 1053 | J99: =ROUND(I99*H99,2) -> -10657.41 | N99: základní | O99: 0 | P99: =O99*H99 -> 0 | Q99: 0 | R99: =Q99*H99 -> 0 | S99: 0 | T99: =S99*H99 -> 0 | AR99: 4 | AT99: K | AU99: 2 | AY99: ROZPOCET | BE99: =IF(N99="základní",J99,0) -> -10657.41 | BF99: =IF(N99="snížená",J99,0) -> 0 | BG99: =IF(N99="zákl. přenesená",J99,0) -> 0 | BH99: =IF(N99="sníž. přenesená",J99,0) -> 0 | BI99: =IF(N99="nulová",J99,0) -> 0 | BJ99: 1 | BK99: =ROUND(I99*H99,2) -> -10657.41 | BL99: 4 | BM99: -982595179
C100: 4 | D100: K | E100: 997013501 | F100: Odvoz suti a vybouraných hmot na skládku nebo meziskládku se složením, na vzdálenost do 1 km | G100: t | H100: -10.121 | I100: 235.4 | J100: =ROUND(I100*H100,2) -> -2382.48 | N100: základní | O100: 0 | P100: =O100*H100 -> 0 | Q100: 0 | R100: =Q100*H100 -> 0 | S100: 0 | T100: =S100*H100 -> 0 | AR100: 4 | AT100: K | AU100: 2 | AY100: ROZPOCET | BE100: =IF(N100="základní",J100,0) -> -2382.48 | BF100: =IF(N100="snížená",J100,0) -> 0 | BG100: =IF(N100="zákl. přenesená",J100,0) -> 0 | BH100: =IF(N100="sníž. přenesená",J100,0) -> 0 | BI100: =IF(N100="nulová",J100,0) -> 0 | BJ100: 1 | BK100: =ROUND(I100*H100,2) -> -2382.48 | BL100: 4 | BM100: 1668183151
C101: 5 | D101: K | E101: 997013509 | F101: Odvoz suti a vybouraných hmot na skládku nebo meziskládku se složením, na vzdálenost Příplatek k ceně za každý další i započatý 1 km přes 1 km | G101: t | H101: -70.847 | I101: 32.8 | J101: =ROUND(I101*H101,2) -> -2323.78 | N101: základní | O101: 0 | P101: =O101*H101 -> 0 | Q101: 0 | R101: =Q101*H101 -> 0 | S101: 0 | T101: =S101*H101 -> 0 | AR101: 4 | AT101: K | AU101: 2 | AY101: ROZPOCET | BE101: =IF(N101="základní",J101,0) -> -2323.78 | BF101: =IF(N101="snížená",J101,0) -> 0 | BG101: =IF(N101="zákl. přenesená",J101,0) -> 0 | BH101: =IF(N101="sníž. přenesená",J101,0) -> 0 | BI101: =IF(N101="nulová",J101,0) -> 0 | BJ101: 1 | BK101: =ROUND(I101*H101,2) -> -2323.78 | BL101: 4 | BM101: -1719699831
D102: VV | F102: -10,121*7 'Přepočtené koeficientem množství | H102: -70.847 | AT102: VV | AU102: 2 | AV102: 2 | AW102: False | AX102: 1 | AY102: ROZPOCET
C103: 6 | D103: K | E103: 997013862 | F103: Poplatek za uložení stavebního odpadu na recyklační skládce (skládkovné) z armovaného betonu zatříděného do Katalogu odpadů pod kódem 17 01 01 | G103: t | H103: -17.844 | I103: 393.7 | J103: =ROUND(I103*H103,2) -> -7025.18 | N103: základní | O103: 0 | P103: =O103*H103 -> 0 | Q103: 0 | R103: =Q103*H103 -> 0 | S103: 0 | T103: =S103*H103 -> 0 | AR103: 4 | AT103: K | AU103: 2 | AY103: ROZPOCET | BE103: =IF(N103="základní",J103,0) -> -7025.18 | BF103: =IF(N103="snížená",J103,0) -> 0 | BG103: =IF(N103="zákl. přenesená",J103,0) -> 0 | BH103: =IF(N103="sníž. přenesená",J103,0) -> 0 | BI103: =IF(N103="nulová",J103,0) -> 0 | BJ103: 1 | BK103: =ROUND(I103*H103,2) -> -7025.18 | BL103: 4 | BM103: -1706089396
C104: 7 | D104: K | E104: 997013863 | F104: Poplatek za uložení stavebního odpadu na recyklační skládce (skládkovné) cihelného zatříděného do Katalogu odpadů pod kódem 17 01 02 | G104: t | H104: 7.723 | I104: 675 | J104: =ROUND(I104*H104,2) -> 5213.03 | N104: základní | O104: 0 | P104: =O104*H104 -> 0 | Q104: 0 | R104: =Q104*H104 -> 0 | S104: 0 | T104: =S104*H104 -> 0 | AR104: 4 | AT104: K | AU104: 2 | AY104: ROZPOCET | BE104: =IF(N104="základní",J104,0) -> 5213.03 | BF104: =IF(N104="snížená",J104,0) -> 0 | BG104: =IF(N104="zákl. přenesená",J104,0) -> 0 | BH104: =IF(N104="sníž. přenesená",J104,0) -> 0 | BI104: =IF(N104="nulová",J104,0) -> 0 | BJ104: 1 | BK104: =ROUND(I104*H104,2) -> 5213.03 | BL104: 4 | BM104: -1828535035

Sheet ZL - 09 - Výkopy pro výta...
L2: >> skryté sloupce << | AT2: {1cf1a38c-ebd8-44ad-bdd8-7b2626bba2fb}
AT3: 2
D4: KRYCÍ LIST SOUPISU PRACÍ | M4: v --- níže se nacházejí doplnkové a pomocné údaje k sestavám --- v | AT4: False
D6: Stavba:
E7: ='Rekapitulace stavby'!K6 -> Stavební úpravy Zahradního domu Teplice - ZL
D8: Objekt:
E9: ZL - 09 - Výkopy pro výtahovou šachtu
D11: KSO: | I11: CC-CZ:
D12: Místo: | I12: Datum: | J12: ='Rekapitulace stavby'!AN8 -> 22. 10. 2021
D14: Zadavatel: | I14: IČ:
I15: DIČ:
D17: Zhotovitel: | I17: IČ:
E18: POHL cz, a.s. | I18: DIČ:
D20: Projektant: | I20: IČ:
I21: DIČ:
D23: Zpracovatel: | I23: IČ:
I24: DIČ:
D26: Poznámka:
D30: Cena bez DPH | J30: =ROUND(J86, 2) -> 84953.42
F32: Základ daně | I32: Sazba daně | J32: Výše daně
D33: DPH | E33: základní | F33: =ROUND((SUM(BE86:BE137)), 2) -> 84953.42 | I33: 0.21 | J33: =ROUND(((SUM(BE86:BE137))*I33), 2) -> 17840.22
E34: snížená | F34: =ROUND((SUM(BF86:BF137)), 2) -> 0 | I34: 0.15 | J34: =ROUND(((SUM(BF86:BF137))*I34), 2) -> 0
E35: zákl. přenesená | F35: =ROUND((SUM(BG86:BG137)), 2) -> 0 | I35: 0.21 | J35: =0 -> 0
E36: sníž. přenesená | F36: =ROUND((SUM(BH86:BH137)), 2) -> 0 | I36: 0.15 | J36: =0 -> 0
E37: nulová | F37: =ROUND((SUM(BI86:BI137)), 2) -> 0 | I37: 0 | J37: =0 -> 0
D39: Cena s DPH | G39: v | H39: CZK | J39: =SUM(J30:J37) -> 102793.64
C45: REKAPITULACE ČLENĚNÍ SOUPISU PRACÍ
C47: Stavba:
E48: =E7 -> Stavební úpravy Zahradního domu Teplice - ZL
C49: Objekt:
E50: =E9 -> ZL - 09 - Výkopy pro výtahovou šachtu
C52: Místo: | F52: =F12 | I52: Datum: | J52: =IF(J12="","",J12) -> 22. 10. 2021
C54: Zadavatel: | F54: =E15 | I54: Projektant: | J54: =E21
C55: Zhotovitel: | F55: =IF(E18="","",E18) -> POHL cz, a.s. | I55: Zpracovatel: | J55: =E24
C57: Kód dílu - Popis | J57: Cena celkem [CZK]
C59: Náklady stavby celkem | J59: =J86 -> 84953.42 | AU59: -1
D60: HSV - Práce a dodávky HSV | J60: =J87 -> 79328.6
D61: 1 - Zemní práce | J61: =J88 -> 33684.8
D62: 9 - Ostatní konstrukce a práce, bourání | J62: =J104 -> 33196.72
D63: 997 - Přesun sutě | J63: =J118 -> 12447.08
D64: PSV - Práce a dodávky PSV | J64: =J123 -> 5624.82
D65: 721 - Zdravotechnika - vnitřní kanalizace | J65: =J124 -> 2731.8
D66: 722 - Zdravotechnika - vnitřní vodovod | J66: =J129 -> 2893.02
C73: SOUPIS PRACÍ
C75: Stavba:
E76: =E7 -> Stavební úpravy Zahradního domu Teplice - ZL
C77: Objekt:
E78: =E9 -> ZL - 09 - Výkopy pro výtahovou šachtu
C80: Místo: | F80: =F12 | I80: Datum: | J80: =IF(J12="","",J12) -> 22. 10. 2021
C82: Zadavatel: | F82: =E15 | I82: Projektant: | J82: =E21
C83: Zhotovitel: | F83: =IF(E18="","",E18) -> POHL cz, a.s. | I83: Zpracovatel: | J83: =E24
C85: PČ | D85: Typ | E85: Kód | F85: Popis | G85: MJ | H85: Množství | I85: J.cena [CZK] | J85: Cena celkem [CZK] | K85: Cenová soustava | N85: DPH | O85: J. Nh [h] | P85: Nh celkem [h] | Q85: J. hmotnost [t] | R85: Hmotnost celkem [t] | S85: J. suť [t] | T85: Suť Celkem [t]
C86: Náklady soupisu celkem | J86: =BK86 -> 84953.42 | P86: =P87+P123 -> 142.10569 | R86: =R87+R123 -> 0.01663 | T86: =T87+T123 -> 6.52548 | AT86: D | AU86: -1 | BK86: =BK87+BK123 -> 84953.42
D87: D | E87: HSV | F87: Práce a dodávky HSV | J87: =BK87 -> 79328.6 | P87: =P88+P104+P118 -> 135.49569 | R87: =R88+R104+R118 -> 0.00115 | T87: =T88+T104+T118 -> 6.5112 | AR87: 1 | AT87: D | AU87: 0 | AY87: ROZPOCET | BK87: =BK88+BK104+BK118 -> 79328.6
D88: D | E88: 1 | F88: Zemní práce | J88: =BK88 -> 33684.8 | P88: =SUM(P89:P103) -> 81.928274 | R88: =SUM(R89:R103) -> 0 | T88: =SUM(T89:T103) -> 0 | AR88: 1 | AT88: D | AU88: 1 | AY88: ROZPOCET | BK88: =SUM(BK89:BK103) -> 33684.8
C89: 1 | D89: K | E89: 133312812 | F89: Hloubení nezapažených šachet ručně v horninách třídy těžitelnosti II skupiny 4, půdorysná plocha výkopu přes 4 do 20 m2 | G89: m3 | H89: 8.518 | I89: 2140 | J89: =ROUND(I89*H89,2) -> 18228.52 | N89: základní | O89: 6.799 | P89: =O89*H89 -> 57.913882 | Q89: 0 | R89: =Q89*H89 -> 0 | S89: 0 | T89: =S89*H89 -> 0 | AR89: 4 | AT89: K | AU89: 2 | AY89: ROZPOCET | BE89: =IF(N89="základní",J89,0) -> 18228.52 | BF89: =IF(N89="snížená",J89,0) -> 0 | BG89: =IF(N89="zákl. přenesená",J89,0) -> 0 | BH89: =IF(N89="sníž. přenesená",J89,0) -> 0 | BI89: =IF(N89="nulová",J89,0) -> 0 | BJ89: 1 | BK89: =ROUND(I89*H89,2) -> 18228.52 | BL89: 4 | BM89: -38787762
D90: Online PSC | F90: https://podminky.urs.cz/item/CS_URS_2022_02/133312812 | AT90: Online PSC | AU90: 2
D91: VV | F91: 2,8*2,6*1,3*0,9 "90% zemina | H91: 8.518 | AT91: VV | AU91: 2 | AV91: 2 | AW91: True | AX91: 1 | AY91: ROZPOCET
C92: 2 | D92: K | E92: 133412812 | F92: Hloubení nezapažených šachet ručně v horninách třídy těžitelnosti II skupiny 5, půdorysná plocha výkopu přes 4 do 20 m2 | G92: m3 | H92: 0.946 | I92: 3320 | J92: =ROUND(I92*H92,2) -> 3140.72 | N92: základní | O92: 8.368 | P92: =O92*H92 -> 7.916128 | Q92: 0 | R92: =Q92*H92 -> 0 | S92: 0 | T92: =S92*H92 -> 0 | AR92: 4 | AT92: K | AU92: 2 | AY92: ROZPOCET | BE92: =IF(N92="základní",J92,0) -> 3140.72 | BF92: =IF(N92="snížená",J92,0) -> 0 | BG92: =IF(N92="zákl. přenesená",J92,0) -> 0 | BH92: =IF(N92="sníž. přenesená",J92,0) -> 0 | BI92: =IF(N92="nulová",J92,0) -> 0 | BJ92: 1 | BK92: =ROUND(I92*H92,2) -> 3140.72 | BL92: 4 | BM92: 1764470929
D93: Online PSC | F93: https://podminky.urs.cz/item/CS_URS_2022_02/133412812 | AT93: Online PSC | AU93: 2
D94: VV | F94: 2,8*2,6*1,3*0,1 "10% skála | H94: 0.946 | AT94: VV | AU94: 2 | AV94: 2 | AW94: True | AX94: 1 | AY94: ROZPOCET
C95: 3 | D95: K | E95: 162211201 | F95: Vodorovné přemístění výkopku nebo sypaniny nošením s vyprázdněním nádoby na hromady nebo do dopravního prostředku na vzdálenost do 10 m z horniny třídy těžitelnosti I, skupiny 1 až 3 | G95: m3 | H95: 9.464 | I95: 263 | J95: =ROUND(I95*H95,2) -> 2489.03 | N95: základní | O95: 0.851 | P95: =O95*H95 -> 8.053864 | Q95: 0 | R95: =Q95*H95 -> 0 | S95: 0 | T95: =S95*H95 -> 0 | AR95: 4 | AT95: K | AU95: 2 | AY95: ROZPOCET | BE95: =IF(N95="základní",J95,0) -> 2489.03 | BF95: =IF(N95="snížená",J95,0) -> 0 | BG95: =IF(N95="zákl. přenesená",J95,0) -> 0 | BH95: =IF(N95="sníž. přenesená",J95,0) -> 0 | BI95: =IF(N95="nulová",J95,0) -> 0 | BJ95: 1 | BK95: =ROUND(I95*H95,2) -> 2489.03 | BL95: 4 | BM95: 1560694206
D96: Online PSC | F96: https://podminky.urs.cz/item/CS_URS_2022_02/162211201 | AT96: Online PSC | AU96: 2
C97: 4 | D97: K | E97: 162211209 | F97: Vodorovné přemístění výkopku nebo sypaniny nošením s vyprázdněním nádoby na hromady nebo do dopravního prostředku na vzdálenost do 10 m Příplatek za každých dalších 10 m k ceně -1201 | G97: m3 | H97: 9.464 | I97: 239 | J97: =ROUND(I97*H97,2) -> 2261.9 | N97: základní | O97: 0.772 | P97: =O97*H97 -> 7.306208 | Q97: 0 | R97: =Q97*H97 -> 0 | S97: 0 | T97: =S97*H97 -> 0 | AR97: 4 | AT97: K | AU97: 2 | AY97: ROZPOCET | BE97: =IF(N97="základní",J97,0) -> 2261.9 | BF97: =IF(N97="snížená",J97,0) -> 0 | BG97: =IF(N97="zákl. přenesená",J97,0) -> 0 | BH97: =IF(N97="sníž. přenesená",J97,0) -> 0 | BI97: =IF(N97="nulová",J97,0) -> 0 | BJ97: 1 | BK97: =ROUND(I97*H97,2) -> 2261.9 | BL97: 4 | BM97: 1772747399
D98: Online PSC | F98: https://podminky.urs.cz/item/CS_URS_2022_02/162211209 | AT98: Online PSC | AU98: 2
C99: 5 | D99: K | E99: 162751115 | F99: Vodorovné přemístění výkopku nebo sypaniny po suchu na obvyklém dopravním prostředku, bez naložení výkopku, avšak se složením bez rozhrnutí z horniny třídy těžitelnosti I skupiny 1 až 3 na vzdálenost přes 7 000 do 8 000 m | G99: m3 | H99: 9.464 | I99: 291 | J99: =ROUND(I99*H99,2) -> 2754.02 | N99: základní | O99: 0.078 | P99: =O99*H99 -> 0.738192 | Q99: 0 | R99: =Q99*H99 -> 0 | S99: 0 | T99: =S99*H99 -> 0 | AR99: 4 | AT99: K | AU99: 2 | AY99: ROZPOCET | BE99: =IF(N99="základní",J99,0) -> 2754.02 | BF99: =IF(N99="snížená",J99,0) -> 0 | BG99: =IF(N99="zákl. přenesená",J99,0) -> 0 | BH99: =IF(N99="sníž. přenesená",J99,0) -> 0 | BI99: =IF(N99="nulová",J99,0) -> 0 | BJ99: 1 | BK99: =ROUND(I99*H99,2) -> 2754.02 | BL99: 4 | BM99: -1693907579
D100: Online PSC | F100: https://podminky.urs.cz/item/CS_URS_2022_02/162751115 | AT100: Online PSC | AU100: 2
C101: 6 | D101: K | E101: 171201231 | F101: Poplatek za uložení stavebního odpadu na recyklační skládce (skládkovné) zeminy a kamení zatříděného do Katalogu odpadů pod kódem 17 05 04 | G101: t | H101: 16.089 | I101: 299 | J101: =ROUND(I101*H101,2) -> 4810.61 | N101: základní | O101: 0 | P101: =O101*H101 -> 0 | Q101: 0 | R101: =Q101*H101 -> 0 | S101: 0 | T101: =S101*H101 -> 0 | AR101: 4 | AT101: K | AU101: 2 | AY101: ROZPOCET | BE101: =IF(N101="základní",J101,0) -> 4810.61 | BF101: =IF(N101="snížená",J101,0) -> 0 | BG101: =IF(N101="zákl. přenesená",J101,0) -> 0 | BH101: =IF(N101="sníž. přenesená",J101,0) -> 0 | BI101: =IF(N101="nulová",J101,0) -> 0 | BJ101: 1 | BK101: =ROUND(I101*H101,2) -> 4810.61 | BL101: 4 | BM101: -213685959
D102: Online PSC | F102: https://podminky.urs.cz/item/CS_URS_2022_02/171201231 | AT102: Online PSC | AU102: 2
D103: VV | F103: 9,464*1,7 'Přepočtené koeficientem množství | H103: 16.089 | AT103: VV | AU103: 2 | AV103: 2 | AW103: False | AX103: 1 | AY103: ROZPOCET
D104: D | E104: 9 | F104: Ostatní konstrukce a práce, bourání | J104: =BK104 -> 33196.72 | P104: =SUM(P105:P117) -> 53.567418 | R104: =SUM(R105:R117) -> 0.00115 | T104: =SUM(T105:T117) -> 6.5112 | AR104: 1 | AT104: D | AU104: 1 | AY104: ROZPOCET | BK104: =SUM(BK105:BK117) -> 33196.72
C105: 7 | D105: K | E105: 961031411 | F105: Bourání základů ze zdiva cihelného na maltu cementovou | G105: m3 | H105: 0.96 | I105: 1230 | J105: =ROUND(I105*H105,2) -> 1180.8 | N105: základní | O105: 1.998 | P105: =O105*H105 -> 1.91808 | Q105: 0 | R105: =Q105*H105 -> 0 | S105: 1.8 | T105: =S105*H105 -> 1.728 | AR105: 4 | AT105: K | AU105: 2 | AY105: ROZPOCET | BE105: =IF(N105="základní",J105,0) -> 1180.8 | BF105: =IF(N105="snížená",J105,0) -> 0 | BG105: =IF(N105="zákl. přenesená",J105,0) -> 0 | BH105: =IF(N105="sníž. přenesená",J105,0) -> 0 | BI105: =IF(N105="nulová",J105,0) -> 0 | BJ105: 1 | BK105: =ROUND(I105*H105,2) -> 1180.8 | BL105: 4 | BM105: 1841478983
D106: Online PSC | F106: https://podminky.urs.cz/item/CS_URS_2022_02/961031411 | AT106: Online PSC | AU106: 2
D107: VV | F107: 2*1,6*0,3 | H107: 0.96 | AT107: VV | AU107: 2 | AV107: 2 | AW107: True | AX107: 1 | AY107: ROZPOCET
C108: 8 | D108: K | E108: 961055111 | F108: Bourání základů z betonu železového | G108: m3 | H108: 1.958 | I108: 6740 | J108: =ROUND(I108*H108,2) -> 13196.92 | N108: základní | O108: 10.986 | P108: =O108*H108 -> 21.510588 | Q108: 0 | R108: =Q108*H108 -> 0 | S108: 2.4 | T108: =S108*H108 -> 4.6992 | AR108: 4 | AT108: K | AU108: 2 | AY108: ROZPOCET | BE108: =IF(N108="základní",J108,0) -> 13196.92 | BF108: =IF(N108="snížená",J108,0) -> 0 | BG108: =IF(N108="zákl. přenesená",J108,0) -> 0 | BH108: =IF(N108="sníž. přenesená",J108,0) -> 0 | BI108: =IF(N108="nulová",J108,0) -> 0 | BJ108: 1 | BK108: =ROUND(I108*H108,2) -> 13196.92 | BL108: 4 | BM108: -1342613580
D109: Online PSC | F109: https://podminky.urs.cz/item/CS_URS_2022_02/961055111 | AT109: Online PSC | AU109: 2
D110: VV | F110: "základ výtahové šachty" 2,4*1,9*0,15+(2,4*2+1,57*2)*1,07*0,15 | H110: 1.958 | AT110: VV | AU110: 2 | AV110: 2 | AW110: True | AX110: 1 | AY110: ROZPOCET
C111: 9 | D111: K | E111: 963022819 | F111: Bourání kamenných schodišťových stupňů oblých, rovných nebo kosých zhotovených na místě | G111: m | H111: 0.75 | I111: 112 | J111: =ROUND(I111*H111,2) -> 84 | N111: základní | O111: 0.285 | P111: =O111*H111 -> 0.21375 | Q111: 0 | R111: =Q111*H111 -> 0 | S111: 0.112 | T111: =S111*H111 -> 0.084 | AR111: 4 | AT111: K | AU111: 2 | AY111: ROZPOCET | BE111: =IF(N111="základní",J111,0) -> 84 | BF111: =IF(N111="snížená",J111,0) -> 0 | BG111: =IF(N111="zákl. přenesená",J111,0) -> 0 | BH111: =IF(N111="sníž. přenesená",J111,0) -> 0 | BI111: =IF(N111="nulová",J111,0) -> 0 | BJ111: 1 | BK111: =ROUND(I111*H111,2) -> 84 | BL111: 4 | BM111: 750360048
D112: Online PSC | F112: https://podminky.urs.cz/item/CS_URS_2022_02/963022819 | AT112: Online PSC | AU112: 2
D113: VV | F113: 5*0,15 | H113: 0.75 | AT113: VV | AU113: 2 | AV113: 2 | AW113: True | AX113: 1 | AY113: ROZPOCET
C114: 10 | D114: K | E114: 977211132 | F114: Řezání konstrukcí stěnovou pilou z kamene hloubka řezu přes 200 do 350 mm | G114: m | H114: 5 | I114: 3230 | J114: =ROUND(I114*H114,2) -> 16150 | N114: základní | O114: 5.1 | P114: =O114*H114 -> 25.5 | Q114: 0.00023 | R114: =Q114*H114 -> 0.00115 | S114: 0 | T114: =S114*H114 -> 0 | AR114: 4 | AT114: K | AU114: 2 | AY114: ROZPOCET | BE114: =IF(N114="základní",J114,0) -> 16150 | BF114: =IF(N114="snížená",J114,0) -> 0 | BG114: =IF(N114="zákl. přenesená",J114,0) -> 0 | BH114: =IF(N114="sníž. přenesená",J114,0) -> 0 | BI114: =IF(N114="nulová",J114,0) -> 0 | BJ114: 1 | BK114: =ROUND(I114*H114,2) -> 16150 | BL114: 4 | BM114: -501905541
D115: Online PSC | F115: https://podminky.urs.cz/item/CS_URS_2022_02/977211132 | AT115: Online PSC | AU115: 2
C116: 11 | D116: K | E116: 977211191 | F116: Řezání konstrukcí stěnovou pilou Příplatek k cenám za práci ve stísněném prostoru | G116: m | H116: 5 | I116: 517 | J116: =ROUND(I116*H116,2) -> 2585 | N116: základní | O116: 0.885 | P116: =O116*H116 -> 4.425 | Q116: 0 | R116: =Q116*H116 -> 0 | S116: 0 | T116: =S116*H116 -> 0 | AR116: 4 | AT116: K | AU116: 2 | AY116: ROZPOCET | BE116: =IF(N116="základní",J116,0) -> 2585 | BF116: =IF(N116="snížená",J116,0) -> 0 | BG116: =IF(N116="zákl. přenesená",J116,0) -> 0 | BH116: =IF(N116="sníž. přenesená",J116,0) -> 0 | BI116: =IF(N116="nulová",J116,0) -> 0 | BJ116: 1 | BK116: =ROUND(I116*H116,2) -> 2585 | BL116: 4 | BM116: 1792103238
D117: Online PSC | F117: https://podminky.urs.cz/item/CS_URS_2022_02/977211191 | AT117: Online PSC | AU117: 2
D118: D | E118: 997 | F118: Přesun sutě | J118: =BK118 -> 12447.08 | P118: =SUM(P119:P122) -> 0 | R118: =SUM(R119:R122) -> 0 | T118: =SUM(T119:T122) -> 0 | AR118: 1 | AT118: D | AU118: 1 | AY118: ROZPOCET | BK118: =SUM(BK119:BK122) -> 12447.08
C119: 12 | D119: K | E119: 997013153 | F119: Vnitrostaveništní doprava suti a vybouraných hmot vodorovně do 50 m svisle s omezením mechanizace pro budovy a haly výšky přes 9 do 12 m | G119: t | H119: 6.511 | I119: 1053 | J119: =ROUND(I119*H119,2) -> 6856.08 | N119: základní | O119: 0 | P119: =O119*H119 -> 0 | Q119: 0 | R119: =Q119*H119 -> 0 | S119: 0 | T119: =S119*H119 -> 0 | AR119: 4 | AT119: K | AU119: 2 | AY119: ROZPOCET | BE119: =IF(N119="základní",J119,0) -> 6856.08 | BF119: =IF(N119="snížená",J119,0) -> 0 | BG119: =IF(N119="zákl. přenesená",J119,0) -> 0 | BH119: =IF(N119="sníž. přenesená",J119,0) -> 0 | BI119: =IF(N119="nulová",J119,0) -> 0 | BJ119: 1 | BK119: =ROUND(I119*H119,2) -> 6856.08 | BL119: 4 | BM119: -255711439
C120: 13 | D120: K | E120: 997013501 | F120: Odvoz suti a vybouraných hmot na skládku nebo meziskládku se složením, na vzdálenost do 1 km | G120: t | H120: 6.511 | I120: 235.4 | J120: =ROUND(I120*H120,2) -> 1532.69 | N120: základní | O120: 0 | P120: =O120*H120 -> 0 | Q120: 0 | R120: =Q120*H120 -> 0 | S120: 0 | T120: =S120*H120 -> 0 | AR120: 4 | AT120: K | AU120: 2 | AY120: ROZPOCET | BE120: =IF(N120="základní",J120,0) -> 1532.69 | BF120: =IF(N120="snížená",J120,0) -> 0 | BG120: =IF(N120="zákl. přenesená",J120,0) -> 0 | BH120: =IF(N120="sníž. přenesená",J120,0) -> 0 | BI120: =IF(N120="nulová",J120,0) -> 0 | BJ120: 1 | BK120: =ROUND(I120*H120,2) -> 1532.69 | BL120: 4 | BM120: -1585618169
C121: 14 | D121: K | E121: 997013509 | F121: Odvoz suti a vybouraných hmot na skládku nebo meziskládku se složením, na vzdálenost Příplatek k ceně za každý další i započatý 1 km přes 1 km | G121: t | H121: 45.577 | I121: 32.8 | J121: =ROUND(I121*H121,2) -> 1494.93 | N121: základní | O121: 0 | P121: =O121*H121 -> 0 | Q121: 0 | R121: =Q121*H121 -> 0 | S121: 0 | T121: =S121*H121 -> 0 | AR121: 4 | AT121: K | AU121: 2 | AY121: ROZPOCET | BE121: =IF(N121="základní",J121,0) -> 1494.93 | BF121: =IF(N121="snížená",J121,0) -> 0 | BG121: =IF(N121="zákl. přenesená",J121,0) -> 0 | BH121: =IF(N121="sníž. přenesená",J121,0) -> 0 | BI121: =IF(N121="nulová",J121,0) -> 0 | BJ121: 1 | BK121: =ROUND(I121*H121,2) -> 1494.93 | BL121: 4 | BM121: 920309766
C122: 15 | D122: K | E122: 997013862 | F122: Poplatek za uložení stavebního odpadu na recyklační skládce (skládkovné) z armovaného betonu zatříděného do Katalogu odpadů pod kódem 17 01 01 | G122: t | H122: 6.511 | I122: 393.7 | J122: =ROUND(I122*H122,2) -> 2563.38 | N122: základní | O122: 0 | P122: =O122*H122 -> 0 | Q122: 0 | R122: =Q122*H122 -> 0 | S122: 0 | T122: =S122*H122 -> 0 | AR122: 4 | AT122: K | AU122: 2 | AY122: ROZPOCET | BE122: =IF(N122="základní",J122,0) -> 2563.38 | BF122: =IF(N122="snížená",J122,0) -> 0 | BG122: =IF(N122="zákl. přenesená",J122,0) -> 0 | BH122: =IF(N122="sníž. přenesená",J122,0) -> 0 | BI122: =IF(N122="nulová",J122,0) -> 0 | BJ122: 1 | BK122: =ROUND(I122*H122,2) -> 2563.38 | BL122: 4 | BM122: -1777983413
D123: D | E123: PSV | F123: Práce a dodávky PSV | J123: =BK123 -> 5624.82 | P123: =P124+P129 -> 6.61 | R123: =R124+R129 -> 0.01548 | T123: =T124+T129 -> 0.01428 | AR123: 2 | AT123: D | AU123: 0 | AY123: ROZPOCET | BK123: =BK124+BK129 -> 5624.82
D124: D | E124: 721 | F124: Zdravotechnika - vnitřní kanalizace | J124: =BK124 -> 2731.8 | P124: =SUM(P125:P128) -> 2.364 | R124: =SUM(R125:R128) -> 0.00852 | T124: =SUM(T125:T128) -> 0.0126 | AR124: 2 | AT124: D | AU124: 1 | AY124: ROZPOCET | BK124: =SUM(BK125:BK128) -> 2731.8
C125: 16 | D125: K | E125: 721171803 | F125: Demontáž potrubí z novodurových trub odpadních nebo připojovacích do D 75 | G125: m | H125: 6 | I125: 13.3 | J125: =ROUND(I125*H125,2) -> 79.8 | N125: základní | O125: 0.031 | P125: =O125*H125 -> 0.186 | Q125: 0 | R125: =Q125*H125 -> 0 | S125: 0.0021 | T125: =S125*H125 -> 0.0126 | AR125: 16 | AT125: K | AU125: 2 | AY125: ROZPOCET | BE125: =IF(N125="základní",J125,0) -> 79.8 | BF125: =IF(N125="snížená",J125,0) -> 0 | BG125: =IF(N125="zákl. přenesená",J125,0) -> 0 | BH125: =IF(N125="sníž. přenesená",J125,0) -> 0 | BI125: =IF(N125="nulová",J125,0) -> 0 | BJ125: 1 | BK125: =ROUND(I125*H125,2) -> 79.8 | BL125: 16 | BM125: 1699701854
D126: Online PSC | F126: https://podminky.urs.cz/item/CS_URS_2022_02/721171803 | AT126: Online PSC | AU126: 2
C127: 17 | D127: K | E127: 721173401 | F127: Potrubí z trub PVC SN4 svodné (ležaté) DN 110 | G127: m | H127: 6 | I127: 442 | J127: =ROUND(I127*H127,2) -> 2652 | N127: základní | O127: 0.363 | P127: =O127*H127 -> 2.178 | Q127: 0.00142 | R127: =Q127*H127 -> 0.00852 | S127: 0 | T127: =S127*H127 -> 0 | AR127: 16 | AT127: K | AU127: 2 | AY127: ROZPOCET | BE127: =IF(N127="základní",J127,0) -> 2652 | BF127: =IF(N127="snížená",J127,0) -> 0 | BG127: =IF(N127="zákl. přenesená",J127,0) -> 0 | BH127: =IF(N127="sníž. přenesená",J127,0) -> 0 | BI127: =IF(N127="nulová",J127,0) -> 0 | BJ127: 1 | BK127: =ROUND(I127*H127,2) -> 2652 | BL127: 16 | BM127: 609526099
D128: Online PSC | F128: https://podminky.urs.cz/item/CS_URS_2022_02/721173401 | AT128: Online PSC | AU128: 2
D129: D | E129: 722 | F129: Zdravotechnika - vnitřní vodovod | J129: =BK129 -> 2893.02 | P129: =SUM(P130:P137) -> 4.246 | R129: =SUM(R130:R137) -> 0.00696 | T129: =SUM(T130:T137) -> 0.00168 | AR129: 2 | AT129: D | AU129: 1 | AY129: ROZPOCET | BK129: =SUM(BK130:BK137) -> 2893.02
C130: 18 | D130: K | E130: 722170801 | F130: Demontáž rozvodů vody z plastů do Ø 25 mm | G130: m | H130: 6 | I130: 22.3 | J130: =ROUND(I130*H130,2) -> 133.8 | N130: základní | O130: 0.052 | P130: =O130*H130 -> 0.312 | Q130: 0 | R130: =Q130*H130 -> 0 | S130: 0.00028 | T130: =S130*H130 -> 0.00168 | AR130: 16 | AT130: K | AU130: 2 | AY130: ROZPOCET | BE130: =IF(N130="základní",J130,0) -> 133.8 | BF130: =IF(N130="snížená",J130,0) -> 0 | BG130: =IF(N130="zákl. přenesená",J130,0) -> 0 | BH130: =IF(N130="sníž. přenesená",J130,0) -> 0 | BI130: =IF(N130="nulová",J130,0) -> 0 | BJ130: 1 | BK130: =ROUND(I130*H130,2) -> 133.8 | BL130: 16 | BM130: 1239658789
D131: Online PSC | F131: https://podminky.urs.cz/item/CS_URS_2022_02/722170801 | AT131: Online PSC | AU131: 2
C132: 19 | D132: K | E132: 722171913 | F132: Odříznutí trubky nebo tvarovky u rozvodů vody z plastů D přes 20 do 25 mm | G132: kus | H132: 2 | I132: 9.01 | J132: =ROUND(I132*H132,2) -> 18.02 | N132: základní | O132: 0.019 | P132: =O132*H132 -> 0.038 | Q132: 0 | R132: =Q132*H132 -> 0 | S132: 0 | T132: =S132*H132 -> 0 | AR132: 16 | AT132: K | AU132: 2 | AY132: ROZPOCET | BE132: =IF(N132="základní",J132,0) -> 18.02 | BF132: =IF(N132="snížená",J132,0) -> 0 | BG132: =IF(N132="zákl. přenesená",J132,0) -> 0 | BH132: =IF(N132="sníž. přenesená",J132,0) -> 0 | BI132: =IF(N132="nulová",J132,0) -> 0 | BJ132: 1 | BK132: =ROUND(I132*H132,2) -> 18.02 | BL132: 16 | BM132: -661439230
D133: Online PSC | F133: https://podminky.urs.cz/item/CS_URS_2022_02/722171913 | AT133: Online PSC | AU133: 2
...

Sheet ZL - 10 - Doplnění pískov...
L2: >> skryté sloupce << | AT2: {64b9df15-dcec-46d0-91c2-a843353c2d03}
AT3: 2
D4: KRYCÍ LIST SOUPISU PRACÍ | M4: v --- níže se nacházejí doplnkové a pomocné údaje k sestavám --- v | AT4: False
D6: Stavba:
E7: ='Rekapitulace stavby'!K6 -> Stavební úpravy Zahradního domu Teplice - ZL
D8: Objekt:
E9: ZL - 10 - Doplnění pískovcových prvků
D11: KSO: | I11: CC-CZ:
D12: Místo: | I12: Datum: | J12: ='Rekapitulace stavby'!AN8 -> 22. 10. 2021
D14: Zadavatel: | I14: IČ:
I15: DIČ:
D17: Zhotovitel: | I17: IČ:
E18: POHL cz, a.s. | I18: DIČ:
D20: Projektant: | I20: IČ:
I21: DIČ:
D23: Zpracovatel: | I23: IČ:
I24: DIČ:
D26: Poznámka:
D30: Cena bez DPH | J30: =ROUND(J82, 2) -> 190657.99
F32: Základ daně | I32: Sazba daně | J32: Výše daně
D33: DPH | E33: základní | F33: =ROUND((SUM(BE82:BE94)), 2) -> 190657.99 | I33: 0.21 | J33: =ROUND(((SUM(BE82:BE94))*I33), 2) -> 40038.18
E34: snížená | F34: =ROUND((SUM(BF82:BF94)), 2) -> 0 | I34: 0.15 | J34: =ROUND(((SUM(BF82:BF94))*I34), 2) -> 0
E35: zákl. přenesená | F35: =ROUND((SUM(BG82:BG94)), 2) -> 0 | I35: 0.21 | J35: =0 -> 0
E36: sníž. přenesená | F36: =ROUND((SUM(BH82:BH94)), 2) -> 0 | I36: 0.15 | J36: =0 -> 0
E37: nulová | F37: =ROUND((SUM(BI82:BI94)), 2) -> 0 | I37: 0 | J37: =0 -> 0
D39: Cena s DPH | G39: v | H39: CZK | J39: =SUM(J30:J37) -> 230696.17
C45: REKAPITULACE ČLENĚNÍ SOUPISU PRACÍ
C47: Stavba:
E48: =E7 -> Stavební úpravy Zahradního domu Teplice - ZL
C49: Objekt:
E50: =E9 -> ZL - 10 - Doplnění pískovcových prvků
C52: Místo: | F52: =F12 | I52: Datum: | J52: =IF(J12="","",J12) -> 22. 10. 2021
C54: Zadavatel: | F54: =E15 | I54: Projektant: | J54: =E21
C55: Zhotovitel: | F55: =IF(E18="","",E18) -> POHL cz, a.s. | I55: Zpracovatel: | J55: =E24
C57: Kód dílu - Popis | J57: Cena celkem [CZK]
C59: Náklady stavby celkem | J59: =J82 -> 190657.99 | AU59: -1
D60: HSV - Práce a dodávky HSV | J60: =J83 -> 190657.99
D61: 4 - Vodorovné konstrukce | J61: =J84 -> 186523.17
D62: 998 - Přesun hmot | J62: =J93 -> 4134.82
C69: SOUPIS PRACÍ
C71: Stavba:
E72: =E7 -> Stavební úpravy Zahradního domu Teplice - ZL
C73: Objekt:
E74: =E9 -> ZL - 10 - Doplnění pískovcových prvků
C76: Místo: | F76: =F12 | I76: Datum: | J76: =IF(J12="","",J12) -> 22. 10. 2021
C78: Zadavatel: | F78: =E15 | I78: Projektant: | J78: =E21
C79: Zhotovitel: | F79: =IF(E18="","",E18) -> POHL cz, a.s. | I79: Zpracovatel: | J79: =E24
C81: PČ | D81: Typ | E81: Kód | F81: Popis | G81: MJ | H81: Množství | I81: J.cena [CZK] | J81: Cena celkem [CZK] | K81: Cenová soustava | N81: DPH | O81: J. Nh [h] | P81: Nh celkem [h] | Q81: J. hmotnost [t] | R81: Hmotnost celkem [t] | S81: J. suť [t] | T81: Suť Celkem [t]
C82: Náklady soupisu celkem | J82: =BK82 -> 190657.99 | P82: =P83 -> 0 | R82: =R83 -> 3.159325 | T82: =T83 -> 0 | AT82: D | AU82: -1 | BK82: =BK83 -> 190657.99
D83: D | E83: HSV | F83: Práce a dodávky HSV | J83: =BK83 -> 190657.99 | P83: =P84+P93 -> 0 | R83: =R84+R93 -> 3.159325 | T83: =T84+T93 -> 0 | AR83: 1 | AT83: D | AU83: 0 | AY83: ROZPOCET | BK83: =BK84+BK93 -> 190657.99
D84: D | E84: 4 | F84: Vodorovné konstrukce | J84: =BK84 -> 186523.17 | P84: =SUM(P85:P92) -> 0 | R84: =SUM(R85:R92) -> 3.159325 | T84: =SUM(T85:T92) -> 0 | AR84: 1 | AT84: D | AU84: 1 | AY84: ROZPOCET | BK84: =SUM(BK85:BK92) -> 186523.17
C85: 1 | D85: K | E85: 434191423 | F85: Osazování schodišťových stupňů kamenných s vyspárováním styčných spár, s provizorním dřevěným zábradlím a dočasným zakrytím stupnic prkny na desku, stupňů pemrlovaných nebo ostatních | G85: m | H85: 8.5 | I85: 538.4 | J85: =ROUND(I85*H85,2) -> 4576.4 | N85: základní | O85: 0 | P85: =O85*H85 -> 0 | Q85: 0.03465 | R85: =Q85*H85 -> 0.294525 | S85: 0 | T85: =S85*H85 -> 0 | AR85: 4 | AT85: K | AU85: 2 | AY85: ROZPOCET | BE85: =IF(N85="základní",J85,0) -> 4576.4 | BF85: =IF(N85="snížená",J85,0) -> 0 | BG85: =IF(N85="zákl. přenesená",J85,0) -> 0 | BH85: =IF(N85="sníž. přenesená",J85,0) -> 0 | BI85: =IF(N85="nulová",J85,0) -> 0 | BJ85: 1 | BK85: =ROUND(I85*H85,2) -> 4576.4 | BL85: 4 | BM85: -1905767439
D86: VV | F86: "montáž nového pískovcového schodu " 6,1+1,35+1,05 | H86: 8.5 | AT86: VV | AU86: 2 | AV86: 2 | AW86: True | AX86: 1 | AY86: ROZPOCET
C87: 2 | D87: M | E87: 5838802R | F87: stupeň schodišťový pískovcový | G87: kus | H87: 9 | I87: 4944 | J87: =ROUND(I87*H87,2) -> 44496 | N87: základní | O87: 0 | P87: =O87*H87 -> 0 | Q87: 0.112 | R87: =Q87*H87 -> 1.008 | S87: 0 | T87: =S87*H87 -> 0 | AR87: 8 | AT87: M | AU87: 2 | AY87: ROZPOCET | BE87: =IF(N87="základní",J87,0) -> 44496 | BF87: =IF(N87="snížená",J87,0) -> 0 | BG87: =IF(N87="zákl. přenesená",J87,0) -> 0 | BH87: =IF(N87="sníž. přenesená",J87,0) -> 0 | BI87: =IF(N87="nulová",J87,0) -> 0 | BJ87: 1 | BK87: =ROUND(I87*H87,2) -> 44496 | BL87: 4 | BM87: 674928112
C88: 3 | D88: K | E88: 5838802R2 | F88: Impregnace nového pískovcového stupně | G88: m2 | H88: 7.65 | I88: 200.1 | J88: =ROUND(I88*H88,2) -> 1530.77 | N88: základní | O88: 0 | P88: =O88*H88 -> 0 | Q88: 0.112 | R88: =Q88*H88 -> 0.8568 | S88: 0 | T88: =S88*H88 -> 0 | AR88: 4 | AT88: K | AU88: 2 | AY88: ROZPOCET | BE88: =IF(N88="základní",J88,0) -> 1530.77 | BF88: =IF(N88="snížená",J88,0) -> 0 | BG88: =IF(N88="zákl. přenesená",J88,0) -> 0 | BH88: =IF(N88="sníž. přenesená",J88,0) -> 0 | BI88: =IF(N88="nulová",J88,0) -> 0 | BJ88: 1 | BK88: =ROUND(I88*H88,2) -> 1530.77 | BL88: 4 | BM88: -1628998332
D89: VV | F89: 8,5*(0,3+0,15)*2 | H89: 7.65 | AT89: VV | AU89: 2 | AV89: 2 | AW89: True | AX89: 1 | AY89: ROZPOCET
C90: 4 | D90: K | E90: R01.1 | F90: masívní pískovcové prvky | G90: kpl | H90: 2 | I90: 53560 | J90: =ROUND(I90*H90,2) -> 107120 | N90: základní | O90: 0 | P90: =O90*H90 -> 0 | Q90: 0.5 | R90: =Q90*H90 -> 1 | S90: 0 | T90: =S90*H90 -> 0 | AR90: 4 | AT90: K | AU90: 2 | AY90: ROZPOCET | BE90: =IF(N90="základní",J90,0) -> 107120 | BF90: =IF(N90="snížená",J90,0) -> 0 | BG90: =IF(N90="zákl. přenesená",J90,0) -> 0 | BH90: =IF(N90="sníž. přenesená",J90,0) -> 0 | BI90: =IF(N90="nulová",J90,0) -> 0 | BJ90: 1 | BK90: =ROUND(I90*H90,2) -> 107120 | BL90: 4 | BM90: -236066560
C91: 5 | D91: K | E91: R02.1 | F91: montáž prvků | G91: kpl | H91: 2 | I91: 9480 | J91: =ROUND(I91*H91,2) -> 18960 | N91: základní | O91: 0 | P91: =O91*H91 -> 0 | Q91: 0 | R91: =Q91*H91 -> 0 | S91: 0 | T91: =S91*H91 -> 0 | AR91: 4 | AT91: K | AU91: 2 | AY91: ROZPOCET | BE91: =IF(N91="základní",J91,0) -> 18960 | BF91: =IF(N91="snížená",J91,0) -> 0 | BG91: =IF(N91="zákl. přenesená",J91,0) -> 0 | BH91: =IF(N91="sníž. přenesená",J91,0) -> 0 | BI91: =IF(N91="nulová",J91,0) -> 0 | BJ91: 1 | BK91: =ROUND(I91*H91,2) -> 18960 | BL91: 4 | BM91: 653704072
C92: 6 | D92: K | E92: R03.1 | F92: doprava | G92: kpl | H92: 1 | I92: 9840 | J92: =ROUND(I92*H92,2) -> 9840 | N92: základní | O92: 0 | P92: =O92*H92 -> 0 | Q92: 0 | R92: =Q92*H92 -> 0 | S92: 0 | T92: =S92*H92 -> 0 | AR92: 4 | AT92: K | AU92: 2 | AY92: ROZPOCET | BE92: =IF(N92="základní",J92,0) -> 9840 | BF92: =IF(N92="snížená",J92,0) -> 0 | BG92: =IF(N92="zákl. přenesená",J92,0) -> 0 | BH92: =IF(N92="sníž. přenesená",J92,0) -> 0 | BI92: =IF(N92="nulová",J92,0) -> 0 | BJ92: 1 | BK92: =ROUND(I92*H92,2) -> 9840 | BL92: 4 | BM92: -1290968567
D93: D | E93: 998 | F93: Přesun hmot | J93: =BK93 -> 4134.82 | P93: =P94 -> 0 | R93: =R94 -> 0 | T93: =T94 -> 0 | AR93: 1 | AT93: D | AU93: 1 | AY93: ROZPOCET | BK93: =BK94 -> 4134.82
C94: 7 | D94: K | E94: 998018002 | F94: Přesun hmot pro budovy občanské výstavby, bydlení, výrobu a služby ruční - bez užití mechanizace vodorovná dopravní vzdálenost do 100 m pro budovy s jakoukoliv nosnou konstrukcí výšky přes 6 do 12 m | G94: t | H94: 3.159 | I94: 1308.9 | J94: =ROUND(I94*H94,2) -> 4134.82 | N94: základní | O94: 0 | P94: =O94*H94 -> 0 | Q94: 0 | R94: =Q94*H94 -> 0 | S94: 0 | T94: =S94*H94 -> 0 | AR94: 4 | AT94: K | AU94: 2 | AY94: ROZPOCET | BE94: =IF(N94="základní",J94,0) -> 4134.82 | BF94: =IF(N94="snížená",J94,0) -> 0 | BG94: =IF(N94="zákl. přenesená",J94,0) -> 0 | BH94: =IF(N94="sníž. přenesená",J94,0) -> 0 | BI94: =IF(N94="nulová",J94,0) -> 0 | BJ94: 1 | BK94: =ROUND(I94*H94,2) -> 4134.82 | BL94: 4 | BM94: 698622570

Sheet ZL - 11 - protiprachová o...
L2: >> skryté sloupce << | AT2: {7add775d-f697-4791-a990-68d4cb68b39d}
AT3: 2
D4: KRYCÍ LIST SOUPISU PRACÍ | M4: v --- níže se nacházejí doplnkové a pomocné údaje k sestavám --- v | AT4: False
D6: Stavba:
E7: ='Rekapitulace stavby'!K6 -> Stavební úpravy Zahradního domu Teplice - ZL
D8: Objekt:
E9: ZL - 11 - protiprachová opatření
D11: KSO: | I11: CC-CZ:
D12: Místo: | I12: Datum: | J12: ='Rekapitulace stavby'!AN8 -> 22. 10. 2021
D14: Zadavatel: | I14: IČ:
I15: DIČ:
D17: Zhotovitel: | I17: IČ:
E18: POHL cz, a.s. | I18: DIČ:
D20: Projektant: | I20: IČ:
I21: DIČ:
D23: Zpracovatel: | I23: IČ:
I24: DIČ:
D26: Poznámka:
D30: Cena bez DPH | J30: =ROUND(J81, 2) -> 0
F32: Základ daně | I32: Sazba daně | J32: Výše daně
D33: DPH | E33: základní | F33: =ROUND((SUM(BE81:BE91)), 2) -> 0 | I33: 0.21 | J33: =ROUND(((SUM(BE81:BE91))*I33), 2) -> 0
E34: snížená | F34: =ROUND((SUM(BF81:BF91)), 2) -> 0 | I34: 0.15 | J34: =ROUND(((SUM(BF81:BF91))*I34), 2) -> 0
E35: zákl. přenesená | F35: =ROUND((SUM(BG81:BG91)), 2) -> 0 | I35: 0.21 | J35: =0 -> 0
E36: sníž. přenesená | F36: =ROUND((SUM(BH81:BH91)), 2) -> 0 | I36: 0.15 | J36: =0 -> 0
E37: nulová | F37: =ROUND((SUM(BI81:BI91)), 2) -> 0 | I37: 0 | J37: =0 -> 0
D39: Cena s DPH | G39: v | H39: CZK | J39: =SUM(J30:J37) -> 0
C45: REKAPITULACE ČLENĚNÍ SOUPISU PRACÍ
C47: Stavba:
E48: =E7 -> Stavební úpravy Zahradního domu Teplice - ZL
C49: Objekt:
E50: =E9 -> ZL - 11 - protiprachová opatření
C52: Místo: | F52: =F12 | I52: Datum: | J52: =IF(J12="","",J12) -> 22. 10. 2021
C54: Zadavatel: | F54: =E15 | I54: Projektant: | J54: =E21
C55: Zhotovitel: | F55: =IF(E18="","",E18) -> POHL cz, a.s. | I55: Zpracovatel: | J55: =E24
C57: Kód dílu - Popis | J57: Cena celkem [CZK]
C59: Náklady stavby celkem | J59: =J81 -> 0 | AU59: -1
D60: PSV - Práce a dodávky PSV | J60: =J82 -> 0
D61: 766 - Konstrukce truhlářské | J61: =J83 -> 0
C68: SOUPIS PRACÍ
C70: Stavba:
E71: =E7 -> Stavební úpravy Zahradního domu Teplice - ZL
C72: Objekt:
E73: =E9 -> ZL - 11 - protiprachová opatření
C75: Místo: | F75: =F12 | I75: Datum: | J75: =IF(J12="","",J12) -> 22. 10. 2021
C77: Zadavatel: | F77: =E15 | I77: Projektant: | J77: =E21
C78: Zhotovitel: | F78: =IF(E18="","",E18) -> POHL cz, a.s. | I78: Zpracovatel: | J78: =E24
C80: PČ | D80: Typ | E80: Kód | F80: Popis | G80: MJ | H80: Množství | I80: J.cena [CZK] | J80: Cena celkem [CZK] | K80: Cenová soustava | N80: DPH | O80: J. Nh [h] | P80: Nh celkem [h] | Q80: J. hmotnost [t] | R80: Hmotnost celkem [t] | S80: J. suť [t] | T80: Suť Celkem [t]
C81: Náklady soupisu celkem | J81: =BK81 -> 0 | P81: =P82 -> 0 | R81: =R82 -> 0 | T81: =T82 -> 0 | AT81: D | AU81: -1 | BK81: =BK82 -> 0
D82: D | E82: PSV | F82: Práce a dodávky PSV | J82: =BK82 -> 0 | P82: =P83 -> 0 | R82: =R83 -> 0 | T82: =T83 -> 0 | AR82: 2 | AT82: D | AU82: 0 | AY82: ROZPOCET | BK82: =BK83 -> 0
D83: D | E83: 766 | F83: Konstrukce truhlářské | J83: =BK83 -> 0 | P83: =SUM(P84:P91) -> 0 | R83: =SUM(R84:R91) -> 0 | T83: =SUM(T84:T91) -> 0 | AR83: 2 | AT83: D | AU83: 1 | AY83: ROZPOCET | BK83: =SUM(BK84:BK91) -> 0
C84: 1 | D84: K | E84: 766121210 | F84: Montáž dřevěných stěn plných, s výplní palubovkou nebo překližkou, výšky do 2,75 m | G84: m2 | H84: 0 | I84: 195 | J84: =ROUND(I84*H84,2) -> 0 | N84: základní | O84: 0.429 | P84: =O84*H84 -> 0 | Q84: 0 | R84: =Q84*H84 -> 0 | S84: 0 | T84: =S84*H84 -> 0 | AR84: 16 | AT84: K | AU84: 2 | AY84: ROZPOCET | BE84: =IF(N84="základní",J84,0) -> 0 | BF84: =IF(N84="snížená",J84,0) -> 0 | BG84: =IF(N84="zákl. přenesená",J84,0) -> 0 | BH84: =IF(N84="sníž. přenesená",J84,0) -> 0 | BI84: =IF(N84="nulová",J84,0) -> 0 | BJ84: 1 | BK84: =ROUND(I84*H84,2) -> 0 | BL84: 16 | BM84: -1226250714
D85: Online PSC | F85: https://podminky.urs.cz/item/CS_URS_2022_02/766121210 | AT85: Online PSC | AU85: 2
C86: 2 | D86: M | E86: 60726270 | F86: deska dřevoštěpková OSB 3 P+D nebroušená tl 12mm | G86: m2 | H86: 0 | I86: 258 | J86: =ROUND(I86*H86,2) -> 0 | N86: základní | O86: 0 | P86: =O86*H86 -> 0 | Q86: 0.0072 | R86: =Q86*H86 -> 0 | S86: 0 | T86: =S86*H86 -> 0 | AR86: 32 | AT86: M | AU86: 2 | AY86: ROZPOCET | BE86: =IF(N86="základní",J86,0) -> 0 | BF86: =IF(N86="snížená",J86,0) -> 0 | BG86: =IF(N86="zákl. přenesená",J86,0) -> 0 | BH86: =IF(N86="sníž. přenesená",J86,0) -> 0 | BI86: =IF(N86="nulová",J86,0) -> 0 | BJ86: 1 | BK86: =ROUND(I86*H86,2) -> 0 | BL86: 16 | BM86: -1442232770
D87: VV | F87: 0*1,2 'Přepočtené koeficientem množství | H87: 0 | AT87: VV | AU87: 2 | AV87: 2 | AW87: False | AX87: 1 | AY87: ROZPOCET
C88: 3 | D88: K | E88: 766417211 | F88: Montáž rošt podkladový | G88: m | H88: 0 | I88: 66.8 | J88: =ROUND(I88*H88,2) -> 0 | N88: základní | O88: 0.118 | P88: =O88*H88 -> 0 | Q88: 0 | R88: =Q88*H88 -> 0 | S88: 0 | T88: =S88*H88 -> 0 | AR88: 16 | AT88: K | AU88: 2 | AY88: ROZPOCET | BE88: =IF(N88="základní",J88,0) -> 0 | BF88: =IF(N88="snížená",J88,0) -> 0 | BG88: =IF(N88="zákl. přenesená",J88,0) -> 0 | BH88: =IF(N88="sníž. přenesená",J88,0) -> 0 | BI88: =IF(N88="nulová",J88,0) -> 0 | BJ88: 1 | BK88: =ROUND(I88*H88,2) -> 0 | BL88: 16 | BM88: -1998582812
D89: Online PSC | F89: https://podminky.urs.cz/item/CS_URS_2022_02/766417211 | AT89: Online PSC | AU89: 2
C90: 4 | D90: M | E90: 60514101 | F90: řezivo jehličnaté lať 10-25cm2 | G90: m3 | H90: 0 | I90: 12000 | J90: =ROUND(I90*H90,2) -> 0 | N90: základní | O90: 0 | P90: =O90*H90 -> 0 | Q90: 0.55 | R90: =Q90*H90 -> 0 | S90: 0 | T90: =S90*H90 -> 0 | AR90: 32 | AT90: M | AU90: 2 | AY90: ROZPOCET | BE90: =IF(N90="základní",J90,0) -> 0 | BF90: =IF(N90="snížená",J90,0) -> 0 | BG90: =IF(N90="zákl. přenesená",J90,0) -> 0 | BH90: =IF(N90="sníž. přenesená",J90,0) -> 0 | BI90: =IF(N90="nulová",J90,0) -> 0 | BJ90: 1 | BK90: =ROUND(I90*H90,2) -> 0 | BL90: 16 | BM90: 1987153375
D91: VV | F91: 0*0,00264 'Přepočtené koeficientem množství | H91: 0 | AT91: VV | AU91: 2 | AV91: 2 | AW91: False | AX91: 1 | AY91: ROZPOCET

Sheet ZL - 12 - změna podlahy -...
L2: >> skryté sloupce << | AT2: {850995dd-8399-49ba-a0d0-0da585f584ff}
AT3: 2
D4: KRYCÍ LIST SOUPISU PRACÍ | M4: v --- níže se nacházejí doplnkové a pomocné údaje k sestavám --- v | AT4: False
D6: Stavba:
E7: ='Rekapitulace stavby'!K6 -> Stavební úpravy Zahradního domu Teplice - ZL
D8: Objekt:
E9: ZL - 12 - změna podlahy - chodba 2 NP
D11: KSO: | I11: CC-CZ:
D12: Místo: | I12: Datum: | J12: ='Rekapitulace stavby'!AN8 -> 22. 10. 2021
D14: Zadavatel: | I14: IČ:
I15: DIČ:
D17: Zhotovitel: | I17: IČ:
E18: POHL cz, a.s. | I18: DIČ:
D20: Projektant: | I20: IČ:
I21: DIČ:
D23: Zpracovatel: | I23: IČ:
I24: DIČ:
D26: Poznámka:
D30: Cena bez DPH | J30: =ROUND(J85, 2) -> 94731.07
F32: Základ daně | I32: Sazba daně | J32: Výše daně
D33: DPH | E33: základní | F33: =ROUND((SUM(BE85:BE110)), 2) -> 94731.07 | I33: 0.21 | J33: =ROUND(((SUM(BE85:BE110))*I33), 2) -> 19893.52
E34: snížená | F34: =ROUND((SUM(BF85:BF110)), 2) -> 0 | I34: 0.15 | J34: =ROUND(((SUM(BF85:BF110))*I34), 2) -> 0
E35: zákl. přenesená | F35: =ROUND((SUM(BG85:BG110)), 2) -> 0 | I35: 0.21 | J35: =0 -> 0
E36: sníž. přenesená | F36: =ROUND((SUM(BH85:BH110)), 2) -> 0 | I36: 0.15 | J36: =0 -> 0
E37: nulová | F37: =ROUND((SUM(BI85:BI110)), 2) -> 0 | I37: 0 | J37: =0 -> 0
D39: Cena s DPH | G39: v | H39: CZK | J39: =SUM(J30:J37) -> 114624.59
C45: REKAPITULACE ČLENĚNÍ SOUPISU PRACÍ
C47: Stavba:
E48: =E7 -> Stavební úpravy Zahradního domu Teplice - ZL
C49: Objekt:
E50: =E9 -> ZL - 12 - změna podlahy - chodba 2 NP
C52: Místo: | F52: =F12 | I52: Datum: | J52: =IF(J12="","",J12) -> 22. 10. 2021
C54: Zadavatel: | F54: =E15 | I54: Projektant: | J54: =E21
C55: Zhotovitel: | F55: =IF(E18="","",E18) -> POHL cz, a.s. | I55: Zpracovatel: | J55: =E24
C57: Kód dílu - Popis | J57: Cena celkem [CZK]
C59: Náklady stavby celkem | J59: =J85 -> 94731.07 | AU59: -1
D60: HSV - Práce a dodávky HSV | J60: =J86 -> 27407.4
D61: 6 - Úpravy povrchů, podlahy a osazování výplní | J61: =J87 -> 25893
D62: 998 - Přesun hmot | J62: =J90 -> 1514.4
D63: PSV - Práce a dodávky PSV | J63: =J92 -> 67323.67
D64: 776 - Podlahy povlakové | J64: =J93 -> 1452.24
D65: 777 - Podlahy lité | J65: =J101 -> 65871.43
C72: SOUPIS PRACÍ
C74: Stavba:
E75: =E7 -> Stavební úpravy Zahradního domu Teplice - ZL
C76: Objekt:
E77: =E9 -> ZL - 12 - změna podlahy - chodba 2 NP
C79: Místo: | F79: =F12 | I79: Datum: | J79: =IF(J12="","",J12) -> 22. 10. 2021
C81: Zadavatel: | F81: =E15 | I81: Projektant: | J81: =E21
C82: Zhotovitel: | F82: =IF(E18="","",E18) -> POHL cz, a.s. | I82: Zpracovatel: | J82: =E24
C84: PČ | D84: Typ | E84: Kód | F84: Popis | G84: MJ | H84: Množství | I84: J.cena [CZK] | J84: Cena celkem [CZK] | K84: Cenová soustava | N84: DPH | O84: J. Nh [h] | P84: Nh celkem [h] | Q84: J. hmotnost [t] | R84: Hmotnost celkem [t] | S84: J. suť [t] | T84: Suť Celkem [t]
C85: Náklady soupisu celkem | J85: =BK85 -> 94731.07 | P85: =P86+P92 -> 16.8693 | R85: =R86+R92 -> 1.25874 | T85: =T86+T92 -> 0.05301 | AT85: D | AU85: -1 | BK85: =BK86+BK92 -> 94731.07
D86: D | E86: HSV | F86: Práce a dodávky HSV | J86: =BK86 -> 27407.4 | P86: =P87+P90 -> 6.615 | R86: =R87+R90 -> 1.15668 | T86: =T87+T90 -> 0 | AR86: 1 | AT86: D | AU86: 0 | AY86: ROZPOCET | BK86: =BK87+BK90 -> 27407.4
D87: D | E87: 6 | F87: Úpravy povrchů, podlahy a osazování výplní | J87: =BK87 -> 25893 | P87: =SUM(P88:P89) -> 6.615 | R87: =SUM(R88:R89) -> 1.15668 | T87: =SUM(T88:T89) -> 0 | AR87: 1 | AT87: D | AU87: 1 | AY87: ROZPOCET | BK87: =SUM(BK88:BK89) -> 25893
C88: 1 | D88: K | E88: 632451111 | F88: Potěr cementový samonivelační ze suchých směsí tloušťky přes 25 do 30 mm | G88: m2 | H88: 18.9 | I88: 1370 | J88: =ROUND(I88*H88,2) -> 25893 | N88: základní | O88: 0.35 | P88: =O88*H88 -> 6.615 | Q88: 0.0612 | R88: =Q88*H88 -> 1.15668 | S88: 0 | T88: =S88*H88 -> 0 | AR88: 4 | AT88: K | AU88: 2 | AY88: ROZPOCET | BE88: =IF(N88="základní",J88,0) -> 25893 | BF88: =IF(N88="snížená",J88,0) -> 0 | BG88: =IF(N88="zákl. přenesená",J88,0) -> 0 | BH88: =IF(N88="sníž. přenesená",J88,0) -> 0 | BI88: =IF(N88="nulová",J88,0) -> 0 | BJ88: 1 | BK88: =ROUND(I88*H88,2) -> 25893 | BL88: 4 | BM88: 268344304
D89: Online PSC | F89: https://podminky.urs.cz/item/CS_URS_2022_02/632451111 | AT89: Online PSC | AU89: 2
D90: D | E90: 998 | F90: Přesun hmot | J90: =BK90 -> 1514.4 | P90: =P91 -> 0 | R90: =R91 -> 0 | T90: =T91 -> 0 | AR90: 1 | AT90: D | AU90: 1 | AY90: ROZPOCET | BK90: =BK91 -> 1514.4
C91: 2 | D91: K | E91: 998018002 | F91: Přesun hmot pro budovy občanské výstavby, bydlení, výrobu a služby ruční - bez užití mechanizace vodorovná dopravní vzdálenost do 100 m pro budovy s jakoukoliv nosnou konstrukcí výšky přes 6 do 12 m | G91: t | H91: 1.157 | I91: 1308.9 | J91: =ROUND(I91*H91,2) -> 1514.4 | N91: základní | O91: 0 | P91: =O91*H91 -> 0 | Q91: 0 | R91: =Q91*H91 -> 0 | S91: 0 | T91: =S91*H91 -> 0 | AR91: 4 | AT91: K | AU91: 2 | AY91: ROZPOCET | BE91: =IF(N91="základní",J91,0) -> 1514.4 | BF91: =IF(N91="snížená",J91,0) -> 0 | BG91: =IF(N91="zákl. přenesená",J91,0) -> 0 | BH91: =IF(N91="sníž. přenesená",J91,0) -> 0 | BI91: =IF(N91="nulová",J91,0) -> 0 | BJ91: 1 | BK91: =ROUND(I91*H91,2) -> 1514.4 | BL91: 4 | BM91: -1279768017
D92: D | E92: PSV | F92: Práce a dodávky PSV | J92: =BK92 -> 67323.67 | P92: =P93+P101 -> 10.2543 | R92: =R93+R101 -> 0.10206 | T92: =T93+T101 -> 0.05301 | AR92: 2 | AT92: D | AU92: 0 | AY92: ROZPOCET | BK92: =BK93+BK101 -> 67323.67
D93: D | E93: 776 | F93: Podlahy povlakové | J93: =BK93 -> 1452.24 | P93: =SUM(P94:P100) -> 2.6565 | R93: =SUM(R94:R100) -> 0 | T93: =SUM(T94:T100) -> 0.05301 | AR93: 2 | AT93: D | AU93: 1 | AY93: ROZPOCET | BK93: =SUM(BK94:BK100) -> 1452.24
C94: 3 | D94: K | E94: 776201811 | F94: Demontáž povlakových podlahovin lepených ručně bez podložky | G94: m2 | H94: 18.9 | I94: 61.6 | J94: =ROUND(I94*H94,2) -> 1164.24 | N94: základní | O94: 0.105 | P94: =O94*H94 -> 1.9845 | Q94: 0 | R94: =Q94*H94 -> 0 | S94: 0.0025 | T94: =S94*H94 -> 0.04725 | AR94: 16 | AT94: K | AU94: 2 | AY94: ROZPOCET | BE94: =IF(N94="základní",J94,0) -> 1164.24 | BF94: =IF(N94="snížená",J94,0) -> 0 | BG94: =IF(N94="zákl. přenesená",J94,0) -> 0 | BH94: =IF(N94="sníž. přenesená",J94,0) -> 0 | BI94: =IF(N94="nulová",J94,0) -> 0 | BJ94: 1 | BK94: =ROUND(I94*H94,2) -> 1164.24 | BL94: 16 | BM94: 804359346
D95: Online PSC | F95: https://podminky.urs.cz/item/CS_URS_2022_02/776201811 | AT95: Online PSC | AU95: 2
D96: VV | F96: "oprava podlahy - chodba 2 NP | AT96: VV | AU96: 2 | AV96: 1 | AW96: True | AX96: 0 | AY96: ROZPOCET
D97: VV | F97: 9*2,1 | H97: 18.9 | AT97: VV | AU97: 2 | AV97: 2 | AW97: True | AX97: 1 | AY97: ROZPOCET
C98: 4 | D98: K | E98: 776410811 | F98: Demontáž soklíků nebo lišt pryžových nebo plastových | G98: m | H98: 19.2 | I98: 15 | J98: =ROUND(I98*H98,2) -> 288 | N98: základní | O98: 0.035 | P98: =O98*H98 -> 0.672 | Q98: 0 | R98: =Q98*H98 -> 0 | S98: 0.0003 | T98: =S98*H98 -> 0.00576 | AR98: 16 | AT98: K | AU98: 2 | AY98: ROZPOCET | BE98: =IF(N98="základní",J98,0) -> 288 | BF98: =IF(N98="snížená",J98,0) -> 0 | BG98: =IF(N98="zákl. přenesená",J98,0) -> 0 | BH98: =IF(N98="sníž. přenesená",J98,0) -> 0 | BI98: =IF(N98="nulová",J98,0) -> 0 | BJ98: 1 | BK98: =ROUND(I98*H98,2) -> 288 | BL98: 16 | BM98: 1180070150
D99: Online PSC | F99: https://podminky.urs.cz/item/CS_URS_2022_02/776410811 | AT99: Online PSC | AU99: 2
D100: VV | F100: 2*9+2,1-0,9 | H100: 19.2 | AT100: VV | AU100: 2 | AV100: 2 | AW100: True | AX100: 1 | AY100: ROZPOCET
D101: D | E101: 777 | F101: Podlahy lité | J101: =BK101 -> 65871.43 | P101: =SUM(P102:P110) -> 7.5978 | R101: =SUM(R102:R110) -> 0.10206 | T101: =SUM(T102:T110) -> 0 | AR101: 2 | AT101: D | AU101: 1 | AY101: ROZPOCET | BK101: =SUM(BK102:BK110) -> 65871.43
C102: 5 | D102: K | E102: 777111101 | F102: Příprava podkladu před provedením litých podlah zametení | G102: m2 | H102: 18.9 | I102: 2.8 | J102: =ROUND(I102*H102,2) -> 52.92 | N102: základní | O102: 0.01 | P102: =O102*H102 -> 0.189 | Q102: 0 | R102: =Q102*H102 -> 0 | S102: 0 | T102: =S102*H102 -> 0 | AR102: 16 | AT102: K | AU102: 2 | AY102: ROZPOCET | BE102: =IF(N102="základní",J102,0) -> 52.92 | BF102: =IF(N102="snížená",J102,0) -> 0 | BG102: =IF(N102="zákl. přenesená",J102,0) -> 0 | BH102: =IF(N102="sníž. přenesená",J102,0) -> 0 | BI102: =IF(N102="nulová",J102,0) -> 0 | BJ102: 1 | BK102: =ROUND(I102*H102,2) -> 52.92 | BL102: 16 | BM102: 835690271
D103: Online PSC | F103: https://podminky.urs.cz/item/CS_URS_2022_02/777111101 | AT103: Online PSC | AU103: 2
D104: VV | F104: 9*2,1 | H104: 18.9 | AT104: VV | AU104: 2 | AV104: 2 | AW104: True | AX104: 1 | AY104: ROZPOCET
D105: VV | F105: "oprava podlahy - chodba 2 NP | AT105: VV | AU105: 2 | AV105: 1 | AW105: True | AX105: 0 | AY105: ROZPOCET
C106: 6 | D106: K | E106: 777111111 | F106: Příprava podkladu před provedením litých podlah vysátí | G106: m2 | H106: 18.9 | I106: 9.6 | J106: =ROUND(I106*H106,2) -> 181.44 | N106: základní | O106: 0.032 | P106: =O106*H106 -> 0.6048 | Q106: 0 | R106: =Q106*H106 -> 0 | S106: 0 | T106: =S106*H106 -> 0 | AR106: 16 | AT106: K | AU106: 2 | AY106: ROZPOCET | BE106: =IF(N106="základní",J106,0) -> 181.44 | BF106: =IF(N106="snížená",J106,0) -> 0 | BG106: =IF(N106="zákl. přenesená",J106,0) -> 0 | BH106: =IF(N106="sníž. přenesená",J106,0) -> 0 | BI106: =IF(N106="nulová",J106,0) -> 0 | BJ106: 1 | BK106: =ROUND(I106*H106,2) -> 181.44 | BL106: 16 | BM106: 2131611766
D107: Online PSC | F107: https://podminky.urs.cz/item/CS_URS_2022_02/777111111 | AT107: Online PSC | AU107: 2
C108: 7 | D108: K | E108: 777511105.R | F108: Krycí stěrka dekorativní epoxidová, tloušťky přes 2 do 3 mm | G108: m2 | H108: 18.9 | I108: 3445.2 | J108: =ROUND(I108*H108,2) -> 65114.28 | N108: základní | O108: 0.36 | P108: =O108*H108 -> 6.804 | Q108: 0.0054 | R108: =Q108*H108 -> 0.10206 | S108: 0 | T108: =S108*H108 -> 0 | AR108: 16 | AT108: K | AU108: 2 | AY108: ROZPOCET | BE108: =IF(N108="základní",J108,0) -> 65114.28 | BF108: =IF(N108="snížená",J108,0) -> 0 | BG108: =IF(N108="zákl. přenesená",J108,0) -> 0 | BH108: =IF(N108="sníž. přenesená",J108,0) -> 0 | BI108: =IF(N108="nulová",J108,0) -> 0 | BJ108: 1 | BK108: =ROUND(I108*H108,2) -> 65114.28 | BL108: 16 | BM108: 1224400689
C109: 8 | D109: K | E109: 998777202 | F109: Přesun hmot pro podlahy lité stanovený procentní sazbou (%) z ceny vodorovná dopravní vzdálenost do 50 m v objektech výšky přes 6 do 12 m | G109: % | H109: 653.486 | I109: 0.8 | J109: =ROUND(I109*H109,2) -> 522.79 | N109: základní | O109: 0 | P109: =O109*H109 -> 0 | Q109: 0 | R109: =Q109*H109 -> 0 | S109: 0 | T109: =S109*H109 -> 0 | AR109: 16 | AT109: K | AU109: 2 | AY109: ROZPOCET | BE109: =IF(N109="základní",J109,0) -> 522.79 | BF109: =IF(N109="snížená",J109,0) -> 0 | BG109: =IF(N109="zákl. přenesená",J109,0) -> 0 | BH109: =IF(N109="sníž. přenesená",J109,0) -> 0 | BI109: =IF(N109="nulová",J109,0) -> 0 | BJ109: 1 | BK109: =ROUND(I109*H109,2) -> 522.79 | BL109: 16 | BM109: 200609751
D110: Online PSC | F110: https://podminky.urs.cz/item/CS_URS_2022_02/998777202 | AT110: Online PSC | AU110: 2

Sheet ZL - 13 - výtahová šachta
L2: >> skryté sloupce << | AT2: {041cb304-08e0-4afc-ab6c-0a6f5d7cd3e5}
AT3: 2
D4: KRYCÍ LIST SOUPISU PRACÍ | M4: v --- níže se nacházejí doplnkové a pomocné údaje k sestavám --- v | AT4: False
D6: Stavba:
E7: ='Rekapitulace stavby'!K6 -> Stavební úpravy Zahradního domu Teplice - ZL
D8: Objekt:
E9: ZL - 13 - výtahová šachta
D11: KSO: | I11: CC-CZ:
D12: Místo: | I12: Datum: | J12: ='Rekapitulace stavby'!AN8 -> 22. 10. 2021
D14: Zadavatel: | I14: IČ:
I15: DIČ:
D17: Zhotovitel: | I17: IČ:
E18: POHL cz, a.s. | I18: DIČ:
D20: Projektant: | I20: IČ:
I21: DIČ:
D23: Zpracovatel: | I23: IČ:
I24: DIČ:
D26: Poznámka:
D30: Cena bez DPH | J30: =ROUND(J88, 2) -> -84065.24
F32: Základ daně | I32: Sazba daně | J32: Výše daně
D33: DPH | E33: základní | F33: =ROUND((SUM(BE88:BE148)), 2) -> -84065.24 | I33: 0.21 | J33: =ROUND(((SUM(BE88:BE148))*I33), 2) -> -17653.7
E34: snížená | F34: =ROUND((SUM(BF88:BF148)), 2) -> 0 | I34: 0.15 | J34: =ROUND(((SUM(BF88:BF148))*I34), 2) -> 0
E35: zákl. přenesená | F35: =ROUND((SUM(BG88:BG148)), 2) -> 0 | I35: 0.21 | J35: =0 -> 0
E36: sníž. přenesená | F36: =ROUND((SUM(BH88:BH148)), 2) -> 0 | I36: 0.15 | J36: =0 -> 0
E37: nulová | F37: =ROUND((SUM(BI88:BI148)), 2) -> 0 | I37: 0 | J37: =0 -> 0
D39: Cena s DPH | G39: v | H39: CZK | J39: =SUM(J30:J37) -> -101718.94
C45: REKAPITULACE ČLENĚNÍ SOUPISU PRACÍ
C47: Stavba:
E48: =E7 -> Stavební úpravy Zahradního domu Teplice - ZL
C49: Objekt:
E50: =E9 -> ZL - 13 - výtahová šachta
C52: Místo: | F52: =F12 | I52: Datum: | J52: =IF(J12="","",J12) -> 22. 10. 2021
C54: Zadavatel: | F54: =E15 | I54: Projektant: | J54: =E21
C55: Zhotovitel: | F55: =IF(E18="","",E18) -> POHL cz, a.s. | I55: Zpracovatel: | J55: =E24
C57: Kód dílu - Popis | J57: Cena celkem [CZK]
C59: Náklady stavby celkem | J59: =J88 -> -84065.24 | AU59: -1
D60: HSV - Práce a dodávky HSV | J60: =J89 -> -108968.83
D61: 3 - Svislé a kompletní konstrukce | J61: =J90 -> -17944.74
D62: 4 - Vodorovné konstrukce | J62: =J106 -> -11695.11
D63: 6 - Úpravy povrchů, podlahy a osazování výplní | J63: =J114 -> -74526.63
D64: 998 - Přesun hmot | J64: =J119 -> -4802.35
D65: PSV - Práce a dodávky PSV | J65: =J121 -> 24903.59
D66: 763 - Konstrukce suché výstavby | J66: =J122 -> 3213.23
D67: 777 - Podlahy lité | J67: =J128 -> 5687.77
D68: 783 - Dokončovací práce - nátěry | J68: =J142 -> 16002.59
C75: SOUPIS PRACÍ
C77: Stavba:
E78: =E7 -> Stavební úpravy Zahradního domu Teplice - ZL
C79: Objekt:
E80: =E9 -> ZL - 13 - výtahová šachta
C82: Místo: | F82: =F12 | I82: Datum: | J82: =IF(J12="","",J12) -> 22. 10. 2021
C84: Zadavatel: | F84: =E15 | I84: Projektant: | J84: =E21
C85: Zhotovitel: | F85: =IF(E18="","",E18) -> POHL cz, a.s. | I85: Zpracovatel: | J85: =E24
C87: PČ | D87: Typ | E87: Kód | F87: Popis | G87: MJ | H87: Množství | I87: J.cena [CZK] | J87: Cena celkem [CZK] | K87: Cenová soustava | N87: DPH | O87: J. Nh [h] | P87: Nh celkem [h] | Q87: J. hmotnost [t] | R87: Hmotnost celkem [t] | S87: J. suť [t] | T87: Suť Celkem [t]
C88: Náklady soupisu celkem | J88: =BK88 -> -84065.24 | P88: =P89+P121 -> 9.28389 | R88: =R89+R121 -> -3.5643683 | T88: =T89+T121 -> 0 | AT88: D | AU88: -1 | BK88: =BK89+BK121 -> -84065.24
D89: D | E89: HSV | F89: Práce a dodávky HSV | J89: =BK89 -> -108968.83 | P89: =P90+P106+P114+P119 -> 3.94275 | R89: =R90+R106+R114+R119 -> -3.6686845 | T89: =T90+T106+T114+T119 -> 0 | AR89: 1 | AT89: D | AU89: 0 | AY89: ROZPOCET | BK89: =BK90+BK106+BK114+BK119 -> -108968.83
D90: D | E90: 3 | F90: Svislé a kompletní konstrukce | J90: =BK90 -> -17944.74 | P90: =SUM(P91:P105) -> 3.94275 | R90: =SUM(R91:R105) -> -0.1661651 | T90: =SUM(T91:T105) -> 0 | AR90: 1 | AT90: D | AU90: 1 | AY90: ROZPOCET | BK90: =SUM(BK91:BK105) -> -17944.74
C91: 1 | D91: K | E91: 311113151 | F91: Nadzákladové zdi z tvárnic ztraceného bednění betonových hladkých, včetně výplně z betonu třídy C 25/30, tloušťky zdiva 150 mm | G91: m2 | H91: 3.75 | I91: 1100 | J91: =ROUND(I91*H91,2) -> 4125 | N91: základní | O91: 0.617 | P91: =O91*H91 -> 2.31375 | Q91: 0.36277 | R91: =Q91*H91 -> 1.3603875 | S91: 0 | T91: =S91*H91 -> 0 | AR91: 4 | AT91: K | AU91: 2 | AY91: ROZPOCET | BE91: =IF(N91="základní",J91,0) -> 4125 | BF91: =IF(N91="snížená",J91,0) -> 0 | BG91: =IF(N91="zákl. přenesená",J91,0) -> 0 | BH91: =IF(N91="sníž. přenesená",J91,0) -> 0 | BI91: =IF(N91="nulová",J91,0) -> 0 | BJ91: 1 | BK91: =ROUND(I91*H91,2) -> 4125 | BL91: 4 | BM91: -1428104155
D92: Online PSC | F92: https://podminky.urs.cz/item/CS_URS_2022_02/311113151 | AT92: Online PSC | AU92: 2
C93: 2 | D93: K | E93: 311113154 | F93: Nadzákladové zdi z tvárnic ztraceného bednění betonových hladkých, včetně výplně z betonu třídy C 25/30, tloušťky zdiva přes 250 do 300 mm | G93: m2 | H93: 1.5 | I93: 1860 | J93: =ROUND(I93*H93,2) -> 2790 | N93: základní | O93: 1.086 | P93: =O93*H93 -> 1.629 | Q93: 0.71546 | R93: =Q93*H93 -> 1.07319 | S93: 0 | T93: =S93*H93 -> 0 | AR93: 4 | AT93: K | AU93: 2 | AY93: ROZPOCET | BE93: =IF(N93="základní",J93,0) -> 2790 | BF93: =IF(N93="snížená",J93,0) -> 0 | BG93: =IF(N93="zákl. přenesená",J93,0) -> 0 | BH93: =IF(N93="sníž. přenesená",J93,0) -> 0 | BI93: =IF(N93="nulová",J93,0) -> 0 | BJ93: 1 | BK93: =ROUND(I93*H93,2) -> 2790 | BL93: 4 | BM93: -1326068130
D94: Online PSC | F94: https://podminky.urs.cz/item/CS_URS_2022_02/311113154 | AT94: Online PSC | AU94: 2
C95: 3 | D95: K | E95: 311321814 | F95: Nadzákladové zdi z betonu železového (bez výztuže) nosné pohledového (v přírodní barvě drtí a přísad) tř. C 25/30 | G95: m3 | H95: -1.04 | I95: 6481.5 | J95: =ROUND(I95*H95,2) -> -6740.76 | N95: základní | O95: 0 | P95: =O95*H95 -> 0 | Q95: 2.45329 | R95: =Q95*H95 -> -2.5514216 | S95: 0 | T95: =S95*H95 -> 0 | AR95: 4 | AT95: K | AU95: 2 | AY95: ROZPOCET | BE95: =IF(N95="základní",J95,0) -> -6740.76 | BF95: =IF(N95="snížená",J95,0) -> 0 | BG95: =IF(N95="zákl. přenesená",J95,0) -> 0 | BH95: =IF(N95="sníž. přenesená",J95,0) -> 0 | BI95: =IF(N95="nulová",J95,0) -> 0 | BJ95: 1 | BK95: =ROUND(I95*H95,2) -> -6740.76 | BL95: 4 | BM95: 1974853360
D96: VV | F96: "stěny výtahové šachty" -(1,9*0,3*2+1,8*0,15+1,8*0,18)*0,6 | H96: -1.04 | AT96: VV | AU96: 2 | AV96: 2 | AW96: True | AX96: 0 | AY96: ROZPOCET
D97: VV | F97: Součet | H97: -1.04 | AT97: VV | AU97: 2 | AV97: 4 | AW97: False | AX97: 1 | AY97: ROZPOCET
C98: 4 | D98: K | E98: 311351121 | F98: Bednění nadzákladových zdí nosných rovné oboustranné za každou stranu zřízení | G98: m2 | H98: -9.204 | I98: 1406.2 | J98: =ROUND(I98*H98,2) -> -12942.66 | N98: základní | O98: 0 | P98: =O98*H98 -> 0 | Q98: 0.00275 | R98: =Q98*H98 -> -0.025311 | S98: 0 | T98: =S98*H98 -> 0 | AR98: 4 | AT98: K | AU98: 2 | AY98: ROZPOCET | BE98: =IF(N98="základní",J98,0) -> -12942.66 | BF98: =IF(N98="snížená",J98,0) -> 0 | BG98: =IF(N98="zákl. přenesená",J98,0) -> 0 | BH98: =IF(N98="sníž. přenesená",J98,0) -> 0 | BI98: =IF(N98="nulová",J98,0) -> 0 | BJ98: 1 | BK98: =ROUND(I98*H98,2) -> -12942.66 | BL98: 4 | BM98: -230099498
D99: VV | F99: "stěny výtahové šachty" -(2,4*2+1,9*2+1,8*2+1,57*2)*0,6 | H99: -9.204 | AT99: VV | AU99: 2 | AV99: 2 | AW99: True | AX99: 1 | AY99: ROZPOCET
C100: 5 | D100: K | E100: 311351122 | F100: Bednění nadzákladových zdí nosných rovné oboustranné za každou stranu odstranění | G100: m2 | H100: -9.204 | I100: 281.2 | J100: =ROUND(I100*H100,2) -> -2588.16 | N100: základní | O100: 0 | P100: =O100*H100 -> 0 | Q100: 0 | R100: =Q100*H100 -> 0 | S100: 0 | T100: =S100*H100 -> 0 | AR100: 4 | AT100: K | AU100: 2 | AY100: ROZPOCET | BE100: =IF(N100="základní",J100,0) -> -2588.16 | BF100: =IF(N100="snížená",J100,0) -> 0 | BG100: =IF(N100="zákl. přenesená",J100,0) -> 0 | BH100: =IF(N100="sníž. přenesená",J100,0) -> 0 | BI100: =IF(N100="nulová",J100,0) -> 0 | BJ100: 1 | BK100: =ROUND(I100*H100,2) -> -2588.16 | BL100: 4 | BM100: -1479888418
C101: 6 | D101: K | E101: 311351911 | F101: Bednění nadzákladových zdí nosných Příplatek k cenám bednění za pohledový beton | G101: m2 | H101: -9.204 | I101: 281.2 | J101: =ROUND(I101*H101,2) -> -2588.16 | N101: základní | O101: 0 | P101: =O101*H101 -> 0 | Q101: 0.0025 | R101: =Q101*H101 -> -0.02301 | S101: 0 | T101: =S101*H101 -> 0 | AR101: 4 | AT101: K | AU101: 2 | AY101: ROZPOCET | BE101: =IF(N101="základní",J101,0) -> -2588.16 | BF101: =IF(N101="snížená",J101,0) -> 0 | BG101: =IF(N101="zákl. přenesená",J101,0) -> 0 | BH101: =IF(N101="sníž. přenesená",J101,0) -> 0 | BI101: =IF(N101="nulová",J101,0) -> 0 | BJ101: 1 | BK101: =ROUND(I101*H101,2) -> -2588.16 | BL101: 4 | BM101: -1088464886
C102: 7 | D102: K | E102: 311361821 | F102: Výztuž nadzákladových zdí nosných svislých nebo odkloněných od svislice, rovných nebo oblých z betonářské oceli 10 505 (R) nebo BSt 500 | G102: t | H102: 0 | I102: 70310 | J102: =ROUND(I102*H102,2) -> 0 | N102: základní | O102: 0 | P102: =O102*H102 -> 0 | Q102: 1.04922 | R102: =Q102*H102 -> 0 | S102: 0 | T102: =S102*H102 -> 0 | AR102: 4 | AT102: K | AU102: 2 | AY102: ROZPOCET | BE102: =IF(N102="základní",J102,0) -> 0 | BF102: =IF(N102="snížená",J102,0) -> 0 | BG102: =IF(N102="zákl. přenesená",J102,0) -> 0 | BH102: =IF(N102="sníž. přenesená",J102,0) -> 0 | BI102: =IF(N102="nulová",J102,0) -> 0 | BJ102: 1 | BK102: =ROUND(I102*H102,2) -> 0 | BL102: 4 | BM102: -1603776304
D103: VV | F103: "výztuž ztraceného bednění" 0,061 | H103: 0.061 | AT103: VV | AU103: 2 | AV103: 2 | AW103: True | AX103: 0 | AY103: ROZPOCET
D104: VV | F104: "odpočet výztuže v poměru k původnímu betonu" -0,059*1,04 | H104: -0.061 | AT104: VV | AU104: 2 | AV104: 2 | AW104: True | AX104: 0 | AY104: ROZPOCET
D105: VV | F105: Součet | H105: 0 | AT105: VV | AU105: 2 | AV105: 4 | AW105: True | AX105: 1 | AY105: ROZPOCET
D106: D | E106: 4 | F106: Vodorovné konstrukce | J106: =BK106 -> -11695.11 | P106: =SUM(P107:P113) -> 0 | R106: =SUM(R107:R113) -> -1.3625893 | T106: =SUM(T107:T113) -> 0 | AR106: 1 | AT106: D | AU106: 1 | AY106: ROZPOCET | BK106: =SUM(BK107:BK113) -> -11695.11
C107: 8 | D107: K | E107: 411321414 | F107: Stropy z betonu železového (bez výztuže) stropů deskových, plochých střech, desek balkonových, desek hřibových stropů včetně hlavic hřibových sloupů tř. C 25/30-XC1 | G107: m3 | H107: -0.547 | I107: 9479.2 | J107: =ROUND(I107*H107,2) -> -5185.12 | N107: základní | O107: 0 | P107: =O107*H107 -> 0 | Q107: 2.45343 | R107: =Q107*H107 -> -1.3420262 | S107: 0 | T107: =S107*H107 -> 0 | AR107: 4 | AT107: K | AU107: 2 | AY107: ROZPOCET | BE107: =IF(N107="základní",J107,0) -> -5185.12 | BF107: =IF(N107="snížená",J107,0) -> 0 | BG107: =IF(N107="zákl. přenesená",J107,0) -> 0 | BH107: =IF(N107="sníž. přenesená",J107,0) -> 0 | BI107: =IF(N107="nulová",J107,0) -> 0 | BJ107: 1 | BK107: =ROUND(I107*H107,2) -> -5185.12 | BL107: 4 | BM107: -484636723
D108: VV | F108: "stropní deska výtahové šachty" -2,4*1,9*0,12 | H108: -0.547 | AT108: VV | AU108: 2 | AV108: 2 | AW108: True | AX108: 0 | AY108: ROZPOCET
D109: VV | F109: Součet | H109: -0.547 | AT109: VV | AU109: 2 | AV109: 4 | AW109: False | AX109: 1 | AY109: ROZPOCET
C110: 9 | D110: K | E110: 411351011 | F110: Bednění stropních konstrukcí - bez podpěrné konstrukce desek tloušťky stropní desky přes 5 do 25 cm zřízení | G110: m2 | H110: -3.858 | I110: 1406.2 | J110: =ROUND(I110*H110,2) -> -5425.12 | N110: základní | O110: 0 | P110: =O110*H110 -> 0 | Q110: 0.00533 | R110: =Q110*H110 -> -0.02056314 | S110: 0 | T110: =S110*H110 -> 0 | AR110: 4 | AT110: K | AU110: 2 | AY110: ROZPOCET | BE110: =IF(N110="základní",J110,0) -> -5425.12 | BF110: =IF(N110="snížená",J110,0) -> 0 | BG110: =IF(N110="zákl. přenesená",J110,0) -> 0 | BH110: =IF(N110="sníž. přenesená",J110,0) -> 0 | BI110: =IF(N110="nulová",J110,0) -> 0 | BJ110: 1 | BK110: =ROUND(I110*H110,2) -> -5425.12 | BL110: 4 | BM110: -109484670
D111: VV | F111: "stropní deska výtahové šachty" -1,8*1,57-(2,4*2+1,9*2)*0,12 | H111: -3.858 | AT111: VV | AU111: 2 | AV111: 2 | AW111: True | AX111: 0 | AY111: ROZPOCET
D112: VV | F112: Součet | H112: -3.858 | AT112: VV | AU112: 2 | AV112: 4 | AW112: False | AX112: 1 | AY112: ROZPOCET
C113: 10 | D113: K | E113: 411351012 | F113: Bednění stropních konstrukcí - bez podpěrné konstrukce desek tloušťky stropní desky přes 5 do 25 cm odstranění | G113: m2 | H113: -3.858 | I113: 281.2 | J113: =ROUND(I113*H113,2) -> -1084.87 | N113: základní | O113: 0 | P113: =O113*H113 -> 0 | Q113: 0 | R113: =Q113*H113 -> 0 | S113: 0 | T113: =S113*H113 -> 0 | AR113: 4 | AT113: K | AU113: 2 | AY113: ROZPOCET | BE113: =IF(N113="základní",J113,0) -> -1084.87 | BF113: =IF(N113="snížená",J113,0) -> 0 | BG113: =IF(N113="zákl. přenesená",J113,0) -> 0 | BH113: =IF(N113="sníž. přenesená",J113,0) -> 0 | BI113: =IF(N113="nulová",J113,0) -> 0 | BJ113: 1 | BK113: =ROUND(I113*H113,2) -> -1084.87 | BL113: 4 | BM113: 503262117
D114: D | E114: 6 | F114: Úpravy povrchů, podlahy a osazování výplní | J114: =BK114 -> -74526.63 | P114: =SUM(P115:P118) -> 0 | R114: =SUM(R115:R118) -> -2.13993 | T114: =SUM(T115:T118) -> 0 | AR114: 1 | AT114: D | AU114: 1 | AY114: ROZPOCET | BK114: =SUM(BK115:BK118) -> -74526.63
C115: 11 | D115: K | E115: 612131111 | F115: Podkladní a spojovací vrstva vnitřních omítaných ploch polymercementový spojovací můstek nanášený ručně stěn | G115: m2 | H115: -142.662 | I115: 137.1 | J115: =ROUND(I115*H115,2) -> -19558.96 | N115: základní | O115: 0 | P115: =O115*H115 -> 0 | Q115: 0.0014 | R115: =Q115*H115 -> -0.1997268 | S115: 0 | T115: =S115*H115 -> 0 | AR115: 4 | AT115: K | AU115: 2 | AY115: ROZPOCET | BE115: =IF(N115="základní",J115,0) -> -19558.96 | BF115: =IF(N115="snížená",J115,0) -> 0 | BG115: =IF(N115="zákl. přenesená",J115,0) -> 0 | BH115: =IF(N115="sníž. přenesená",J115,0) -> 0 | BI115: =IF(N115="nulová",J115,0) -> 0 | BJ115: 1 | BK115: =ROUND(I115*H115,2) -> -19558.96 | BL115: 4 | BM115: 1260932406
C116: 12 | D116: K | E116: 617321121 | F116: Omítka vápenocementová vnitřních ploch nanášená ručně jednovrstvá, tloušťky do 10 mm hladká uzavřených nebo omezených prostor světlíků nebo výtahových šachet | G116: m2 | H116: -142.662 | I116: 385.3 | J116: =ROUND(I116*H116,2) -> -54967.67 | N116: základní | O116: 0 | P116: =O116*H116 -> 0 | Q116: 0.0136 | R116: =Q116*H116 -> -1.9402032 | S116: 0 | T116: =S116*H116 -> 0 | AR116: 4 | AT116: K | AU116: 2 | AY116: ROZPOCET | BE116: =IF(N116="základní",J116,0) -> -54967.67 | BF116: =IF(N116="snížená",J116,0) -> 0 | BG116: =IF(N116="zákl. přenesená",J116,0) -> 0 | BH116: =IF(N116="sníž. přenesená",J116,0) -> 0 | BI116: =IF(N116="nulová",J116,0) -> 0 | BJ116: 1 | BK116: =ROUND(I116*H116,2) -> -54967.67 | BL116: 4 | BM116: 258257006
D117: VV | F117: "omítka stěn výtahové šachty" -(2,4*2+1,9*2+1,8*2+1,57*2)*9,3 | H117: -142.662 | AT117: VV | AU117: 2 | AV117: 2 | AW117: True | AX117: 0 | AY117: ROZPOCET
D118: VV | F118: Součet | H118: -142.662 | AT118: VV | AU118: 2 | AV118: 4 | AW118: False | AX118: 1 | AY118: ROZPOCET
D119: D | E119: 998 | F119: Přesun hmot | J119: =BK119 -> -4802.35 | P119: =P120 -> 0 | R119: =R120 -> 0 | T119: =T120 -> 0 | AR119: 1 | AT119: D | AU119: 1 | AY119: ROZPOCET | BK119: =BK120 -> -4802.35
C120: 13 | D120: K | E120: 998018002 | F120: Přesun hmot pro budovy občanské výstavby, bydlení, výrobu a služby ruční - bez užití mechanizace vodorovná dopravní vzdálenost do 100 m pro budovy s jakoukoliv nosnou konstrukcí výšky přes 6 do 12 m | G120: t | H120: -3.669 | I120: 1308.9 | J120: =ROUND(I120*H120,2) -> -4802.35 | N120: základní | O120: 0 | P120: =O120*H120 -> 0 | Q120: 0 | R120: =Q120*H120 -> 0 | S120: 0 | T120: =S120*H120 -> 0 | AR120: 4 | AT120: K | AU120: 2 | AY120: ROZPOCET | BE120: =IF(N120="základní",J120,0) -> -4802.35 | BF120: =IF(N120="snížená",J120,0) -> 0 | BG120: =IF(N120="zákl. přenesená",J120,0) -> 0 | BH120: =IF(N120="sníž. přenesená",J120,0) -> 0 | BI120: =IF(N120="nulová",J120,0) -> 0 | BJ120: 1 | BK120: =ROUND(I120*H120,2) -> -4802.35 | BL120: 4 | BM120: 1439442184
D121: D | E121: PSV | F121: Práce a dodávky PSV | J121: =BK121 -> 24903.59 | P121: =P122+P128+P142 -> 5.34114 | R121: =R122+R128+R142 -> 0.10431618 | T121: =T122+T128+T142 -> 0 | AR121: 2 | AT121: D | AU121: 0 | AY121: ROZPOCET | BK121: =BK122+BK128+BK142 -> 24903.59
D122: D | E122: 763 | F122: Konstrukce suché výstavby | J122: =BK122 -> 3213.23 | P122: =SUM(P123:P127) -> 3.244248 | R122: =SUM(R123:R127) -> 0.07028262 | T122: =SUM(T123:T127) -> 0 | AR122: 2 | AT122: D | AU122: 1 | AY122: ROZPOCET | BK122: =SUM(BK123:BK127) -> 3213.23
C123: 14 | D123: K | E123: 763131441 | F123: Podhled ze sádrokartonových desek dvouvrstvá zavěšená spodní konstrukce z ocelových profilů CD, UD dvojitě opláštěná deskami protipožárními DF, tl. 2 x 12,5 mm, bez izolace, REI do 120 | G123: m2 | H123: 2.826 | I123: 1120 | J123: =ROUND(I123*H123,2) -> 3165.12 | N123: základní | O123: 1.148 | P123: =O123*H123 -> 3.244248 | Q123: 0.02487 | R123: =Q123*H123 -> 0.07028262 | S123: 0 | T123: =S123*H123 -> 0 | AR123: 16 | AT123: K | AU123: 2 | AY123: ROZPOCET | BE123: =IF(N123="základní",J123,0) -> 3165.12 | BF123: =IF(N123="snížená",J123,0) -> 0 | BG123: =IF(N123="zákl. přenesená",J123,0) -> 0 | BH123: =IF(N123="sníž. přenesená",J123,0) -> 0 | BI123: =IF(N123="nulová",J123,0) -> 0 | BJ123: 1 | BK123: =ROUND(I123*H123,2) -> 3165.12 | BL123: 16 | BM123: -119380882
D124: Online PSC | F124: https://podminky.urs.cz/item/CS_URS_2022_02/763131441 | AT124: Online PSC | AU124: 2
D125: VV | F125: 1,8*1,57 | H125: 2.826 | AT125: VV | AU125: 2 | AV125: 2 | AW125: True | AX125: 1 | AY125: ROZPOCET
C126: 15 | D126: K | E126: 998763402 | F126: Přesun hmot pro konstrukce montované z desek stanovený procentní sazbou (%) z ceny vodorovná dopravní vzdálenost do 50 m v objektech výšky přes 6 do 12 m | G126: % | H126: 31.651 | I126: 1.52 | J126: =ROUND(I126*H126,2) -> 48.11 | N126: základní | O126: 0 | P126: =O126*H126 -> 0 | Q126: 0 | R126: =Q126*H126 -> 0 | S126: 0 | T126: =S126*H126 -> 0 | AR126: 16 | AT126: K | AU126: 2 | AY126: ROZPOCET | BE126: =IF(N126="základní",J126,0) -> 48.11 | BF126: =IF(N126="snížená",J126,0) -> 0 | BG126: =IF(N126="zákl. přenesená",J126,0) -> 0 | BH126: =IF(N126="sníž. přenesená",J126,0) -> 0 | BI126: =IF(N126="nulová",J126,0) -> 0 | BJ126: 1 | BK126: =ROUND(I126*H126,2) -> 48.11 | BL126: 16 | BM126: -2073293994
D127: Online PSC | F127: https://podminky.urs.cz/item/CS_URS_2022_02/998763402 | AT127: Online PSC | AU127: 2
D128: D | E128: 777 | F128: Podlahy lité | J128: =BK128 -> 5687.77 | P128: =SUM(P129:P141) -> 2.096892 | R128: =SUM(R129:R141) -> 0.01834074 | T128: =SUM(T129:T141) -> 0 | AR128: 2 | AT128: D | AU128: 1 | AY128: ROZPOCET | BK128: =SUM(BK129:BK141) -> 5687.77
C129: 16 | D129: K | E129: 777111101 | F129: Příprava podkladu před provedením litých podlah zametení | G129: m2 | H129: 2.826 | I129: 4.29 | J129: =ROUND(I129*H129,2) -> 12.12 | N129: základní | O129: 0.01 | P129: =O129*H129 -> 0.02826 | Q129: 0 | R129: =Q129*H129 -> 0 | S129: 0 | T129: =S129*H129 -> 0 | AR129: 16 | AT129: K | AU129: 2 | AY129: ROZPOCET | BE129: =IF(N129="základní",J129,0) -> 12.12 | BF129: =IF(N129="snížená",J129,0) -> 0 | BG129: =IF(N129="zákl. přenesená",J129,0) -> 0 | BH129: =IF(N129="sníž. přenesená",J129,0) -> 0 | BI129: =IF(N129="nulová",J129,0) -> 0 | BJ129: 1 | BK129: =ROUND(I129*H129,2) -> 12.12 | BL129: 16 | BM129: -10245301
D130: Online PSC | F130: https://podminky.urs.cz/item/CS_URS_2022_02/777111101 | AT130: Online PSC | AU130: 2
D131: VV | F131: 1,8*1,57 | H131: 2.826 | AT131: VV | AU131: 2 | AV131: 2 | AW131: True | AX131: 1 | AY131: ROZPOCET
C132: 17 | D132: K | E132: 777111111 | F132: Příprava podkladu před provedením litých podlah vysátí | G132: m2 | H132: 2.826 | I132: 14.4 | J132: =ROUND(I132*H132,2) -> 40.69 | N132: základní | O132: 0.032 | P132: =O132*H132 -> 0.090432 | Q132: 0 | R132: =Q132*H132 -> 0 | S132: 0 | T132: =S132*H132 -> 0 | AR132: 16 | AT132: K | AU132: 2 | AY132: ROZPOCET | BE132: =IF(N132="základní",J132,0) -> 40.69 | BF132: =IF(N132="snížená",J132,0) -> 0 | BG132: =IF(N132="zákl. přenesená",J132,0) -> 0 | BH132: =IF(N132="sníž. přenesená",J132,0) -> 0 | BI132: =IF(N132="nulová",J132,0) -> 0 | BJ132: 1 | BK132: =ROUND(I132*H132,2) -> 40.69 | BL132: 16 | BM132: 43794838
D133: Online PSC | F133: https://podminky.urs.cz/item/CS_URS_2022_02/777111111 | AT133: Online PSC | AU133: 2
...

Sheet ZL - 14 - slaboproud
L2: >> skryté sloupce << | AT2: {45907b19-3b5e-4e2e-8d06-1e54910b6a50}
AT3: 2
D4: KRYCÍ LIST SOUPISU PRACÍ | M4: v --- níže se nacházejí doplnkové a pomocné údaje k sestavám --- v | AT4: False
D6: Stavba:
E7: ='Rekapitulace stavby'!K6 -> Stavební úpravy Zahradního domu Teplice - ZL
D8: Objekt:
E9: ZL - 14 - slaboproud
D11: KSO: | I11: CC-CZ:
D12: Místo: | I12: Datum: | J12: ='Rekapitulace stavby'!AN8 -> 22. 10. 2021
D14: Zadavatel: | I14: IČ:
I15: DIČ:
D17: Zhotovitel: | I17: IČ:
E18: POHL cz, a.s. | I18: DIČ:
D20: Projektant: | I20: IČ:
I21: DIČ:
D23: Zpracovatel: | I23: IČ:
I24: DIČ:
D26: Poznámka:
D30: Cena bez DPH | J30: =ROUND(J80, 2) -> -181938.9
F32: Základ daně | I32: Sazba daně | J32: Výše daně
D33: DPH | E33: základní | F33: =ROUND((SUM(BE80:BE93)), 2) -> -181938.9 | I33: 0.21 | J33: =ROUND(((SUM(BE80:BE93))*I33), 2) -> -38207.17
E34: snížená | F34: =ROUND((SUM(BF80:BF93)), 2) -> 0 | I34: 0.15 | J34: =ROUND(((SUM(BF80:BF93))*I34), 2) -> 0
E35: zákl. přenesená | F35: =ROUND((SUM(BG80:BG93)), 2) -> 0 | I35: 0.21 | J35: =0 -> 0
E36: sníž. přenesená | F36: =ROUND((SUM(BH80:BH93)), 2) -> 0 | I36: 0.15 | J36: =0 -> 0
E37: nulová | F37: =ROUND((SUM(BI80:BI93)), 2) -> 0 | I37: 0 | J37: =0 -> 0
D39: Cena s DPH | G39: v | H39: CZK | J39: =SUM(J30:J37) -> -220146.07
C45: REKAPITULACE ČLENĚNÍ SOUPISU PRACÍ
C47: Stavba:
E48: =E7 -> Stavební úpravy Zahradního domu Teplice - ZL
C49: Objekt:
E50: =E9 -> ZL - 14 - slaboproud
C52: Místo: | F52: =F12 | I52: Datum: | J52: =IF(J12="","",J12) -> 22. 10. 2021
C54: Zadavatel: | F54: =E15 | I54: Projektant: | J54: =E21
C55: Zhotovitel: | F55: =IF(E18="","",E18) -> POHL cz, a.s. | I55: Zpracovatel: | J55: =E24
C57: Kód dílu - Popis | J57: Cena celkem [CZK]
C59: Náklady stavby celkem | J59: =J80 -> -181938.9 | AU59: -1
D60: HZS - Hodinové zúčtovací sazby | J60: =J81 -> -181938.9
C67: SOUPIS PRACÍ
C69: Stavba:
E70: =E7 -> Stavební úpravy Zahradního domu Teplice - ZL
C71: Objekt:
E72: =E9 -> ZL - 14 - slaboproud
C74: Místo: | F74: =F12 | I74: Datum: | J74: =IF(J12="","",J12) -> 22. 10. 2021
C76: Zadavatel: | F76: =E15 | I76: Projektant: | J76: =E21
C77: Zhotovitel: | F77: =IF(E18="","",E18) -> POHL cz, a.s. | I77: Zpracovatel: | J77: =E24
C79: PČ | D79: Typ | E79: Kód | F79: Popis | G79: MJ | H79: Množství | I79: J.cena [CZK] | J79: Cena celkem [CZK] | K79: Cenová soustava | N79: DPH | O79: J. Nh [h] | P79: Nh celkem [h] | Q79: J. hmotnost [t] | R79: Hmotnost celkem [t] | S79: J. suť [t] | T79: Suť Celkem [t]
C80: Náklady soupisu celkem | J80: =BK80 -> -181938.9 | P80: =P81 -> 0 | R80: =R81 -> 0 | T80: =T81 -> 0 | AT80: D | AU80: -1 | BK80: =BK81 -> -181938.9
D81: D | E81: HZS | F81: Hodinové zúčtovací sazby | J81: =BK81 -> -181938.9 | P81: =SUM(P82:P93) -> 0 | R81: =SUM(R82:R93) -> 0 | T81: =SUM(T82:T93) -> 0 | AR81: 4 | AT81: D | AU81: 0 | AY81: ROZPOCET | BK81: =SUM(BK82:BK93) -> -181938.9
C82: 1 | D82: K | E82: HZS3222 | F82: Hodinové zúčtovací sazby montáží technologických zařízení na stavebních objektech montér slaboproudých zařízení odborný | G82: hod | H82: -80 | I82: 970.3 | J82: =ROUND(I82*H82,2) -> -77624 | N82: základní | O82: 0 | P82: =O82*H82 -> 0 | Q82: 0 | R82: =Q82*H82 -> 0 | S82: 0 | T82: =S82*H82 -> 0 | AR82: 512 | AT82: K | AU82: 1 | AY82: ROZPOCET | BE82: =IF(N82="základní",J82,0) -> -77624 | BF82: =IF(N82="snížená",J82,0) -> 0 | BG82: =IF(N82="zákl. přenesená",J82,0) -> 0 | BH82: =IF(N82="sníž. přenesená",J82,0) -> 0 | BI82: =IF(N82="nulová",J82,0) -> 0 | BJ82: 1 | BK82: =ROUND(I82*H82,2) -> -77624 | BL82: 512 | BM82: -978279691
C83: 2 | D83: M | E83: Mat/HZS-SLB-01 | F83: ústředna s LAN komunikátorem a rádiem (bez GSM komunikátoru) | G83: sbr | H83: -1 | I83: 13634.5 | J83: =ROUND(I83*H83,2) -> -13634.5 | N83: základní | O83: 0 | P83: =O83*H83 -> 0 | Q83: 0 | R83: =Q83*H83 -> 0 | S83: 0 | T83: =S83*H83 -> 0 | AR83: 512 | AT83: M | AU83: 1 | AY83: ROZPOCET | BE83: =IF(N83="základní",J83,0) -> -13634.5 | BF83: =IF(N83="snížená",J83,0) -> 0 | BG83: =IF(N83="zákl. přenesená",J83,0) -> 0 | BH83: =IF(N83="sníž. přenesená",J83,0) -> 0 | BI83: =IF(N83="nulová",J83,0) -> 0 | BJ83: 1 | BK83: =ROUND(I83*H83,2) -> -13634.5 | BL83: 512 | BM83: 101037241
C84: 3 | D84: M | E84: Mat/HZS-SLB-02 | F84: modul LTE komunikátoru | G84: sbr | H84: -1 | I84: 7966.1 | J84: =ROUND(I84*H84,2) -> -7966.1 | N84: základní | O84: 0 | P84: =O84*H84 -> 0 | Q84: 0 | R84: =Q84*H84 -> 0 | S84: 0 | T84: =S84*H84 -> 0 | AR84: 512 | AT84: M | AU84: 1 | AY84: ROZPOCET | BE84: =IF(N84="základní",J84,0) -> -7966.1 | BF84: =IF(N84="snížená",J84,0) -> 0 | BG84: =IF(N84="zákl. přenesená",J84,0) -> 0 | BH84: =IF(N84="sníž. přenesená",J84,0) -> 0 | BI84: =IF(N84="nulová",J84,0) -> 0 | BJ84: 1 | BK84: =ROUND(I84*H84,2) -> -7966.1 | BL84: 512 | BM84: -683314055
C85: 4 | D85: M | E85: Mat/HZS-SLB-03 | F85: sběrnicový přístupový modul s displejem, klávesnicí a RFID | G85: sbr | H85: -3 | I85: 3536.6 | J85: =ROUND(I85*H85,2) -> -10609.8 | N85: základní | O85: 0 | P85: =O85*H85 -> 0 | Q85: 0 | R85: =Q85*H85 -> 0 | S85: 0 | T85: =S85*H85 -> 0 | AR85: 512 | AT85: M | AU85: 1 | AY85: ROZPOCET | BE85: =IF(N85="základní",J85,0) -> -10609.8 | BF85: =IF(N85="snížená",J85,0) -> 0 | BG85: =IF(N85="zákl. přenesená",J85,0) -> 0 | BH85: =IF(N85="sníž. přenesená",J85,0) -> 0 | BI85: =IF(N85="nulová",J85,0) -> 0 | BJ85: 1 | BK85: =ROUND(I85*H85,2) -> -10609.8 | BL85: 512 | BM85: 260588626
C86: 5 | D86: M | E86: Mat/HZS-SLB-04 | F86: sběrnicový expandér – 16 vstupů | G86: sbr | H86: -2 | I86: 4679.8 | J86: =ROUND(I86*H86,2) -> -9359.6 | N86: základní | O86: 0 | P86: =O86*H86 -> 0 | Q86: 0 | R86: =Q86*H86 -> 0 | S86: 0 | T86: =S86*H86 -> 0 | AR86: 512 | AT86: M | AU86: 1 | AY86: ROZPOCET | BE86: =IF(N86="základní",J86,0) -> -9359.6 | BF86: =IF(N86="snížená",J86,0) -> 0 | BG86: =IF(N86="zákl. přenesená",J86,0) -> 0 | BH86: =IF(N86="sníž. přenesená",J86,0) -> 0 | BI86: =IF(N86="nulová",J86,0) -> 0 | BJ86: 1 | BK86: =ROUND(I86*H86,2) -> -9359.6 | BL86: 512 | BM86: 233051440
C87: 6 | D87: M | E87: Mat/HZS-SLB-05 | F87: bezdrátový PIR detektor pohybu | G87: sbr | H87: -7 | I87: 2809.6 | J87: =ROUND(I87*H87,2) -> -19667.2 | N87: základní | O87: 0 | P87: =O87*H87 -> 0 | Q87: 0 | R87: =Q87*H87 -> 0 | S87: 0 | T87: =S87*H87 -> 0 | AR87: 512 | AT87: M | AU87: 1 | AY87: ROZPOCET | BE87: =IF(N87="základní",J87,0) -> -19667.2 | BF87: =IF(N87="snížená",J87,0) -> 0 | BG87: =IF(N87="zákl. přenesená",J87,0) -> 0 | BH87: =IF(N87="sníž. přenesená",J87,0) -> 0 | BI87: =IF(N87="nulová",J87,0) -> 0 | BJ87: 1 | BK87: =ROUND(I87*H87,2) -> -19667.2 | BL87: 512 | BM87: 1308016841
C88: 7 | D88: M | E88: Mat/HZS-SLB-06 | F88: bezdrátový kombinovaný detektor kouře a teploty | G88: sbr | H88: -15 | I88: 2202.1 | J88: =ROUND(I88*H88,2) -> -33031.5 | N88: základní | O88: 0 | P88: =O88*H88 -> 0 | Q88: 0 | R88: =Q88*H88 -> 0 | S88: 0 | T88: =S88*H88 -> 0 | AR88: 512 | AT88: M | AU88: 1 | AY88: ROZPOCET | BE88: =IF(N88="základní",J88,0) -> -33031.5 | BF88: =IF(N88="snížená",J88,0) -> 0 | BG88: =IF(N88="zákl. přenesená",J88,0) -> 0 | BH88: =IF(N88="sníž. přenesená",J88,0) -> 0 | BI88: =IF(N88="nulová",J88,0) -> 0 | BJ88: 1 | BK88: =ROUND(I88*H88,2) -> -33031.5 | BL88: 512 | BM88: -1849439244
C89: 8 | D89: M | E89: Mat/HZS-SLB-07 | F89: sběrnicová siréna vnitřní | G89: sbr | H89: -2 | I89: 980.1 | J89: =ROUND(I89*H89,2) -> -1960.2 | N89: základní | O89: 0 | P89: =O89*H89 -> 0 | Q89: 0 | R89: =Q89*H89 -> 0 | S89: 0 | T89: =S89*H89 -> 0 | AR89: 512 | AT89: M | AU89: 1 | AY89: ROZPOCET | BE89: =IF(N89="základní",J89,0) -> -1960.2 | BF89: =IF(N89="snížená",J89,0) -> 0 | BG89: =IF(N89="zákl. přenesená",J89,0) -> 0 | BH89: =IF(N89="sníž. přenesená",J89,0) -> 0 | BI89: =IF(N89="nulová",J89,0) -> 0 | BJ89: 1 | BK89: =ROUND(I89*H89,2) -> -1960.2 | BL89: 512 | BM89: 1403613779
C90: 9 | D90: M | E90: Mat/HZS-SLB-08 | F90: sběrnicový modul pro připojení bezdrátových komponentů | G90: sbr | H90: -1 | I90: 4661.6 | J90: =ROUND(I90*H90,2) -> -4661.6 | N90: základní | O90: 0 | P90: =O90*H90 -> 0 | Q90: 0 | R90: =Q90*H90 -> 0 | S90: 0 | T90: =S90*H90 -> 0 | AR90: 512 | AT90: M | AU90: 1 | AY90: ROZPOCET | BE90: =IF(N90="základní",J90,0) -> -4661.6 | BF90: =IF(N90="snížená",J90,0) -> 0 | BG90: =IF(N90="zákl. přenesená",J90,0) -> 0 | BH90: =IF(N90="sníž. přenesená",J90,0) -> 0 | BI90: =IF(N90="nulová",J90,0) -> 0 | BJ90: 1 | BK90: =ROUND(I90*H90,2) -> -4661.6 | BL90: 512 | BM90: -2111019440
C91: 10 | D91: M | E91: Mat/HZS-SLB-09 | F91: plastový kryt pro radiový modul | G91: sbr | H91: -1 | I91: 254.5 | J91: =ROUND(I91*H91,2) -> -254.5 | N91: základní | O91: 0 | P91: =O91*H91 -> 0 | Q91: 0 | R91: =Q91*H91 -> 0 | S91: 0 | T91: =S91*H91 -> 0 | AR91: 512 | AT91: M | AU91: 1 | AY91: ROZPOCET | BE91: =IF(N91="základní",J91,0) -> -254.5 | BF91: =IF(N91="snížená",J91,0) -> 0 | BG91: =IF(N91="zákl. přenesená",J91,0) -> 0 | BH91: =IF(N91="sníž. přenesená",J91,0) -> 0 | BI91: =IF(N91="nulová",J91,0) -> 0 | BJ91: 1 | BK91: =ROUND(I91*H91,2) -> -254.5 | BL91: 512 | BM91: -1559898863
C92: 11 | D92: M | E92: Mat/HZS-SLB-10 | F92: bezúdržbový akumulátor | G92: sbr | H92: -1 | I92: 1567.9 | J92: =ROUND(I92*H92,2) -> -1567.9 | N92: základní | O92: 0 | P92: =O92*H92 -> 0 | Q92: 0 | R92: =Q92*H92 -> 0 | S92: 0 | T92: =S92*H92 -> 0 | AR92: 512 | AT92: M | AU92: 1 | AY92: ROZPOCET | BE92: =IF(N92="základní",J92,0) -> -1567.9 | BF92: =IF(N92="snížená",J92,0) -> 0 | BG92: =IF(N92="zákl. přenesená",J92,0) -> 0 | BH92: =IF(N92="sníž. přenesená",J92,0) -> 0 | BI92: =IF(N92="nulová",J92,0) -> 0 | BJ92: 1 | BK92: =ROUND(I92*H92,2) -> -1567.9 | BL92: 512 | BM92: 1218528210
C93: 12 | D93: M | E93: Mat/HZS-SLB-11 | F93: aklalická baterie AA | G93: sbr | H93: -60 | I93: 26.7 | J93: =ROUND(I93*H93,2) -> -1602 | N93: základní | O93: 0 | P93: =O93*H93 -> 0 | Q93: 0 | R93: =Q93*H93 -> 0 | S93: 0 | T93: =S93*H93 -> 0 | AR93: 512 | AT93: M | AU93: 1 | AY93: ROZPOCET | BE93: =IF(N93="základní",J93,0) -> -1602 | BF93: =IF(N93="snížená",J93,0) -> 0 | BG93: =IF(N93="zákl. přenesená",J93,0) -> 0 | BH93: =IF(N93="sníž. přenesená",J93,0) -> 0 | BI93: =IF(N93="nulová",J93,0) -> 0 | BJ93: 1 | BK93: =ROUND(I93*H93,2) -> -1602 | BL93: 512 | BM93: -367573246

Sheet ZL - 15 - elektroinstalac...
L2: >> skryté sloupce << | AT2: {c1938f82-c928-429f-ba91-18cbae9a383e}
AT3: 2
D4: KRYCÍ LIST SOUPISU PRACÍ | M4: v --- níže se nacházejí doplnkové a pomocné údaje k sestavám --- v | AT4: False
D6: Stavba:
E7: ='Rekapitulace stavby'!K6 -> Stavební úpravy Zahradního domu Teplice - ZL
D8: Objekt:
E9: ZL - 15 - elektroinstalace - podsvícení obkladu schodiště
D11: KSO: | I11: CC-CZ:
D12: Místo: | I12: Datum: | J12: ='Rekapitulace stavby'!AN8 -> 22. 10. 2021
D14: Zadavatel: | I14: IČ:
I15: DIČ:
D17: Zhotovitel: | I17: IČ:
E18: POHL cz, a.s. | I18: DIČ:
D20: Projektant: | I20: IČ:
I21: DIČ:
D23: Zpracovatel: | I23: IČ:
I24: DIČ:
D26: Poznámka:
D30: Cena bez DPH | J30: =ROUND(J81, 2) -> 83335.6
F32: Základ daně | I32: Sazba daně | J32: Výše daně
D33: DPH | E33: základní | F33: =ROUND((SUM(BE81:BE89)), 2) -> 83335.6 | I33: 0.21 | J33: =ROUND(((SUM(BE81:BE89))*I33), 2) -> 17500.48
E34: snížená | F34: =ROUND((SUM(BF81:BF89)), 2) -> 0 | I34: 0.15 | J34: =ROUND(((SUM(BF81:BF89))*I34), 2) -> 0
E35: zákl. přenesená | F35: =ROUND((SUM(BG81:BG89)), 2) -> 0 | I35: 0.21 | J35: =0 -> 0
E36: sníž. přenesená | F36: =ROUND((SUM(BH81:BH89)), 2) -> 0 | I36: 0.15 | J36: =0 -> 0
E37: nulová | F37: =ROUND((SUM(BI81:BI89)), 2) -> 0 | I37: 0 | J37: =0 -> 0
D39: Cena s DPH | G39: v | H39: CZK | J39: =SUM(J30:J37) -> 100836.08
C45: REKAPITULACE ČLENĚNÍ SOUPISU PRACÍ
C47: Stavba:
E48: =E7 -> Stavební úpravy Zahradního domu Teplice - ZL
C49: Objekt:
E50: =E9 -> ZL - 15 - elektroinstalace - podsvícení obkladu schodiště
C52: Místo: | F52: =F12 | I52: Datum: | J52: =IF(J12="","",J12) -> 22. 10. 2021
C54: Zadavatel: | F54: =E15 | I54: Projektant: | J54: =E21
C55: Zhotovitel: | F55: =IF(E18="","",E18) -> POHL cz, a.s. | I55: Zpracovatel: | J55: =E24
C57: Kód dílu - Popis | J57: Cena celkem [CZK]
C59: Náklady stavby celkem | J59: =J81 -> 83335.6 | AU59: -1
D60: M - Práce a dodávky M | J60: =J82 -> 83335.6
D61: 21-M - Elektromontáže | J61: =J83 -> 83335.6
C68: SOUPIS PRACÍ
C70: Stavba:
E71: =E7 -> Stavební úpravy Zahradního domu Teplice - ZL
C72: Objekt:
E73: =E9 -> ZL - 15 - elektroinstalace - podsvícení obkladu schodiště
C75: Místo: | F75: =F12 | I75: Datum: | J75: =IF(J12="","",J12) -> 22. 10. 2021
C77: Zadavatel: | F77: =E15 | I77: Projektant: | J77: =E21
C78: Zhotovitel: | F78: =IF(E18="","",E18) -> POHL cz, a.s. | I78: Zpracovatel: | J78: =E24
C80: PČ | D80: Typ | E80: Kód | F80: Popis | G80: MJ | H80: Množství | I80: J.cena [CZK] | J80: Cena celkem [CZK] | K80: Cenová soustava | N80: DPH | O80: J. Nh [h] | P80: Nh celkem [h] | Q80: J. hmotnost [t] | R80: Hmotnost celkem [t] | S80: J. suť [t] | T80: Suť Celkem [t]
C81: Náklady soupisu celkem | J81: =BK81 -> 83335.6 | P81: =P82 -> 64.032 | R81: =R82 -> 0 | T81: =T82 -> 0 | AT81: D | AU81: -1 | BK81: =BK82 -> 83335.6
D82: D | E82: M | F82: Práce a dodávky M | J82: =BK82 -> 83335.6 | P82: =P83 -> 64.032 | R82: =R83 -> 0 | T82: =T83 -> 0 | AR82: 3 | AT82: D | AU82: 0 | AY82: ROZPOCET | BK82: =BK83 -> 83335.6
D83: D | E83: 21-M | F83: Elektromontáže | J83: =BK83 -> 83335.6 | P83: =SUM(P84:P89) -> 64.032 | R83: =SUM(R84:R89) -> 0 | T83: =SUM(T84:T89) -> 0 | AR83: 3 | AT83: D | AU83: 1 | AY83: ROZPOCET | BK83: =SUM(BK84:BK89) -> 83335.6
C84: 1 | D84: K | E84: 210R01 | F84: D+M podsvícení obkladu schodiště | G84: kpl | H84: 6 | I84: 8000 | J84: =ROUND(I84*H84,2) -> 48000 | N84: základní | O84: 0.928 | P84: =O84*H84 -> 5.568 | Q84: 0 | R84: =Q84*H84 -> 0 | S84: 0 | T84: =S84*H84 -> 0 | AR84: 64 | AT84: K | AU84: 2 | AY84: ROZPOCET | BE84: =IF(N84="základní",J84,0) -> 48000 | BF84: =IF(N84="snížená",J84,0) -> 0 | BG84: =IF(N84="zákl. přenesená",J84,0) -> 0 | BH84: =IF(N84="sníž. přenesená",J84,0) -> 0 | BI84: =IF(N84="nulová",J84,0) -> 0 | BJ84: 1 | BK84: =ROUND(I84*H84,2) -> 48000 | BL84: 64 | BM84: -765674794
D85: VV | F85: "Led pásek, zdroj 12 V, ovládání, regulace ovládání" | AT85: VV | AU85: 2 | AV85: 1 | AW85: True | AX85: 0 | AY85: ROZPOCET
D86: VV | F86: 6 | H86: 6 | AT86: VV | AU86: 2 | AV86: 2 | AW86: True | AX86: 1 | AY86: ROZPOCET
C87: 2 | D87: K | E87: 210R02 | F87: D+M rozvodů Elektro CYKY 3x2,5 vč.chráničky | G87: m | H87: 30 | I87: 85 | J87: =ROUND(I87*H87,2) -> 2550 | N87: základní | O87: 0.928 | P87: =O87*H87 -> 27.84 | Q87: 0 | R87: =Q87*H87 -> 0 | S87: 0 | T87: =S87*H87 -> 0 | AR87: 64 | AT87: K | AU87: 2 | AY87: ROZPOCET | BE87: =IF(N87="základní",J87,0) -> 2550 | BF87: =IF(N87="snížená",J87,0) -> 0 | BG87: =IF(N87="zákl. přenesená",J87,0) -> 0 | BH87: =IF(N87="sníž. přenesená",J87,0) -> 0 | BI87: =IF(N87="nulová",J87,0) -> 0 | BJ87: 1 | BK87: =ROUND(I87*H87,2) -> 2550 | BL87: 64 | BM87: -368943358
C88: 3 | D88: K | E88: 210R03 | F88: úpravy rozvodnice a jističů | G88: kpl | H88: 1 | I88: 1736 | J88: =ROUND(I88*H88,2) -> 1736 | N88: základní | O88: 0.928 | P88: =O88*H88 -> 0.928 | Q88: 0 | R88: =Q88*H88 -> 0 | S88: 0 | T88: =S88*H88 -> 0 | AR88: 64 | AT88: K | AU88: 2 | AY88: ROZPOCET | BE88: =IF(N88="základní",J88,0) -> 1736 | BF88: =IF(N88="snížená",J88,0) -> 0 | BG88: =IF(N88="zákl. přenesená",J88,0) -> 0 | BH88: =IF(N88="sníž. přenesená",J88,0) -> 0 | BI88: =IF(N88="nulová",J88,0) -> 0 | BJ88: 1 | BK88: =ROUND(I88*H88,2) -> 1736 | BL88: 64 | BM88: -281538545
C89: 4 | D89: K | E89: 210R04 | F89: stavební přípomoce, drážky, kapsy, začistění | G89: HZS | H89: 32 | I89: 970.3 | J89: =ROUND(I89*H89,2) -> 31049.6 | N89: základní | O89: 0.928 | P89: =O89*H89 -> 29.696 | Q89: 0 | R89: =Q89*H89 -> 0 | S89: 0 | T89: =S89*H89 -> 0 | AR89: 64 | AT89: K | AU89: 2 | AY89: ROZPOCET | BE89: =IF(N89="základní",J89,0) -> 31049.6 | BF89: =IF(N89="snížená",J89,0) -> 0 | BG89: =IF(N89="zákl. přenesená",J89,0) -> 0 | BH89: =IF(N89="sníž. přenesená",J89,0) -> 0 | BI89: =IF(N89="nulová",J89,0) -> 0 | BJ89: 1 | BK89: =ROUND(I89*H89,2) -> 31049.6 | BL89: 64 | BM89: -681178205

Sheet ZL - 16 - změna sanitární...
L2: >> skryté sloupce << | AT2: {80ecb02d-d1eb-4c15-830e-a8c2b887aad0}
AT3: 2
D4: KRYCÍ LIST SOUPISU PRACÍ | M4: v --- níže se nacházejí doplnkové a pomocné údaje k sestavám --- v | AT4: False
D6: Stavba:
E7: ='Rekapitulace stavby'!K6 -> Stavební úpravy Zahradního domu Teplice - ZL
D8: Objekt:
E9: ZL - 16 - změna sanitárního vybavení
D11: KSO: | I11: CC-CZ:
D12: Místo: | I12: Datum: | J12: ='Rekapitulace stavby'!AN8 -> 22. 10. 2021
D14: Zadavatel: | I14: IČ:
I15: DIČ:
D17: Zhotovitel: | I17: IČ:
E18: POHL cz, a.s. | I18: DIČ:
D20: Projektant: | I20: IČ:
I21: DIČ:
D23: Zpracovatel: | I23: IČ:
I24: DIČ:
D26: Poznámka:
D30: Cena bez DPH | J30: =ROUND(J81, 2) -> -45114.2
F32: Základ daně | I32: Sazba daně | J32: Výše daně
D33: DPH | E33: základní | F33: =ROUND((SUM(BE81:BE92)), 2) -> -45114.2 | I33: 0.21 | J33: =ROUND(((SUM(BE81:BE92))*I33), 2) -> -9473.98
E34: snížená | F34: =ROUND((SUM(BF81:BF92)), 2) -> 0 | I34: 0.15 | J34: =ROUND(((SUM(BF81:BF92))*I34), 2) -> 0
E35: zákl. přenesená | F35: =ROUND((SUM(BG81:BG92)), 2) -> 0 | I35: 0.21 | J35: =0 -> 0
E36: sníž. přenesená | F36: =ROUND((SUM(BH81:BH92)), 2) -> 0 | I36: 0.15 | J36: =0 -> 0
E37: nulová | F37: =ROUND((SUM(BI81:BI92)), 2) -> 0 | I37: 0 | J37: =0 -> 0
D39: Cena s DPH | G39: v | H39: CZK | J39: =SUM(J30:J37) -> -54588.18
C45: REKAPITULACE ČLENĚNÍ SOUPISU PRACÍ
C47: Stavba:
E48: =E7 -> Stavební úpravy Zahradního domu Teplice - ZL
C49: Objekt:
E50: =E9 -> ZL - 16 - změna sanitárního vybavení
C52: Místo: | F52: =F12 | I52: Datum: | J52: =IF(J12="","",J12) -> 22. 10. 2021
C54: Zadavatel: | F54: =E15 | I54: Projektant: | J54: =E21
C55: Zhotovitel: | F55: =IF(E18="","",E18) -> POHL cz, a.s. | I55: Zpracovatel: | J55: =E24
C57: Kód dílu - Popis | J57: Cena celkem [CZK]
C59: Náklady stavby celkem | J59: =J81 -> -45114.2 | AU59: -1
D60: PSV - Práce a dodávky PSV | J60: =J82 -> -45114.2
D61: 725 - Zdravotechnika - zařizovací předměty | J61: =J83 -> -45114.2
C68: SOUPIS PRACÍ
C70: Stavba:
E71: =E7 -> Stavební úpravy Zahradního domu Teplice - ZL
C72: Objekt:
E73: =E9 -> ZL - 16 - změna sanitárního vybavení
C75: Místo: | F75: =F12 | I75: Datum: | J75: =IF(J12="","",J12) -> 22. 10. 2021
C77: Zadavatel: | F77: =E15 | I77: Projektant: | J77: =E21
C78: Zhotovitel: | F78: =IF(E18="","",E18) -> POHL cz, a.s. | I78: Zpracovatel: | J78: =E24
C80: PČ | D80: Typ | E80: Kód | F80: Popis | G80: MJ | H80: Množství | I80: J.cena [CZK] | J80: Cena celkem [CZK] | K80: Cenová soustava | N80: DPH | O80: J. Nh [h] | P80: Nh celkem [h] | Q80: J. hmotnost [t] | R80: Hmotnost celkem [t] | S80: J. suť [t] | T80: Suť Celkem [t]
C81: Náklady soupisu celkem | J81: =BK81 -> -45114.2 | P81: =P82 -> 0 | R81: =R82 -> 0.02851 | T81: =T82 -> 0 | AT81: D | AU81: -1 | BK81: =BK82 -> -45114.2
D82: D | E82: PSV | F82: Práce a dodávky PSV | J82: =BK82 -> -45114.2 | P82: =P83 -> 0 | R82: =R83 -> 0.02851 | T82: =T83 -> 0 | AR82: 2 | AT82: D | AU82: 0 | AY82: ROZPOCET | BK82: =BK83 -> -45114.2
D83: D | E83: 725 | F83: Zdravotechnika - zařizovací předměty | J83: =BK83 -> -45114.2 | P83: =SUM(P84:P92) -> 0 | R83: =SUM(R84:R92) -> 0.02851 | T83: =SUM(T84:T92) -> 0 | AR83: 2 | AT83: D | AU83: 1 | AY83: ROZPOCET | BK83: =SUM(BK84:BK92) -> -45114.2
C84: 1 | D84: K | E84: 725119122.1 | F84: Zařízení záchodů montáž klozetových mís kombi | G84: kus | H84: 1 | I84: 2292.1 | J84: =ROUND(I84*H84,2) -> 2292.1 | N84: základní | O84: 0 | P84: =O84*H84 -> 0 | Q84: 0.00183 | R84: =Q84*H84 -> 0.00183 | S84: 0 | T84: =S84*H84 -> 0 | AR84: 16 | AT84: K | AU84: 2 | AY84: ROZPOCET | BE84: =IF(N84="základní",J84,0) -> 2292.1 | BF84: =IF(N84="snížená",J84,0) -> 0 | BG84: =IF(N84="zákl. přenesená",J84,0) -> 0 | BH84: =IF(N84="sníž. přenesená",J84,0) -> 0 | BI84: =IF(N84="nulová",J84,0) -> 0 | BJ84: 1 | BK84: =ROUND(I84*H84,2) -> 2292.1 | BL84: 16 | BM84: 2121038576
C85: 2 | D85: M | E85: 55167394 | F85: sedátko klozetové duroplastové bílé antibakteriální | G85: kus | H85: 1 | I85: 629 | J85: =ROUND(I85*H85,2) -> 629 | N85: základní | O85: 0 | P85: =O85*H85 -> 0 | Q85: 0.00128 | R85: =Q85*H85 -> 0.00128 | S85: 0 | T85: =S85*H85 -> 0 | AR85: 32 | AT85: M | AU85: 2 | AY85: ROZPOCET | BE85: =IF(N85="základní",J85,0) -> 629 | BF85: =IF(N85="snížená",J85,0) -> 0 | BG85: =IF(N85="zákl. přenesená",J85,0) -> 0 | BH85: =IF(N85="sníž. přenesená",J85,0) -> 0 | BI85: =IF(N85="nulová",J85,0) -> 0 | BJ85: 1 | BK85: =ROUND(I85*H85,2) -> 629 | BL85: 16 | BM85: 822025417
C86: 3 | D86: M | E86: 64234201 | F86: mísa keramická ke kombiklozetu bílá hluboké splachování odpad svislý 360x670x480mm | G86: kus | H86: 1 | I86: 4720 | J86: =ROUND(I86*H86,2) -> 4720 | N86: základní | O86: 0 | P86: =O86*H86 -> 0 | Q86: 0.0227 | R86: =Q86*H86 -> 0.0227 | S86: 0 | T86: =S86*H86 -> 0 | AR86: 128 | AT86: M | AU86: 2 | AY86: ROZPOCET | BE86: =IF(N86="základní",J86,0) -> 4720 | BF86: =IF(N86="snížená",J86,0) -> 0 | BG86: =IF(N86="zákl. přenesená",J86,0) -> 0 | BH86: =IF(N86="sníž. přenesená",J86,0) -> 0 | BI86: =IF(N86="nulová",J86,0) -> 0 | BJ86: 1 | BK86: =ROUND(I86*H86,2) -> 4720 | BL86: 128 | BM86: -2055861106
C87: 4 | D87: M | E87: 64234061 | F87: nádrž kombinovaného klozetu keramická se spodním napouštěním a splachovacím mechanismem bílá 365x185mm | G87: kus | H87: 1 | I87: 3100 | J87: =ROUND(I87*H87,2) -> 3100 | N87: základní | O87: 0 | P87: =O87*H87 -> 0 | Q87: 0.0102 | R87: =Q87*H87 -> 0.0102 | S87: 0 | T87: =S87*H87 -> 0 | AR87: 128 | AT87: M | AU87: 2 | AY87: ROZPOCET | BE87: =IF(N87="základní",J87,0) -> 3100 | BF87: =IF(N87="snížená",J87,0) -> 0 | BG87: =IF(N87="zákl. přenesená",J87,0) -> 0 | BH87: =IF(N87="sníž. přenesená",J87,0) -> 0 | BI87: =IF(N87="nulová",J87,0) -> 0 | BJ87: 1 | BK87: =ROUND(I87*H87,2) -> 3100 | BL87: 128 | BM87: -869785947
C88: 5 | D88: K | E88: 725119124 | F88: Zařízení záchodů montáž klozetových mís nerezových | G88: kus | H88: -1 | I88: 781.8 | J88: =ROUND(I88*H88,2) -> -781.8 | N88: základní | O88: 0 | P88: =O88*H88 -> 0 | Q88: 0.0001 | R88: =Q88*H88 -> -0.0001 | S88: 0 | T88: =S88*H88 -> 0 | AR88: 16 | AT88: K | AU88: 2 | AY88: ROZPOCET | BE88: =IF(N88="základní",J88,0) -> -781.8 | BF88: =IF(N88="snížená",J88,0) -> 0 | BG88: =IF(N88="zákl. přenesená",J88,0) -> 0 | BH88: =IF(N88="sníž. přenesená",J88,0) -> 0 | BI88: =IF(N88="nulová",J88,0) -> 0 | BJ88: 1 | BK88: =ROUND(I88*H88,2) -> -781.8 | BL88: 16 | BM88: -643199222
C89: 6 | D89: M | E89: AZP.AUZ04INV | F89: nerezový klozet pro tělesně postižené, na postavení, antivandal | G89: kus | H89: -1 | I89: 43985.9 | J89: =ROUND(I89*H89,2) -> -43985.9 | N89: základní | O89: 0 | P89: =O89*H89 -> 0 | Q89: 0.025 | R89: =Q89*H89 -> -0.025 | S89: 0 | T89: =S89*H89 -> 0 | AR89: 32 | AT89: M | AU89: 2 | AY89: ROZPOCET | BE89: =IF(N89="základní",J89,0) -> -43985.9 | BF89: =IF(N89="snížená",J89,0) -> 0 | BG89: =IF(N89="zákl. přenesená",J89,0) -> 0 | BH89: =IF(N89="sníž. přenesená",J89,0) -> 0 | BI89: =IF(N89="nulová",J89,0) -> 0 | BJ89: 1 | BK89: =ROUND(I89*H89,2) -> -43985.9 | BL89: 16 | BM89: 421884979
C90: 7 | D90: K | E90: 725219102 | F90: Umyvadla montáž umyvadel ostatních typů na šrouby | G90: kus | H90: 0 | I90: 1054.7 | J90: =ROUND(I90*H90,2) -> 0 | N90: základní | O90: 0 | P90: =O90*H90 -> 0 | Q90: 0.00173 | R90: =Q90*H90 -> 0 | S90: 0 | T90: =S90*H90 -> 0 | AR90: 16 | AT90: K | AU90: 2 | AY90: ROZPOCET | BE90: =IF(N90="základní",J90,0) -> 0 | BF90: =IF(N90="snížená",J90,0) -> 0 | BG90: =IF(N90="zákl. přenesená",J90,0) -> 0 | BH90: =IF(N90="sníž. přenesená",J90,0) -> 0 | BI90: =IF(N90="nulová",J90,0) -> 0 | BJ90: 1 | BK90: =ROUND(I90*H90,2) -> 0 | BL90: 16 | BM90: -40618614
C91: 8 | D91: M | E91: AZP.AUM018INV | F91: nerezové závěsné umyvadlo pro tělesně postižené, bez baterie, s madly po bocích umyvadla | G91: kus | H91: -1 | I91: 13527.6 | J91: =ROUND(I91*H91,2) -> -13527.6 | N91: základní | O91: 0 | P91: =O91*H91 -> 0 | Q91: 0 | R91: =Q91*H91 -> 0 | S91: 0 | T91: =S91*H91 -> 0 | AR91: 32 | AT91: M | AU91: 2 | AY91: ROZPOCET | BE91: =IF(N91="základní",J91,0) -> -13527.6 | BF91: =IF(N91="snížená",J91,0) -> 0 | BG91: =IF(N91="zákl. přenesená",J91,0) -> 0 | BH91: =IF(N91="sníž. přenesená",J91,0) -> 0 | BI91: =IF(N91="nulová",J91,0) -> 0 | BJ91: 1 | BK91: =ROUND(I91*H91,2) -> -13527.6 | BL91: 16 | BM91: -229031582
C92: 9 | D92: M | E92: 64211023 | F92: umyvadlo keramické závěsné bezbariérové bílé 640x550mm | G92: kus | H92: 1 | I92: 2440 | J92: =ROUND(I92*H92,2) -> 2440 | N92: základní | O92: 0 | P92: =O92*H92 -> 0 | Q92: 0.0176 | R92: =Q92*H92 -> 0.0176 | S92: 0 | T92: =S92*H92 -> 0 | AR92: 128 | AT92: M | AU92: 2 | AY92: ROZPOCET | BE92: =IF(N92="základní",J92,0) -> 2440 | BF92: =IF(N92="snížená",J92,0) -> 0 | BG92: =IF(N92="zákl. přenesená",J92,0) -> 0 | BH92: =IF(N92="sníž. přenesená",J92,0) -> 0 | BI92: =IF(N92="nulová",J92,0) -> 0 | BJ92: 1 | BK92: =ROUND(I92*H92,2) -> 2440 | BL92: 128 | BM92: -424711695

Sheet ZL - 17 - design výtahu
L2: >> skryté sloupce << | AT2: {e0410c1a-ec08-4b7c-ae17-51c2f05d0f6e}
AT3: 2
D4: KRYCÍ LIST SOUPISU PRACÍ | M4: v --- níže se nacházejí doplnkové a pomocné údaje k sestavám --- v | AT4: False
D6: Stavba:
E7: ='Rekapitulace stavby'!K6 -> Stavební úpravy Zahradního domu Teplice - ZL
D8: Objekt:
E9: ZL - 17 - design výtahu
D11: KSO: | I11: CC-CZ:
D12: Místo: | I12: Datum: | J12: ='Rekapitulace stavby'!AN8 -> 22. 10. 2021
D14: Zadavatel: | I14: IČ:
I15: DIČ:
D17: Zhotovitel: | I17: IČ:
E18: POHL cz, a.s. | I18: DIČ:
D20: Projektant: | I20: IČ:
I21: DIČ:
D23: Zpracovatel: | I23: IČ:
I24: DIČ:
D26: Poznámka:
D30: Cena bez DPH | J30: =ROUND(J81, 2) -> 0
F32: Základ daně | I32: Sazba daně | J32: Výše daně
D33: DPH | E33: základní | F33: =ROUND((SUM(BE81:BE86)), 2) -> 0 | I33: 0.21 | J33: =ROUND(((SUM(BE81:BE86))*I33), 2) -> 0
E34: snížená | F34: =ROUND((SUM(BF81:BF86)), 2) -> 0 | I34: 0.15 | J34: =ROUND(((SUM(BF81:BF86))*I34), 2) -> 0
E35: zákl. přenesená | F35: =ROUND((SUM(BG81:BG86)), 2) -> 0 | I35: 0.21 | J35: =0 -> 0
E36: sníž. přenesená | F36: =ROUND((SUM(BH81:BH86)), 2) -> 0 | I36: 0.15 | J36: =0 -> 0
E37: nulová | F37: =ROUND((SUM(BI81:BI86)), 2) -> 0 | I37: 0 | J37: =0 -> 0
D39: Cena s DPH | G39: v | H39: CZK | J39: =SUM(J30:J37) -> 0
C45: REKAPITULACE ČLENĚNÍ SOUPISU PRACÍ
C47: Stavba:
E48: =E7 -> Stavební úpravy Zahradního domu Teplice - ZL
C49: Objekt:
E50: =E9 -> ZL - 17 - design výtahu
C52: Místo: | F52: =F12 | I52: Datum: | J52: =IF(J12="","",J12) -> 22. 10. 2021
C54: Zadavatel: | F54: =E15 | I54: Projektant: | J54: =E21
C55: Zhotovitel: | F55: =IF(E18="","",E18) -> POHL cz, a.s. | I55: Zpracovatel: | J55: =E24
C57: Kód dílu - Popis | J57: Cena celkem [CZK]
C59: Náklady stavby celkem | J59: =J81 -> 0 | AU59: -1
D60: OST - Ostatní | J60: =J82 -> 0
D61: O01 - Ostatní | J61: =J83 -> 0
C68: SOUPIS PRACÍ
C70: Stavba:
E71: =E7 -> Stavební úpravy Zahradního domu Teplice - ZL
C72: Objekt:
E73: =E9 -> ZL - 17 - design výtahu
C75: Místo: | F75: =F12 | I75: Datum: | J75: =IF(J12="","",J12) -> 22. 10. 2021
C77: Zadavatel: | F77: =E15 | I77: Projektant: | J77: =E21
C78: Zhotovitel: | F78: =IF(E18="","",E18) -> POHL cz, a.s. | I78: Zpracovatel: | J78: =E24
C80: PČ | D80: Typ | E80: Kód | F80: Popis | G80: MJ | H80: Množství | I80: J.cena [CZK] | J80: Cena celkem [CZK] | K80: Cenová soustava | N80: DPH | O80: J. Nh [h] | P80: Nh celkem [h] | Q80: J. hmotnost [t] | R80: Hmotnost celkem [t] | S80: J. suť [t] | T80: Suť Celkem [t]
C81: Náklady soupisu celkem | J81: 0 | P81: =P82 -> 0 | R81: =R82 -> 0 | T81: =T82 -> 0 | AT81: D | AU81: -1 | BK81: =BK82 -> 61880
D82: D | E82: OST | F82: Ostatní | J82: 0 | P82: =P83 -> 0 | R82: =R83 -> 0 | T82: =T83 -> 0 | AR82: 4 | AT82: D | AU82: 0 | AY82: ROZPOCET | BK82: =BK83 -> 61880
D83: D | E83: O01 | F83: Ostatní | J83: 0 | P83: =SUM(P84:P86) -> 0 | R83: =SUM(R84:R86) -> 0 | T83: =SUM(T84:T86) -> 0 | AR83: 4 | AT83: D | AU83: 1 | AY83: ROZPOCET | BK83: =SUM(BK84:BK86) -> 61880
C84: 1 | D84: K | E84: R01 | F84: tisk na folii s vícepřilnavým lepidlem | G84: kpl | H84: 2 | I84: 10680 | J84: 0 | N84: základní | O84: 0 | P84: =O84*H84 -> 0 | Q84: 0 | R84: =Q84*H84 -> 0 | S84: 0 | T84: =S84*H84 -> 0 | AR84: 512 | AT84: K | AU84: 2 | AY84: ROZPOCET | BE84: =IF(N84="základní",J84,0) -> 0 | BF84: =IF(N84="snížená",J84,0) -> 0 | BG84: =IF(N84="zákl. přenesená",J84,0) -> 0 | BH84: =IF(N84="sníž. přenesená",J84,0) -> 0 | BI84: =IF(N84="nulová",J84,0) -> 0 | BJ84: 1 | BK84: =ROUND(I84*H84,2) -> 21360 | BL84: 512 | BM84: -1092846185
C85: 2 | D85: K | E85: R02 | F85: polep designovou folií | G85: kpl | H85: 2 | I85: 13060 | J85: 0 | N85: základní | O85: 0 | P85: =O85*H85 -> 0 | Q85: 0 | R85: =Q85*H85 -> 0 | S85: 0 | T85: =S85*H85 -> 0 | AR85: 512 | AT85: K | AU85: 2 | AY85: ROZPOCET | BE85: =IF(N85="základní",J85,0) -> 0 | BF85: =IF(N85="snížená",J85,0) -> 0 | BG85: =IF(N85="zákl. přenesená",J85,0) -> 0 | BH85: =IF(N85="sníž. přenesená",J85,0) -> 0 | BI85: =IF(N85="nulová",J85,0) -> 0 | BJ85: 1 | BK85: =ROUND(I85*H85,2) -> 26120 | BL85: 512 | BM85: -1239561128
C86: 3 | D86: K | E86: R03 | F86: změna designu výtahoých dveří | G86: kpl | H86: 1 | I86: 14400 | J86: 0 | N86: základní | O86: 0 | P86: =O86*H86 -> 0 | Q86: 0 | R86: =Q86*H86 -> 0 | S86: 0 | T86: =S86*H86 -> 0 | AR86: 512 | AT86: K | AU86: 2 | AY86: ROZPOCET | BE86: =IF(N86="základní",J86,0) -> 0 | BF86: =IF(N86="snížená",J86,0) -> 0 | BG86: =IF(N86="zákl. přenesená",J86,0) -> 0 | BH86: =IF(N86="sníž. přenesená",J86,0) -> 0 | BI86: =IF(N86="nulová",J86,0) -> 0 | BJ86: 1 | BK86: =ROUND(I86*H86,2) -> 14400 | BL86: 512 | BM86: -533543830

Sheet ZL - 18 - elektro přívody...
L2: >> skryté sloupce << | AT2: {7a6aba4a-648f-4c99-83ab-0c1b5d8d0202}
AT3: 2
D4: KRYCÍ LIST SOUPISU PRACÍ | M4: v --- níže se nacházejí doplnkové a pomocné údaje k sestavám --- v | AT4: False
D6: Stavba:
E7: ='Rekapitulace stavby'!K6 -> Stavební úpravy Zahradního domu Teplice - ZL
D8: Objekt:
E9: ZL - 18 - elektro přívody k ohřívačům TUV
D11: KSO: | I11: CC-CZ:
D12: Místo: | I12: Datum: | J12: ='Rekapitulace stavby'!AN8 -> 22. 10. 2021
D14: Zadavatel: | I14: IČ:
I15: DIČ:
D17: Zhotovitel: | I17: IČ:
E18: POHL cz, a.s. | I18: DIČ:
D20: Projektant: | I20: IČ:
I21: DIČ:
D23: Zpracovatel: | I23: IČ:
I24: DIČ:
D26: Poznámka:
D30: Cena bez DPH | J30: =ROUND(J81, 2) -> 18874.8
F32: Základ daně | I32: Sazba daně | J32: Výše daně
D33: DPH | E33: základní | F33: =ROUND((SUM(BE81:BE86)), 2) -> 18874.8 | I33: 0.21 | J33: =ROUND(((SUM(BE81:BE86))*I33), 2) -> 3963.71
E34: snížená | F34: =ROUND((SUM(BF81:BF86)), 2) -> 0 | I34: 0.15 | J34: =ROUND(((SUM(BF81:BF86))*I34), 2) -> 0
E35: zákl. přenesená | F35: =ROUND((SUM(BG81:BG86)), 2) -> 0 | I35: 0.21 | J35: =0 -> 0
E36: sníž. přenesená | F36: =ROUND((SUM(BH81:BH86)), 2) -> 0 | I36: 0.15 | J36: =0 -> 0
E37: nulová | F37: =ROUND((SUM(BI81:BI86)), 2) -> 0 | I37: 0 | J37: =0 -> 0
D39: Cena s DPH | G39: v | H39: CZK | J39: =SUM(J30:J37) -> 22838.51
C45: REKAPITULACE ČLENĚNÍ SOUPISU PRACÍ
C47: Stavba:
E48: =E7 -> Stavební úpravy Zahradního domu Teplice - ZL
C49: Objekt:
E50: =E9 -> ZL - 18 - elektro přívody k ohřívačům TUV
C52: Místo: | F52: =F12 | I52: Datum: | J52: =IF(J12="","",J12) -> 22. 10. 2021
C54: Zadavatel: | F54: =E15 | I54: Projektant: | J54: =E21
C55: Zhotovitel: | F55: =IF(E18="","",E18) -> POHL cz, a.s. | I55: Zpracovatel: | J55: =E24
C57: Kód dílu - Popis | J57: Cena celkem [CZK]
C59: Náklady stavby celkem | J59: =J81 -> 18874.8 | AU59: -1
D60: M - Práce a dodávky M | J60: =J82 -> 18874.8
D61: 21-M - Elektromontáže | J61: =J83 -> 18874.8
C68: SOUPIS PRACÍ
C70: Stavba:
E71: =E7 -> Stavební úpravy Zahradního domu Teplice - ZL
C72: Objekt:
E73: =E9 -> ZL - 18 - elektro přívody k ohřívačům TUV
C75: Místo: | F75: =F12 | I75: Datum: | J75: =IF(J12="","",J12) -> 22. 10. 2021
C77: Zadavatel: | F77: =E15 | I77: Projektant: | J77: =E21
C78: Zhotovitel: | F78: =IF(E18="","",E18) -> POHL cz, a.s. | I78: Zpracovatel: | J78: =E24
C80: PČ | D80: Typ | E80: Kód | F80: Popis | G80: MJ | H80: Množství | I80: J.cena [CZK] | J80: Cena celkem [CZK] | K80: Cenová soustava | N80: DPH | O80: J. Nh [h] | P80: Nh celkem [h] | Q80: J. hmotnost [t] | R80: Hmotnost celkem [t] | S80: J. suť [t] | T80: Suť Celkem [t]
C81: Náklady soupisu celkem | J81: =BK81 -> 18874.8 | P81: =P82 -> 34.336 | R81: =R82 -> 0 | T81: =T82 -> 0 | AT81: D | AU81: -1 | BK81: =BK82 -> 18874.8
D82: D | E82: M | F82: Práce a dodávky M | J82: =BK82 -> 18874.8 | P82: =P83 -> 34.336 | R82: =R83 -> 0 | T82: =T83 -> 0 | AR82: 3 | AT82: D | AU82: 0 | AY82: ROZPOCET | BK82: =BK83 -> 18874.8
D83: D | E83: 21-M | F83: Elektromontáže | J83: =BK83 -> 18874.8 | P83: =SUM(P84:P86) -> 34.336 | R83: =SUM(R84:R86) -> 0 | T83: =SUM(T84:T86) -> 0 | AR83: 3 | AT83: D | AU83: 1 | AY83: ROZPOCET | BK83: =SUM(BK84:BK86) -> 18874.8
C84: 1 | D84: K | E84: 210R02 | F84: D+M rozvodů Elektro CYKY 5x2,5 vč.chráničky | G84: m | H84: 20 | I84: 125 | J84: =ROUND(I84*H84,2) -> 2500 | N84: základní | O84: 0.928 | P84: =O84*H84 -> 18.56 | Q84: 0 | R84: =Q84*H84 -> 0 | S84: 0 | T84: =S84*H84 -> 0 | AR84: 64 | AT84: K | AU84: 2 | AY84: ROZPOCET | BE84: =IF(N84="základní",J84,0) -> 2500 | BF84: =IF(N84="snížená",J84,0) -> 0 | BG84: =IF(N84="zákl. přenesená",J84,0) -> 0 | BH84: =IF(N84="sníž. přenesená",J84,0) -> 0 | BI84: =IF(N84="nulová",J84,0) -> 0 | BJ84: 1 | BK84: =ROUND(I84*H84,2) -> 2500 | BL84: 64 | BM84: -1307360145
C85: 2 | D85: K | E85: 210R03 | F85: úpravy rozvodnice a jističů | G85: kpl | H85: 1 | I85: 850 | J85: =ROUND(I85*H85,2) -> 850 | N85: základní | O85: 0.928 | P85: =O85*H85 -> 0.928 | Q85: 0 | R85: =Q85*H85 -> 0 | S85: 0 | T85: =S85*H85 -> 0 | AR85: 64 | AT85: K | AU85: 2 | AY85: ROZPOCET | BE85: =IF(N85="základní",J85,0) -> 850 | BF85: =IF(N85="snížená",J85,0) -> 0 | BG85: =IF(N85="zákl. přenesená",J85,0) -> 0 | BH85: =IF(N85="sníž. přenesená",J85,0) -> 0 | BI85: =IF(N85="nulová",J85,0) -> 0 | BJ85: 1 | BK85: =ROUND(I85*H85,2) -> 850 | BL85: 64 | BM85: -1768626903
C86: 3 | D86: K | E86: 210R04 | F86: stavební přípomoce, drážky, kapsy, začistění | G86: HZS | H86: 16 | I86: 970.3 | J86: =ROUND(I86*H86,2) -> 15524.8 | N86: základní | O86: 0.928 | P86: =O86*H86 -> 14.848 | Q86: 0 | R86: =Q86*H86 -> 0 | S86: 0 | T86: =S86*H86 -> 0 | AR86: 64 | AT86: K | AU86: 2 | AY86: ROZPOCET | BE86: =IF(N86="základní",J86,0) -> 15524.8 | BF86: =IF(N86="snížená",J86,0) -> 0 | BG86: =IF(N86="zákl. přenesená",J86,0) -> 0 | BH86: =IF(N86="sníž. přenesená",J86,0) -> 0 | BI86: =IF(N86="nulová",J86,0) -> 0 | BJ86: 1 | BK86: =ROUND(I86*H86,2) -> 15524.8 | BL86: 64 | BM86: -1228578292

Sheet ZL - 19 - elektro chráníč...
L2: >> skryté sloupce << | AT2: {f0876326-5ef4-4f2e-aad2-e7d8ce2531d6}
AT3: 2
D4: KRYCÍ LIST SOUPISU PRACÍ | M4: v --- níže se nacházejí doplnkové a pomocné údaje k sestavám --- v | AT4: False
D6: Stavba:
E7: ='Rekapitulace stavby'!K6 -> Stavební úpravy Zahradního domu Teplice - ZL
D8: Objekt:
E9: ZL - 19 - elektro chráníčky s kabely UTP pro kamery
D11: KSO: | I11: CC-CZ:
D12: Místo: | I12: Datum: | J12: ='Rekapitulace stavby'!AN8 -> 22. 10. 2021
D14: Zadavatel: | I14: IČ:
I15: DIČ:
D17: Zhotovitel: | I17: IČ:
E18: POHL cz, a.s. | I18: DIČ:
D20: Projektant: | I20: IČ:
I21: DIČ:
D23: Zpracovatel: | I23: IČ:
I24: DIČ:
D26: Poznámka:
D30: Cena bez DPH | J30: =ROUND(J81, 2) -> 25837.2
F32: Základ daně | I32: Sazba daně | J32: Výše daně
D33: DPH | E33: základní | F33: =ROUND((SUM(BE81:BE85)), 2) -> 25837.2 | I33: 0.21 | J33: =ROUND(((SUM(BE81:BE85))*I33), 2) -> 5425.81
E34: snížená | F34: =ROUND((SUM(BF81:BF85)), 2) -> 0 | I34: 0.15 | J34: =ROUND(((SUM(BF81:BF85))*I34), 2) -> 0
E35: zákl. přenesená | F35: =ROUND((SUM(BG81:BG85)), 2) -> 0 | I35: 0.21 | J35: =0 -> 0
E36: sníž. přenesená | F36: =ROUND((SUM(BH81:BH85)), 2) -> 0 | I36: 0.15 | J36: =0 -> 0
E37: nulová | F37: =ROUND((SUM(BI81:BI85)), 2) -> 0 | I37: 0 | J37: =0 -> 0
D39: Cena s DPH | G39: v | H39: CZK | J39: =SUM(J30:J37) -> 31263.01
C45: REKAPITULACE ČLENĚNÍ SOUPISU PRACÍ
C47: Stavba:
E48: =E7 -> Stavební úpravy Zahradního domu Teplice - ZL
C49: Objekt:
E50: =E9 -> ZL - 19 - elektro chráníčky s kabely UTP pro kamery
C52: Místo: | F52: =F12 | I52: Datum: | J52: =IF(J12="","",J12) -> 22. 10. 2021
C54: Zadavatel: | F54: =E15 | I54: Projektant: | J54: =E21
C55: Zhotovitel: | F55: =IF(E18="","",E18) -> POHL cz, a.s. | I55: Zpracovatel: | J55: =E24
C57: Kód dílu - Popis | J57: Cena celkem [CZK]
C59: Náklady stavby celkem | J59: =J81 -> 25837.2 | AU59: -1
D60: M - Práce a dodávky M | J60: =J82 -> 25837.2
D61: 21-M - Elektromontáže | J61: =J83 -> 25837.2
C68: SOUPIS PRACÍ
C70: Stavba:
E71: =E7 -> Stavební úpravy Zahradního domu Teplice - ZL
C72: Objekt:
E73: =E9 -> ZL - 19 - elektro chráníčky s kabely UTP pro kamery
C75: Místo: | F75: =F12 | I75: Datum: | J75: =IF(J12="","",J12) -> 22. 10. 2021
C77: Zadavatel: | F77: =E15 | I77: Projektant: | J77: =E21
C78: Zhotovitel: | F78: =IF(E18="","",E18) -> POHL cz, a.s. | I78: Zpracovatel: | J78: =E24
C80: PČ | D80: Typ | E80: Kód | F80: Popis | G80: MJ | H80: Množství | I80: J.cena [CZK] | J80: Cena celkem [CZK] | K80: Cenová soustava | N80: DPH | O80: J. Nh [h] | P80: Nh celkem [h] | Q80: J. hmotnost [t] | R80: Hmotnost celkem [t] | S80: J. suť [t] | T80: Suť Celkem [t]
