Workbook
Name CelkemDPHVypocet: Stavba!$H$42
Name CenaCelkem: Stavba!$G$29
Name CenaCelkemBezDPH: Stavba!$G$28
Name CenaCelkemVypocet: Stavba!$I$42
Name cisloobjektu: Stavba!$D$3
Name CisloRozpoctu: '[1]Krycí list'!$C$2
Name CisloStavby: Stavba!$D$2
Name cislostavby: '[1]Krycí list'!$A$7
Name CisloStavebnihoRozpoctu: Stavba!$D$4
Name dadresa: Stavba!$D$12:$G$12
Name DIČ: Stavba!$I$12
Name dmisto: Stavba!$E$13:$G$13
Name DPHSni: Stavba!$G$24
Name DPHZakl: Stavba!$G$26
Name dpsc: Stavba!$D$13
Name IČO: Stavba!$I$11
Name Mena: Stavba!$J$29
Name MistoStavby: Stavba!$D$4
Name nazevobjektu: Stavba!$E$3
Name NazevRozpoctu: '[1]Krycí list'!$D$2
Name NazevStavby: Stavba!$E$2
Name nazevstavby: '[1]Krycí list'!$C$7
Name NazevStavebnihoRozpoctu: Stavba!$E$4
Name oadresa: Stavba!$D$6
Name Objednatel: Stavba!$D$5
Name Objekt: Stavba!$B$38
Name odic: Stavba!$I$6
Name oico: Stavba!$I$5
Name omisto: Stavba!$E$7
Name onazev: Stavba!$D$6
Name opsc: Stavba!$D$7
Name padresa: Stavba!$D$9
Name pdic: Stavba!$I$9
Name pico: Stavba!$I$8
Name pmisto: Stavba!$E$10
Name PocetMJ: #REF!
Name PoptavkaID: Stavba!$A$1
Name pPSC: Stavba!$D$10
Name Projektant: Stavba!$D$8
Name SazbaDPH1: Stavba!$E$23
Name SazbaDPH1: '[1]Krycí list'!$C$30
Name SazbaDPH2: Stavba!$E$25
Name SazbaDPH2: '[1]Krycí list'!$C$32
Name SloupecCC: #REF!
Name SloupecCisloPol: #REF!
Name SloupecJC: #REF!
Name SloupecMJ: #REF!
Name SloupecMnozstvi: #REF!
Name SloupecNazPol: #REF!
Name SloupecPC: #REF!
Name Vypracoval: Stavba!$D$14
Name ZakladDPHSni: Stavba!$G$23
Name ZakladDPHSniVypocet: Stavba!$F$42
Name ZakladDPHZakl: Stavba!$G$25
Name ZakladDPHZaklVypocet: Stavba!$G$42
Name ZaObjednatele: Stavba!$G$34
Name Zaokrouhleni: Stavba!$G$27
Name ZaZhotovitele: Stavba!$D$34
Name Zhotovitel: Stavba!$D$11:$G$11

Sheet Stavba
A1: #RTSROZP# | B1: Položkový rozpočet stavby
B2: Stavba: | D2: U4840_ZL | E2: MZM Brno - stálá expozice - loutkářské umění a tradiční kultura na Moravě v zrcadle času
B3: Objekt: | D3: ZL | E3: ZMĚNOVÉ LISTY
A4: 3482965 | B4: Rozpočet: | D4: ZL č. 023 | E4: Těsnění vitrín
B5: Objednatel: | D5: Moravské zemské muzeum | H5: IČO: | I5: 00094862
D6: Zelný trh 299/6 | H6: DIČ: | I6: CZ00094862
D7: 60200 | E7: Brno-Brno-město
B8: Projektant: | H8: IČO:
H9: DIČ:
B11: Zhotovitel: | D11: UNISTAV CONSTRUCTION a.s. | H11: IČO: | I11: 03902447
D12: Příkop 838/6 | H12: DIČ: | I12: CZ03902447
D13: 60200 | E13: Brno
B14: Vypracoval:
B15: Rozpis ceny | I15: Celkem
A16: HSV | B16: HSV | I16: =SUMIF(F49:F49,A16,I49:I49)+SUMIF(F49:F49,"PSU",I49:I49) -> 44400.06
A17: PSV | B17: PSV | I17: =SUMIF(F49:F49,A17,I49:I49) -> 0
A18: MON | B18: MON | I18: =SUMIF(F49:F49,A18,I49:I49) -> 0
A19: VN | B19: Vedlejší náklady | I19: =SUMIF(F49:F49,A19,I49:I49) -> 0
A20: ON | B20: Ostatní náklady | I20: =SUMIF(F49:F49,A20,I49:I49) -> 0
B21: Celkem | I21: =SUM(I16:J20) -> 44400.06
B22: Rekapitulace daní
A23: =ZakladDPHSni*SazbaDPH1/100 -> 0 | B23: Základ pro sníženou DPH | E23: 15 | F23: % | G23: =ZakladDPHSniVypocet -> 0 | J23: =Mena -> CZK
A24: =(A23-INT(A23))*100 -> 0 | B24: Snížená DPH | E24: =SazbaDPH1 -> 15 | F24: % | G24: =A23 -> 0 | J24: =Mena -> CZK
A25: =ZakladDPHZakl*SazbaDPH2/100 -> 9324.0126 | B25: Základ pro základní DPH | E25: 21 | F25: % | G25: =ZakladDPHZaklVypocet -> 44400.06 | J25: =Mena -> CZK
A26: =(A25-INT(A25))*100 -> 1.26 | B26: Základní DPH | E26: =SazbaDPH2 -> 21 | F26: % | G26: =A25 -> 9324.0126 | J26: =Mena -> CZK
A27: =ZakladDPHSni+DPHSni+ZakladDPHZakl+DPHZakl -> 53724.073 | B27: Zaokrouhlení | G27: =CenaCelkem-(ZakladDPHSni+DPHSni+ZakladDPHZakl+DPHZakl) -> 0 | J27: =Mena -> CZK
B28: Cena celkem bez DPH | G28: =ZakladDPHSniVypocet+ZakladDPHZaklVypocet -> 44400.06 | J28: =Mena -> CZK
A29: =(A27-INT(A27))*100 -> 7.26 | B29: Cena celkem s DPH | G29: =A27 -> 53724.073 | J29: CZK
C32: v | F32: dne
D35: Za zhotovitele | H35: Za objednatele
B37: Rekapitulace dílčích částí
A38: #CASTI>> | B38: Číslo | C38: Název | F38: =B23 -> Základ pro sníženou DPH | G38: =B25 -> Základ pro základní DPH | H38: DPH celkem | I38: Cena celkem | J38: %
A39: 1 | B39: Stavba | F39: ='ZL ZL č. 023 Pol'!AE11 -> 0 | G39: ='ZL ZL č. 023 Pol'!AF11 -> 44400.06 | H39: =(F39*SazbaDPH1/100)+(G39*SazbaDPH2/100) -> 9324.0126 | I39: =F39+G39+H39 -> 53724.073 | J39: =IF(CenaCelkemVypocet=0,"",I39/CenaCelkemVypocet*100) -> 100
A40: 2 | B40: ZL | C40: ZMĚNOVÉ LISTY | F40: ='ZL ZL č. 023 Pol'!AE11 -> 0 | G40: ='ZL ZL č. 023 Pol'!AF11 -> 44400.06 | H40: =(F40*SazbaDPH1/100)+(G40*SazbaDPH2/100) -> 9324.0126 | I40: =F40+G40+H40 -> 53724.073 | J40: =IF(CenaCelkemVypocet=0,"",I40/CenaCelkemVypocet*100) -> 100
A41: 3 | B41: ZL č. 032 | C41: AV | F41: ='ZL ZL č. 023 Pol'!AE11 -> 0 | G41: ='ZL ZL č. 023 Pol'!AF11 -> 44400.06 | H41: =(F41*SazbaDPH1/100)+(G41*SazbaDPH2/100) -> 9324.0126 | I41: =F41+G41+H41 -> 53724.073 | J41: =IF(CenaCelkemVypocet=0,"",I41/CenaCelkemVypocet*100) -> 100
B42: Celkem za stavbu | F42: =SUMIF(A39:A41,"=1",F39:F41) -> 0 | G42: =SUMIF(A39:A41,"=1",G39:G41) -> 44400.06 | H42: =SUMIF(A39:A41,"=1",H39:H41) -> 9324.0126 | I42: =SUMIF(A39:A41,"=1",I39:I41) -> 53724.073 | J42: =SUMIF(A39:A41,"=1",J39:J41) -> 100
B46: Rekapitulace dílů
B48: Číslo | C48: Název | F48: Typ dílu | I48: Celkem | J48: %
B49: _1 | C49: Těsnění vitrín | F49: HSV | I49: ='ZL ZL č. 023 Pol'!G8 -> 44400.06 | J49: =IF(I50=0,"",I49/I50*100) -> 100
B50: Cena celkem | I50: =I49 -> 44400.06 | J50: =J49 -> 100

Sheet VzorPolozky
A1: Položkový rozpočet
A2: S:
A3: O:
A4: R:

Sheet ZL ZL č. 023 Pol
A1: Položkový rozpočet | AG1: #TypZaznamu#
A2: S: | B2: U4840_ZL | C2: MZM Brno - stálá expozice - loutkářské umění a tradiční kultura na Moravě v zrcadle času | AG2: STA
A3: O: | B3: ZL | C3: ZMĚNOVÉ LISTY | AC3: STA | AG3: OBJ
A4: R: | B4: ZL č. 023 | C4: Těsnění vitrín | AG4: ROZ
A6: P.č. | B6: Číslo položky | C6: Název položky | D6: MJ | E6: Množství | F6: Cena / MJ | G6: Celkem | H6: Dodávka | I6: Dodávka celk. | J6: Montáž | K6: Montáž celk. | L6: DPH | M6: Cena s DPH | N6: Hmotnost / MJ | O6: Hmotnost celk.(t) | P6: Dem. hmotnost / MJ | Q6: Dem. hmotnost celk.(t) | R6: Ceník | S6: Cen. soustava / platnost | T6: Cenová úroveň | U6: Nhod / MJ | V6: Nhod celk. | W6: Dodavatel | X6: Typ položky
A8: Díl: | B8: _1 | C8: Těsnění vitrín | G8: =SUMIF(AG9:AG9,"<>NOR",G9:G9) -> 44400.06 | I8: =SUM(I9:I9) -> 0 | K8: =SUM(K9:K9) -> 427050 | M8: =SUM(M9:M9) -> 53724.073 | O8: =SUM(O9:O9) -> 0 | Q8: =SUM(Q9:Q9) -> 0 | V8: =SUM(V9:V9) -> 0 | AG8: DIL
A9: 1 | B9: 3 | C9: Doplnění těsnění do vitrín, zajištění prachotěsnosti | D9: bm | E9: 73 | F9: 608.22 | G9: =ROUND(E9*F9,2) -> 44400.06 | H9: 0 | I9: =ROUND(E9*H9,2) -> 0 | J9: 5850 | K9: =ROUND(E9*J9,2) -> 427050 | L9: 21 | M9: =G9*(1+L9/100) -> 53724.073 | N9: 0 | O9: =ROUND(E9*N9,2) -> 0 | P9: 0 | Q9: =ROUND(E9*P9,2) -> 0 | S9: Vlastní | T9: Indiv | U9: 0 | V9: =ROUND(E9*U9,2) -> 0 | X9: Práce | AG9: POL1_
AE10: 15 | AF10: 21 | AG10: DPH
B11: Celkem | G11: =G8 -> 44400.06 | AE11: =SUMIF(L7:L9,AE10,G7:G9) -> 0 | AF11: =SUMIF(L7:L9,AF10,G7:G9) -> 44400.06 | AG11: SUM
