Workbook

Sheet Rekapitulace stavby
A1: 2012 | D1: List obsahuje: | K1: 1) Souhrnný list stavby | W1: 2) Rekapitulace objektů | BA1: 2.0 | BT1: False | BU1: False
C2: optimalizováno pro tisk sestav ve formátu A4 - na výšku | AR2: >> skryté sloupce << | BS2: 0,01 | BT2: 21
BS3: 0,01 | BT3: 15
C4: SOUHRNNÝ LIST STAVBY | AS4: v --- níže se nacházejí doplnkové a pomocné údaje k sestavám --- v | BS4: 0,001
D5: Kód: | K5: 1700110 | BS5: 0,01
D6: Stavba: | K6: Olomouc - Úprava cest na hřbitově | BS6: 0,01
D7: JKSO: | AK7: CC-CZ: | BS7: 0,01
D8: Místo: | K8: Olomouc - Neředín | AK8: Datum: | AN8: 42914 | BS8: 0,01
BS9: 0,01
D10: Objednatel: | AK10: IČ: | BS10: 0,01
AK11: DIČ: | BS11: 0,01
BS12: 0,01
D13: Zhotovitel: | J13: Brodacký Antonín s.r.o., Bělkovice-Lašťany535, 783 16 Dolany | AK13: IČ: | AN13: 28654501 | BS13: 0,01
AK14: DIČ: | AN14: CZ28654501 | BS14: 0,01
BS15: False
D16: Projektant: | AK16: IČ: | AN16: 25361520 | BS16: False
E17: Dopravní projektování s.r.o. | AK17: DIČ: | BS17: True
BS18: 0,01
D19: Zpracovatel: | AK19: IČ: | BS19: 0,01
AK20: DIČ:
D22: Poznámka:
D26: Náklady z rozpočtů | AK26: =ROUND(AG87,2) -> 1986216.2
D27: Ostatní náklady ze souhrnného listu | AK27: =ROUND(AG93,2) -> 0
D29: Cena bez DPH | AK29: =ROUND(AK26+AK27,2) -> 1986216.2
D31: DPH | F31: základní | L31: 0.21 | T31: ze | W31: =ROUND(AZ87+SUM(CD94),2) -> 1986216.2 | AK31: =ROUND(AV87+SUM(BY94),2) -> 417105.4
F32: snížená | L32: 0.15 | T32: ze | W32: =ROUND(BA87+SUM(CE94),2) -> 0 | AK32: =ROUND(AW87+SUM(BZ94),2) -> 0
F33: zákl. přenesená | L33: 0.21 | T33: ze | W33: =ROUND(BB87+SUM(CF94),2) -> 0 | AK33: 0
F34: sníž. přenesená | L34: 0.15 | T34: ze | W34: =ROUND(BC87+SUM(CG94),2) -> 0 | AK34: 0
F35: nulová | L35: 0 | T35: ze | W35: =ROUND(BD87+SUM(CH94),2) -> 0 | AK35: 0
D37: Cena s DPH | T37: v | X37: CZK | AK37: =SUM(AK29:AK35) -> 2403321.6
D49: Projektant | AC49: Zpracovatel
D58: Datum a podpis: | R58: Razítko | AC58: Datum a podpis: | AM58: Razítko
D60: Objednavatel | AC60: Zhotovitel
D69: Datum a podpis: | R69: Razítko | AC69: Datum a podpis: | AM69: Razítko
C76: REKAPITULACE OBJEKTŮ STAVBY
C77: Kód: | L77: =K5 -> 1700110
C78: Stavba: | L78: =K6 -> Olomouc - Úprava cest na hřbitově
C80: Místo: | L80: =IF(K8="","",K8) -> Olomouc - Neředín | AI80: Datum: | AM80: =IF(AN8= "","",AN8) -> 42914
C82: Objednatel: | L82: =IF(E11= "","",E11) | AI82: Projektant: | AM82: =IF(E17="","",E17) -> Dopravní projektování s.r.o. | AS82: Informatívní údaje z listů zakázek
C83: Zhotovitel: | L83: =IF(E14="","",E14) | AI83: Zpracovatel: | AM83: =IF(E20="","",E20)
...

Sheet SO 101 - Chodník - úsek A...
D1: List obsahuje: | F1: 1) Krycí list rozpočtu | H1: 2) Rekapitulace rozpočtu | L1: 3) Rozpočet | O1: Zpět na list: | S1: Rekapitulace stavby
C2: optimalizováno pro tisk sestav ve formátu A4 - na výšku | S2: >> skryté sloupce << | AT2: {6fee1ee7-c094-44e0-8958-28721babe359}
AT3: 2
C4: KRYCÍ LIST ROZPOČTU | T4: v --- níže se nacházejí doplnkové a pomocné údaje k sestavám --- v | AT4: False
D6: Stavba: | F6: ='Rekapitulace stavby'!K6 -> Olomouc - Úprava cest na hřbitově
D7: Objekt: | F7: SO 101 - Chodník - úsek A (ke Globusu)
D8: JKSO: | M8: CC-CZ:
D9: Místo: | F9: Olomouc - Neředín | M9: Datum: | O9: ='Rekapitulace stavby'!AN8 -> 42914
D11: Objednatel: | M11: IČ:
M12: DIČ:
D14: Zhotovitel: | M14: IČ: | O14: =IF('Rekapitulace stavby'!AN13="","",'Rekapitulace stavby'!AN13) -> 28654501
E15: =IF('Rekapitulace stavby'!E14="","",'Rekapitulace stavby'!E14) | M15: DIČ: | O15: =IF('Rekapitulace stavby'!AN14="","",'Rekapitulace stavby'!AN14) -> CZ28654501
D17: Projektant: | M17: IČ: | O17: 25361520
E18: Dopravní projektování s.r.o. | M18: DIČ:
D20: Zpracovatel: | M20: IČ: | O20: =IF('Rekapitulace stavby'!AN19="","",'Rekapitulace stavby'!AN19)
E21: =IF('Rekapitulace stavby'!E20="","",'Rekapitulace stavby'!E20) | M21: DIČ: | O21: =IF('Rekapitulace stavby'!AN20="","",'Rekapitulace stavby'!AN20)
D23: Poznámka:
D27: Náklady z rozpočtu | M27: =N88 -> 762140.49
D28: Ostatní náklady | M28: =N98 -> 0
D30: Cena bez DPH | M30: =ROUND(M27+M28,2) -> 762140.49
D32: DPH | E32: základní | F32: 0.21 | G32: ze | H32: =ROUND((SUM(BE98:BE99)+SUM(BE117:BE173)), 2) -> 762140.49 | M32: =ROUND(ROUND((SUM(BE98:BE99)+SUM(BE117:BE173)), 2)*F32, 2) -> 160049.5
E33: snížená | F33: 0.15 | G33: ze | H33: =ROUND((SUM(BF98:BF99)+SUM(BF117:BF173)), 2) -> 0 | M33: =ROUND(ROUND((SUM(BF98:BF99)+SUM(BF117:BF173)), 2)*F33, 2) -> 0
E34: zákl. přenesená | F34: 0.21 | G34: ze | H34: =ROUND((SUM(BG98:BG99)+SUM(BG117:BG173)), 2) -> 0 | M34: 0
E35: sníž. přenesená | F35: 0.15 | G35: ze | H35: =ROUND((SUM(BH98:BH99)+SUM(BH117:BH173)), 2) -> 0 | M35: 0
E36: nulová | F36: 0 | G36: ze | H36: =ROUND((SUM(BI98:BI99)+SUM(BI117:BI173)), 2) -> 0 | M36: 0
D38: Cena s DPH | G38: v | H38: CZK | L38: =SUM(M30:M36) -> 922189.99
D50: Projektant | J50: Zpracovatel
D59: Datum a podpis: | G59: Razítko | J59: Datum a podpis: | N59: Razítko
D61: Objednavatel | J61: Zhotovitel
D70: Datum a podpis: | G70: Razítko | J70: Datum a podpis: | N70: Razítko
C76: REKAPITULACE ROZPOČTU
C78: Stavba: | F78: =F6 -> Olomouc - Úprava cest na hřbitově
C79: Objekt: | F79: =F7 -> SO 101 - Chodník - úsek A (ke Globusu)
C81: Místo: | F81: =F9 -> Olomouc - Neředín | K81: Datum: | M81: =IF(O9="","",O9) -> 42914
C83: Objednatel: | F83: =E12 | K83: Projektant: | M83: =E18 -> Dopravní projektování s.r.o.
C84: Zhotovitel: | F84: =IF(E15="","",E15) | K84: Zpracovatel: | M84: =E21
C86: Kód - Popis | N86: Cena celkem [CZK]
C88: 1) Náklady z rozpočtu | N88: =N117 -> 762140.49 | AU88: -1
D89: HSV - Práce a dodávky HSV | N89: =N118 -> 762140.49
D90: 1 - Zemní práce | N90: =N119 -> 405031.75
...

Sheet SO102 - Chodník - úsek B ...
D1: List obsahuje: | F1: 1) Krycí list rozpočtu | H1: 2) Rekapitulace rozpočtu | L1: 3) Rozpočet | O1: Zpět na list: | S1: Rekapitulace stavby
C2: optimalizováno pro tisk sestav ve formátu A4 - na výšku | S2: >> skryté sloupce << | AT2: {840672dd-319b-4d59-a08e-dbcaa3954b41}
AT3: 2
C4: KRYCÍ LIST ROZPOČTU | T4: v --- níže se nacházejí doplnkové a pomocné údaje k sestavám --- v | AT4: False
D6: Stavba: | F6: ='Rekapitulace stavby'!K6 -> Olomouc - Úprava cest na hřbitově
D7: Objekt: | F7: SO102 - Chodník - úsek B (u pomníku odboje)
D8: JKSO: | M8: CC-CZ:
D9: Místo: | F9: Olomouc - Neředín | M9: Datum: | O9: ='Rekapitulace stavby'!AN8 -> 42914
D11: Objednatel: | M11: IČ:
M12: DIČ:
D14: Zhotovitel: | M14: IČ: | O14: =IF('Rekapitulace stavby'!AN13="","",'Rekapitulace stavby'!AN13) -> 28654501
E15: =IF('Rekapitulace stavby'!E14="","",'Rekapitulace stavby'!E14) | M15: DIČ: | O15: =IF('Rekapitulace stavby'!AN14="","",'Rekapitulace stavby'!AN14) -> CZ28654501
D17: Projektant: | M17: IČ: | O17: 25361520
E18: Dopravní projektování s.r.o. | M18: DIČ:
D20: Zpracovatel: | M20: IČ: | O20: =IF('Rekapitulace stavby'!AN19="","",'Rekapitulace stavby'!AN19)
E21: =IF('Rekapitulace stavby'!E20="","",'Rekapitulace stavby'!E20) | M21: DIČ: | O21: =IF('Rekapitulace stavby'!AN20="","",'Rekapitulace stavby'!AN20)
D23: Poznámka:
D27: Náklady z rozpočtu | M27: =N88 -> 415389.86
D28: Ostatní náklady | M28: =N97 -> 0
D30: Cena bez DPH | M30: =ROUND(M27+M28,2) -> 415389.86
D32: DPH | E32: základní | F32: 0.21 | G32: ze | H32: =ROUND((SUM(BE97:BE98)+SUM(BE116:BE167)), 2) -> 415389.86 | M32: =ROUND(ROUND((SUM(BE97:BE98)+SUM(BE116:BE167)), 2)*F32, 2) -> 87231.87
E33: snížená | F33: 0.15 | G33: ze | H33: =ROUND((SUM(BF97:BF98)+SUM(BF116:BF167)), 2) -> 0 | M33: =ROUND(ROUND((SUM(BF97:BF98)+SUM(BF116:BF167)), 2)*F33, 2) -> 0
E34: zákl. přenesená | F34: 0.21 | G34: ze | H34: =ROUND((SUM(BG97:BG98)+SUM(BG116:BG167)), 2) -> 0 | M34: 0
E35: sníž. přenesená | F35: 0.15 | G35: ze | H35: =ROUND((SUM(BH97:BH98)+SUM(BH116:BH167)), 2) -> 0 | M35: 0
E36: nulová | F36: 0 | G36: ze | H36: =ROUND((SUM(BI97:BI98)+SUM(BI116:BI167)), 2) -> 0 | M36: 0
D38: Cena s DPH | G38: v | H38: CZK | L38: =SUM(M30:M36) -> 502621.73
D50: Projektant | J50: Zpracovatel
D59: Datum a podpis: | G59: Razítko | J59: Datum a podpis: | N59: Razítko
D61: Objednavatel | J61: Zhotovitel
D70: Datum a podpis: | G70: Razítko | J70: Datum a podpis: | N70: Razítko
C76: REKAPITULACE ROZPOČTU
C78: Stavba: | F78: =F6 -> Olomouc - Úprava cest na hřbitově
C79: Objekt: | F79: =F7 -> SO102 - Chodník - úsek B (u pomníku odboje)
C81: Místo: | F81: =F9 -> Olomouc - Neředín | K81: Datum: | M81: =IF(O9="","",O9) -> 42914
C83: Objednatel: | F83: =E12 | K83: Projektant: | M83: =E18 -> Dopravní projektování s.r.o.
C84: Zhotovitel: | F84: =IF(E15="","",E15) | K84: Zpracovatel: | M84: =E21
C86: Kód - Popis | N86: Cena celkem [CZK]
C88: 1) Náklady z rozpočtu | N88: =N116 -> 415389.86 | AU88: -1
D89: HSV - Práce a dodávky HSV | N89: =N117 -> 415389.86
D90: 1 - Zemní práce | N90: =N118 -> 234757.97
...

Sheet SO103 - Chodník - úsek C ...
D1: List obsahuje: | F1: 1) Krycí list rozpočtu | H1: 2) Rekapitulace rozpočtu | L1: 3) Rozpočet | O1: Zpět na list: | S1: Rekapitulace stavby
C2: optimalizováno pro tisk sestav ve formátu A4 - na výšku | S2: >> skryté sloupce << | AT2: {7740525c-6921-45bd-9218-ea0ac2589113}
AT3: 2
C4: KRYCÍ LIST ROZPOČTU | T4: v --- níže se nacházejí doplnkové a pomocné údaje k sestavám --- v | AT4: False
D6: Stavba: | F6: ='Rekapitulace stavby'!K6 -> Olomouc - Úprava cest na hřbitově
D7: Objekt: | F7: SO103 - Chodník - úsek C (okolí kaple - prodejny květin)
D8: JKSO: | M8: CC-CZ:
D9: Místo: | F9: Olomouc - Neředín | M9: Datum: | O9: ='Rekapitulace stavby'!AN8 -> 42914
D11: Objednatel: | M11: IČ:
M12: DIČ:
D14: Zhotovitel: | M14: IČ: | O14: =IF('Rekapitulace stavby'!AN13="","",'Rekapitulace stavby'!AN13) -> 28654501
E15: =IF('Rekapitulace stavby'!E14="","",'Rekapitulace stavby'!E14) | M15: DIČ: | O15: =IF('Rekapitulace stavby'!AN14="","",'Rekapitulace stavby'!AN14) -> CZ28654501
D17: Projektant: | M17: IČ: | O17: 25361520
E18: Dopravní projektování s.r.o. | M18: DIČ:
D20: Zpracovatel: | M20: IČ: | O20: =IF('Rekapitulace stavby'!AN19="","",'Rekapitulace stavby'!AN19)
E21: =IF('Rekapitulace stavby'!E20="","",'Rekapitulace stavby'!E20) | M21: DIČ: | O21: =IF('Rekapitulace stavby'!AN20="","",'Rekapitulace stavby'!AN20)
D23: Poznámka:
D27: Náklady z rozpočtu | M27: =N88 -> 658685.83
D28: Ostatní náklady | M28: =N99 -> 0
D30: Cena bez DPH | M30: =ROUND(M27+M28,2) -> 658685.83
D32: DPH | E32: základní | F32: 0.21 | G32: ze | H32: =ROUND((SUM(BE99:BE100)+SUM(BE118:BE177)), 2) -> 658685.83 | M32: =ROUND(ROUND((SUM(BE99:BE100)+SUM(BE118:BE177)), 2)*F32, 2) -> 138324.02
E33: snížená | F33: 0.15 | G33: ze | H33: =ROUND((SUM(BF99:BF100)+SUM(BF118:BF177)), 2) -> 0 | M33: =ROUND(ROUND((SUM(BF99:BF100)+SUM(BF118:BF177)), 2)*F33, 2) -> 0
E34: zákl. přenesená | F34: 0.21 | G34: ze | H34: =ROUND((SUM(BG99:BG100)+SUM(BG118:BG177)), 2) -> 0 | M34: 0
E35: sníž. přenesená | F35: 0.15 | G35: ze | H35: =ROUND((SUM(BH99:BH100)+SUM(BH118:BH177)), 2) -> 0 | M35: 0
E36: nulová | F36: 0 | G36: ze | H36: =ROUND((SUM(BI99:BI100)+SUM(BI118:BI177)), 2) -> 0 | M36: 0
D38: Cena s DPH | G38: v | H38: CZK | L38: =SUM(M30:M36) -> 797009.85
D50: Projektant | J50: Zpracovatel
D59: Datum a podpis: | G59: Razítko | J59: Datum a podpis: | N59: Razítko
D61: Objednavatel | J61: Zhotovitel
D70: Datum a podpis: | G70: Razítko | J70: Datum a podpis: | N70: Razítko
C76: REKAPITULACE ROZPOČTU
C78: Stavba: | F78: =F6 -> Olomouc - Úprava cest na hřbitově
C79: Objekt: | F79: =F7 -> SO103 - Chodník - úsek C (okolí kaple - prodejny květin)
C81: Místo: | F81: =F9 -> Olomouc - Neředín | K81: Datum: | M81: =IF(O9="","",O9) -> 42914
C83: Objednatel: | F83: =E12 | K83: Projektant: | M83: =E18 -> Dopravní projektování s.r.o.
C84: Zhotovitel: | F84: =IF(E15="","",E15) | K84: Zpracovatel: | M84: =E21
C86: Kód - Popis | N86: Cena celkem [CZK]
C88: 1) Náklady z rozpočtu | N88: =N118 -> 658685.83 | AU88: -1
D89: HSV - Práce a dodávky HSV | N89: =N119 -> 658055.46
D90: 1 - Zemní práce | N90: =N120 -> 223081.7
...

Sheet VON - Vedlejší a ostatní ...
D1: List obsahuje: | F1: 1) Krycí list rozpočtu | H1: 2) Rekapitulace rozpočtu | L1: 3) Rozpočet | O1: Zpět na list: | S1: Rekapitulace stavby
C2: optimalizováno pro tisk sestav ve formátu A4 - na výšku | S2: >> skryté sloupce << | AT2: {2cf9cf19-cc87-4add-97da-0835bf94b66a}
AT3: 2
C4: KRYCÍ LIST ROZPOČTU | T4: v --- níže se nacházejí doplnkové a pomocné údaje k sestavám --- v | AT4: False
D6: Stavba: | F6: ='Rekapitulace stavby'!K6 -> Olomouc - Úprava cest na hřbitově
D7: Objekt: | F7: VON - Vedlejší a ostatní náklady
D8: JKSO: | M8: CC-CZ:
D9: Místo: | F9: Olomouc - Neředín | M9: Datum: | O9: ='Rekapitulace stavby'!AN8 -> 42914
D11: Objednatel: | M11: IČ:
M12: DIČ:
D14: Zhotovitel: | M14: IČ: | O14: =IF('Rekapitulace stavby'!AN13="","",'Rekapitulace stavby'!AN13) -> 28654501
E15: =IF('Rekapitulace stavby'!E14="","",'Rekapitulace stavby'!E14) | M15: DIČ: | O15: =IF('Rekapitulace stavby'!AN14="","",'Rekapitulace stavby'!AN14) -> CZ28654501
D17: Projektant: | M17: IČ: | O17: 25361520
E18: Dopravní projektování s.r.o. | M18: DIČ:
D20: Zpracovatel: | M20: IČ: | O20: =IF('Rekapitulace stavby'!AN19="","",'Rekapitulace stavby'!AN19)
E21: =IF('Rekapitulace stavby'!E20="","",'Rekapitulace stavby'!E20) | M21: DIČ: | O21: =IF('Rekapitulace stavby'!AN20="","",'Rekapitulace stavby'!AN20)
D23: Poznámka:
D27: Náklady z rozpočtu | M27: =N88 -> 150000
D28: Ostatní náklady | M28: =N94 -> 0
D30: Cena bez DPH | M30: =ROUND(M27+M28,2) -> 150000
D32: DPH | E32: základní | F32: 0.21 | G32: ze | H32: =ROUND((SUM(BE94:BE95)+SUM(BE113:BE131)), 2) -> 150000 | M32: =ROUND(ROUND((SUM(BE94:BE95)+SUM(BE113:BE131)), 2)*F32, 2) -> 31500
E33: snížená | F33: 0.15 | G33: ze | H33: =ROUND((SUM(BF94:BF95)+SUM(BF113:BF131)), 2) -> 0 | M33: =ROUND(ROUND((SUM(BF94:BF95)+SUM(BF113:BF131)), 2)*F33, 2) -> 0
E34: zákl. přenesená | F34: 0.21 | G34: ze | H34: =ROUND((SUM(BG94:BG95)+SUM(BG113:BG131)), 2) -> 0 | M34: 0
E35: sníž. přenesená | F35: 0.15 | G35: ze | H35: =ROUND((SUM(BH94:BH95)+SUM(BH113:BH131)), 2) -> 0 | M35: 0
E36: nulová | F36: 0 | G36: ze | H36: =ROUND((SUM(BI94:BI95)+SUM(BI113:BI131)), 2) -> 0 | M36: 0
D38: Cena s DPH | G38: v | H38: CZK | L38: =SUM(M30:M36) -> 181500
D50: Projektant | J50: Zpracovatel
D59: Datum a podpis: | G59: Razítko | J59: Datum a podpis: | N59: Razítko
D61: Objednavatel | J61: Zhotovitel
D70: Datum a podpis: | G70: Razítko | J70: Datum a podpis: | N70: Razítko
C76: REKAPITULACE ROZPOČTU
C78: Stavba: | F78: =F6 -> Olomouc - Úprava cest na hřbitově
C79: Objekt: | F79: =F7 -> VON - Vedlejší a ostatní náklady
C81: Místo: | F81: =F9 -> Olomouc - Neředín | K81: Datum: | M81: =IF(O9="","",O9) -> 42914
C83: Objednatel: | F83: =E12 | K83: Projektant: | M83: =E18 -> Dopravní projektování s.r.o.
C84: Zhotovitel: | F84: =IF(E15="","",E15) | K84: Zpracovatel: | M84: =E21
C86: Kód - Popis | N86: Cena celkem [CZK]
C88: 1) Náklady z rozpočtu | N88: =N113 -> 150000 | AU88: -1
D89: VRN - Vedlejší rozpočtové náklady | N89: =N114 -> 150000
D90: VRN1 - Průzkumné, geodetické a projektové práce | N90: =N115 -> 101000
...
