Workbook

Sheet Rekapitulace stavby
A1: 2012 | D1: List obsahuje: | K1: 1) Souhrnný list stavby | W1: 2) Rekapitulace objektů | BA1: 2.0 | BT1: False | BU1: False
C2: optimalizováno pro tisk sestav ve formátu A4 - na výšku | AR2: >> skryté sloupce << | BS2: 0,01 | BT2: 21
BS3: 0,01 | BT3: 15
C4: SOUHRNNÝ LIST STAVBY | AS4: v --- níže se nacházejí doplnkové a pomocné údaje k sestavám --- v | BS4: 0,001
D5: Kód: | K5: 1700110 | BS5: 0,01
D6: Stavba: | K6: Olomouc - Úprava cest na hřbitově | BS6: 0,01
D7: JKSO: | AK7: CC-CZ: | BS7: 0,01
D8: Místo: | K8: Olomouc - Neředín | AK8: Datum: | AN8: 42914 | BS8: 0,01
BS9: 0,01
D10: Objednatel: | AK10: IČ: | BS10: 0,01
AK11: DIČ: | BS11: 0,01
BS12: 0,01
D13: Zhotovitel: | J13: Brodacký Antonín s.r.o., Bělkovice-Lašťany535, 783 16 Dolany | AK13: IČ: | AN13: 28654501 | BS13: 0,01
AK14: DIČ: | AN14: CZ28654501 | BS14: 0,01
BS15: False
D16: Projektant: | AK16: IČ: | AN16: 25361520 | BS16: False
E17: Dopravní projektování s.r.o. | AK17: DIČ: | BS17: True
BS18: 0,01
D19: Zpracovatel: | AK19: IČ: | BS19: 0,01
AK20: DIČ:
D22: Poznámka:
D26: Náklady z rozpočtů | AK26: =ROUND(AG87,2) -> 1986216.2
D27: Ostatní náklady ze souhrnného listu | AK27: =ROUND(AG93,2) -> 0
D29: Cena bez DPH | AK29: =ROUND(AK26+AK27,2) -> 1986216.2
D31: DPH | F31: základní | L31: 0.21 | T31: ze | W31: =ROUND(AZ87+SUM(CD94),2) -> 1986216.2 | AK31: =ROUND(AV87+SUM(BY94),2) -> 417105.4
F32: snížená | L32: 0.15 | T32: ze | W32: =ROUND(BA87+SUM(CE94),2) -> 0 | AK32: =ROUND(AW87+SUM(BZ94),2) -> 0
F33: zákl. přenesená | L33: 0.21 | T33: ze | W33: =ROUND(BB87+SUM(CF94),2) -> 0 | AK33: 0
F34: sníž. přenesená | L34: 0.15 | T34: ze | W34: =ROUND(BC87+SUM(CG94),2) -> 0 | AK34: 0
F35: nulová | L35: 0 | T35: ze | W35: =ROUND(BD87+SUM(CH94),2) -> 0 | AK35: 0
D37: Cena s DPH | T37: v | X37: CZK | AK37: =SUM(AK29:AK35) -> 2403321.6
D49: Projektant | AC49: Zpracovatel
D58: Datum a podpis: | R58: Razítko | AC58: Datum a podpis: | AM58: Razítko
D60: Objednavatel | AC60: Zhotovitel
D69: Datum a podpis: | R69: Razítko | AC69: Datum a podpis: | AM69: Razítko
C76: REKAPITULACE OBJEKTŮ STAVBY
C77: Kód: | L77: =K5 -> 1700110
C78: Stavba: | L78: =K6 -> Olomouc - Úprava cest na hřbitově
C80: Místo: | L80: =IF(K8="","",K8) -> Olomouc - Neředín | AI80: Datum: | AM80: =IF(AN8= "","",AN8) -> 42914
C82: Objednatel: | L82: =IF(E11= "","",E11) | AI82: Projektant: | AM82: =IF(E17="","",E17) -> Dopravní projektování s.r.o. | AS82: Informatívní údaje z listů zakázek
C83: Zhotovitel: | L83: =IF(E14="","",E14) | AI83: Zpracovatel: | AM83: =IF(E20="","",E20)
C85: Kód | I85: Objekt | AG85: Cena bez DPH [CZK] | AN85: Cena s DPH [CZK] | AS85: z toho Ostat._x000D_ náklady [CZK] | AT85: DPH [CZK] | AU85: Normohodiny [h] | AV85: DPH základní [CZK] | AW85: DPH snížená [CZK] | AX85: DPH základní přenesená_x000D_ [CZK] | AY85: DPH snížená přenesená_x000D_ [CZK] | AZ85: Základna_x000D_ DPH základní | BA85: Základna_x000D_ DPH snížená | BB85: Základna_x000D_ DPH zákl. přenesená | BC85: Základna_x000D_ DPH sníž. přenesená | BD85: Základna_x000D_ DPH nulová
C87: 1) Náklady z rozpočtů | AG87: =ROUND(SUM(AG88:AG91),2) -> 1986216.2 | AN87: =SUM(AG87,AT87) -> 2403321.6 | AS87: =ROUND(SUM(AS88:AS91),2) -> 0 | AT87: =ROUND(SUM(AV87:AW87),2) -> 417105.4 | AU87: =ROUND(SUM(AU88:AU91),5) -> 0 | AV87: =ROUND(AZ87*L31,2) -> 417105.4 | AW87: =ROUND(BA87*L32,2) -> 0 | AX87: =ROUND(BB87*L31,2) -> 0 | AY87: =ROUND(BC87*L32,2) -> 0 | AZ87: =ROUND(SUM(AZ88:AZ91),2) -> 1986216.2 | BA87: =ROUND(SUM(BA88:BA91),2) -> 0 | BB87: =ROUND(SUM(BB88:BB91),2) -> 0 | BC87: =ROUND(SUM(BC88:BC91),2) -> 0 | BD87: =ROUND(SUM(BD88:BD91),2) -> 0 | BS87: D | BT87: 0 | BU87: ###NOIMPORT### | BV87: IMPORT | BW87: {8feebd36-4e25-4102-9601-574bd4804135} | BX87: {00000000-0000-0000-0000-000000000000}
A88: / | D88: SO 101 | J88: Chodník - úsek A (ke Globusu) | AG88: ='SO 101 - Chodník - úsek A...'!M30 -> 762140.49 | AN88: =SUM(AG88,AT88) -> 922189.99 | AS88: ='SO 101 - Chodník - úsek A...'!M28 -> 0 | AT88: =ROUND(SUM(AV88:AW88),2) -> 160049.5 | AU88: ='SO 101 - Chodník - úsek A...'!W117 -> 0 | AV88: ='SO 101 - Chodník - úsek A...'!M32 -> 160049.5 | AW88: ='SO 101 - Chodník - úsek A...'!M33 -> 0 | AX88: ='SO 101 - Chodník - úsek A...'!M34 -> 0 | AY88: ='SO 101 - Chodník - úsek A...'!M35 -> 0 | AZ88: ='SO 101 - Chodník - úsek A...'!H32 -> 762140.49 | BA88: ='SO 101 - Chodník - úsek A...'!H33 -> 0 | BB88: ='SO 101 - Chodník - úsek A...'!H34 -> 0 | BC88: ='SO 101 - Chodník - úsek A...'!H35 -> 0 | BD88: ='SO 101 - Chodník - úsek A...'!H36 -> 0 | BT88: 1 | BV88: IMPORT | BW88: {6fee1ee7-c094-44e0-8958-28721babe359} | BX88: {8feebd36-4e25-4102-9601-574bd4804135}
A89: / | D89: SO102 | J89: Chodník - úsek B (u pomníku odboje) | AG89: ='SO102 - Chodník - úsek B ...'!M30 -> 415389.86 | AN89: =SUM(AG89,AT89) -> 502621.73 | AS89: ='SO102 - Chodník - úsek B ...'!M28 -> 0 | AT89: =ROUND(SUM(AV89:AW89),2) -> 87231.87 | AU89: ='SO102 - Chodník - úsek B ...'!W116 -> 0 | AV89: ='SO102 - Chodník - úsek B ...'!M32 -> 87231.87 | AW89: ='SO102 - Chodník - úsek B ...'!M33 -> 0 | AX89: ='SO102 - Chodník - úsek B ...'!M34 -> 0 | AY89: ='SO102 - Chodník - úsek B ...'!M35 -> 0 | AZ89: ='SO102 - Chodník - úsek B ...'!H32 -> 415389.86 | BA89: ='SO102 - Chodník - úsek B ...'!H33 -> 0 | BB89: ='SO102 - Chodník - úsek B ...'!H34 -> 0 | BC89: ='SO102 - Chodník - úsek B ...'!H35 -> 0 | BD89: ='SO102 - Chodník - úsek B ...'!H36 -> 0 | BT89: 1 | BV89: IMPORT | BW89: {840672dd-319b-4d59-a08e-dbcaa3954b41} | BX89: {8feebd36-4e25-4102-9601-574bd4804135}
A90: / | D90: SO103 | J90: Chodník - úsek C (okolí kaple - prodejny květin) | AG90: ='SO103 - Chodník - úsek C ...'!M30 -> 658685.83 | AN90: =SUM(AG90,AT90) -> 797009.85 | AS90: ='SO103 - Chodník - úsek C ...'!M28 -> 0 | AT90: =ROUND(SUM(AV90:AW90),2) -> 138324.02 | AU90: ='SO103 - Chodník - úsek C ...'!W118 -> 0 | AV90: ='SO103 - Chodník - úsek C ...'!M32 -> 138324.02 | AW90: ='SO103 - Chodník - úsek C ...'!M33 -> 0 | AX90: ='SO103 - Chodník - úsek C ...'!M34 -> 0 | AY90: ='SO103 - Chodník - úsek C ...'!M35 -> 0 | AZ90: ='SO103 - Chodník - úsek C ...'!H32 -> 658685.83 | BA90: ='SO103 - Chodník - úsek C ...'!H33 -> 0 | BB90: ='SO103 - Chodník - úsek C ...'!H34 -> 0 | BC90: ='SO103 - Chodník - úsek C ...'!H35 -> 0 | BD90: ='SO103 - Chodník - úsek C ...'!H36 -> 0 | BT90: 1 | BV90: IMPORT | BW90: {7740525c-6921-45bd-9218-ea0ac2589113} | BX90: {8feebd36-4e25-4102-9601-574bd4804135}
A91: / | D91: VON | J91: Vedlejší a ostatní náklady | AG91: ='VON - Vedlejší a ostatní ...'!M30 -> 150000 | AN91: =SUM(AG91,AT91) -> 181500 | AS91: ='VON - Vedlejší a ostatní ...'!M28 -> 0 | AT91: =ROUND(SUM(AV91:AW91),2) -> 31500 | AU91: ='VON - Vedlejší a ostatní ...'!W113 -> 0 | AV91: ='VON - Vedlejší a ostatní ...'!M32 -> 31500 | AW91: ='VON - Vedlejší a ostatní ...'!M33 -> 0 | AX91: ='VON - Vedlejší a ostatní ...'!M34 -> 0 | AY91: ='VON - Vedlejší a ostatní ...'!M35 -> 0 | AZ91: ='VON - Vedlejší a ostatní ...'!H32 -> 150000 | BA91: ='VON - Vedlejší a ostatní ...'!H33 -> 0 | BB91: ='VON - Vedlejší a ostatní ...'!H34 -> 0 | BC91: ='VON - Vedlejší a ostatní ...'!H35 -> 0 | BD91: ='VON - Vedlejší a ostatní ...'!H36 -> 0 | BT91: 1 | BV91: IMPORT | BW91: {2cf9cf19-cc87-4add-97da-0835bf94b66a} | BX91: {8feebd36-4e25-4102-9601-574bd4804135}
C93: 2) Ostatní náklady ze souhrnného listu | AG93: 0 | AN93: 0 | AS93: Procent. zadání_x000D_ [% nákladů rozpočtu] | AT93: Zařazení nákladů | AU93: DPH | AV93: DPH [CZK]
C95: Celkové náklady za stavbu 1) + 2) | AG95: =ROUND(AG87+AG93,2) -> 1986216.2 | AN95: =AN87+AN93 -> 2403321.6

Sheet SO 101 - Chodník - úsek A...
D1: List obsahuje: | F1: 1) Krycí list rozpočtu | H1: 2) Rekapitulace rozpočtu | L1: 3) Rozpočet | O1: Zpět na list: | S1: Rekapitulace stavby
C2: optimalizováno pro tisk sestav ve formátu A4 - na výšku | S2: >> skryté sloupce << | AT2: {6fee1ee7-c094-44e0-8958-28721babe359}
AT3: 2
C4: KRYCÍ LIST ROZPOČTU | T4: v --- níže se nacházejí doplnkové a pomocné údaje k sestavám --- v | AT4: False
D6: Stavba: | F6: ='Rekapitulace stavby'!K6 -> Olomouc - Úprava cest na hřbitově
D7: Objekt: | F7: SO 101 - Chodník - úsek A (ke Globusu)
D8: JKSO: | M8: CC-CZ:
D9: Místo: | F9: Olomouc - Neředín | M9: Datum: | O9: ='Rekapitulace stavby'!AN8 -> 42914
D11: Objednatel: | M11: IČ:
M12: DIČ:
D14: Zhotovitel: | M14: IČ: | O14: =IF('Rekapitulace stavby'!AN13="","",'Rekapitulace stavby'!AN13) -> 28654501
E15: =IF('Rekapitulace stavby'!E14="","",'Rekapitulace stavby'!E14) | M15: DIČ: | O15: =IF('Rekapitulace stavby'!AN14="","",'Rekapitulace stavby'!AN14) -> CZ28654501
D17: Projektant: | M17: IČ: | O17: 25361520
E18: Dopravní projektování s.r.o. | M18: DIČ:
D20: Zpracovatel: | M20: IČ: | O20: =IF('Rekapitulace stavby'!AN19="","",'Rekapitulace stavby'!AN19)
E21: =IF('Rekapitulace stavby'!E20="","",'Rekapitulace stavby'!E20) | M21: DIČ: | O21: =IF('Rekapitulace stavby'!AN20="","",'Rekapitulace stavby'!AN20)
D23: Poznámka:
D27: Náklady z rozpočtu | M27: =N88 -> 762140.49
D28: Ostatní náklady | M28: =N98 -> 0
D30: Cena bez DPH | M30: =ROUND(M27+M28,2) -> 762140.49
D32: DPH | E32: základní | F32: 0.21 | G32: ze | H32: =ROUND((SUM(BE98:BE99)+SUM(BE117:BE173)), 2) -> 762140.49 | M32: =ROUND(ROUND((SUM(BE98:BE99)+SUM(BE117:BE173)), 2)*F32, 2) -> 160049.5
E33: snížená | F33: 0.15 | G33: ze | H33: =ROUND((SUM(BF98:BF99)+SUM(BF117:BF173)), 2) -> 0 | M33: =ROUND(ROUND((SUM(BF98:BF99)+SUM(BF117:BF173)), 2)*F33, 2) -> 0
E34: zákl. přenesená | F34: 0.21 | G34: ze | H34: =ROUND((SUM(BG98:BG99)+SUM(BG117:BG173)), 2) -> 0 | M34: 0
E35: sníž. přenesená | F35: 0.15 | G35: ze | H35: =ROUND((SUM(BH98:BH99)+SUM(BH117:BH173)), 2) -> 0 | M35: 0
E36: nulová | F36: 0 | G36: ze | H36: =ROUND((SUM(BI98:BI99)+SUM(BI117:BI173)), 2) -> 0 | M36: 0
D38: Cena s DPH | G38: v | H38: CZK | L38: =SUM(M30:M36) -> 922189.99
D50: Projektant | J50: Zpracovatel
D59: Datum a podpis: | G59: Razítko | J59: Datum a podpis: | N59: Razítko
D61: Objednavatel | J61: Zhotovitel
D70: Datum a podpis: | G70: Razítko | J70: Datum a podpis: | N70: Razítko
C76: REKAPITULACE ROZPOČTU
C78: Stavba: | F78: =F6 -> Olomouc - Úprava cest na hřbitově
C79: Objekt: | F79: =F7 -> SO 101 - Chodník - úsek A (ke Globusu)
C81: Místo: | F81: =F9 -> Olomouc - Neředín | K81: Datum: | M81: =IF(O9="","",O9) -> 42914
C83: Objednatel: | F83: =E12 | K83: Projektant: | M83: =E18 -> Dopravní projektování s.r.o.
C84: Zhotovitel: | F84: =IF(E15="","",E15) | K84: Zpracovatel: | M84: =E21
C86: Kód - Popis | N86: Cena celkem [CZK]
C88: 1) Náklady z rozpočtu | N88: =N117 -> 762140.49 | AU88: -1
D89: HSV - Práce a dodávky HSV | N89: =N118 -> 762140.49
D90: 1 - Zemní práce | N90: =N119 -> 405031.75
D91: 2 - Zakládání | N91: =N145 -> 33668.69
D92: 5 - Komunikace pozemní | N92: =N147 -> 211765.58
D93: 8 - Trubní vedení | N93: =N155 -> 1730
D94: 9 - Ostatní konstrukce a práce, bourání | N94: =N157 -> 78134.3
D95: 997 - Přesun sutě | N95: =N166 -> 13270.87
D96: 998 - Přesun hmot | N96: =N172 -> 18539.3
C98: 2) Ostatní náklady | N98: 0 | U98: DPH
C100: Celkové náklady za stavbu 1) + 2) | L100: =ROUND(SUM(N88+N98),2) -> 762140.49
C106: ROZPOČET
C108: Stavba: | F108: =F6 -> Olomouc - Úprava cest na hřbitově
C109: Objekt: | F109: =F7 -> SO 101 - Chodník - úsek A (ke Globusu)
C111: Místo: | F111: =F9 -> Olomouc - Neředín | K111: Datum: | M111: =IF(O9="","",O9) -> 42914
C113: Objednatel: | F113: =E12 | K113: Projektant: | M113: =E18 -> Dopravní projektování s.r.o.
C114: Zhotovitel: | F114: =IF(E15="","",E15) | K114: Zpracovatel: | M114: =E21
C116: PČ | D116: Typ | E116: Kód | F116: Popis | J116: MJ | K116: Množství | L116: J.cena [CZK] | N116: Cena celkem [CZK] | T116: Poznámka | U116: DPH | V116: J. Nh [h] | W116: Nh celkem [h] | X116: J. hmotnost_x000D_ [t] | Y116: Hmotnost_x000D_ celkem [t] | Z116: J. suť [t] | AA116: Suť Celkem [t]
C117: Náklady z rozpočtu | N117: =BK117 -> 762140.49 | W117: =W118 -> 0 | Y117: =Y118 -> 109.69991 | AA117: =AA118 -> 21.299 | AT117: D | AU117: -1 | BK117: =BK118 -> 762140.49
D118: HSV - Práce a dodávky HSV | N118: =BK118 -> 762140.49 | W118: =W119+W145+W147+W155+W157+W166+W172 -> 0 | Y118: =Y119+Y145+Y147+Y155+Y157+Y166+Y172 -> 109.69991 | AA118: =AA119+AA145+AA147+AA155+AA157+AA166+AA172 -> 21.299 | AR118: 1 | AT118: D | AU118: 0 | AY118: ROZPOCET | BK118: =BK119+BK145+BK147+BK155+BK157+BK166+BK172 -> 762140.49
D119: 1 - Zemní práce | N119: =BK119 -> 405031.75 | W119: =SUM(W120:W144) -> 0 | Y119: =SUM(Y120:Y144) -> 0.13557 | AA119: =SUM(AA120:AA144) -> 21.299 | AR119: 1 | AT119: D | AU119: 1 | AY119: ROZPOCET | BK119: =SUM(BK120:BK144) -> 405031.75
C120: 1 | D120: K | E120: 113106161 | F120: Rozebrání dlažeb vozovek pl do 50 m2 z drobných kostek s ložem z kameniva | J120: m2 | K120: 27 | L120: 45.9 | N120: =ROUND(L120*K120,2) -> 1239.3 | U120: základní | V120: 0 | W120: =V120*K120 -> 0 | X120: 0 | Y120: =X120*K120 -> 0 | Z120: 0.32 | AA120: =Z120*K120 -> 8.64 | AR120: 4 | AT120: K | AU120: 2 | AY120: ROZPOCET | BE120: =IF(U120="základní",N120,0) -> 1239.3 | BF120: =IF(U120="snížená",N120,0) -> 0 | BG120: =IF(U120="zákl. přenesená",N120,0) -> 0 | BH120: =IF(U120="sníž. přenesená",N120,0) -> 0 | BI120: =IF(U120="nulová",N120,0) -> 0 | BJ120: 1 | BK120: =ROUND(L120*K120,2) -> 1239.3 | BL120: 4 | BM120: -208425660
C121: 2 | D121: K | E121: 113107123 | F121: Odstranění podkladu pl do 50 m2 z kameniva drceného tl 300 mm | J121: m2 | K121: 27 | L121: 428 | N121: =ROUND(L121*K121,2) -> 11556 | U121: základní | V121: 0 | W121: =V121*K121 -> 0 | X121: 0 | Y121: =X121*K121 -> 0 | Z121: 0.44 | AA121: =Z121*K121 -> 11.88 | AR121: 4 | AT121: K | AU121: 2 | AY121: ROZPOCET | BE121: =IF(U121="základní",N121,0) -> 11556 | BF121: =IF(U121="snížená",N121,0) -> 0 | BG121: =IF(U121="zákl. přenesená",N121,0) -> 0 | BH121: =IF(U121="sníž. přenesená",N121,0) -> 0 | BI121: =IF(U121="nulová",N121,0) -> 0 | BJ121: 1 | BK121: =ROUND(L121*K121,2) -> 11556 | BL121: 4 | BM121: 1458514284
C122: 3 | D122: K | E122: 113202111 | F122: Vytrhání obrub krajníků obrubníků stojatých | J122: m | K122: 3.8 | L122: 49.2 | N122: =ROUND(L122*K122,2) -> 186.96 | U122: základní | V122: 0 | W122: =V122*K122 -> 0 | X122: 0 | Y122: =X122*K122 -> 0 | Z122: 0.205 | AA122: =Z122*K122 -> 0.779 | AR122: 4 | AT122: K | AU122: 2 | AY122: ROZPOCET | BE122: =IF(U122="základní",N122,0) -> 186.96 | BF122: =IF(U122="snížená",N122,0) -> 0 | BG122: =IF(U122="zákl. přenesená",N122,0) -> 0 | BH122: =IF(U122="sníž. přenesená",N122,0) -> 0 | BI122: =IF(U122="nulová",N122,0) -> 0 | BJ122: 1 | BK122: =ROUND(L122*K122,2) -> 186.96 | BL122: 4 | BM122: -505673110
C123: 4 | D123: K | E123: 122202202 | F123: Odkopávky a prokopávky nezapažené pro silnice objemu do 1000 m3 v hornině tř. 3 | J123: m3 | K123: 177.72 | L123: 74.5 | N123: =ROUND(L123*K123,2) -> 13240.14 | U123: základní | V123: 0 | W123: =V123*K123 -> 0 | X123: 0 | Y123: =X123*K123 -> 0 | Z123: 0 | AA123: =Z123*K123 -> 0 | AR123: 4 | AT123: K | AU123: 2 | AY123: ROZPOCET | BE123: =IF(U123="základní",N123,0) -> 13240.14 | BF123: =IF(U123="snížená",N123,0) -> 0 | BG123: =IF(U123="zákl. přenesená",N123,0) -> 0 | BH123: =IF(U123="sníž. přenesená",N123,0) -> 0 | BI123: =IF(U123="nulová",N123,0) -> 0 | BJ123: 1 | BK123: =ROUND(L123*K123,2) -> 13240.14 | BL123: 4 | BM123: 240038018
C124: 5 | D124: K | E124: 122212501 | F124: Odkopávky a prokopávky nezapažené pro železnice ručně do 10 m3 v soudržné hornině tř. 3 | J124: m3 | K124: 16.38 | L124: 389 | N124: =ROUND(L124*K124,2) -> 6371.82 | U124: základní | V124: 0 | W124: =V124*K124 -> 0 | X124: 0 | Y124: =X124*K124 -> 0 | Z124: 0 | AA124: =Z124*K124 -> 0 | AR124: 4 | AT124: K | AU124: 2 | AY124: ROZPOCET | BE124: =IF(U124="základní",N124,0) -> 6371.82 | BF124: =IF(U124="snížená",N124,0) -> 0 | BG124: =IF(U124="zákl. přenesená",N124,0) -> 0 | BH124: =IF(U124="sníž. přenesená",N124,0) -> 0 | BI124: =IF(U124="nulová",N124,0) -> 0 | BJ124: 1 | BK124: =ROUND(L124*K124,2) -> 6371.82 | BL124: 4 | BM124: -667812374
C125: 6 | D125: K | E125: 132201101 | F125: Hloubení rýh š do 600 mm v hornině tř. 3 objemu do 100 m3 | J125: m3 | K125: 25.278 | L125: 566 | N125: =ROUND(L125*K125,2) -> 14307.35 | U125: základní | V125: 0 | W125: =V125*K125 -> 0 | X125: 0 | Y125: =X125*K125 -> 0 | Z125: 0 | AA125: =Z125*K125 -> 0 | AR125: 4 | AT125: K | AU125: 2 | AY125: ROZPOCET | BE125: =IF(U125="základní",N125,0) -> 14307.35 | BF125: =IF(U125="snížená",N125,0) -> 0 | BG125: =IF(U125="zákl. přenesená",N125,0) -> 0 | BH125: =IF(U125="sníž. přenesená",N125,0) -> 0 | BI125: =IF(U125="nulová",N125,0) -> 0 | BJ125: 1 | BK125: =ROUND(L125*K125,2) -> 14307.35 | BL125: 4 | BM125: -920348993
C126: 7 | D126: K | E126: 132202511 | F126: Hloubení rýh š do 600 mm pod kolejí ručně přes 2 m3 v hornině tř. 3 | J126: m3 | K126: 9.152 | L126: 1080 | N126: =ROUND(L126*K126,2) -> 9884.16 | U126: základní | V126: 0 | W126: =V126*K126 -> 0 | X126: 0 | Y126: =X126*K126 -> 0 | Z126: 0 | AA126: =Z126*K126 -> 0 | AR126: 4 | AT126: K | AU126: 2 | AY126: ROZPOCET | BE126: =IF(U126="základní",N126,0) -> 9884.16 | BF126: =IF(U126="snížená",N126,0) -> 0 | BG126: =IF(U126="zákl. přenesená",N126,0) -> 0 | BH126: =IF(U126="sníž. přenesená",N126,0) -> 0 | BI126: =IF(U126="nulová",N126,0) -> 0 | BJ126: 1 | BK126: =ROUND(L126*K126,2) -> 9884.16 | BL126: 4 | BM126: 817432268
C127: 8 | D127: K | E127: 162701105 | F127: Vodorovné přemístění do 10000 m výkopku/sypaniny z horniny tř. 1 až 4 | J127: m3 | K127: 227.87 | L127: 227 | N127: =ROUND(L127*K127,2) -> 51726.49 | U127: základní | V127: 0 | W127: =V127*K127 -> 0 | X127: 0 | Y127: =X127*K127 -> 0 | Z127: 0 | AA127: =Z127*K127 -> 0 | AR127: 4 | AT127: K | AU127: 2 | AY127: ROZPOCET | BE127: =IF(U127="základní",N127,0) -> 51726.49 | BF127: =IF(U127="snížená",N127,0) -> 0 | BG127: =IF(U127="zákl. přenesená",N127,0) -> 0 | BH127: =IF(U127="sníž. přenesená",N127,0) -> 0 | BI127: =IF(U127="nulová",N127,0) -> 0 | BJ127: 1 | BK127: =ROUND(L127*K127,2) -> 51726.49 | BL127: 4 | BM127: 1552132959
C128: 9 | D128: K | E128: 162701109 | F128: Příplatek k vodorovnému přemístění výkopku/sypaniny z horniny tř. 1 až 4 ZKD 1000 m přes 10000 m | J128: m3 | K128: 2278.7 | L128: 17.2 | N128: =ROUND(L128*K128,2) -> 39193.64 | U128: základní | V128: 0 | W128: =V128*K128 -> 0 | X128: 0 | Y128: =X128*K128 -> 0 | Z128: 0 | AA128: =Z128*K128 -> 0 | AR128: 4 | AT128: K | AU128: 2 | AY128: ROZPOCET | BE128: =IF(U128="základní",N128,0) -> 39193.64 | BF128: =IF(U128="snížená",N128,0) -> 0 | BG128: =IF(U128="zákl. přenesená",N128,0) -> 0 | BH128: =IF(U128="sníž. přenesená",N128,0) -> 0 | BI128: =IF(U128="nulová",N128,0) -> 0 | BJ128: 1 | BK128: =ROUND(L128*K128,2) -> 39193.64 | BL128: 4 | BM128: -397937501
C129: 10 | D129: K | E129: 167101102 | F129: Nakládání výkopku z hornin tř. 1 až 4 přes 100 m3 | J129: m3 | K129: 227.87 | L129: 54.3 | N129: =ROUND(L129*K129,2) -> 12373.34 | U129: základní | V129: 0 | W129: =V129*K129 -> 0 | X129: 0 | Y129: =X129*K129 -> 0 | Z129: 0 | AA129: =Z129*K129 -> 0 | AR129: 4 | AT129: K | AU129: 2 | AY129: ROZPOCET | BE129: =IF(U129="základní",N129,0) -> 12373.34 | BF129: =IF(U129="snížená",N129,0) -> 0 | BG129: =IF(U129="zákl. přenesená",N129,0) -> 0 | BH129: =IF(U129="sníž. přenesená",N129,0) -> 0 | BI129: =IF(U129="nulová",N129,0) -> 0 | BJ129: 1 | BK129: =ROUND(L129*K129,2) -> 12373.34 | BL129: 4 | BM129: 1193296945
C130: 11 | D130: K | E130: 171201211 | F130: Poplatek za uložení odpadu ze sypaniny na skládce (skládkovné) | J130: t | K130: 410.166 | L130: 140 | N130: =ROUND(L130*K130,2) -> 57423.24 | U130: základní | V130: 0 | W130: =V130*K130 -> 0 | X130: 0 | Y130: =X130*K130 -> 0 | Z130: 0 | AA130: =Z130*K130 -> 0 | AR130: 4 | AT130: K | AU130: 2 | AY130: ROZPOCET | BE130: =IF(U130="základní",N130,0) -> 57423.24 | BF130: =IF(U130="snížená",N130,0) -> 0 | BG130: =IF(U130="zákl. přenesená",N130,0) -> 0 | BH130: =IF(U130="sníž. přenesená",N130,0) -> 0 | BI130: =IF(U130="nulová",N130,0) -> 0 | BJ130: 1 | BK130: =ROUND(L130*K130,2) -> 57423.24 | BL130: 4 | BM130: 1741950017
C131: 12 | D131: K | E131: 171-R-001 | F131: Nákup zeminy vhodné pro ohumusování vč. naložení, složení | J131: m3 | K131: 13.3 | L131: 450 | N131: =ROUND(L131*K131,2) -> 5985 | U131: základní | V131: 0 | W131: =V131*K131 -> 0 | X131: 0 | Y131: =X131*K131 -> 0 | Z131: 0 | AA131: =Z131*K131 -> 0 | AR131: 4 | AT131: K | AU131: 2 | AY131: ROZPOCET | BE131: =IF(U131="základní",N131,0) -> 5985 | BF131: =IF(U131="snížená",N131,0) -> 0 | BG131: =IF(U131="zákl. přenesená",N131,0) -> 0 | BH131: =IF(U131="sníž. přenesená",N131,0) -> 0 | BI131: =IF(U131="nulová",N131,0) -> 0 | BJ131: 1 | BK131: =ROUND(L131*K131,2) -> 5985 | BL131: 4 | BM131: -46492397
... C144: 25 | D144: K | E144: 185851121 | F144: Dovoz vody pro zálivku rostlin za vzdálenost do 1000 m | J144: m3 | K144: 3.325 | L144: 287 | N144: =ROUND(L144*K144,2) -> 954.28 | U144: základní | V144: 0 | W144: =V144*K144 -> 0 | X144: 0 | Y144: =X144*K144 -> 0 | Z144: 0 | AA144: =Z144*K144 -> 0 | AR144: 4 | AT144: K | AU144: 2 | AY144: ROZPOCET | BE144: =IF(U144="základní",N144,0) -> 954.28 | BF144: =IF(U144="snížená",N144,0) -> 0 | BG144: =IF(U144="zákl. přenesená",N144,0) -> 0 | BH144: =IF(U144="sníž. přenesená",N144,0) -> 0 | BI144: =IF(U144="nulová",N144,0) -> 0 | BJ144: 1 | BK144: =ROUND(L144*K144,2) -> 954.28 | BL144: 4 | BM144: 1745992971
D145: 2 - Zakládání | N145: =BK145 -> 33668.69 | W145: =W146 -> 0 | Y145: =Y146 -> 0 | AA145: =AA146 -> 0 | AR145: 1 | AT145: D | AU145: 1 | AY145: ROZPOCET | BK145: =BK146 -> 33668.69
C146: 26 | D146: K | E146: 211561111 | F146: Výplň odvodňovacích žeber nebo trativodů kamenivem hrubým drceným frakce 4 až 16 mm | J146: m3 | K146: 33.77 | L146: 997 | N146: =ROUND(L146*K146,2) -> 33668.69 | U146: základní | V146: 0 | W146: =V146*K146 -> 0 | X146: 0 | Y146: =X146*K146 -> 0 | Z146: 0 | AA146: =Z146*K146 -> 0 | AR146: 4 | AT146: K | AU146: 2 | AY146: ROZPOCET | BE146: =IF(U146="základní",N146,0) -> 33668.69 | BF146: =IF(U146="snížená",N146,0) -> 0 | BG146: =IF(U146="zákl. přenesená",N146,0) -> 0 | BH146: =IF(U146="sníž. přenesená",N146,0) -> 0 | BI146: =IF(U146="nulová",N146,0) -> 0 | BJ146: 1 | BK146: =ROUND(L146*K146,2) -> 33668.69 | BL146: 4 | BM146: -1809840754
D147: 5 - Komunikace pozemní | N147: =BK147 -> 211765.58 | W147: =SUM(W148:W154) -> 0 | Y147: =SUM(Y148:Y154) -> 59.42232 | AA147: =SUM(AA148:AA154) -> 0 | AR147: 1 | AT147: D | AU147: 1 | AY147: ROZPOCET | BK147: =SUM(BK148:BK154) -> 211765.58
C148: 27 | D148: K | E148: 564782111 | F148: Podklad z vibrovaného štěrku VŠ tl 300 mm | J148: m2 | K148: 132 | L148: 334 | N148: =ROUND(L148*K148,2) -> 44088 | U148: základní | V148: 0 | W148: =V148*K148 -> 0 | X148: 0 | Y148: =X148*K148 -> 0 | Z148: 0 | AA148: =Z148*K148 -> 0 | AR148: 4 | AT148: K | AU148: 2 | AY148: ROZPOCET | BE148: =IF(U148="základní",N148,0) -> 44088 | BF148: =IF(U148="snížená",N148,0) -> 0 | BG148: =IF(U148="zákl. přenesená",N148,0) -> 0 | BH148: =IF(U148="sníž. přenesená",N148,0) -> 0 | BI148: =IF(U148="nulová",N148,0) -> 0 | BJ148: 1 | BK148: =ROUND(L148*K148,2) -> 44088 | BL148: 4 | BM148: 1533034913
C149: 28 | D149: K | E149: 564851111 | F149: Podklad ze štěrkodrtě ŠD tl 150 mm | J149: m2 | K149: 472 | L149: 106 | N149: =ROUND(L149*K149,2) -> 50032 | U149: základní | V149: 0 | W149: =V149*K149 -> 0 | X149: 0 | Y149: =X149*K149 -> 0 | Z149: 0 | AA149: =Z149*K149 -> 0 | AR149: 4 | AT149: K | AU149: 2 | AY149: ROZPOCET | BE149: =IF(U149="základní",N149,0) -> 50032 | BF149: =IF(U149="snížená",N149,0) -> 0 | BG149: =IF(U149="zákl. přenesená",N149,0) -> 0 | BH149: =IF(U149="sníž. přenesená",N149,0) -> 0 | BI149: =IF(U149="nulová",N149,0) -> 0 | BJ149: 1 | BK149: =ROUND(L149*K149,2) -> 50032 | BL149: 4 | BM149: -596533736
C150: 29 | D150: K | E150: 591111111 | F150: Kladení dlažby z kostek velkých z kamene do lože z kameniva těženého tl 50 mm | J150: m2 | K150: 266.4 | L150: 352 | N150: =ROUND(L150*K150,2) -> 93772.8 | U150: základní | V150: 0 | W150: =V150*K150 -> 0 | X150: 0.1837 | Y150: =X150*K150 -> 48.93768 | Z150: 0 | AA150: =Z150*K150 -> 0 | AR150: 4 | AT150: K | AU150: 2 | AY150: ROZPOCET | BE150: =IF(U150="základní",N150,0) -> 93772.8 | BF150: =IF(U150="snížená",N150,0) -> 0 | BG150: =IF(U150="zákl. přenesená",N150,0) -> 0 | BH150: =IF(U150="sníž. přenesená",N150,0) -> 0 | BI150: =IF(U150="nulová",N150,0) -> 0 | BJ150: 1 | BK150: =ROUND(L150*K150,2) -> 93772.8 | BL150: 4 | BM150: 2091999804
C151: 30 | D151: K | E151: 591211111 | F151: Kladení dlažby z kostek drobných z kamene do lože z kameniva těženého tl 50 mm | J151: m2 | K151: 34 | L151: 413 | N151: =ROUND(L151*K151,2) -> 14042 | U151: základní | V151: 0 | W151: =V151*K151 -> 0 | X151: 0.1837 | Y151: =X151*K151 -> 6.2458 | Z151: 0 | AA151: =Z151*K151 -> 0 | AR151: 4 | AT151: K | AU151: 2 | AY151: ROZPOCET | BE151: =IF(U151="základní",N151,0) -> 14042 | BF151: =IF(U151="snížená",N151,0) -> 0 | BG151: =IF(U151="zákl. přenesená",N151,0) -> 0 | BH151: =IF(U151="sníž. přenesená",N151,0) -> 0 | BI151: =IF(U151="nulová",N151,0) -> 0 | BJ151: 1 | BK151: =ROUND(L151*K151,2) -> 14042 | BL151: 4 | BM151: -612365770
C152: 31 | D152: M | E152: 583801200 | F152: kostka dlažební drobná, žula velikost 8/10 cm | J152: t | K152: 1.843 | L152: 2460 | N152: =ROUND(L152*K152,2) -> 4533.78 | U152: základní | V152: 0 | W152: =V152*K152 -> 0 | X152: 1 | Y152: =X152*K152 -> 1.843 | Z152: 0 | AA152: =Z152*K152 -> 0 | AR152: 8 | AT152: M | AU152: 2 | AY152: ROZPOCET | BE152: =IF(U152="základní",N152,0) -> 4533.78 | BF152: =IF(U152="snížená",N152,0) -> 0 | BG152: =IF(U152="zákl. přenesená",N152,0) -> 0 | BH152: =IF(U152="sníž. přenesená",N152,0) -> 0 | BI152: =IF(U152="nulová",N152,0) -> 0 | BJ152: 1 | BK152: =ROUND(L152*K152,2) -> 4533.78 | BL152: 4 | BM152: 449231281
C153: 32 | D153: K | E153: 596811223 | F153: Kladení betonové dlažby komunikací pro pěší do lože z kameniva vel do 0,25 m2 plochy přes 300 m2 | J153: m2 | K153: 3 | L153: 139 | N153: =ROUND(L153*K153,2) -> 417 | U153: základní | V153: 0 | W153: =V153*K153 -> 0 | X153: 0.101 | Y153: =X153*K153 -> 0.303 | Z153: 0 | AA153: =Z153*K153 -> 0 | AR153: 4 | AT153: K | AU153: 2 | AY153: ROZPOCET | BE153: =IF(U153="základní",N153,0) -> 417 | BF153: =IF(U153="snížená",N153,0) -> 0 | BG153: =IF(U153="zákl. přenesená",N153,0) -> 0 | BH153: =IF(U153="sníž. přenesená",N153,0) -> 0 | BI153: =IF(U153="nulová",N153,0) -> 0 | BJ153: 1 | BK153: =ROUND(L153*K153,2) -> 417 | BL153: 4 | BM153: 274783375
C154: 33 | D154: K | E154: 597661111 | F154: Rigol dlážděný do lože z betonu tl 100 mm z dlažebních kostek drobných | J154: m2 | K154: 4 | L154: 1220 | N154: =ROUND(L154*K154,2) -> 4880 | U154: základní | V154: 0 | W154: =V154*K154 -> 0 | X154: 0.52321 | Y154: =X154*K154 -> 2.09284 | Z154: 0 | AA154: =Z154*K154 -> 0 | AR154: 4 | AT154: K | AU154: 2 | AY154: ROZPOCET | BE154: =IF(U154="základní",N154,0) -> 4880 | BF154: =IF(U154="snížená",N154,0) -> 0 | BG154: =IF(U154="zákl. přenesená",N154,0) -> 0 | BH154: =IF(U154="sníž. přenesená",N154,0) -> 0 | BI154: =IF(U154="nulová",N154,0) -> 0 | BJ154: 1 | BK154: =ROUND(L154*K154,2) -> 4880 | BL154: 4 | BM154: -544649411
D155: 8 - Trubní vedení | N155: =BK155 -> 1730 | W155: =W156 -> 0 | Y155: =Y156 -> 0.42368 | AA155: =AA156 -> 0 | AR155: 1 | AT155: D | AU155: 1 | AY155: ROZPOCET | BK155: =BK156 -> 1730
C156: 34 | D156: K | E156: 899231111 | F156: Výšková úprava uličního vstupu nebo vpusti do 200 mm zvýšením mříže | J156: kus | K156: 1 | L156: 1730 | N156: =ROUND(L156*K156,2) -> 1730 | U156: základní | V156: 0 | W156: =V156*K156 -> 0 | X156: 0.42368 | Y156: =X156*K156 -> 0.42368 | Z156: 0 | AA156: =Z156*K156 -> 0 | AR156: 4 | AT156: K | AU156: 2 | AY156: ROZPOCET | BE156: =IF(U156="základní",N156,0) -> 1730 | BF156: =IF(U156="snížená",N156,0) -> 0 | BG156: =IF(U156="zákl. přenesená",N156,0) -> 0 | BH156: =IF(U156="sníž. přenesená",N156,0) -> 0 | BI156: =IF(U156="nulová",N156,0) -> 0 | BJ156: 1 | BK156: =ROUND(L156*K156,2) -> 1730 | BL156: 4 | BM156: -1111518642
D157: 9 - Ostatní konstrukce a práce, bourání | N157: =BK157 -> 78134.3 | W157: =SUM(W158:W165) -> 0 | Y157: =SUM(Y158:Y165) -> 49.71834 | AA157: =SUM(AA158:AA165) -> 0 | AR157: 1 | AT157: D | AU157: 1 | AY157: ROZPOCET | BK157: =SUM(BK158:BK165) -> 78134.3
C158: 35 | D158: K | E158: 916111113 | F158: Osazení obruby z velkých kostek s boční opěrou do lože z betonu prostého | J158: m | K158: 448 | L158: 151 | N158: =ROUND(L158*K158,2) -> 67648 | U158: základní | V158: 0 | W158: =V158*K158 -> 0 | X158: 0.10988 | Y158: =X158*K158 -> 49.22624 | Z158: 0 | AA158: =Z158*K158 -> 0 | AR158: 4 | AT158: K | AU158: 2 | AY158: ROZPOCET | BE158: =IF(U158="základní",N158,0) -> 67648 | BF158: =IF(U158="snížená",N158,0) -> 0 | BG158: =IF(U158="zákl. přenesená",N158,0) -> 0 | BH158: =IF(U158="sníž. přenesená",N158,0) -> 0 | BI158: =IF(U158="nulová",N158,0) -> 0 | BJ158: 1 | BK158: =ROUND(L158*K158,2) -> 67648 | BL158: 4 | BM158: 636781123
C159: 36 | D159: K | E159: 916231213 | F159: Osazení chodníkového obrubníku betonového stojatého s boční opěrou do lože z betonu prostého | J159: m | K159: 3.8 | L159: 186 | N159: =ROUND(L159*K159,2) -> 706.8 | U159: základní | V159: 0 | W159: =V159*K159 -> 0 | X159: 0.1295 | Y159: =X159*K159 -> 0.4921 | Z159: 0 | AA159: =Z159*K159 -> 0 | AR159: 4 | AT159: K | AU159: 2 | AY159: ROZPOCET | BE159: =IF(U159="základní",N159,0) -> 706.8 | BF159: =IF(U159="snížená",N159,0) -> 0 | BG159: =IF(U159="zákl. přenesená",N159,0) -> 0 | BH159: =IF(U159="sníž. přenesená",N159,0) -> 0 | BI159: =IF(U159="nulová",N159,0) -> 0 | BJ159: 1 | BK159: =ROUND(L159*K159,2) -> 706.8 | BL159: 4 | BM159: 1430221492
C160: 37 | D160: K | E160: 919735100 | F160: Zalití spáry modifikovanou asfalt.zálivkou | J160: m | K160: 8 | L160: 75 | N160: =ROUND(L160*K160,2) -> 600 | U160: základní | V160: 0 | W160: =V160*K160 -> 0 | X160: 0 | Y160: =X160*K160 -> 0 | Z160: 0 | AA160: =Z160*K160 -> 0 | AR160: 4 | AT160: K | AU160: 2 | AY160: ROZPOCET | BE160: =IF(U160="základní",N160,0) -> 600 | BF160: =IF(U160="snížená",N160,0) -> 0 | BG160: =IF(U160="zákl. přenesená",N160,0) -> 0 | BH160: =IF(U160="sníž. přenesená",N160,0) -> 0 | BI160: =IF(U160="nulová",N160,0) -> 0 | BJ160: 1 | BK160: =ROUND(L160*K160,2) -> 600 | BL160: 4 | BM160: 1388009692
C161: 38 | D161: K | E161: 919735112 | F161: Řezání stávajícího živičného krytu hl do 100 mm | J161: m | K161: 8 | L161: 71.1 | N161: =ROUND(L161*K161,2) -> 568.8 | U161: základní | V161: 0 | W161: =V161*K161 -> 0 | X161: 0 | Y161: =X161*K161 -> 0 | Z161: 0 | AA161: =Z161*K161 -> 0 | AR161: 4 | AT161: K | AU161: 2 | AY161: ROZPOCET | BE161: =IF(U161="základní",N161,0) -> 568.8 | BF161: =IF(U161="snížená",N161,0) -> 0 | BG161: =IF(U161="zákl. přenesená",N161,0) -> 0 | BH161: =IF(U161="sníž. přenesená",N161,0) -> 0 | BI161: =IF(U161="nulová",N161,0) -> 0 | BJ161: 1 | BK161: =ROUND(L161*K161,2) -> 568.8 | BL161: 4 | BM161: 807801180
C162: 39 | D162: K | E162: 979024443 | F162: Očištění vybouraných obrubníků a krajníků silničních | J162: m | K162: 3.8 | L162: 29.5 | N162: =ROUND(L162*K162,2) -> 112.1 | U162: základní | V162: 0 | W162: =V162*K162 -> 0 | X162: 0 | Y162: =X162*K162 -> 0 | Z162: 0 | AA162: =Z162*K162 -> 0 | AR162: 4 | AT162: K | AU162: 2 | AY162: ROZPOCET | BE162: =IF(U162="základní",N162,0) -> 112.1 | BF162: =IF(U162="snížená",N162,0) -> 0 | BG162: =IF(U162="zákl. přenesená",N162,0) -> 0 | BH162: =IF(U162="sníž. přenesená",N162,0) -> 0 | BI162: =IF(U162="nulová",N162,0) -> 0 | BJ162: 1 | BK162: =ROUND(L162*K162,2) -> 112.1 | BL162: 4 | BM162: -2116662221
C163: 40 | D163: K | E163: 979051111 | F163: Očištění desek nebo dlaždic se spárováním z kameniva těženého při překopech inženýrských sítí | J163: m2 | K163: 3 | L163: 79.2 | N163: =ROUND(L163*K163,2) -> 237.6 | U163: základní | V163: 0 | W163: =V163*K163 -> 0 | X163: 0 | Y163: =X163*K163 -> 0 | Z163: 0 | AA163: =Z163*K163 -> 0 | AR163: 4 | AT163: K | AU163: 2 | AY163: ROZPOCET | BE163: =IF(U163="základní",N163,0) -> 237.6 | BF163: =IF(U163="snížená",N163,0) -> 0 | BG163: =IF(U163="zákl. přenesená",N163,0) -> 0 | BH163: =IF(U163="sníž. přenesená",N163,0) -> 0 | BI163: =IF(U163="nulová",N163,0) -> 0 | BJ163: 1 | BK163: =ROUND(L163*K163,2) -> 237.6 | BL163: 4 | BM163: 834233399
C164: 41 | D164: K | E164: 979071111 | F164: Očištění dlažebních kostek velkých s původním spárováním kamenivem těženým | J164: m2 | K164: 356 | L164: 21.4 | N164: =ROUND(L164*K164,2) -> 7618.4 | U164: základní | V164: 0 | W164: =V164*K164 -> 0 | X164: 0 | Y164: =X164*K164 -> 0 | Z164: 0 | AA164: =Z164*K164 -> 0 | AR164: 4 | AT164: K | AU164: 2 | AY164: ROZPOCET | BE164: =IF(U164="základní",N164,0) -> 7618.4 | BF164: =IF(U164="snížená",N164,0) -> 0 | BG164: =IF(U164="zákl. přenesená",N164,0) -> 0 | BH164: =IF(U164="sníž. přenesená",N164,0) -> 0 | BI164: =IF(U164="nulová",N164,0) -> 0 | BJ164: 1 | BK164: =ROUND(L164*K164,2) -> 7618.4 | BL164: 4 | BM164: -577162302
C165: 42 | D165: K | E165: 979071121 | F165: Očištění dlažebních kostek drobných s původním spárováním kamenivem těženým | J165: m2 | K165: 27 | L165: 23.8 | N165: =ROUND(L165*K165,2) -> 642.6 | U165: základní | V165: 0 | W165: =V165*K165 -> 0 | X165: 0 | Y165: =X165*K165 -> 0 | Z165: 0 | AA165: =Z165*K165 -> 0 | AR165: 4 | AT165: K | AU165: 2 | AY165: ROZPOCET | BE165: =IF(U165="základní",N165,0) -> 642.6 | BF165: =IF(U165="snížená",N165,0) -> 0 | BG165: =IF(U165="zákl. přenesená",N165,0) -> 0 | BH165: =IF(U165="sníž. přenesená",N165,0) -> 0 | BI165: =IF(U165="nulová",N165,0) -> 0 | BJ165: 1 | BK165: =ROUND(L165*K165,2) -> 642.6 | BL165: 4 | BM165: 1626928659
D166: 997 - Přesun sutě | N166: =BK166 -> 13270.87 | W166: =SUM(W167:W171) -> 0 | Y166: =SUM(Y167:Y171) -> 0 | AA166: =SUM(AA167:AA171) -> 0 | AR166: 1 | AT166: D | AU166: 1 | AY166: ROZPOCET | BK166: =SUM(BK167:BK171) -> 13270.87
C167: 43 | D167: K | E167: 997221551 | F167: Vodorovná doprava suti ze sypkých materiálů do 1 km | J167: t | K167: 11.88 | L167: 39.1 | N167: =ROUND(L167*K167,2) -> 464.51 | U167: základní | V167: 0 | W167: =V167*K167 -> 0 | X167: 0 | Y167: =X167*K167 -> 0 | Z167: 0 | AA167: =Z167*K167 -> 0 | AR167: 4 | AT167: K | AU167: 2 | AY167: ROZPOCET | BE167: =IF(U167="základní",N167,0) -> 464.51 | BF167: =IF(U167="snížená",N167,0) -> 0 | BG167: =IF(U167="zákl. přenesená",N167,0) -> 0 | BH167: =IF(U167="sníž. přenesená",N167,0) -> 0 | BI167: =IF(U167="nulová",N167,0) -> 0 | BJ167: 1 | BK167: =ROUND(L167*K167,2) -> 464.51 | BL167: 4 | BM167: 1021548438
C168: 44 | D168: K | E168: 997221559 | F168: Příplatek ZKD 1 km u vodorovné dopravy suti ze sypkých materiálů | J168: t | K168: 225.72 | L168: 8.72 | N168: =ROUND(L168*K168,2) -> 1968.28 | U168: základní | V168: 0 | W168: =V168*K168 -> 0 | X168: 0 | Y168: =X168*K168 -> 0 | Z168: 0 | AA168: =Z168*K168 -> 0 | AR168: 4 | AT168: K | AU168: 2 | AY168: ROZPOCET | BE168: =IF(U168="základní",N168,0) -> 1968.28 | BF168: =IF(U168="snížená",N168,0) -> 0 | BG168: =IF(U168="zákl. přenesená",N168,0) -> 0 | BH168: =IF(U168="sníž. přenesená",N168,0) -> 0 | BI168: =IF(U168="nulová",N168,0) -> 0 | BJ168: 1 | BK168: =ROUND(L168*K168,2) -> 1968.28 | BL168: 4 | BM168: -1187903718
C169: 45 | D169: K | E169: 997221561 | F169: Vodorovná doprava suti z kusových materiálů do 1 km | J169: t | K169: 169.1 | L169: 44 | N169: =ROUND(L169*K169,2) -> 7440.4 | U169: základní | V169: 0 | W169: =V169*K169 -> 0 | X169: 0 | Y169: =X169*K169 -> 0 | Z169: 0 | AA169: =Z169*K169 -> 0 | AR169: 4 | AT169: K | AU169: 2 | AY169: ROZPOCET | BE169: =IF(U169="základní",N169,0) -> 7440.4 | BF169: =IF(U169="snížená",N169,0) -> 0 | BG169: =IF(U169="zákl. přenesená",N169,0) -> 0 | BH169: =IF(U169="sníž. přenesená",N169,0) -> 0 | BI169: =IF(U169="nulová",N169,0) -> 0 | BJ169: 1 | BK169: =ROUND(L169*K169,2) -> 7440.4 | BL169: 4 | BM169: 1847589154
C170: 46 | D170: K | E170: 997221611 | F170: Nakládání suti na dopravní prostředky pro vodorovnou dopravu | J170: t | K170: 11.88 | L170: 146 | N170: =ROUND(L170*K170,2) -> 1734.48 | U170: základní | V170: 0 | W170: =V170*K170 -> 0 | X170: 0 | Y170: =X170*K170 -> 0 | Z170: 0 | AA170: =Z170*K170 -> 0 | AR170: 4 | AT170: K | AU170: 2 | AY170: ROZPOCET | BE170: =IF(U170="základní",N170,0) -> 1734.48 | BF170: =IF(U170="snížená",N170,0) -> 0 | BG170: =IF(U170="zákl. přenesená",N170,0) -> 0 | BH170: =IF(U170="sníž. přenesená",N170,0) -> 0 | BI170: =IF(U170="nulová",N170,0) -> 0 | BJ170: 1 | BK170: =ROUND(L170*K170,2) -> 1734.48 | BL170: 4 | BM170: 636703664
C171: 47 | D171: K | E171: 997221855 | F171: Poplatek za uložení odpadu z kameniva na skládce (skládkovné) | J171: t | K171: 11.88 | L171: 140 | N171: =ROUND(L171*K171,2) -> 1663.2 | U171: základní | V171: 0 | W171: =V171*K171 -> 0 | X171: 0 | Y171: =X171*K171 -> 0 | Z171: 0 | AA171: =Z171*K171 -> 0 | AR171: 4 | AT171: K | AU171: 2 | AY171: ROZPOCET | BE171: =IF(U171="základní",N171,0) -> 1663.2 | BF171: =IF(U171="snížená",N171,0) -> 0 | BG171: =IF(U171="zákl. přenesená",N171,0) -> 0 | BH171: =IF(U171="sníž. přenesená",N171,0) -> 0 | BI171: =IF(U171="nulová",N171,0) -> 0 | BJ171: 1 | BK171: =ROUND(L171*K171,2) -> 1663.2 | BL171: 4 | BM171: -1254965312
D172: 998 - Přesun hmot | N172: =BK172 -> 18539.3 | W172: =W173 -> 0 | Y172: =Y173 -> 0 | AA172: =AA173 -> 0 | AR172: 1 | AT172: D | AU172: 1 | AY172: ROZPOCET | BK172: =BK173 -> 18539.3
C173: 48 | D173: K | E173: 998223011 | F173: Přesun hmot pro pozemní komunikace s krytem dlážděným | J173: t | K173: 109.7 | L173: 169 | N173: =ROUND(L173*K173,2) -> 18539.3 | U173: základní | V173: 0 | W173: =V173*K173 -> 0 | X173: 0 | Y173: =X173*K173 -> 0 | Z173: 0 | AA173: =Z173*K173 -> 0 | AR173: 4 | AT173: K | AU173: 2 | AY173: ROZPOCET | BE173: =IF(U173="základní",N173,0) -> 18539.3 | BF173: =IF(U173="snížená",N173,0) -> 0 | BG173: =IF(U173="zákl. přenesená",N173,0) -> 0 | BH173: =IF(U173="sníž. přenesená",N173,0) -> 0 | BI173: =IF(U173="nulová",N173,0) -> 0 | BJ173: 1 | BK173: =ROUND(L173*K173,2) -> 18539.3 | BL173: 4 | BM173: 863302882

Sheet SO102 - Chodník - úsek B ...
D1: List obsahuje: | F1: 1) Krycí list rozpočtu | H1: 2) Rekapitulace rozpočtu | L1: 3) Rozpočet | O1: Zpět na list: | S1: Rekapitulace stavby
C2: optimalizováno pro tisk sestav ve formátu A4 - na výšku | S2: >> skryté sloupce << | AT2: {840672dd-319b-4d59-a08e-dbcaa3954b41}
AT3: 2
C4: KRYCÍ LIST ROZPOČTU | T4: v --- níže se nacházejí doplnkové a pomocné údaje k sestavám --- v | AT4: False
D6: Stavba: | F6: ='Rekapitulace stavby'!K6 -> Olomouc - Úprava cest na hřbitově
D7: Objekt: | F7: SO102 - Chodník - úsek B (u pomníku odboje)
D8: JKSO: | M8: CC-CZ:
D9: Místo: | F9: Olomouc - Neředín | M9: Datum: | O9: ='Rekapitulace stavby'!AN8 -> 42914
D11: Objednatel: | M11: IČ:
M12: DIČ:
D14: Zhotovitel: | M14: IČ: | O14: =IF('Rekapitulace stavby'!AN13="","",'Rekapitulace stavby'!AN13) -> 28654501
E15: =IF('Rekapitulace stavby'!E14="","",'Rekapitulace stavby'!E14) | M15: DIČ: | O15: =IF('Rekapitulace stavby'!AN14="","",'Rekapitulace stavby'!AN14) -> CZ28654501
D17: Projektant: | M17: IČ: | O17: 25361520
E18: Dopravní projektování s.r.o. | M18: DIČ:
D20: Zpracovatel: | M20: IČ: | O20: =IF('Rekapitulace stavby'!AN19="","",'Rekapitulace stavby'!AN19)
E21: =IF('Rekapitulace stavby'!E20="","",'Rekapitulace stavby'!E20) | M21: DIČ: | O21: =IF('Rekapitulace stavby'!AN20="","",'Rekapitulace stavby'!AN20)
D23: Poznámka:
D27: Náklady z rozpočtu | M27: =N88 -> 415389.86
D28: Ostatní náklady | M28: =N97 -> 0
D30: Cena bez DPH | M30: =ROUND(M27+M28,2) -> 415389.86
D32: DPH | E32: základní | F32: 0.21 | G32: ze | H32: =ROUND((SUM(BE97:BE98)+SUM(BE116:BE167)), 2) -> 415389.86 | M32: =ROUND(ROUND((SUM(BE97:BE98)+SUM(BE116:BE167)), 2)*F32, 2) -> 87231.87
E33: snížená | F33: 0.15 | G33: ze | H33: =ROUND((SUM(BF97:BF98)+SUM(BF116:BF167)), 2) -> 0 | M33: =ROUND(ROUND((SUM(BF97:BF98)+SUM(BF116:BF167)), 2)*F33, 2) -> 0
E34: zákl. přenesená | F34: 0.21 | G34: ze | H34: =ROUND((SUM(BG97:BG98)+SUM(BG116:BG167)), 2) -> 0 | M34: 0
E35: sníž. přenesená | F35: 0.15 | G35: ze | H35: =ROUND((SUM(BH97:BH98)+SUM(BH116:BH167)), 2) -> 0 | M35: 0
E36: nulová | F36: 0 | G36: ze | H36: =ROUND((SUM(BI97:BI98)+SUM(BI116:BI167)), 2) -> 0 | M36: 0
D38: Cena s DPH | G38: v | H38: CZK | L38: =SUM(M30:M36) -> 502621.73
D50: Projektant | J50: Zpracovatel
D59: Datum a podpis: | G59: Razítko | J59: Datum a podpis: | N59: Razítko
D61: Objednavatel | J61: Zhotovitel
D70: Datum a podpis: | G70: Razítko | J70: Datum a podpis: | N70: Razítko
C76: REKAPITULACE ROZPOČTU
C78: Stavba: | F78: =F6 -> Olomouc - Úprava cest na hřbitově
C79: Objekt: | F79: =F7 -> SO102 - Chodník - úsek B (u pomníku odboje)
C81: Místo: | F81: =F9 -> Olomouc - Neředín | K81: Datum: | M81: =IF(O9="","",O9) -> 42914
C83: Objednatel: | F83: =E12 | K83: Projektant: | M83: =E18 -> Dopravní projektování s.r.o.
C84: Zhotovitel: | F84: =IF(E15="","",E15) | K84: Zpracovatel: | M84: =E21
C86: Kód - Popis | N86: Cena celkem [CZK]
C88: 1) Náklady z rozpočtu | N88: =N116 -> 415389.86 | AU88: -1
D89: HSV - Práce a dodávky HSV | N89: =N117 -> 415389.86
D90: 1 - Zemní práce | N90: =N118 -> 234757.97
D91: 2 - Zakládání | N91: =N145 -> 17327.86
D92: 5 - Komunikace pozemní | N92: =N147 -> 111834.59
D93: 9 - Ostatní konstrukce a práce, bourání | N93: =N154 -> 35368.15
D94: 997 - Přesun sutě | N94: =N159 -> 6767.42
D95: 998 - Přesun hmot | N95: =N166 -> 9333.87
C97: 2) Ostatní náklady | N97: 0 | U97: DPH
C99: Celkové náklady za stavbu 1) + 2) | L99: =ROUND(SUM(N88+N97),2) -> 415389.86
C105: ROZPOČET
C107: Stavba: | F107: =F6 -> Olomouc - Úprava cest na hřbitově
C108: Objekt: | F108: =F7 -> SO102 - Chodník - úsek B (u pomníku odboje)
C110: Místo: | F110: =F9 -> Olomouc - Neředín | K110: Datum: | M110: =IF(O9="","",O9) -> 42914
C112: Objednatel: | F112: =E12 | K112: Projektant: | M112: =E18 -> Dopravní projektování s.r.o.
C113: Zhotovitel: | F113: =IF(E15="","",E15) | K113: Zpracovatel: | M113: =E21
C115: PČ | D115: Typ | E115: Kód | F115: Popis | J115: MJ | K115: Množství | L115: J.cena [CZK] | N115: Cena celkem [CZK] | T115: Poznámka | U115: DPH | V115: J. Nh [h] | W115: Nh celkem [h] | X115: J. hmotnost_x000D_ [t] | Y115: Hmotnost_x000D_ celkem [t] | Z115: J. suť [t] | AA115: Suť Celkem [t]
C116: Náklady z rozpočtu | N116: =BK116 -> 415389.86 | W116: =W117 -> 0 | Y116: =Y117 -> 55.230092 | AA116: =AA117 -> 4.535 | AT116: D | AU116: -1 | BK116: =BK117 -> 415389.86
D117: HSV - Práce a dodávky HSV | N117: =BK117 -> 415389.86 | W117: =W118+W145+W147+W154+W159+W166 -> 0 | Y117: =Y118+Y145+Y147+Y154+Y159+Y166 -> 55.230092 | AA117: =AA118+AA145+AA147+AA154+AA159+AA166 -> 4.535 | AR117: 1 | AT117: D | AU117: 0 | AY117: ROZPOCET | BK117: =BK118+BK145+BK147+BK154+BK159+BK166 -> 415389.86
D118: 1 - Zemní práce | N118: =BK118 -> 234757.97 | W118: =SUM(W119:W144) -> 0 | Y118: =SUM(Y119:Y144) -> 0.066016 | AA118: =SUM(AA119:AA144) -> 4.535 | AR118: 1 | AT118: D | AU118: 1 | AY118: ROZPOCET | BK118: =SUM(BK119:BK144) -> 234757.97
C119: 1 | D119: K | E119: 112201103 | F119: Odstranění pařezů D do 700 mm | J119: kus | K119: 10 | L119: 826 | N119: =ROUND(L119*K119,2) -> 8260 | U119: základní | V119: 0 | W119: =V119*K119 -> 0 | X119: 9e-05 | Y119: =X119*K119 -> 0.0009 | Z119: 0 | AA119: =Z119*K119 -> 0 | AR119: 4 | AT119: K | AU119: 2 | AY119: ROZPOCET | BE119: =IF(U119="základní",N119,0) -> 8260 | BF119: =IF(U119="snížená",N119,0) -> 0 | BG119: =IF(U119="zákl. přenesená",N119,0) -> 0 | BH119: =IF(U119="sníž. přenesená",N119,0) -> 0 | BI119: =IF(U119="nulová",N119,0) -> 0 | BJ119: 1 | BK119: =ROUND(L119*K119,2) -> 8260 | BL119: 4 | BM119: 1113771056
C120: 2 | D120: K | E120: 113106121 | F120: Rozebrání dlažeb komunikací pro pěší z betonových nebo kamenných dlaždic | J120: m2 | K120: 7 | L120: 41.9 | N120: =ROUND(L120*K120,2) -> 293.3 | U120: základní | V120: 0 | W120: =V120*K120 -> 0 | X120: 0 | Y120: =X120*K120 -> 0 | Z120: 0.255 | AA120: =Z120*K120 -> 1.785 | AR120: 4 | AT120: K | AU120: 2 | AY120: ROZPOCET | BE120: =IF(U120="základní",N120,0) -> 293.3 | BF120: =IF(U120="snížená",N120,0) -> 0 | BG120: =IF(U120="zákl. přenesená",N120,0) -> 0 | BH120: =IF(U120="sníž. přenesená",N120,0) -> 0 | BI120: =IF(U120="nulová",N120,0) -> 0 | BJ120: 1 | BK120: =ROUND(L120*K120,2) -> 293.3 | BL120: 4 | BM120: 1222444060
C121: 3 | D121: K | E121: 113107142 | F121: Odstranění podkladu pl do 50 m2 živičných tl 100 mm | J121: m2 | K121: 12.5 | L121: 152 | N121: =ROUND(L121*K121,2) -> 1900 | U121: základní | V121: 0 | W121: =V121*K121 -> 0 | X121: 0 | Y121: =X121*K121 -> 0 | Z121: 0.22 | AA121: =Z121*K121 -> 2.75 | AR121: 4 | AT121: K | AU121: 2 | AY121: ROZPOCET | BE121: =IF(U121="základní",N121,0) -> 1900 | BF121: =IF(U121="snížená",N121,0) -> 0 | BG121: =IF(U121="zákl. přenesená",N121,0) -> 0 | BH121: =IF(U121="sníž. přenesená",N121,0) -> 0 | BI121: =IF(U121="nulová",N121,0) -> 0 | BJ121: 1 | BK121: =ROUND(L121*K121,2) -> 1900 | BL121: 4 | BM121: -1904489740
C122: 4 | D122: K | E122: 122202202 | F122: Odkopávky a prokopávky nezapažené pro silnice objemu do 1000 m3 v hornině tř. 3 | J122: m3 | K122: 135.55 | L122: 74.5 | N122: =ROUND(L122*K122,2) -> 10098.48 | U122: základní | V122: 0 | W122: =V122*K122 -> 0 | X122: 0 | Y122: =X122*K122 -> 0 | Z122: 0 | AA122: =Z122*K122 -> 0 | AR122: 4 | AT122: K | AU122: 2 | AY122: ROZPOCET | BE122: =IF(U122="základní",N122,0) -> 10098.48 | BF122: =IF(U122="snížená",N122,0) -> 0 | BG122: =IF(U122="zákl. přenesená",N122,0) -> 0 | BH122: =IF(U122="sníž. přenesená",N122,0) -> 0 | BI122: =IF(U122="nulová",N122,0) -> 0 | BJ122: 1 | BK122: =ROUND(L122*K122,2) -> 10098.48 | BL122: 4 | BM122: -1172367288
C123: 5 | D123: K | E123: 132201101 | F123: Hloubení rýh š do 600 mm v hornině tř. 3 objemu do 100 m3 | J123: m3 | K123: 17.38 | L123: 566 | N123: =ROUND(L123*K123,2) -> 9837.08 | U123: základní | V123: 0 | W123: =V123*K123 -> 0 | X123: 0 | Y123: =X123*K123 -> 0 | Z123: 0 | AA123: =Z123*K123 -> 0 | AR123: 4 | AT123: K | AU123: 2 | AY123: ROZPOCET | BE123: =IF(U123="základní",N123,0) -> 9837.08 | BF123: =IF(U123="snížená",N123,0) -> 0 | BG123: =IF(U123="zákl. přenesená",N123,0) -> 0 | BH123: =IF(U123="sníž. přenesená",N123,0) -> 0 | BI123: =IF(U123="nulová",N123,0) -> 0 | BJ123: 1 | BK123: =ROUND(L123*K123,2) -> 9837.08 | BL123: 4 | BM123: 1644875116
C124: 6 | D124: K | E124: 162301422 | F124: Vodorovné přemístění pařezů do 5 km D do 500 mm | J124: kus | K124: 10 | L124: 303 | N124: =ROUND(L124*K124,2) -> 3030 | U124: základní | V124: 0 | W124: =V124*K124 -> 0 | X124: 0 | Y124: =X124*K124 -> 0 | Z124: 0 | AA124: =Z124*K124 -> 0 | AR124: 4 | AT124: K | AU124: 2 | AY124: ROZPOCET | BE124: =IF(U124="základní",N124,0) -> 3030 | BF124: =IF(U124="snížená",N124,0) -> 0 | BG124: =IF(U124="zákl. přenesená",N124,0) -> 0 | BH124: =IF(U124="sníž. přenesená",N124,0) -> 0 | BI124: =IF(U124="nulová",N124,0) -> 0 | BJ124: 1 | BK124: =ROUND(L124*K124,2) -> 3030 | BL124: 4 | BM124: -1587863167
C125: 7 | D125: K | E125: 162301917 | F125: Příplatek k vodorovnému přemístění kmenů stromů jehličnatých D kmene do 700 mm ZKD 5 km | J125: kus | K125: 30 | L125: 103 | N125: =ROUND(L125*K125,2) -> 3090 | U125: základní | V125: 0 | W125: =V125*K125 -> 0 | X125: 0 | Y125: =X125*K125 -> 0 | Z125: 0 | AA125: =Z125*K125 -> 0 | AR125: 4 | AT125: K | AU125: 2 | AY125: ROZPOCET | BE125: =IF(U125="základní",N125,0) -> 3090 | BF125: =IF(U125="snížená",N125,0) -> 0 | BG125: =IF(U125="zákl. přenesená",N125,0) -> 0 | BH125: =IF(U125="sníž. přenesená",N125,0) -> 0 | BI125: =IF(U125="nulová",N125,0) -> 0 | BJ125: 1 | BK125: =ROUND(L125*K125,2) -> 3090 | BL125: 4 | BM125: 1962125688
C126: 8 | D126: K | E126: 162701105 | F126: Vodorovné přemístění do 10000 m výkopku/sypaniny z horniny tř. 1 až 4 | J126: m3 | K126: 152.93 | L126: 227 | N126: =ROUND(L126*K126,2) -> 34715.11 | U126: základní | V126: 0 | W126: =V126*K126 -> 0 | X126: 0 | Y126: =X126*K126 -> 0 | Z126: 0 | AA126: =Z126*K126 -> 0 | AR126: 4 | AT126: K | AU126: 2 | AY126: ROZPOCET | BE126: =IF(U126="základní",N126,0) -> 34715.11 | BF126: =IF(U126="snížená",N126,0) -> 0 | BG126: =IF(U126="zákl. přenesená",N126,0) -> 0 | BH126: =IF(U126="sníž. přenesená",N126,0) -> 0 | BI126: =IF(U126="nulová",N126,0) -> 0 | BJ126: 1 | BK126: =ROUND(L126*K126,2) -> 34715.11 | BL126: 4 | BM126: -124722476
C127: 9 | D127: K | E127: 162701109 | F127: Příplatek k vodorovnému přemístění výkopku/sypaniny z horniny tř. 1 až 4 ZKD 1000 m přes 10000 m | J127: m3 | K127: 1529.3 | L127: 17.2 | N127: =ROUND(L127*K127,2) -> 26303.96 | U127: základní | V127: 0 | W127: =V127*K127 -> 0 | X127: 0 | Y127: =X127*K127 -> 0 | Z127: 0 | AA127: =Z127*K127 -> 0 | AR127: 4 | AT127: K | AU127: 2 | AY127: ROZPOCET | BE127: =IF(U127="základní",N127,0) -> 26303.96 | BF127: =IF(U127="snížená",N127,0) -> 0 | BG127: =IF(U127="zákl. přenesená",N127,0) -> 0 | BH127: =IF(U127="sníž. přenesená",N127,0) -> 0 | BI127: =IF(U127="nulová",N127,0) -> 0 | BJ127: 1 | BK127: =ROUND(L127*K127,2) -> 26303.96 | BL127: 4 | BM127: 557590297
C128: 10 | D128: K | E128: 167101102 | F128: Nakládání výkopku z hornin tř. 1 až 4 přes 100 m3 | J128: m3 | K128: 152.93 | L128: 54.3 | N128: =ROUND(L128*K128,2) -> 8304.1 | U128: základní | V128: 0 | W128: =V128*K128 -> 0 | X128: 0 | Y128: =X128*K128 -> 0 | Z128: 0 | AA128: =Z128*K128 -> 0 | AR128: 4 | AT128: K | AU128: 2 | AY128: ROZPOCET | BE128: =IF(U128="základní",N128,0) -> 8304.1 | BF128: =IF(U128="snížená",N128,0) -> 0 | BG128: =IF(U128="zákl. přenesená",N128,0) -> 0 | BH128: =IF(U128="sníž. přenesená",N128,0) -> 0 | BI128: =IF(U128="nulová",N128,0) -> 0 | BJ128: 1 | BK128: =ROUND(L128*K128,2) -> 8304.1 | BL128: 4 | BM128: 1838241980
C129: 11 | D129: K | E129: 171201211 | F129: Poplatek za uložení odpadu ze sypaniny na skládce (skládkovné) | J129: t | K129: 275.274 | L129: 140 | N129: =ROUND(L129*K129,2) -> 38538.36 | U129: základní | V129: 0 | W129: =V129*K129 -> 0 | X129: 0 | Y129: =X129*K129 -> 0 | Z129: 0 | AA129: =Z129*K129 -> 0 | AR129: 4 | AT129: K | AU129: 2 | AY129: ROZPOCET | BE129: =IF(U129="základní",N129,0) -> 38538.36 | BF129: =IF(U129="snížená",N129,0) -> 0 | BG129: =IF(U129="zákl. přenesená",N129,0) -> 0 | BH129: =IF(U129="sníž. přenesená",N129,0) -> 0 | BI129: =IF(U129="nulová",N129,0) -> 0 | BJ129: 1 | BK129: =ROUND(L129*K129,2) -> 38538.36 | BL129: 4 | BM129: -918424695
C130: 12 | D130: K | E130: 171-R-001 | F130: Nákup zeminy vhodné pro ohumusování vč. naložení, složení | J130: m3 | K130: 5.49 | L130: 450 | N130: =ROUND(L130*K130,2) -> 2470.5 | U130: základní | V130: 0 | W130: =V130*K130 -> 0 | X130: 0 | Y130: =X130*K130 -> 0 | Z130: 0 | AA130: =Z130*K130 -> 0 | AR130: 4 | AT130: K | AU130: 2 | AY130: ROZPOCET | BE130: =IF(U130="základní",N130,0) -> 2470.5 | BF130: =IF(U130="snížená",N130,0) -> 0 | BG130: =IF(U130="zákl. přenesená",N130,0) -> 0 | BH130: =IF(U130="sníž. přenesená",N130,0) -> 0 | BI130: =IF(U130="nulová",N130,0) -> 0 | BJ130: 1 | BK130: =ROUND(L130*K130,2) -> 2470.5 | BL130: 4 | BM130: -2082721626
... C144: 26 | D144: K | E144: 185851121 | F144: Dovoz vody pro zálivku rostlin za vzdálenost do 1000 m | J144: m3 | K144: 1.373 | L144: 287 | N144: =ROUND(L144*K144,2) -> 394.05 | U144: základní | V144: 0 | W144: =V144*K144 -> 0 | X144: 0 | Y144: =X144*K144 -> 0 | Z144: 0 | AA144: =Z144*K144 -> 0 | AR144: 4 | AT144: K | AU144: 2 | AY144: ROZPOCET | BE144: =IF(U144="základní",N144,0) -> 394.05 | BF144: =IF(U144="snížená",N144,0) -> 0 | BG144: =IF(U144="zákl. přenesená",N144,0) -> 0 | BH144: =IF(U144="sníž. přenesená",N144,0) -> 0 | BI144: =IF(U144="nulová",N144,0) -> 0 | BJ144: 1 | BK144: =ROUND(L144*K144,2) -> 394.05 | BL144: 4 | BM144: 641670421
D145: 2 - Zakládání | N145: =BK145 -> 17327.86 | W145: =W146 -> 0 | Y145: =Y146 -> 0 | AA145: =AA146 -> 0 | AR145: 1 | AT145: D | AU145: 1 | AY145: ROZPOCET | BK145: =BK146 -> 17327.86
C146: 27 | D146: K | E146: 211561111 | F146: Výplň odvodňovacích žeber nebo trativodů kamenivem hrubým drceným frakce 4 až 16 mm | J146: m3 | K146: 17.38 | L146: 997 | N146: =ROUND(L146*K146,2) -> 17327.86 | U146: základní | V146: 0 | W146: =V146*K146 -> 0 | X146: 0 | Y146: =X146*K146 -> 0 | Z146: 0 | AA146: =Z146*K146 -> 0 | AR146: 4 | AT146: K | AU146: 2 | AY146: ROZPOCET | BE146: =IF(U146="základní",N146,0) -> 17327.86 | BF146: =IF(U146="snížená",N146,0) -> 0 | BG146: =IF(U146="zákl. přenesená",N146,0) -> 0 | BH146: =IF(U146="sníž. přenesená",N146,0) -> 0 | BI146: =IF(U146="nulová",N146,0) -> 0 | BJ146: 1 | BK146: =ROUND(L146*K146,2) -> 17327.86 | BL146: 4 | BM146: 1669957407
D147: 5 - Komunikace pozemní | N147: =BK147 -> 111834.59 | W147: =SUM(W148:W153) -> 0 | Y147: =SUM(Y148:Y153) -> 34.70189 | AA147: =SUM(AA148:AA153) -> 0 | AR147: 1 | AT147: D | AU147: 1 | AY147: ROZPOCET | BK147: =SUM(BK148:BK153) -> 111834.59
C148: 28 | D148: K | E148: 564871111 | F148: Podklad ze štěrkodrtě ŠD tl 250 mm | J148: m2 | K148: 262.25 | L148: 171 | N148: =ROUND(L148*K148,2) -> 44844.75 | U148: základní | V148: 0 | W148: =V148*K148 -> 0 | X148: 0 | Y148: =X148*K148 -> 0 | Z148: 0 | AA148: =Z148*K148 -> 0 | AR148: 4 | AT148: K | AU148: 2 | AY148: ROZPOCET | BE148: =IF(U148="základní",N148,0) -> 44844.75 | BF148: =IF(U148="snížená",N148,0) -> 0 | BG148: =IF(U148="zákl. přenesená",N148,0) -> 0 | BH148: =IF(U148="sníž. přenesená",N148,0) -> 0 | BI148: =IF(U148="nulová",N148,0) -> 0 | BJ148: 1 | BK148: =ROUND(L148*K148,2) -> 44844.75 | BL148: 4 | BM148: -1226267964
C149: 29 | D149: K | E149: 591111111 | F149: Kladení dlažby z kostek velkých z kamene do lože z kameniva těženého tl 50 mm | J149: m2 | K149: 180.8 | L149: 352 | N149: =ROUND(L149*K149,2) -> 63641.6 | U149: základní | V149: 0 | W149: =V149*K149 -> 0 | X149: 0.1837 | Y149: =X149*K149 -> 33.21296 | Z149: 0 | AA149: =Z149*K149 -> 0 | AR149: 4 | AT149: K | AU149: 2 | AY149: ROZPOCET | BE149: =IF(U149="základní",N149,0) -> 63641.6 | BF149: =IF(U149="snížená",N149,0) -> 0 | BG149: =IF(U149="zákl. přenesená",N149,0) -> 0 | BH149: =IF(U149="sníž. přenesená",N149,0) -> 0 | BI149: =IF(U149="nulová",N149,0) -> 0 | BJ149: 1 | BK149: =ROUND(L149*K149,2) -> 63641.6 | BL149: 4 | BM149: 1269921099
C150: 30 | D150: K | E150: 596211111 | F150: Kladení zámkové dlažby komunikací pro pěší tl 60 mm skupiny A pl do 100 m2 | J150: m2 | K150: 1 | L150: 223 | N150: =ROUND(L150*K150,2) -> 223 | U150: základní | V150: 0 | W150: =V150*K150 -> 0 | X150: 0.08425 | Y150: =X150*K150 -> 0.08425 | Z150: 0 | AA150: =Z150*K150 -> 0 | AR150: 4 | AT150: K | AU150: 2 | AY150: ROZPOCET | BE150: =IF(U150="základní",N150,0) -> 223 | BF150: =IF(U150="snížená",N150,0) -> 0 | BG150: =IF(U150="zákl. přenesená",N150,0) -> 0 | BH150: =IF(U150="sníž. přenesená",N150,0) -> 0 | BI150: =IF(U150="nulová",N150,0) -> 0 | BJ150: 1 | BK150: =ROUND(L150*K150,2) -> 223 | BL150: 4 | BM150: 1141641632
C151: 31 | D151: M | E151: 592451100 | F151: dlažba skladebná 20x10x6 cm přírodní | J151: m2 | K151: 1.03 | L151: 230 | N151: =ROUND(L151*K151,2) -> 236.9 | U151: základní | V151: 0 | W151: =V151*K151 -> 0 | X151: 0.14 | Y151: =X151*K151 -> 0.1442 | Z151: 0 | AA151: =Z151*K151 -> 0 | AR151: 8 | AT151: M | AU151: 2 | AY151: ROZPOCET | BE151: =IF(U151="základní",N151,0) -> 236.9 | BF151: =IF(U151="snížená",N151,0) -> 0 | BG151: =IF(U151="zákl. přenesená",N151,0) -> 0 | BH151: =IF(U151="sníž. přenesená",N151,0) -> 0 | BI151: =IF(U151="nulová",N151,0) -> 0 | BJ151: 1 | BK151: =ROUND(L151*K151,2) -> 236.9 | BL151: 4 | BM151: -941093080
C152: 32 | D152: K | E152: 596811223 | F152: Kladení betonové dlažby komunikací pro pěší do lože z kameniva vel do 0,25 m2 plochy přes 300 m2 | J152: m2 | K152: 6 | L152: 139 | N152: =ROUND(L152*K152,2) -> 834 | U152: základní | V152: 0 | W152: =V152*K152 -> 0 | X152: 0.101 | Y152: =X152*K152 -> 0.606 | Z152: 0 | AA152: =Z152*K152 -> 0 | AR152: 4 | AT152: K | AU152: 2 | AY152: ROZPOCET | BE152: =IF(U152="základní",N152,0) -> 834 | BF152: =IF(U152="snížená",N152,0) -> 0 | BG152: =IF(U152="zákl. přenesená",N152,0) -> 0 | BH152: =IF(U152="sníž. přenesená",N152,0) -> 0 | BI152: =IF(U152="nulová",N152,0) -> 0 | BJ152: 1 | BK152: =ROUND(L152*K152,2) -> 834 | BL152: 4 | BM152: -1111587343
C153: 33 | D153: M | E153: 592456010 | F153: dlažba desková betonová 50x50x5 cm šedá | J153: m2 | K153: 6.06 | L153: 339 | N153: =ROUND(L153*K153,2) -> 2054.34 | U153: základní | V153: 0 | W153: =V153*K153 -> 0 | X153: 0.108 | Y153: =X153*K153 -> 0.65448 | Z153: 0 | AA153: =Z153*K153 -> 0 | AR153: 8 | AT153: M | AU153: 2 | AY153: ROZPOCET | BE153: =IF(U153="základní",N153,0) -> 2054.34 | BF153: =IF(U153="snížená",N153,0) -> 0 | BG153: =IF(U153="zákl. přenesená",N153,0) -> 0 | BH153: =IF(U153="sníž. přenesená",N153,0) -> 0 | BI153: =IF(U153="nulová",N153,0) -> 0 | BJ153: 1 | BK153: =ROUND(L153*K153,2) -> 2054.34 | BL153: 4 | BM153: 736881872
D154: 9 - Ostatní konstrukce a práce, bourání | N154: =BK154 -> 35368.15 | W154: =SUM(W155:W158) -> 0 | Y154: =SUM(Y155:Y158) -> 20.462186 | AA154: =SUM(AA155:AA158) -> 0 | AR154: 1 | AT154: D | AU154: 1 | AY154: ROZPOCET | BK154: =SUM(BK155:BK158) -> 35368.15
C155: 34 | D155: K | E155: 916111113 | F155: Osazení obruby z velkých kostek s boční opěrou do lože z betonu prostého | J155: m | K155: 186 | L155: 151 | N155: =ROUND(L155*K155,2) -> 28086 | U155: základní | V155: 0 | W155: =V155*K155 -> 0 | X155: 0.10988 | Y155: =X155*K155 -> 20.43768 | Z155: 0 | AA155: =Z155*K155 -> 0 | AR155: 4 | AT155: K | AU155: 2 | AY155: ROZPOCET | BE155: =IF(U155="základní",N155,0) -> 28086 | BF155: =IF(U155="snížená",N155,0) -> 0 | BG155: =IF(U155="zákl. přenesená",N155,0) -> 0 | BH155: =IF(U155="sníž. přenesená",N155,0) -> 0 | BI155: =IF(U155="nulová",N155,0) -> 0 | BJ155: 1 | BK155: =ROUND(L155*K155,2) -> 28086 | BL155: 4 | BM155: 2565737
C156: 35 | D156: K | E156: 919726122 | F156: Geotextilie pro ochranu, separaci a filtraci netkaná měrná hmotnost do 300 g/m2 | J156: m2 | K156: 52.14 | L156: 46.1 | N156: =ROUND(L156*K156,2) -> 2403.65 | U156: základní | V156: 0 | W156: =V156*K156 -> 0 | X156: 0.00047 | Y156: =X156*K156 -> 0.0245058 | Z156: 0 | AA156: =Z156*K156 -> 0 | AR156: 4 | AT156: K | AU156: 2 | AY156: ROZPOCET | BE156: =IF(U156="základní",N156,0) -> 2403.65 | BF156: =IF(U156="snížená",N156,0) -> 0 | BG156: =IF(U156="zákl. přenesená",N156,0) -> 0 | BH156: =IF(U156="sníž. přenesená",N156,0) -> 0 | BI156: =IF(U156="nulová",N156,0) -> 0 | BJ156: 1 | BK156: =ROUND(L156*K156,2) -> 2403.65 | BL156: 4 | BM156: 184896122
C157: 36 | D157: K | E157: 919735112 | F157: Řezání stávajícího živičného krytu hl do 100 mm | J157: m | K157: 3 | L157: 71.1 | N157: =ROUND(L157*K157,2) -> 213.3 | U157: základní | V157: 0 | W157: =V157*K157 -> 0 | X157: 0 | Y157: =X157*K157 -> 0 | Z157: 0 | AA157: =Z157*K157 -> 0 | AR157: 4 | AT157: K | AU157: 2 | AY157: ROZPOCET | BE157: =IF(U157="základní",N157,0) -> 213.3 | BF157: =IF(U157="snížená",N157,0) -> 0 | BG157: =IF(U157="zákl. přenesená",N157,0) -> 0 | BH157: =IF(U157="sníž. přenesená",N157,0) -> 0 | BI157: =IF(U157="nulová",N157,0) -> 0 | BJ157: 1 | BK157: =ROUND(L157*K157,2) -> 213.3 | BL157: 4 | BM157: -1802463355
C158: 37 | D158: K | E158: 979071111 | F158: Očištění dlažebních kostek velkých s původním spárováním kamenivem těženým | J158: m2 | K158: 218 | L158: 21.4 | N158: =ROUND(L158*K158,2) -> 4665.2 | U158: základní | V158: 0 | W158: =V158*K158 -> 0 | X158: 0 | Y158: =X158*K158 -> 0 | Z158: 0 | AA158: =Z158*K158 -> 0 | AR158: 4 | AT158: K | AU158: 2 | AY158: ROZPOCET | BE158: =IF(U158="základní",N158,0) -> 4665.2 | BF158: =IF(U158="snížená",N158,0) -> 0 | BG158: =IF(U158="zákl. přenesená",N158,0) -> 0 | BH158: =IF(U158="sníž. přenesená",N158,0) -> 0 | BI158: =IF(U158="nulová",N158,0) -> 0 | BJ158: 1 | BK158: =ROUND(L158*K158,2) -> 4665.2 | BL158: 4 | BM158: 945462068
D159: 997 - Přesun sutě | N159: =BK159 -> 6767.42 | W159: =SUM(W160:W165) -> 0 | Y159: =SUM(Y160:Y165) -> 0 | AA159: =SUM(AA160:AA165) -> 0 | AR159: 1 | AT159: D | AU159: 1 | AY159: ROZPOCET | BK159: =SUM(BK160:BK165) -> 6767.42
C160: 38 | D160: K | E160: 997221551 | F160: Vodorovná doprava suti ze sypkých materiálů do 1 km | J160: t | K160: 4.535 | L160: 39.1 | N160: =ROUND(L160*K160,2) -> 177.32 | U160: základní | V160: 0 | W160: =V160*K160 -> 0 | X160: 0 | Y160: =X160*K160 -> 0 | Z160: 0 | AA160: =Z160*K160 -> 0 | AR160: 4 | AT160: K | AU160: 2 | AY160: ROZPOCET | BE160: =IF(U160="základní",N160,0) -> 177.32 | BF160: =IF(U160="snížená",N160,0) -> 0 | BG160: =IF(U160="zákl. přenesená",N160,0) -> 0 | BH160: =IF(U160="sníž. přenesená",N160,0) -> 0 | BI160: =IF(U160="nulová",N160,0) -> 0 | BJ160: 1 | BK160: =ROUND(L160*K160,2) -> 177.32 | BL160: 4 | BM160: -2128334455
C161: 39 | D161: K | E161: 997221559 | F161: Příplatek ZKD 1 km u vodorovné dopravy suti ze sypkých materiálů | J161: t | K161: 86.165 | L161: 8.72 | N161: =ROUND(L161*K161,2) -> 751.36 | U161: základní | V161: 0 | W161: =V161*K161 -> 0 | X161: 0 | Y161: =X161*K161 -> 0 | Z161: 0 | AA161: =Z161*K161 -> 0 | AR161: 4 | AT161: K | AU161: 2 | AY161: ROZPOCET | BE161: =IF(U161="základní",N161,0) -> 751.36 | BF161: =IF(U161="snížená",N161,0) -> 0 | BG161: =IF(U161="zákl. přenesená",N161,0) -> 0 | BH161: =IF(U161="sníž. přenesená",N161,0) -> 0 | BI161: =IF(U161="nulová",N161,0) -> 0 | BJ161: 1 | BK161: =ROUND(L161*K161,2) -> 751.36 | BL161: 4 | BM161: -37857123
C162: 40 | D162: K | E162: 997221561 | F162: Vodorovná doprava suti z kusových materiálů do 1 km | J162: t | K162: 103.55 | L162: 44 | N162: =ROUND(L162*K162,2) -> 4556.2 | U162: základní | V162: 0 | W162: =V162*K162 -> 0 | X162: 0 | Y162: =X162*K162 -> 0 | Z162: 0 | AA162: =Z162*K162 -> 0 | AR162: 4 | AT162: K | AU162: 2 | AY162: ROZPOCET | BE162: =IF(U162="základní",N162,0) -> 4556.2 | BF162: =IF(U162="snížená",N162,0) -> 0 | BG162: =IF(U162="zákl. přenesená",N162,0) -> 0 | BH162: =IF(U162="sníž. přenesená",N162,0) -> 0 | BI162: =IF(U162="nulová",N162,0) -> 0 | BJ162: 1 | BK162: =ROUND(L162*K162,2) -> 4556.2 | BL162: 4 | BM162: -1809704071
C163: 41 | D163: K | E163: 997221611 | F163: Nakládání suti na dopravní prostředky pro vodorovnou dopravu | J163: t | K163: 4.535 | L163: 146 | N163: =ROUND(L163*K163,2) -> 662.11 | U163: základní | V163: 0 | W163: =V163*K163 -> 0 | X163: 0 | Y163: =X163*K163 -> 0 | Z163: 0 | AA163: =Z163*K163 -> 0 | AR163: 4 | AT163: K | AU163: 2 | AY163: ROZPOCET | BE163: =IF(U163="základní",N163,0) -> 662.11 | BF163: =IF(U163="snížená",N163,0) -> 0 | BG163: =IF(U163="zákl. přenesená",N163,0) -> 0 | BH163: =IF(U163="sníž. přenesená",N163,0) -> 0 | BI163: =IF(U163="nulová",N163,0) -> 0 | BJ163: 1 | BK163: =ROUND(L163*K163,2) -> 662.11 | BL163: 4 | BM163: 692416423
C164: 42 | D164: K | E164: 997221815 | F164: Poplatek za uložení betonového odpadu na skládce (skládkovné) | J164: t | K164: 2.75 | L164: 125 | N164: =ROUND(L164*K164,2) -> 343.75 | U164: základní | V164: 0 | W164: =V164*K164 -> 0 | X164: 0 | Y164: =X164*K164 -> 0 | Z164: 0 | AA164: =Z164*K164 -> 0 | AR164: 4 | AT164: K | AU164: 2 | AY164: ROZPOCET | BE164: =IF(U164="základní",N164,0) -> 343.75 | BF164: =IF(U164="snížená",N164,0) -> 0 | BG164: =IF(U164="zákl. přenesená",N164,0) -> 0 | BH164: =IF(U164="sníž. přenesená",N164,0) -> 0 | BI164: =IF(U164="nulová",N164,0) -> 0 | BJ164: 1 | BK164: =ROUND(L164*K164,2) -> 343.75 | BL164: 4 | BM164: 886736854
C165: 43 | D165: K | E165: 997221845 | F165: Poplatek za uložení odpadu z asfaltových povrchů na skládce (skládkovné) | J165: t | K165: 1.785 | L165: 155 | N165: =ROUND(L165*K165,2) -> 276.68 | U165: základní | V165: 0 | W165: =V165*K165 -> 0 | X165: 0 | Y165: =X165*K165 -> 0 | Z165: 0 | AA165: =Z165*K165 -> 0 | AR165: 4 | AT165: K | AU165: 2 | AY165: ROZPOCET | BE165: =IF(U165="základní",N165,0) -> 276.68 | BF165: =IF(U165="snížená",N165,0) -> 0 | BG165: =IF(U165="zákl. přenesená",N165,0) -> 0 | BH165: =IF(U165="sníž. přenesená",N165,0) -> 0 | BI165: =IF(U165="nulová",N165,0) -> 0 | BJ165: 1 | BK165: =ROUND(L165*K165,2) -> 276.68 | BL165: 4 | BM165: -52107484
D166: 998 - Přesun hmot | N166: =BK166 -> 9333.87 | W166: =W167 -> 0 | Y166: =Y167 -> 0 | AA166: =AA167 -> 0 | AR166: 1 | AT166: D | AU166: 1 | AY166: ROZPOCET | BK166: =BK167 -> 9333.87
C167: 44 | D167: K | E167: 998223011 | F167: Přesun hmot pro pozemní komunikace s krytem dlážděným | J167: t | K167: 55.23 | L167: 169 | N167: =ROUND(L167*K167,2) -> 9333.87 | U167: základní | V167: 0 | W167: =V167*K167 -> 0 | X167: 0 | Y167: =X167*K167 -> 0 | Z167: 0 | AA167: =Z167*K167 -> 0 | AR167: 4 | AT167: K | AU167: 2 | AY167: ROZPOCET | BE167: =IF(U167="základní",N167,0) -> 9333.87 | BF167: =IF(U167="snížená",N167,0) -> 0 | BG167: =IF(U167="zákl. přenesená",N167,0) -> 0 | BH167: =IF(U167="sníž. přenesená",N167,0) -> 0 | BI167: =IF(U167="nulová",N167,0) -> 0 | BJ167: 1 | BK167: =ROUND(L167*K167,2) -> 9333.87 | BL167: 4 | BM167: -279268537

Sheet SO103 - Chodník - úsek C ...
D1: List obsahuje: | F1: 1) Krycí list rozpočtu | H1: 2) Rekapitulace rozpočtu | L1: 3) Rozpočet | O1: Zpět na list: | S1: Rekapitulace stavby
C2: optimalizováno pro tisk sestav ve formátu A4 - na výšku | S2: >> skryté sloupce << | AT2: {7740525c-6921-45bd-9218-ea0ac2589113}
AT3: 2
C4: KRYCÍ LIST ROZPOČTU | T4: v --- níže se nacházejí doplnkové a pomocné údaje k sestavám --- v | AT4: False
D6: Stavba: | F6: ='Rekapitulace stavby'!K6 -> Olomouc - Úprava cest na hřbitově
D7: Objekt: | F7: SO103 - Chodník - úsek C (okolí kaple - prodejny květin)
D8: JKSO: | M8: CC-CZ:
D9: Místo: | F9: Olomouc - Neředín | M9: Datum: | O9: ='Rekapitulace stavby'!AN8 -> 42914
D11: Objednatel: | M11: IČ:
M12: DIČ:
D14: Zhotovitel: | M14: IČ: | O14: =IF('Rekapitulace stavby'!AN13="","",'Rekapitulace stavby'!AN13) -> 28654501
E15: =IF('Rekapitulace stavby'!E14="","",'Rekapitulace stavby'!E14) | M15: DIČ: | O15: =IF('Rekapitulace stavby'!AN14="","",'Rekapitulace stavby'!AN14) -> CZ28654501
D17: Projektant: | M17: IČ: | O17: 25361520
E18: Dopravní projektování s.r.o. | M18: DIČ:
D20: Zpracovatel: | M20: IČ: | O20: =IF('Rekapitulace stavby'!AN19="","",'Rekapitulace stavby'!AN19)
E21: =IF('Rekapitulace stavby'!E20="","",'Rekapitulace stavby'!E20) | M21: DIČ: | O21: =IF('Rekapitulace stavby'!AN20="","",'Rekapitulace stavby'!AN20)
D23: Poznámka:
D27: Náklady z rozpočtu | M27: =N88 -> 658685.83
D28: Ostatní náklady | M28: =N99 -> 0
D30: Cena bez DPH | M30: =ROUND(M27+M28,2) -> 658685.83
D32: DPH | E32: základní | F32: 0.21 | G32: ze | H32: =ROUND((SUM(BE99:BE100)+SUM(BE118:BE177)), 2) -> 658685.83 | M32: =ROUND(ROUND((SUM(BE99:BE100)+SUM(BE118:BE177)), 2)*F32, 2) -> 138324.02
E33: snížená | F33: 0.15 | G33: ze | H33: =ROUND((SUM(BF99:BF100)+SUM(BF118:BF177)), 2) -> 0 | M33: =ROUND(ROUND((SUM(BF99:BF100)+SUM(BF118:BF177)), 2)*F33, 2) -> 0
E34: zákl. přenesená | F34: 0.21 | G34: ze | H34: =ROUND((SUM(BG99:BG100)+SUM(BG118:BG177)), 2) -> 0 | M34: 0
E35: sníž. přenesená | F35: 0.15 | G35: ze | H35: =ROUND((SUM(BH99:BH100)+SUM(BH118:BH177)), 2) -> 0 | M35: 0
E36: nulová | F36: 0 | G36: ze | H36: =ROUND((SUM(BI99:BI100)+SUM(BI118:BI177)), 2) -> 0 | M36: 0
D38: Cena s DPH | G38: v | H38: CZK | L38: =SUM(M30:M36) -> 797009.85
D50: Projektant | J50: Zpracovatel
D59: Datum a podpis: | G59: Razítko | J59: Datum a podpis: | N59: Razítko
D61: Objednavatel | J61: Zhotovitel
D70: Datum a podpis: | G70: Razítko | J70: Datum a podpis: | N70: Razítko
C76: REKAPITULACE ROZPOČTU
C78: Stavba: | F78: =F6 -> Olomouc - Úprava cest na hřbitově
C79: Objekt: | F79: =F7 -> SO103 - Chodník - úsek C (okolí kaple - prodejny květin)
C81: Místo: | F81: =F9 -> Olomouc - Neředín | K81: Datum: | M81: =IF(O9="","",O9) -> 42914
C83: Objednatel: | F83: =E12 | K83: Projektant: | M83: =E18 -> Dopravní projektování s.r.o.
C84: Zhotovitel: | F84: =IF(E15="","",E15) | K84: Zpracovatel: | M84: =E21
C86: Kód - Popis | N86: Cena celkem [CZK]
C88: 1) Náklady z rozpočtu | N88: =N118 -> 658685.83 | AU88: -1
D89: HSV - Práce a dodávky HSV | N89: =N119 -> 658055.46
D90: 1 - Zemní práce | N90: =N120 -> 223081.7
D91: 2 - Zakládání | N91: =N144 -> 15038.09
D92: 5 - Komunikace pozemní | N92: =N148 -> 320262.76
D93: 9 - Ostatní konstrukce a práce, bourání | N93: =N156 -> 64481.25
D94: 997 - Přesun sutě | N94: =N166 -> 10966.19
D95: 998 - Přesun hmot | N95: =N172 -> 24225.47
D96: PSV - Práce a dodávky PSV | N96: =N174 -> 630.37
D97: 711 - Izolace proti vodě, vlhkosti a plynům | N97: =N175 -> 630.37
C99: 2) Ostatní náklady | N99: 0 | U99: DPH
C101: Celkové náklady za stavbu 1) + 2) | L101: =ROUND(SUM(N88+N99),2) -> 658685.83
C107: ROZPOČET
C109: Stavba: | F109: =F6 -> Olomouc - Úprava cest na hřbitově
C110: Objekt: | F110: =F7 -> SO103 - Chodník - úsek C (okolí kaple - prodejny květin)
C112: Místo: | F112: =F9 -> Olomouc - Neředín | K112: Datum: | M112: =IF(O9="","",O9) -> 42914
C114: Objednatel: | F114: =E12 | K114: Projektant: | M114: =E18 -> Dopravní projektování s.r.o.
C115: Zhotovitel: | F115: =IF(E15="","",E15) | K115: Zpracovatel: | M115: =E21
C117: PČ | D117: Typ | E117: Kód | F117: Popis | J117: MJ | K117: Množství | L117: J.cena [CZK] | N117: Cena celkem [CZK] | T117: Poznámka | U117: DPH | V117: J. Nh [h] | W117: Nh celkem [h] | X117: J. hmotnost_x000D_ [t] | Y117: Hmotnost_x000D_ celkem [t] | Z117: J. suť [t] | AA117: Suť Celkem [t]
C118: Náklady z rozpočtu | N118: =BK118 -> 658685.83 | W118: =W119+W174 -> 0 | Y118: =Y119+Y174 -> 143.34944 | AA118: =AA119+AA174 -> 11.445 | AT118: D | AU118: -1 | BK118: =BK119+BK174 -> 658685.83
D119: HSV - Práce a dodávky HSV | N119: =BK119 -> 658055.46 | W119: =W120+W144+W148+W156+W166+W172 -> 0 | Y119: =Y120+Y144+Y148+Y156+Y166+Y172 -> 143.34553 | AA119: =AA120+AA144+AA148+AA156+AA166+AA172 -> 11.445 | AR119: 1 | AT119: D | AU119: 0 | AY119: ROZPOCET | BK119: =BK120+BK144+BK148+BK156+BK166+BK172 -> 658055.46
D120: 1 - Zemní práce | N120: =BK120 -> 223081.7 | W120: =SUM(W121:W143) -> 0 | Y120: =SUM(Y121:Y143) -> 0.016061 | AA120: =SUM(AA121:AA143) -> 11.445 | AR120: 1 | AT120: D | AU120: 1 | AY120: ROZPOCET | BK120: =SUM(BK121:BK143) -> 223081.7
C121: 1 | D121: K | E121: 113106121 | F121: Rozebrání dlažeb komunikací pro pěší z betonových nebo kamenných dlaždic | J121: m2 | K121: 43 | L121: 41.9 | N121: =ROUND(L121*K121,2) -> 1801.7 | U121: základní | V121: 0 | W121: =V121*K121 -> 0 | X121: 0 | Y121: =X121*K121 -> 0 | Z121: 0.255 | AA121: =Z121*K121 -> 10.965 | AR121: 4 | AT121: K | AU121: 2 | AY121: ROZPOCET | BE121: =IF(U121="základní",N121,0) -> 1801.7 | BF121: =IF(U121="snížená",N121,0) -> 0 | BG121: =IF(U121="zákl. přenesená",N121,0) -> 0 | BH121: =IF(U121="sníž. přenesená",N121,0) -> 0 | BI121: =IF(U121="nulová",N121,0) -> 0 | BJ121: 1 | BK121: =ROUND(L121*K121,2) -> 1801.7 | BL121: 4 | BM121: -767092665
C122: 2 | D122: K | E122: 113106161 | F122: Rozebrání dlažeb vozovek pl do 50 m2 z drobných kostek s ložem z kameniva | J122: m2 | K122: 1.5 | L122: 45.9 | N122: =ROUND(L122*K122,2) -> 68.85 | U122: základní | V122: 0 | W122: =V122*K122 -> 0 | X122: 0 | Y122: =X122*K122 -> 0 | Z122: 0.32 | AA122: =Z122*K122 -> 0.48 | AR122: 4 | AT122: K | AU122: 2 | AY122: ROZPOCET | BE122: =IF(U122="základní",N122,0) -> 68.85 | BF122: =IF(U122="snížená",N122,0) -> 0 | BG122: =IF(U122="zákl. přenesená",N122,0) -> 0 | BH122: =IF(U122="sníž. přenesená",N122,0) -> 0 | BI122: =IF(U122="nulová",N122,0) -> 0 | BJ122: 1 | BK122: =ROUND(L122*K122,2) -> 68.85 | BL122: 4 | BM122: 277980603
C123: 3 | D123: K | E123: 122202202 | F123: Odkopávky a prokopávky nezapažené pro silnice objemu do 1000 m3 v hornině tř. 3 | J123: m3 | K123: 232.29 | L123: 74.5 | N123: =ROUND(L123*K123,2) -> 17305.61 | U123: základní | V123: 0 | W123: =V123*K123 -> 0 | X123: 0 | Y123: =X123*K123 -> 0 | Z123: 0 | AA123: =Z123*K123 -> 0 | AR123: 4 | AT123: K | AU123: 2 | AY123: ROZPOCET | BE123: =IF(U123="základní",N123,0) -> 17305.61 | BF123: =IF(U123="snížená",N123,0) -> 0 | BG123: =IF(U123="zákl. přenesená",N123,0) -> 0 | BH123: =IF(U123="sníž. přenesená",N123,0) -> 0 | BI123: =IF(U123="nulová",N123,0) -> 0 | BJ123: 1 | BK123: =ROUND(L123*K123,2) -> 17305.61 | BL123: 4 | BM123: 1876996522
C124: 4 | D124: K | E124: 132201101 | F124: Hloubení rýh š do 600 mm v hornině tř. 3 objemu do 100 m3 | J124: m3 | K124: 11.52 | L124: 566 | N124: =ROUND(L124*K124,2) -> 6520.32 | U124: základní | V124: 0 | W124: =V124*K124 -> 0 | X124: 0 | Y124: =X124*K124 -> 0 | Z124: 0 | AA124: =Z124*K124 -> 0 | AR124: 4 | AT124: K | AU124: 2 | AY124: ROZPOCET | BE124: =IF(U124="základní",N124,0) -> 6520.32 | BF124: =IF(U124="snížená",N124,0) -> 0 | BG124: =IF(U124="zákl. přenesená",N124,0) -> 0 | BH124: =IF(U124="sníž. přenesená",N124,0) -> 0 | BI124: =IF(U124="nulová",N124,0) -> 0 | BJ124: 1 | BK124: =ROUND(L124*K124,2) -> 6520.32 | BL124: 4 | BM124: 996014835
C125: 5 | D125: K | E125: 162701105 | F125: Vodorovné přemístění do 10000 m výkopku/sypaniny z horniny tř. 1 až 4 | J125: m3 | K125: 229.41 | L125: 227 | N125: =ROUND(L125*K125,2) -> 52076.07 | U125: základní | V125: 0 | W125: =V125*K125 -> 0 | X125: 0 | Y125: =X125*K125 -> 0 | Z125: 0 | AA125: =Z125*K125 -> 0 | AR125: 4 | AT125: K | AU125: 2 | AY125: ROZPOCET | BE125: =IF(U125="základní",N125,0) -> 52076.07 | BF125: =IF(U125="snížená",N125,0) -> 0 | BG125: =IF(U125="zákl. přenesená",N125,0) -> 0 | BH125: =IF(U125="sníž. přenesená",N125,0) -> 0 | BI125: =IF(U125="nulová",N125,0) -> 0 | BJ125: 1 | BK125: =ROUND(L125*K125,2) -> 52076.07 | BL125: 4 | BM125: 956968626
C126: 6 | D126: K | E126: 162701109 | F126: Příplatek k vodorovnému přemístění výkopku/sypaniny z horniny tř. 1 až 4 ZKD 1000 m přes 10000 m | J126: m3 | K126: 2294.1 | L126: 17.2 | N126: =ROUND(L126*K126,2) -> 39458.52 | U126: základní | V126: 0 | W126: =V126*K126 -> 0 | X126: 0 | Y126: =X126*K126 -> 0 | Z126: 0 | AA126: =Z126*K126 -> 0 | AR126: 4 | AT126: K | AU126: 2 | AY126: ROZPOCET | BE126: =IF(U126="základní",N126,0) -> 39458.52 | BF126: =IF(U126="snížená",N126,0) -> 0 | BG126: =IF(U126="zákl. přenesená",N126,0) -> 0 | BH126: =IF(U126="sníž. přenesená",N126,0) -> 0 | BI126: =IF(U126="nulová",N126,0) -> 0 | BJ126: 1 | BK126: =ROUND(L126*K126,2) -> 39458.52 | BL126: 4 | BM126: 1386402618
C127: 7 | D127: K | E127: 167101102 | F127: Nakládání výkopku z hornin tř. 1 až 4 přes 100 m3 | J127: m3 | K127: 243.81 | L127: 54.3 | N127: =ROUND(L127*K127,2) -> 13238.88 | U127: základní | V127: 0 | W127: =V127*K127 -> 0 | X127: 0 | Y127: =X127*K127 -> 0 | Z127: 0 | AA127: =Z127*K127 -> 0 | AR127: 4 | AT127: K | AU127: 2 | AY127: ROZPOCET | BE127: =IF(U127="základní",N127,0) -> 13238.88 | BF127: =IF(U127="snížená",N127,0) -> 0 | BG127: =IF(U127="zákl. přenesená",N127,0) -> 0 | BH127: =IF(U127="sníž. přenesená",N127,0) -> 0 | BI127: =IF(U127="nulová",N127,0) -> 0 | BJ127: 1 | BK127: =ROUND(L127*K127,2) -> 13238.88 | BL127: 4 | BM127: -602198918
C128: 8 | D128: K | E128: 171201211 | F128: Poplatek za uložení odpadu ze sypaniny na skládce (skládkovné) | J128: t | K128: 412.938 | L128: 140 | N128: =ROUND(L128*K128,2) -> 57811.32 | U128: základní | V128: 0 | W128: =V128*K128 -> 0 | X128: 0 | Y128: =X128*K128 -> 0 | Z128: 0 | AA128: =Z128*K128 -> 0 | AR128: 4 | AT128: K | AU128: 2 | AY128: ROZPOCET | BE128: =IF(U128="základní",N128,0) -> 57811.32 | BF128: =IF(U128="snížená",N128,0) -> 0 | BG128: =IF(U128="zákl. přenesená",N128,0) -> 0 | BH128: =IF(U128="sníž. přenesená",N128,0) -> 0 | BI128: =IF(U128="nulová",N128,0) -> 0 | BJ128: 1 | BK128: =ROUND(L128*K128,2) -> 57811.32 | BL128: 4 | BM128: -613394535
C129: 9 | D129: K | E129: 171-R-001 | F129: Nákup zeminy vhodné pro ohumusování vč. naložení, složení | J129: m3 | K129: 11.2 | L129: 450 | N129: =ROUND(L129*K129,2) -> 5040 | U129: základní | V129: 0 | W129: =V129*K129 -> 0 | X129: 0 | Y129: =X129*K129 -> 0 | Z129: 0 | AA129: =Z129*K129 -> 0 | AR129: 4 | AT129: K | AU129: 2 | AY129: ROZPOCET | BE129: =IF(U129="základní",N129,0) -> 5040 | BF129: =IF(U129="snížená",N129,0) -> 0 | BG129: =IF(U129="zákl. přenesená",N129,0) -> 0 | BH129: =IF(U129="sníž. přenesená",N129,0) -> 0 | BI129: =IF(U129="nulová",N129,0) -> 0 | BJ129: 1 | BK129: =ROUND(L129*K129,2) -> 5040 | BL129: 4 | BM129: 895454886
C130: 10 | D130: K | E130: 174101101 | F130: Zásyp jam, šachet rýh nebo kolem objektů sypaninou se zhutněním | J130: m3 | K130: 14.4 | L130: 79.5 | N130: =ROUND(L130*K130,2) -> 1144.8 | U130: základní | V130: 0 | W130: =V130*K130 -> 0 | X130: 0 | Y130: =X130*K130 -> 0 | Z130: 0 | AA130: =Z130*K130 -> 0 | AR130: 4 | AT130: K | AU130: 2 | AY130: ROZPOCET | BE130: =IF(U130="základní",N130,0) -> 1144.8 | BF130: =IF(U130="snížená",N130,0) -> 0 | BG130: =IF(U130="zákl. přenesená",N130,0) -> 0 | BH130: =IF(U130="sníž. přenesená",N130,0) -> 0 | BI130: =IF(U130="nulová",N130,0) -> 0 | BJ130: 1 | BK130: =ROUND(L130*K130,2) -> 1144.8 | BL130: 4 | BM130: 1185185069
C131: 11 | D131: K | E131: 181301101 | F131: Rozprostření ornice tl vrstvy do 100 mm pl do 500 m2 v rovině nebo ve svahu do 1:5 | J131: m2 | K131: 112 | L131: 27.8 | N131: =ROUND(L131*K131,2) -> 3113.6 | U131: základní | V131: 0 | W131: =V131*K131 -> 0 | X131: 0 | Y131: =X131*K131 -> 0 | Z131: 0 | AA131: =Z131*K131 -> 0 | AR131: 4 | AT131: K | AU131: 2 | AY131: ROZPOCET | BE131: =IF(U131="základní",N131,0) -> 3113.6 | BF131: =IF(U131="snížená",N131,0) -> 0 | BG131: =IF(U131="zákl. přenesená",N131,0) -> 0 | BH131: =IF(U131="sníž. přenesená",N131,0) -> 0 | BI131: =IF(U131="nulová",N131,0) -> 0 | BJ131: 1 | BK131: =ROUND(L131*K131,2) -> 3113.6 | BL131: 4 | BM131: 1007792224
C132: 12 | D132: K | E132: 181411131 | F132: Založení parkového trávníku výsevem plochy do 1000 m2 v rovině a ve svahu do 1:5 | J132: m2 | K132: 112 | L132: 15.4 | N132: =ROUND(L132*K132,2) -> 1724.8 | U132: základní | V132: 0 | W132: =V132*K132 -> 0 | X132: 0 | Y132: =X132*K132 -> 0 | Z132: 0 | AA132: =Z132*K132 -> 0 | AR132: 4 | AT132: K | AU132: 2 | AY132: ROZPOCET | BE132: =IF(U132="základní",N132,0) -> 1724.8 | BF132: =IF(U132="snížená",N132,0) -> 0 | BG132: =IF(U132="zákl. přenesená",N132,0) -> 0 | BH132: =IF(U132="sníž. přenesená",N132,0) -> 0 | BI132: =IF(U132="nulová",N132,0) -> 0 | BJ132: 1 | BK132: =ROUND(L132*K132,2) -> 1724.8 | BL132: 4 | BM132: -1546826696
... C143: 23 | D143: K | E143: 185851121 | F143: Dovoz vody pro zálivku rostlin za vzdálenost do 1000 m | J143: m3 | K143: 2.8 | L143: 287 | N143: =ROUND(L143*K143,2) -> 803.6 | U143: základní | V143: 0 | W143: =V143*K143 -> 0 | X143: 0 | Y143: =X143*K143 -> 0 | Z143: 0 | AA143: =Z143*K143 -> 0 | AR143: 4 | AT143: K | AU143: 2 | AY143: ROZPOCET | BE143: =IF(U143="základní",N143,0) -> 803.6 | BF143: =IF(U143="snížená",N143,0) -> 0 | BG143: =IF(U143="zákl. přenesená",N143,0) -> 0 | BH143: =IF(U143="sníž. přenesená",N143,0) -> 0 | BI143: =IF(U143="nulová",N143,0) -> 0 | BJ143: 1 | BK143: =ROUND(L143*K143,2) -> 803.6 | BL143: 4 | BM143: -407570544
D144: 2 - Zakládání | N144: =BK144 -> 15038.09 | W144: =SUM(W145:W147) -> 0 | Y144: =SUM(Y145:Y147) -> 0.0412016 | AA144: =SUM(AA145:AA147) -> 0 | AR144: 1 | AT144: D | AU144: 1 | AY144: ROZPOCET | BK144: =SUM(BK145:BK147) -> 15038.09
C145: 24 | D145: K | E145: 211561111 | F145: Výplň odvodňovacích žeber nebo trativodů kamenivem hrubým drceným frakce 4 až 16 mm | J145: m3 | K145: 11.52 | L145: 997 | N145: =ROUND(L145*K145,2) -> 11485.44 | U145: základní | V145: 0 | W145: =V145*K145 -> 0 | X145: 0 | Y145: =X145*K145 -> 0 | Z145: 0 | AA145: =Z145*K145 -> 0 | AR145: 4 | AT145: K | AU145: 2 | AY145: ROZPOCET | BE145: =IF(U145="základní",N145,0) -> 11485.44 | BF145: =IF(U145="snížená",N145,0) -> 0 | BG145: =IF(U145="zákl. přenesená",N145,0) -> 0 | BH145: =IF(U145="sníž. přenesená",N145,0) -> 0 | BI145: =IF(U145="nulová",N145,0) -> 0 | BJ145: 1 | BK145: =ROUND(L145*K145,2) -> 11485.44 | BL145: 4 | BM145: 9971793
C146: 25 | D146: K | E146: 211971121 | F146: Zřízení opláštění žeber nebo trativodů geotextilií v rýze nebo zářezu sklonu přes 1:2 š do 2,5 m | J146: m2 | K146: 67.52 | L146: 29.6 | N146: =ROUND(L146*K146,2) -> 1998.59 | U146: základní | V146: 0 | W146: =V146*K146 -> 0 | X146: 0.00031 | Y146: =X146*K146 -> 0.0209312 | Z146: 0 | AA146: =Z146*K146 -> 0 | AR146: 4 | AT146: K | AU146: 2 | AY146: ROZPOCET | BE146: =IF(U146="základní",N146,0) -> 1998.59 | BF146: =IF(U146="snížená",N146,0) -> 0 | BG146: =IF(U146="zákl. přenesená",N146,0) -> 0 | BH146: =IF(U146="sníž. přenesená",N146,0) -> 0 | BI146: =IF(U146="nulová",N146,0) -> 0 | BJ146: 1 | BK146: =ROUND(L146*K146,2) -> 1998.59 | BL146: 4 | BM146: -2091387273
C147: 26 | D147: M | E147: 693111460 | F147: textilie 300 g/m2 do š 8,8 m | J147: m2 | K147: 67.568 | L147: 23 | N147: =ROUND(L147*K147,2) -> 1554.06 | U147: základní | V147: 0 | W147: =V147*K147 -> 0 | X147: 0.0003 | Y147: =X147*K147 -> 0.0202704 | Z147: 0 | AA147: =Z147*K147 -> 0 | AR147: 8 | AT147: M | AU147: 2 | AY147: ROZPOCET | BE147: =IF(U147="základní",N147,0) -> 1554.06 | BF147: =IF(U147="snížená",N147,0) -> 0 | BG147: =IF(U147="zákl. přenesená",N147,0) -> 0 | BH147: =IF(U147="sníž. přenesená",N147,0) -> 0 | BI147: =IF(U147="nulová",N147,0) -> 0 | BJ147: 1 | BK147: =ROUND(L147*K147,2) -> 1554.06 | BL147: 4 | BM147: -863740277
D148: 5 - Komunikace pozemní | N148: =BK148 -> 320262.76 | W148: =SUM(W149:W155) -> 0 | Y148: =SUM(Y149:Y155) -> 106.08715 | AA148: =SUM(AA149:AA155) -> 0 | AR148: 1 | AT148: D | AU148: 1 | AY148: ROZPOCET | BK148: =SUM(BK149:BK155) -> 320262.76
C149: 27 | D149: K | E149: 564851111 | F149: Podklad ze štěrkodrtě ŠD tl 150 mm | J149: m2 | K149: 360.1 | L149: 106 | N149: =ROUND(L149*K149,2) -> 38170.6 | U149: základní | V149: 0 | W149: =V149*K149 -> 0 | X149: 0 | Y149: =X149*K149 -> 0 | Z149: 0 | AA149: =Z149*K149 -> 0 | AR149: 4 | AT149: K | AU149: 2 | AY149: ROZPOCET | BE149: =IF(U149="základní",N149,0) -> 38170.6 | BF149: =IF(U149="snížená",N149,0) -> 0 | BG149: =IF(U149="zákl. přenesená",N149,0) -> 0 | BH149: =IF(U149="sníž. přenesená",N149,0) -> 0 | BI149: =IF(U149="nulová",N149,0) -> 0 | BJ149: 1 | BK149: =ROUND(L149*K149,2) -> 38170.6 | BL149: 4 | BM149: 1088226026
C150: 28 | D150: K | E150: 564871111 | F150: Podklad ze štěrkodrtě ŠD tl 250 mm | J150: m2 | K150: 293.3 | L150: 171 | N150: =ROUND(L150*K150,2) -> 50154.3 | U150: základní | V150: 0 | W150: =V150*K150 -> 0 | X150: 0 | Y150: =X150*K150 -> 0 | Z150: 0 | AA150: =Z150*K150 -> 0 | AR150: 4 | AT150: K | AU150: 2 | AY150: ROZPOCET | BE150: =IF(U150="základní",N150,0) -> 50154.3 | BF150: =IF(U150="snížená",N150,0) -> 0 | BG150: =IF(U150="zákl. přenesená",N150,0) -> 0 | BH150: =IF(U150="sníž. přenesená",N150,0) -> 0 | BI150: =IF(U150="nulová",N150,0) -> 0 | BJ150: 1 | BK150: =ROUND(L150*K150,2) -> 50154.3 | BL150: 4 | BM150: 1902390306
C151: 29 | D151: K | E151: 591111111 | F151: Kladení dlažby z kostek velkých z kamene do lože z kameniva těženého tl 50 mm | J151: m2 | K151: 230.3 | L151: 352 | N151: =ROUND(L151*K151,2) -> 81065.6 | U151: základní | V151: 0 | W151: =V151*K151 -> 0 | X151: 0.1837 | Y151: =X151*K151 -> 42.30611 | Z151: 0 | AA151: =Z151*K151 -> 0 | AR151: 4 | AT151: K | AU151: 2 | AY151: ROZPOCET | BE151: =IF(U151="základní",N151,0) -> 81065.6 | BF151: =IF(U151="snížená",N151,0) -> 0 | BG151: =IF(U151="zákl. přenesená",N151,0) -> 0 | BH151: =IF(U151="sníž. přenesená",N151,0) -> 0 | BI151: =IF(U151="nulová",N151,0) -> 0 | BJ151: 1 | BK151: =ROUND(L151*K151,2) -> 81065.6 | BL151: 4 | BM151: 2005870609
C152: 30 | D152: K | E152: 591211111 | F152: Kladení dlažby z kostek drobných z kamene do lože z kameniva těženého tl 50 mm | J152: m2 | K152: 143 | L152: 413 | N152: =ROUND(L152*K152,2) -> 59059 | U152: základní | V152: 0 | W152: =V152*K152 -> 0 | X152: 0.1837 | Y152: =X152*K152 -> 26.2691 | Z152: 0 | AA152: =Z152*K152 -> 0 | AR152: 4 | AT152: K | AU152: 2 | AY152: ROZPOCET | BE152: =IF(U152="základní",N152,0) -> 59059 | BF152: =IF(U152="snížená",N152,0) -> 0 | BG152: =IF(U152="zákl. přenesená",N152,0) -> 0 | BH152: =IF(U152="sníž. přenesená",N152,0) -> 0 | BI152: =IF(U152="nulová",N152,0) -> 0 | BJ152: 1 | BK152: =ROUND(L152*K152,2) -> 59059 | BL152: 4 | BM152: -911398368
C153: 31 | D153: M | E153: 583801200 | F153: kostka dlažební drobná, žula velikost 8/10 cm | J153: t | K153: 35.006 | L153: 2460 | N153: =ROUND(L153*K153,2) -> 86114.76 | U153: základní | V153: 0 | W153: =V153*K153 -> 0 | X153: 1 | Y153: =X153*K153 -> 35.006 | Z153: 0 | AA153: =Z153*K153 -> 0 | AR153: 8 | AT153: M | AU153: 2 | AY153: ROZPOCET | BE153: =IF(U153="základní",N153,0) -> 86114.76 | BF153: =IF(U153="snížená",N153,0) -> 0 | BG153: =IF(U153="zákl. přenesená",N153,0) -> 0 | BH153: =IF(U153="sníž. přenesená",N153,0) -> 0 | BI153: =IF(U153="nulová",N153,0) -> 0 | BJ153: 1 | BK153: =ROUND(L153*K153,2) -> 86114.76 | BL153: 4 | BM153: 35948165
C154: 32 | D154: K | E154: 596811223 | F154: Kladení betonové dlažby komunikací pro pěší do lože z kameniva vel do 0,25 m2 plochy přes 300 m2 | J154: m2 | K154: 1.5 | L154: 139 | N154: =ROUND(L154*K154,2) -> 208.5 | U154: základní | V154: 0 | W154: =V154*K154 -> 0 | X154: 0.101 | Y154: =X154*K154 -> 0.1515 | Z154: 0 | AA154: =Z154*K154 -> 0 | AR154: 4 | AT154: K | AU154: 2 | AY154: ROZPOCET | BE154: =IF(U154="základní",N154,0) -> 208.5 | BF154: =IF(U154="snížená",N154,0) -> 0 | BG154: =IF(U154="zákl. přenesená",N154,0) -> 0 | BH154: =IF(U154="sníž. přenesená",N154,0) -> 0 | BI154: =IF(U154="nulová",N154,0) -> 0 | BJ154: 1 | BK154: =ROUND(L154*K154,2) -> 208.5 | BL154: 4 | BM154: 995499244
C155: 33 | D155: K | E155: 597661111 | F155: Rigol dlážděný do lože z betonu tl 100 mm z dlažebních kostek drobných | J155: m2 | K155: 4.5 | L155: 1220 | N155: =ROUND(L155*K155,2) -> 5490 | U155: základní | V155: 0 | W155: =V155*K155 -> 0 | X155: 0.52321 | Y155: =X155*K155 -> 2.354445 | Z155: 0 | AA155: =Z155*K155 -> 0 | AR155: 4 | AT155: K | AU155: 2 | AY155: ROZPOCET | BE155: =IF(U155="základní",N155,0) -> 5490 | BF155: =IF(U155="snížená",N155,0) -> 0 | BG155: =IF(U155="zákl. přenesená",N155,0) -> 0 | BH155: =IF(U155="sníž. přenesená",N155,0) -> 0 | BI155: =IF(U155="nulová",N155,0) -> 0 | BJ155: 1 | BK155: =ROUND(L155*K155,2) -> 5490 | BL155: 4 | BM155: 110152125
D156: 9 - Ostatní konstrukce a práce, bourání | N156: =BK156 -> 64481.25 | W156: =SUM(W157:W165) -> 0 | Y156: =SUM(Y157:Y165) -> 37.201113 | AA156: =SUM(AA157:AA165) -> 0 | AR156: 1 | AT156: D | AU156: 1 | AY156: ROZPOCET | BK156: =SUM(BK157:BK165) -> 64481.25
C157: 34 | D157: K | E157: 916111113 | F157: Osazení obruby z velkých kostek s boční opěrou do lože z betonu prostého | J157: m | K157: 135.7 | L157: 151 | N157: =ROUND(L157*K157,2) -> 20490.7 | U157: základní | V157: 0 | W157: =V157*K157 -> 0 | X157: 0.10988 | Y157: =X157*K157 -> 14.910716 | Z157: 0 | AA157: =Z157*K157 -> 0 | AR157: 4 | AT157: K | AU157: 2 | AY157: ROZPOCET | BE157: =IF(U157="základní",N157,0) -> 20490.7 | BF157: =IF(U157="snížená",N157,0) -> 0 | BG157: =IF(U157="zákl. přenesená",N157,0) -> 0 | BH157: =IF(U157="sníž. přenesená",N157,0) -> 0 | BI157: =IF(U157="nulová",N157,0) -> 0 | BJ157: 1 | BK157: =ROUND(L157*K157,2) -> 20490.7 | BL157: 4 | BM157: -1770119759
C158: 35 | D158: K | E158: 916111122 | F158: Osazení obruby z drobných kostek bez boční opěry do lože z betonu prostého | J158: m | K158: 105.8 | L158: 95.9 | N158: =ROUND(L158*K158,2) -> 10146.22 | U158: základní | V158: 0 | W158: =V158*K158 -> 0 | X158: 0.0719 | Y158: =X158*K158 -> 7.60702 | Z158: 0 | AA158: =Z158*K158 -> 0 | AR158: 4 | AT158: K | AU158: 2 | AY158: ROZPOCET | BE158: =IF(U158="základní",N158,0) -> 10146.22 | BF158: =IF(U158="snížená",N158,0) -> 0 | BG158: =IF(U158="zákl. přenesená",N158,0) -> 0 | BH158: =IF(U158="sníž. přenesená",N158,0) -> 0 | BI158: =IF(U158="nulová",N158,0) -> 0 | BJ158: 1 | BK158: =ROUND(L158*K158,2) -> 10146.22 | BL158: 4 | BM158: -1490279470
C159: 36 | D159: M | E159: 583801200a | F159: kostka dlažební drobná, žula velikost 8/10 cm | J159: t | K159: 2.59 | L159: 2460 | N159: =ROUND(L159*K159,2) -> 6371.4 | U159: základní | V159: 0 | W159: =V159*K159 -> 0 | X159: 1 | Y159: =X159*K159 -> 2.59 | Z159: 0 | AA159: =Z159*K159 -> 0 | AR159: 8 | AT159: M | AU159: 2 | AY159: ROZPOCET | BE159: =IF(U159="základní",N159,0) -> 6371.4 | BF159: =IF(U159="snížená",N159,0) -> 0 | BG159: =IF(U159="zákl. přenesená",N159,0) -> 0 | BH159: =IF(U159="sníž. přenesená",N159,0) -> 0 | BI159: =IF(U159="nulová",N159,0) -> 0 | BJ159: 1 | BK159: =ROUND(L159*K159,2) -> 6371.4 | BL159: 4 | BM159: 675031891
C160: 37 | D160: K | E160: 916111123 | F160: Osazení obruby z drobných kostek s boční opěrou do lože z betonu prostého | J160: m | K160: 105.8 | L160: 124 | N160: =ROUND(L160*K160,2) -> 13119.2 | U160: základní | V160: 0 | W160: =V160*K160 -> 0 | X160: 0.08978 | Y160: =X160*K160 -> 9.498724 | Z160: 0 | AA160: =Z160*K160 -> 0 | AR160: 4 | AT160: K | AU160: 2 | AY160: ROZPOCET | BE160: =IF(U160="základní",N160,0) -> 13119.2 | BF160: =IF(U160="snížená",N160,0) -> 0 | BG160: =IF(U160="zákl. přenesená",N160,0) -> 0 | BH160: =IF(U160="sníž. přenesená",N160,0) -> 0 | BI160: =IF(U160="nulová",N160,0) -> 0 | BJ160: 1 | BK160: =ROUND(L160*K160,2) -> 13119.2 | BL160: 4 | BM160: -65034553
C161: 38 | D161: M | E161: 583801200 | F161: kostka dlažební drobná, žula velikost 8/10 cm | J161: t | K161: 2.59 | L161: 2460 | N161: =ROUND(L161*K161,2) -> 6371.4 | U161: základní | V161: 0 | W161: =V161*K161 -> 0 | X161: 1 | Y161: =X161*K161 -> 2.59 | Z161: 0 | AA161: =Z161*K161 -> 0 | AR161: 8 | AT161: M | AU161: 2 | AY161: ROZPOCET | BE161: =IF(U161="základní",N161,0) -> 6371.4 | BF161: =IF(U161="snížená",N161,0) -> 0 | BG161: =IF(U161="zákl. přenesená",N161,0) -> 0 | BH161: =IF(U161="sníž. přenesená",N161,0) -> 0 | BI161: =IF(U161="nulová",N161,0) -> 0 | BJ161: 1 | BK161: =ROUND(L161*K161,2) -> 6371.4 | BL161: 4 | BM161: 1073121315
C162: 39 | D162: K | E162: 919726122 | F162: Geotextilie pro ochranu, separaci a filtraci netkaná měrná hmotnost do 300 g/m2 | J162: m2 | K162: 9.9 | L162: 46.1 | N162: =ROUND(L162*K162,2) -> 456.39 | U162: základní | V162: 0 | W162: =V162*K162 -> 0 | X162: 0.00047 | Y162: =X162*K162 -> 0.004653 | Z162: 0 | AA162: =Z162*K162 -> 0 | AR162: 4 | AT162: K | AU162: 2 | AY162: ROZPOCET | BE162: =IF(U162="základní",N162,0) -> 456.39 | BF162: =IF(U162="snížená",N162,0) -> 0 | BG162: =IF(U162="zákl. přenesená",N162,0) -> 0 | BH162: =IF(U162="sníž. přenesená",N162,0) -> 0 | BI162: =IF(U162="nulová",N162,0) -> 0 | BJ162: 1 | BK162: =ROUND(L162*K162,2) -> 456.39 | BL162: 4 | BM162: 706496405
C163: 40 | D163: K | E163: 919735100 | F163: Zalití spáry modifikovanou asfalt.zálivkou | J163: m | K163: 14 | L163: 75 | N163: =ROUND(L163*K163,2) -> 1050 | U163: základní | V163: 0 | W163: =V163*K163 -> 0 | X163: 0 | Y163: =X163*K163 -> 0 | Z163: 0 | AA163: =Z163*K163 -> 0 | AR163: 4 | AT163: K | AU163: 2 | AY163: ROZPOCET | BE163: =IF(U163="základní",N163,0) -> 1050 | BF163: =IF(U163="snížená",N163,0) -> 0 | BG163: =IF(U163="zákl. přenesená",N163,0) -> 0 | BH163: =IF(U163="sníž. přenesená",N163,0) -> 0 | BI163: =IF(U163="nulová",N163,0) -> 0 | BJ163: 1 | BK163: =ROUND(L163*K163,2) -> 1050 | BL163: 4 | BM163: 1796492174
C164: 41 | D164: K | E164: 919735112 | F164: Řezání stávajícího živičného krytu hl do 100 mm | J164: m | K164: 14 | L164: 71.1 | N164: =ROUND(L164*K164,2) -> 995.4 | U164: základní | V164: 0 | W164: =V164*K164 -> 0 | X164: 0 | Y164: =X164*K164 -> 0 | Z164: 0 | AA164: =Z164*K164 -> 0 | AR164: 4 | AT164: K | AU164: 2 | AY164: ROZPOCET | BE164: =IF(U164="základní",N164,0) -> 995.4 | BF164: =IF(U164="snížená",N164,0) -> 0 | BG164: =IF(U164="zákl. přenesená",N164,0) -> 0 | BH164: =IF(U164="sníž. přenesená",N164,0) -> 0 | BI164: =IF(U164="nulová",N164,0) -> 0 | BJ164: 1 | BK164: =ROUND(L164*K164,2) -> 995.4 | BL164: 4 | BM164: -447831783
C165: 42 | D165: K | E165: 979071111 | F165: Očištění dlažebních kostek velkých s původním spárováním kamenivem těženým | J165: m2 | K165: 256.1 | L165: 21.4 | N165: =ROUND(L165*K165,2) -> 5480.54 | U165: základní | V165: 0 | W165: =V165*K165 -> 0 | X165: 0 | Y165: =X165*K165 -> 0 | Z165: 0 | AA165: =Z165*K165 -> 0 | AR165: 4 | AT165: K | AU165: 2 | AY165: ROZPOCET | BE165: =IF(U165="základní",N165,0) -> 5480.54 | BF165: =IF(U165="snížená",N165,0) -> 0 | BG165: =IF(U165="zákl. přenesená",N165,0) -> 0 | BH165: =IF(U165="sníž. přenesená",N165,0) -> 0 | BI165: =IF(U165="nulová",N165,0) -> 0 | BJ165: 1 | BK165: =ROUND(L165*K165,2) -> 5480.54 | BL165: 4 | BM165: -14019699
D166: 997 - Přesun sutě | N166: =BK166 -> 10966.19 | W166: =SUM(W167:W171) -> 0 | Y166: =SUM(Y167:Y171) -> 0 | AA166: =SUM(AA167:AA171) -> 0 | AR166: 1 | AT166: D | AU166: 1 | AY166: ROZPOCET | BK166: =SUM(BK167:BK171) -> 10966.19
C167: 43 | D167: K | E167: 997221551 | F167: Vodorovná doprava suti ze sypkých materiálů do 1 km | J167: t | K167: 11.925 | L167: 39.1 | N167: =ROUND(L167*K167,2) -> 466.27 | U167: základní | V167: 0 | W167: =V167*K167 -> 0 | X167: 0 | Y167: =X167*K167 -> 0 | Z167: 0 | AA167: =Z167*K167 -> 0 | AR167: 4 | AT167: K | AU167: 2 | AY167: ROZPOCET | BE167: =IF(U167="základní",N167,0) -> 466.27 | BF167: =IF(U167="snížená",N167,0) -> 0 | BG167: =IF(U167="zákl. přenesená",N167,0) -> 0 | BH167: =IF(U167="sníž. přenesená",N167,0) -> 0 | BI167: =IF(U167="nulová",N167,0) -> 0 | BJ167: 1 | BK167: =ROUND(L167*K167,2) -> 466.27 | BL167: 4 | BM167: -1255189759
C168: 44 | D168: K | E168: 997221559 | F168: Příplatek ZKD 1 km u vodorovné dopravy suti ze sypkých materiálů | J168: t | K168: 226.575 | L168: 8.72 | N168: =ROUND(L168*K168,2) -> 1975.73 | U168: základní | V168: 0 | W168: =V168*K168 -> 0 | X168: 0 | Y168: =X168*K168 -> 0 | Z168: 0 | AA168: =Z168*K168 -> 0 | AR168: 4 | AT168: K | AU168: 2 | AY168: ROZPOCET | BE168: =IF(U168="základní",N168,0) -> 1975.73 | BF168: =IF(U168="snížená",N168,0) -> 0 | BG168: =IF(U168="zákl. přenesená",N168,0) -> 0 | BH168: =IF(U168="sníž. přenesená",N168,0) -> 0 | BI168: =IF(U168="nulová",N168,0) -> 0 | BJ168: 1 | BK168: =ROUND(L168*K168,2) -> 1975.73 | BL168: 4 | BM168: -1793031742
C169: 45 | D169: K | E169: 997221561 | F169: Vodorovná doprava suti z kusových materiálů do 1 km | J169: t | K169: 121.648 | L169: 44 | N169: =ROUND(L169*K169,2) -> 5352.51 | U169: základní | V169: 0 | W169: =V169*K169 -> 0 | X169: 0 | Y169: =X169*K169 -> 0 | Z169: 0 | AA169: =Z169*K169 -> 0 | AR169: 4 | AT169: K | AU169: 2 | AY169: ROZPOCET | BE169: =IF(U169="základní",N169,0) -> 5352.51 | BF169: =IF(U169="snížená",N169,0) -> 0 | BG169: =IF(U169="zákl. přenesená",N169,0) -> 0 | BH169: =IF(U169="sníž. přenesená",N169,0) -> 0 | BI169: =IF(U169="nulová",N169,0) -> 0 | BJ169: 1 | BK169: =ROUND(L169*K169,2) -> 5352.51 | BL169: 4 | BM169: 1535234593
C170: 46 | D170: K | E170: 997221611 | F170: Nakládání suti na dopravní prostředky pro vodorovnou dopravu | J170: t | K170: 11.925 | L170: 146 | N170: =ROUND(L170*K170,2) -> 1741.05 | U170: základní | V170: 0 | W170: =V170*K170 -> 0 | X170: 0 | Y170: =X170*K170 -> 0 | Z170: 0 | AA170: =Z170*K170 -> 0 | AR170: 4 | AT170: K | AU170: 2 | AY170: ROZPOCET | BE170: =IF(U170="základní",N170,0) -> 1741.05 | BF170: =IF(U170="snížená",N170,0) -> 0 | BG170: =IF(U170="zákl. přenesená",N170,0) -> 0 | BH170: =IF(U170="sníž. přenesená",N170,0) -> 0 | BI170: =IF(U170="nulová",N170,0) -> 0 | BJ170: 1 | BK170: =ROUND(L170*K170,2) -> 1741.05 | BL170: 4 | BM170: -90182509
C171: 47 | D171: K | E171: 997221815 | F171: Poplatek za uložení betonového odpadu na skládce (skládkovné) | J171: t | K171: 11.445 | L171: 125 | N171: =ROUND(L171*K171,2) -> 1430.63 | U171: základní | V171: 0 | W171: =V171*K171 -> 0 | X171: 0 | Y171: =X171*K171 -> 0 | Z171: 0 | AA171: =Z171*K171 -> 0 | AR171: 4 | AT171: K | AU171: 2 | AY171: ROZPOCET | BE171: =IF(U171="základní",N171,0) -> 1430.63 | BF171: =IF(U171="snížená",N171,0) -> 0 | BG171: =IF(U171="zákl. přenesená",N171,0) -> 0 | BH171: =IF(U171="sníž. přenesená",N171,0) -> 0 | BI171: =IF(U171="nulová",N171,0) -> 0 | BJ171: 1 | BK171: =ROUND(L171*K171,2) -> 1430.63 | BL171: 4 | BM171: 1924526416
...

Sheet VON - Vedlejší a ostatní ...
D1: List obsahuje: | F1: 1) Krycí list rozpočtu | H1: 2) Rekapitulace rozpočtu | L1: 3) Rozpočet | O1: Zpět na list: | S1: Rekapitulace stavby
C2: optimalizováno pro tisk sestav ve formátu A4 - na výšku | S2: >> skryté sloupce << | AT2: {2cf9cf19-cc87-4add-97da-0835bf94b66a}
AT3: 2
C4: KRYCÍ LIST ROZPOČTU | T4: v --- níže se nacházejí doplnkové a pomocné údaje k sestavám --- v | AT4: False
D6: Stavba: | F6: ='Rekapitulace stavby'!K6 -> Olomouc - Úprava cest na hřbitově
D7: Objekt: | F7: VON - Vedlejší a ostatní náklady
D8: JKSO: | M8: CC-CZ:
D9: Místo: | F9: Olomouc - Neředín | M9: Datum: | O9: ='Rekapitulace stavby'!AN8 -> 42914
D11: Objednatel: | M11: IČ:
M12: DIČ:
D14: Zhotovitel: | M14: IČ: | O14: =IF('Rekapitulace stavby'!AN13="","",'Rekapitulace stavby'!AN13) -> 28654501
E15: =IF('Rekapitulace stavby'!E14="","",'Rekapitulace stavby'!E14) | M15: DIČ: | O15: =IF('Rekapitulace stavby'!AN14="","",'Rekapitulace stavby'!AN14) -> CZ28654501
D17: Projektant: | M17: IČ: | O17: 25361520
E18: Dopravní projektování s.r.o. | M18: DIČ:
D20: Zpracovatel: | M20: IČ: | O20: =IF('Rekapitulace stavby'!AN19="","",'Rekapitulace stavby'!AN19)
E21: =IF('Rekapitulace stavby'!E20="","",'Rekapitulace stavby'!E20) | M21: DIČ: | O21: =IF('Rekapitulace stavby'!AN20="","",'Rekapitulace stavby'!AN20)
D23: Poznámka:
D27: Náklady z rozpočtu | M27: =N88 -> 150000
D28: Ostatní náklady | M28: =N94 -> 0
D30: Cena bez DPH | M30: =ROUND(M27+M28,2) -> 150000
D32: DPH | E32: základní | F32: 0.21 | G32: ze | H32: =ROUND((SUM(BE94:BE95)+SUM(BE113:BE131)), 2) -> 150000 | M32: =ROUND(ROUND((SUM(BE94:BE95)+SUM(BE113:BE131)), 2)*F32, 2) -> 31500
E33: snížená | F33: 0.15 | G33: ze | H33: =ROUND((SUM(BF94:BF95)+SUM(BF113:BF131)), 2) -> 0 | M33: =ROUND(ROUND((SUM(BF94:BF95)+SUM(BF113:BF131)), 2)*F33, 2) -> 0
E34: zákl. přenesená | F34: 0.21 | G34: ze | H34: =ROUND((SUM(BG94:BG95)+SUM(BG113:BG131)), 2) -> 0 | M34: 0
E35: sníž. přenesená | F35: 0.15 | G35: ze | H35: =ROUND((SUM(BH94:BH95)+SUM(BH113:BH131)), 2) -> 0 | M35: 0
E36: nulová | F36: 0 | G36: ze | H36: =ROUND((SUM(BI94:BI95)+SUM(BI113:BI131)), 2) -> 0 | M36: 0
D38: Cena s DPH | G38: v | H38: CZK | L38: =SUM(M30:M36) -> 181500
D50: Projektant | J50: Zpracovatel
D59: Datum a podpis: | G59: Razítko | J59: Datum a podpis: | N59: Razítko
D61: Objednavatel | J61: Zhotovitel
D70: Datum a podpis: | G70: Razítko | J70: Datum a podpis: | N70: Razítko
C76: REKAPITULACE ROZPOČTU
C78: Stavba: | F78: =F6 -> Olomouc - Úprava cest na hřbitově
C79: Objekt: | F79: =F7 -> VON - Vedlejší a ostatní náklady
C81: Místo: | F81: =F9 -> Olomouc - Neředín | K81: Datum: | M81: =IF(O9="","",O9) -> 42914
C83: Objednatel: | F83: =E12 | K83: Projektant: | M83: =E18 -> Dopravní projektování s.r.o.
C84: Zhotovitel: | F84: =IF(E15="","",E15) | K84: Zpracovatel: | M84: =E21
C86: Kód - Popis | N86: Cena celkem [CZK]
C88: 1) Náklady z rozpočtu | N88: =N113 -> 150000 | AU88: -1
D89: VRN - Vedlejší rozpočtové náklady | N89: =N114 -> 150000
D90: VRN1 - Průzkumné, geodetické a projektové práce | N90: =N115 -> 101000
D91: VRN3 - Zařízení staveniště | N91: =N122 -> 41000
D92: VRN7 - Provozní vlivy | N92: =N130 -> 8000
C94: 2) Ostatní náklady | N94: 0 | U94: DPH
C96: Celkové náklady za stavbu 1) + 2) | L96: =ROUND(SUM(N88+N94),2) -> 150000
C102: ROZPOČET
C104: Stavba: | F104: =F6 -> Olomouc - Úprava cest na hřbitově
C105: Objekt: | F105: =F7 -> VON - Vedlejší a ostatní náklady
C107: Místo: | F107: =F9 -> Olomouc - Neředín | K107: Datum: | M107: =IF(O9="","",O9) -> 42914
C109: Objednatel: | F109: =E12 | K109: Projektant: | M109: =E18 -> Dopravní projektování s.r.o.
C110: Zhotovitel: | F110: =IF(E15="","",E15) | K110: Zpracovatel: | M110: =E21
C112: PČ | D112: Typ | E112: Kód | F112: Popis | J112: MJ | K112: Množství | L112: J.cena [CZK] | N112: Cena celkem [CZK] | T112: Poznámka | U112: DPH | V112: J. Nh [h] | W112: Nh celkem [h] | X112: J. hmotnost_x000D_ [t] | Y112: Hmotnost_x000D_ celkem [t] | Z112: J. suť [t] | AA112: Suť Celkem [t]
C113: Náklady z rozpočtu | N113: =BK113 -> 150000 | W113: =W114 -> 0 | Y113: =Y114 -> 0 | AA113: =AA114 -> 0 | AT113: D | AU113: -1 | BK113: =BK114 -> 150000
D114: VRN - Vedlejší rozpočtové náklady | N114: =BK114 -> 150000 | W114: =W115+W122+W130 -> 0 | Y114: =Y115+Y122+Y130 -> 0 | AA114: =AA115+AA122+AA130 -> 0 | AR114: 5 | AT114: D | AU114: 0 | AY114: ROZPOCET | BK114: =BK115+BK122+BK130 -> 150000
D115: VRN1 - Průzkumné, geodetické a projektové práce | N115: =BK115 -> 101000 | W115: =SUM(W116:W121) -> 0 | Y115: =SUM(Y116:Y121) -> 0 | AA115: =SUM(AA116:AA121) -> 0 | AR115: 5 | AT115: D | AU115: 1 | AY115: ROZPOCET | BK115: =SUM(BK116:BK121) -> 101000
C116: 1 | D116: K | E116: 012103000 | F116: Geodetické práce před výstavbou | J116: sbr | K116: 3 | L116: 15000 | N116: =ROUND(L116*K116,2) -> 45000 | U116: základní | V116: 0 | W116: =V116*K116 -> 0 | X116: 0 | Y116: =X116*K116 -> 0 | Z116: 0 | AA116: =Z116*K116 -> 0 | AR116: 4 | AT116: K | AU116: 2 | AY116: ROZPOCET | BE116: =IF(U116="základní",N116,0) -> 45000 | BF116: =IF(U116="snížená",N116,0) -> 0 | BG116: =IF(U116="zákl. přenesená",N116,0) -> 0 | BH116: =IF(U116="sníž. přenesená",N116,0) -> 0 | BI116: =IF(U116="nulová",N116,0) -> 0 | BJ116: 1 | BK116: =ROUND(L116*K116,2) -> 45000 | BL116: 4 | BM116: -29734854
C117: 2 | D117: K | E117: 012203000 | F117: Geodetické práce při provádění stavby | J117: sbr | K117: 1 | L117: 10000 | N117: =ROUND(L117*K117,2) -> 10000 | U117: základní | V117: 0 | W117: =V117*K117 -> 0 | X117: 0 | Y117: =X117*K117 -> 0 | Z117: 0 | AA117: =Z117*K117 -> 0 | AR117: 4 | AT117: K | AU117: 2 | AY117: ROZPOCET | BE117: =IF(U117="základní",N117,0) -> 10000 | BF117: =IF(U117="snížená",N117,0) -> 0 | BG117: =IF(U117="zákl. přenesená",N117,0) -> 0 | BH117: =IF(U117="sníž. přenesená",N117,0) -> 0 | BI117: =IF(U117="nulová",N117,0) -> 0 | BJ117: 1 | BK117: =ROUND(L117*K117,2) -> 10000 | BL117: 4 | BM117: 194609957
C118: 3 | D118: K | E118: 012303000 | F118: Geodetické práce po výstavbě | J118: Kč | K118: 1 | L118: 15000 | N118: =ROUND(L118*K118,2) -> 15000 | U118: základní | V118: 0 | W118: =V118*K118 -> 0 | X118: 0 | Y118: =X118*K118 -> 0 | Z118: 0 | AA118: =Z118*K118 -> 0 | AR118: 4 | AT118: K | AU118: 2 | AY118: ROZPOCET | BE118: =IF(U118="základní",N118,0) -> 15000 | BF118: =IF(U118="snížená",N118,0) -> 0 | BG118: =IF(U118="zákl. přenesená",N118,0) -> 0 | BH118: =IF(U118="sníž. přenesená",N118,0) -> 0 | BI118: =IF(U118="nulová",N118,0) -> 0 | BJ118: 1 | BK118: =ROUND(L118*K118,2) -> 15000 | BL118: 4 | BM118: 1607567059
C119: 4 | D119: K | E119: 013254000 | F119: Dokumentace skutečného provedení stavby | J119: sbr | K119: 1 | L119: 20000 | N119: =ROUND(L119*K119,2) -> 20000 | U119: základní | V119: 0 | W119: =V119*K119 -> 0 | X119: 0 | Y119: =X119*K119 -> 0 | Z119: 0 | AA119: =Z119*K119 -> 0 | AR119: 4 | AT119: K | AU119: 2 | AY119: ROZPOCET | BE119: =IF(U119="základní",N119,0) -> 20000 | BF119: =IF(U119="snížená",N119,0) -> 0 | BG119: =IF(U119="zákl. přenesená",N119,0) -> 0 | BH119: =IF(U119="sníž. přenesená",N119,0) -> 0 | BI119: =IF(U119="nulová",N119,0) -> 0 | BJ119: 1 | BK119: =ROUND(L119*K119,2) -> 20000 | BL119: 4 | BM119: 1645665643
C120: 5 | D120: K | E120: 013254101 | F120: Monitoring průběhu výstavby | J120: sbr | K120: 1 | L120: 6000 | N120: =ROUND(L120*K120,2) -> 6000 | U120: základní | V120: 0 | W120: =V120*K120 -> 0 | X120: 0 | Y120: =X120*K120 -> 0 | Z120: 0 | AA120: =Z120*K120 -> 0 | AR120: 4 | AT120: K | AU120: 2 | AY120: ROZPOCET | BE120: =IF(U120="základní",N120,0) -> 6000 | BF120: =IF(U120="snížená",N120,0) -> 0 | BG120: =IF(U120="zákl. přenesená",N120,0) -> 0 | BH120: =IF(U120="sníž. přenesená",N120,0) -> 0 | BI120: =IF(U120="nulová",N120,0) -> 0 | BJ120: 1 | BK120: =ROUND(L120*K120,2) -> 6000 | BL120: 4 | BM120: 1593057294
C121: 6 | D121: K | E121: 013254201 | F121: Pasportizace stávajících objektů | J121: sbr | K121: 1 | L121: 5000 | N121: =ROUND(L121*K121,2) -> 5000 | U121: základní | V121: 0 | W121: =V121*K121 -> 0 | X121: 0 | Y121: =X121*K121 -> 0 | Z121: 0 | AA121: =Z121*K121 -> 0 | AR121: 4 | AT121: K | AU121: 2 | AY121: ROZPOCET | BE121: =IF(U121="základní",N121,0) -> 5000 | BF121: =IF(U121="snížená",N121,0) -> 0 | BG121: =IF(U121="zákl. přenesená",N121,0) -> 0 | BH121: =IF(U121="sníž. přenesená",N121,0) -> 0 | BI121: =IF(U121="nulová",N121,0) -> 0 | BJ121: 1 | BK121: =ROUND(L121*K121,2) -> 5000 | BL121: 4 | BM121: 676792211
D122: VRN3 - Zařízení staveniště | N122: =BK122 -> 41000 | W122: =SUM(W123:W129) -> 0 | Y122: =SUM(Y123:Y129) -> 0 | AA122: =SUM(AA123:AA129) -> 0 | AR122: 5 | AT122: D | AU122: 1 | AY122: ROZPOCET | BK122: =SUM(BK123:BK129) -> 41000
C123: 7 | D123: K | E123: 030001001 | F123: Náklady na zřízení zařízení staveniště v souladu s ZOV | J123: sbr | K123: 1 | L123: 10000 | N123: =ROUND(L123*K123,2) -> 10000 | U123: základní | V123: 0 | W123: =V123*K123 -> 0 | X123: 0 | Y123: =X123*K123 -> 0 | Z123: 0 | AA123: =Z123*K123 -> 0 | AR123: 4 | AT123: K | AU123: 2 | AY123: ROZPOCET | BE123: =IF(U123="základní",N123,0) -> 10000 | BF123: =IF(U123="snížená",N123,0) -> 0 | BG123: =IF(U123="zákl. přenesená",N123,0) -> 0 | BH123: =IF(U123="sníž. přenesená",N123,0) -> 0 | BI123: =IF(U123="nulová",N123,0) -> 0 | BJ123: 1 | BK123: =ROUND(L123*K123,2) -> 10000 | BL123: 4 | BM123: -628872132
C124: 8 | D124: K | E124: 030001002 | F124: Náklady na provoz a údržbu zařízení staveniště | J124: sbr | K124: 1 | L124: 5000 | N124: =ROUND(L124*K124,2) -> 5000 | U124: základní | V124: 0 | W124: =V124*K124 -> 0 | X124: 0 | Y124: =X124*K124 -> 0 | Z124: 0 | AA124: =Z124*K124 -> 0 | AR124: 4 | AT124: K | AU124: 2 | AY124: ROZPOCET | BE124: =IF(U124="základní",N124,0) -> 5000 | BF124: =IF(U124="snížená",N124,0) -> 0 | BG124: =IF(U124="zákl. přenesená",N124,0) -> 0 | BH124: =IF(U124="sníž. přenesená",N124,0) -> 0 | BI124: =IF(U124="nulová",N124,0) -> 0 | BJ124: 1 | BK124: =ROUND(L124*K124,2) -> 5000 | BL124: 4 | BM124: 607765782
C125: 9 | D125: K | E125: 034403000 | F125: Dopravní značení na staveništi | J125: sbr | K125: 1 | L125: 5000 | N125: =ROUND(L125*K125,2) -> 5000 | U125: základní | V125: 0 | W125: =V125*K125 -> 0 | X125: 0 | Y125: =X125*K125 -> 0 | Z125: 0 | AA125: =Z125*K125 -> 0 | AR125: 1024 | AT125: K | AU125: 2 | AY125: ROZPOCET | BE125: =IF(U125="základní",N125,0) -> 5000 | BF125: =IF(U125="snížená",N125,0) -> 0 | BG125: =IF(U125="zákl. přenesená",N125,0) -> 0 | BH125: =IF(U125="sníž. přenesená",N125,0) -> 0 | BI125: =IF(U125="nulová",N125,0) -> 0 | BJ125: 1 | BK125: =ROUND(L125*K125,2) -> 5000 | BL125: 1024 | BM125: -785159507
C126: 10 | D126: K | E126: 039002000 | F126: Zrušení zařízení staveniště | J126: Kč | K126: 1 | L126: 5000 | N126: =ROUND(L126*K126,2) -> 5000 | U126: základní | V126: 0 | W126: =V126*K126 -> 0 | X126: 0 | Y126: =X126*K126 -> 0 | Z126: 0 | AA126: =Z126*K126 -> 0 | AR126: 4 | AT126: K | AU126: 2 | AY126: ROZPOCET | BE126: =IF(U126="základní",N126,0) -> 5000 | BF126: =IF(U126="snížená",N126,0) -> 0 | BG126: =IF(U126="zákl. přenesená",N126,0) -> 0 | BH126: =IF(U126="sníž. přenesená",N126,0) -> 0 | BI126: =IF(U126="nulová",N126,0) -> 0 | BJ126: 1 | BK126: =ROUND(L126*K126,2) -> 5000 | BL126: 4 | BM126: 1416862051
C127: 11 | D127: K | E127: 041403002 | F127: Náklady na zajištění kolektivní bezpečnosti osob | J127: sbr | K127: 1 | L127: 7500 | N127: =ROUND(L127*K127,2) -> 7500 | U127: základní | V127: 0 | W127: =V127*K127 -> 0 | X127: 0 | Y127: =X127*K127 -> 0 | Z127: 0 | AA127: =Z127*K127 -> 0 | AR127: 4 | AT127: K | AU127: 2 | AY127: ROZPOCET | BE127: =IF(U127="základní",N127,0) -> 7500 | BF127: =IF(U127="snížená",N127,0) -> 0 | BG127: =IF(U127="zákl. přenesená",N127,0) -> 0 | BH127: =IF(U127="sníž. přenesená",N127,0) -> 0 | BI127: =IF(U127="nulová",N127,0) -> 0 | BJ127: 1 | BK127: =ROUND(L127*K127,2) -> 7500 | BL127: 4 | BM127: 803040494
C128: 12 | D128: K | E128: 090001001 | F128: Náklady na vyhotovení dokumentace k předání stavby | J128: sbr | K128: 1 | L128: 3500 | N128: =ROUND(L128*K128,2) -> 3500 | U128: základní | V128: 0 | W128: =V128*K128 -> 0 | X128: 0 | Y128: =X128*K128 -> 0 | Z128: 0 | AA128: =Z128*K128 -> 0 | AR128: 4 | AT128: K | AU128: 2 | AY128: ROZPOCET | BE128: =IF(U128="základní",N128,0) -> 3500 | BF128: =IF(U128="snížená",N128,0) -> 0 | BG128: =IF(U128="zákl. přenesená",N128,0) -> 0 | BH128: =IF(U128="sníž. přenesená",N128,0) -> 0 | BI128: =IF(U128="nulová",N128,0) -> 0 | BJ128: 1 | BK128: =ROUND(L128*K128,2) -> 3500 | BL128: 4 | BM128: -1881756388
C129: 13 | D129: K | E129: 090001002 | F129: Ostatní náklady vyplývající ze znění SOD | J129: sbr | K129: 1 | L129: 5000 | N129: =ROUND(L129*K129,2) -> 5000 | U129: základní | V129: 0 | W129: =V129*K129 -> 0 | X129: 0 | Y129: =X129*K129 -> 0 | Z129: 0 | AA129: =Z129*K129 -> 0 | AR129: 4 | AT129: K | AU129: 2 | AY129: ROZPOCET | BE129: =IF(U129="základní",N129,0) -> 5000 | BF129: =IF(U129="snížená",N129,0) -> 0 | BG129: =IF(U129="zákl. přenesená",N129,0) -> 0 | BH129: =IF(U129="sníž. přenesená",N129,0) -> 0 | BI129: =IF(U129="nulová",N129,0) -> 0 | BJ129: 1 | BK129: =ROUND(L129*K129,2) -> 5000 | BL129: 4 | BM129: -1101762618
D130: VRN7 - Provozní vlivy | N130: =BK130 -> 8000 | W130: =W131 -> 0 | Y130: =Y131 -> 0 | AA130: =AA131 -> 0 | AR130: 5 | AT130: D | AU130: 1 | AY130: ROZPOCET | BK130: =BK131 -> 8000
C131: 14 | D131: K | E131: 079002000 | F131: Ostatní provozní vlivy | J131: sbr | K131: 1 | L131: 8000 | N131: =ROUND(L131*K131,2) -> 8000 | U131: základní | V131: 0 | W131: =V131*K131 -> 0 | X131: 0 | Y131: =X131*K131 -> 0 | Z131: 0 | AA131: =Z131*K131 -> 0 | AR131: 4 | AT131: K | AU131: 2 | AY131: ROZPOCET | BE131: =IF(U131="základní",N131,0) -> 8000 | BF131: =IF(U131="snížená",N131,0) -> 0 | BG131: =IF(U131="zákl. přenesená",N131,0) -> 0 | BH131: =IF(U131="sníž. přenesená",N131,0) -> 0 | BI131: =IF(U131="nulová",N131,0) -> 0 | BJ131: 1 | BK131: =ROUND(L131*K131,2) -> 8000 | BL131: 4 | BM131: 1834276488
