Workbook

Sheet Celkový přehled
A4: Prodávající | B4: Azenet s.r.o.
A5: Se sídlem | B5: Plánská 403/5, 301 00 Plzeň
A6: IČO | B6: 2562014
B12: Celková cena bez DPH | C12: =SUM(H17:H49) -> 1356510
B13: Celková cena s DPH | C13: =SUM(J17:J49) -> 1641377.1
A15: Katalog DNS | C15: Prodávající | G15: Množství a ceny
A16: Číslo | B16: Název | C16: Výrobce | D16: Model | E16: Číslo modelu (Part Number) | F16: Cena za jednotku bez DPH [Kč] | G16: Množství [ks] | H16: Cena za množství bez DPH [Kč] | I16: Sazba DPH [%] | J16: Cena za množství s DPH [Kč]
A17: 2020-1-NB01-1 | B17: Notebook 12" | C17: HP | D17: HP EliteBook 830 G7 | E17: konfigurace | F17: 25555 | G17: ='Příloha č. 1 KS VSZ Praha'!F16 -> 5 | H17: =ROUND(F17*G17,2) -> 127775 | I17: 21 | J17: =ROUND(H17*(1+I17/100),2) -> 154607.75
A18: 2020-1-NB01-1-D | B18: Dokovací stanice NTB01 | C18: HP | D18: HP USB-C Dock G5 | E18: 5TW10AA | F18: 2233 | G18: ='Příloha č. 1 KS VSZ Praha'!F17 -> 0 | H18: =ROUND(F18*G18,2) -> 0 | I18: 21 | J18: =ROUND(H18*(1+I18/100),2) -> 0
A19: 2020-1-NB01-1NPU | B19: Notebook 12" | C19: HP | D19: HP EliteBook 830 G7 | E19: konfigurace | F19: 27557 | G19: ='Příloha č. 1 KS VSZ Praha'!F18 -> 0 | H19: =ROUND(F19*G19,2) -> 0 | I19: 21 | J19: =ROUND(H19*(1+I19/100),2) -> 0
A20: 2020-1-NB01-1-T | B20: Taška NTB01 | C20: HP | D20: HP 15.6 Value Black Topload | E20: T9B50AA | F20: 162 | G20: ='Příloha č. 1 KS VSZ Praha'!F19 -> 5 | H20: =ROUND(F20*G20,2) -> 810 | I20: 21 | J20: =ROUND(H20*(1+I20/100),2) -> 980.1
A21: 2020-1-NB02-1 | B21: Notebook 14" | C21: HP | D21: HP EliteBook 840 G7 | E21: konfigurace | F21: 26629 | G21: ='Příloha č. 1 KS VSZ Praha'!F20 -> 45 | H21: =ROUND(F21*G21,2) -> 1198305 | I21: 21 | J21: =ROUND(H21*(1+I21/100),2) -> 1449949.1
A22: 2020-1-NB02-1-D | B22: Dokovací stanice NTB02 | C22: HP | D22: HP USB-C Dock G5 | E22: 5TW10AA | F22: 2233 | G22: ='Příloha č. 1 KS VSZ Praha'!F21 -> 10 | H22: =ROUND(F22*G22,2) -> 22330 | I22: 21 | J22: =ROUND(H22*(1+I22/100),2) -> 27019.3
A23: 2020-1-NB02-1MZ | B23: Notebook 14" Mez. Záruka | C23: HP | D23: HP EliteBook 840 G7 | E23: konfigurace | F23: 26629 | G23: ='Příloha č. 1 KS VSZ Praha'!F22 -> 0 | H23: =ROUND(F23*G23,2) -> 0 | I23: 21 | J23: =ROUND(H23*(1+I23/100),2) -> 0
A24: 2020-1-NB02-1NPU | B24: Notebook 14" | G24: ='Příloha č. 1 KS VSZ Praha'!F23 -> 0 | H24: =ROUND(F24*G24,2) -> 0 | I24: 21 | J24: =ROUND(H24*(1+I24/100),2) -> 0
A25: 2020-1-NB02-1-T | B25: Taška NTB02 | C25: HP | D25: HP 15.6 Value Black Topload | E25: T9B50AA | F25: 162 | G25: ='Příloha č. 1 KS VSZ Praha'!F24 -> 45 | H25: =ROUND(F25*G25,2) -> 7290 | I25: 21 | J25: =ROUND(H25*(1+I25/100),2) -> 8820.9
A26: 2020-1-NB03-1 | B26: Notebook 15,6" | C26: HP | D26: HP EliteBook 850 G7 | E26: konfigurace | F26: 26629 | G26: ='Příloha č. 1 KS VSZ Praha'!F25 -> 0 | H26: =ROUND(F26*G26,2) -> 0 | I26: 21 | J26: =ROUND(H26*(1+I26/100),2) -> 0
A27: 2020-1-NB03-1-D | B27: Dokovací stanice NTB03 | C27: HP | D27: HP USB-C Dock G5 | E27: 5TW10AA | F27: 2233 | G27: ='Příloha č. 1 KS VSZ Praha'!F26 -> 0 | H27: =ROUND(F27*G27,2) -> 0 | I27: 21 | J27: =ROUND(H27*(1+I27/100),2) -> 0
A28: 2020-1-NB03-1NPU | B28: Notebook 15,6" | C28: HP | D28: HP EliteBook 850 G7 | E28: konfigurace | F28: 28512 | G28: ='Příloha č. 1 KS VSZ Praha'!F27 -> 0 | H28: =ROUND(F28*G28,2) -> 0 | I28: 21 | J28: =ROUND(H28*(1+I28/100),2) -> 0
A29: 2020-1-NB03-1-T | B29: Taška NTB03 | C29: HP | D29: HP 15.6 Value Black Topload | E29: T9B50AA | F29: 162 | G29: ='Příloha č. 1 KS VSZ Praha'!F28 -> 0 | H29: =ROUND(F29*G29,2) -> 0 | I29: 21 | J29: =ROUND(H29*(1+I29/100),2) -> 0
A30: 2020-1-NB04-1 | B30: Notebook 14" | C30: Lenovo | D30: Lenovo TP L14 | E30: 20U50001CK | F30: 25194 | G30: ='Příloha č. 1 KS VSZ Praha'!F29 -> 0 | H30: =ROUND(F30*G30,2) -> 0 | I30: 21 | J30: =ROUND(H30*(1+I30/100),2) -> 0
A31: 2020-1-NB04-1 - D | B31: Dokovací stanice pro 2020-1-NB04-1 | G31: ='Příloha č. 1 KS VSZ Praha'!F30 -> 0 | H31: =ROUND(F31*G31,2) -> 0 | I31: 21 | J31: =ROUND(H31*(1+I31/100),2) -> 0
A32: 2020-1-NB04-1 - T | B32: Taška NTB04 | C32: Lenovo | D32: ThinkPad 14 inch Professional Slim Topload | E32: 4X40W19826 | F32: 1000 | G32: ='Příloha č. 1 KS VSZ Praha'!F31 -> 0 | H32: =ROUND(F32*G32,2) -> 0 | I32: 21 | J32: =ROUND(H32*(1+I32/100),2) -> 0
A33: 2020-1-NB05-1 | B33: Notebook 15,6" | C33: Lenovo | D33: Lenovo TP L15 | E33: 20U70004CK | F33: 25194 | G33: ='Příloha č. 1 KS VSZ Praha'!F32 -> 0 | H33: =ROUND(F33*G33,2) -> 0 | I33: 21 | J33: =ROUND(H33*(1+I33/100),2) -> 0
A34: 2020-1-NB05-1 - D | B34: Dokovací stanice pro 2020-1-NB05-1 | C34: Lenovo | D34: ThinkPad Pro Docking Station (135W) | E34: 40AH0135EU | F34: 6394 | G34: ='Příloha č. 1 KS VSZ Praha'!F33 -> 0 | H34: =ROUND(F34*G34,2) -> 0 | I34: 21 | J34: =ROUND(H34*(1+I34/100),2) -> 0
A35: 2020-1-NB05-1-T | B35: Taška NTB05 | C35: Lenovo | D35: Lenovo ThinkPad Essential Topload Case | E35: 4X40E77328 | F35: 630 | G35: ='Příloha č. 1 KS VSZ Praha'!F34 -> 0 | H35: =ROUND(F35*G35,2) -> 0 | I35: 21 | J35: =ROUND(H35*(1+I35/100),2) -> 0
A36: 2020-1-NB06-1 | B36: Notebook 14" | G36: ='Příloha č. 1 KS VSZ Praha'!F35 -> 0 | H36: =ROUND(F36*G36,2) -> 0 | I36: 21 | J36: =ROUND(H36*(1+I36/100),2) -> 0
A37: 2020-1-NB06-1 - D | B37: Dokovací stanice pro 2020-1-NB06-1 | G37: ='Příloha č. 1 KS VSZ Praha'!F36 -> 0 | H37: =ROUND(F37*G37,2) -> 0 | I37: 21 | J37: =ROUND(H37*(1+I37/100),2) -> 0
A38: 2020-1-NB06-1-T | B38: Taška NTB06 | G38: ='Příloha č. 1 KS VSZ Praha'!F37 -> 0 | H38: =ROUND(F38*G38,2) -> 0 | I38: 21 | J38: =ROUND(H38*(1+I38/100),2) -> 0
A39: 2020-1-NB07-1 | B39: Notebook 15,6" | G39: ='Příloha č. 1 KS VSZ Praha'!F38 -> 0 | H39: =ROUND(F39*G39,2) -> 0 | I39: 21 | J39: =ROUND(H39*(1+I39/100),2) -> 0
A40: 2020-1-NB07-1 - D | B40: Dokovací stanice pro 2020-1-NB07-1 | G40: ='Příloha č. 1 KS VSZ Praha'!F39 -> 0 | H40: =ROUND(F40*G40,2) -> 0 | I40: 21 | J40: =ROUND(H40*(1+I40/100),2) -> 0
A41: 2020-1-NB07-1-T | B41: Taška NTB07 | G41: ='Příloha č. 1 KS VSZ Praha'!F40 -> 0 | H41: =ROUND(F41*G41,2) -> 0 | I41: 21 | J41: =ROUND(H41*(1+I41/100),2) -> 0
A42: 2020-1-NB08-1 | B42: Notebook 14" | C42: Lenovo | D42: Lenovo TP L14 | E42: 20U50006CK | F42: 22460 | G42: ='Příloha č. 1 KS VSZ Praha'!F41 -> 0 | H42: =ROUND(F42*G42,2) -> 0 | I42: 21 | J42: =ROUND(H42*(1+I42/100),2) -> 0
A43: 2020-1-NB08-1-T | B43: Taška NTB08 | G43: ='Příloha č. 1 KS VSZ Praha'!F42 -> 0 | H43: =ROUND(F43*G43,2) -> 0 | I43: 21 | J43: =ROUND(H43*(1+I43/100),2) -> 0
A44: 2020-1-NB09-1 | B44: Notebook 15,6" | C44: Lenovo | D44: Lenovo TP L15 | E44: 20U70003CK | F44: 18636 | G44: ='Příloha č. 1 KS VSZ Praha'!F43 -> 0 | H44: =ROUND(F44*G44,2) -> 0 | I44: 21 | J44: =ROUND(H44*(1+I44/100),2) -> 0
A45: 2020-1-NB09-1-T | B45: Taška NTB09 | G45: ='Příloha č. 1 KS VSZ Praha'!F44 -> 0 | H45: =ROUND(F45*G45,2) -> 0 | I45: 21 | J45: =ROUND(H45*(1+I45/100),2) -> 0
A46: 2020-1-NB10-1 | B46: Notebook 14" | G46: ='Příloha č. 1 KS VSZ Praha'!F45 -> 0 | H46: =ROUND(F46*G46,2) -> 0 | I46: 21 | J46: =ROUND(H46*(1+I46/100),2) -> 0
A47: 2020-1-NB10-1-T | B47: Taška NTB10 | G47: ='Příloha č. 1 KS VSZ Praha'!F46 -> 0 | H47: =ROUND(F47*G47,2) -> 0 | I47: 21 | J47: =ROUND(H47*(1+I47/100),2) -> 0
A48: 2020-1-NB11-1 | B48: Notebook 15,6" | G48: ='Příloha č. 1 KS VSZ Praha'!F47 -> 0 | H48: =ROUND(F48*G48,2) -> 0 | I48: 21 | J48: =ROUND(H48*(1+I48/100),2) -> 0
A49: 2020-1-NB011-1-T | B49: Taška NTB11 | G49: ='Příloha č. 1 KS VSZ Praha'!F48 -> 0 | H49: =ROUND(F49*G49,2) -> 0 | I49: 21 | J49: =ROUND(H49*(1+I49/100),2) -> 0

Sheet Příloha č. 1 KS VSZ Praha
A3: Fakturační adresa | B3: Česká Republika - Vrchní státní zastupitelství v Praze, Nám. Hrdinů 1300, 140 65, Praha 4
A5: Adresa pro dodání | B5: Česká Republika - Vrchní státní zastupitelství v Praze, Nám. Hrdinů 1300, 140 65, Praha 4
A6: Termín dodání | B6: do 30 dnů od podpisu smlouvy
A7: Kontaktní osoba | B7: David Novotný, DiS.
A8: e-mail | B8: dnovotny@vsz.pha.justice.cz
A9: Telefon | B9: 737247099
A11: Celková cena bez DPH | B11: =SUM(H16:H48) -> 1356510
A12: Celková cena s DPH | B12: =SUM(J16:J48) -> 1641377.1
A14: Katalog DNS | C14: Prodávající | F14: Množství a ceny
A15: Číslo | B15: Název | C15: Výrobce | D15: Model | E15: Číslo modelu (Part Number) | F15: Množství [ks] | G15: Cena za jednotku bez DPH [Kč] | H15: Cena za množství bez DPH [Kč] | I15: Sazba DPH [%] | J15: Cena za množství s DPH [Kč]
A16: ='Celkový přehled'!A17 -> 2020-1-NB01-1 | B16: ='Celkový přehled'!B17 -> Notebook 12" | C16: ='Celkový přehled'!C17 -> HP | D16: ='Celkový přehled'!D17 -> HP EliteBook 830 G7 | E16: ='Celkový přehled'!E17 -> konfigurace | F16: 5 | G16: ='Celkový přehled'!F17 -> 25555 | H16: =ROUND(F16*G16,2) -> 127775 | I16: 21 | J16: =ROUND(H16*(1+I16/100),2) -> 154607.75
A17: ='Celkový přehled'!A18 -> 2020-1-NB01-1-D | B17: ='Celkový přehled'!B18 -> Dokovací stanice NTB01 | C17: ='Celkový přehled'!C18 -> HP | D17: ='Celkový přehled'!D18 -> HP USB-C Dock G5 | E17: ='Celkový přehled'!E18 -> 5TW10AA | F17: 0 | G17: ='Celkový přehled'!F18 -> 2233 | H17: =ROUND(F17*G17,2) -> 0 | I17: 21 | J17: =ROUND(H17*(1+I17/100),2) -> 0
A18: ='Celkový přehled'!A19 -> 2020-1-NB01-1NPU | B18: ='Celkový přehled'!B19 -> Notebook 12" | C18: ='Celkový přehled'!C19 -> HP | D18: ='Celkový přehled'!D19 -> HP EliteBook 830 G7 | E18: ='Celkový přehled'!E19 -> konfigurace | F18: 0 | G18: ='Celkový přehled'!F19 -> 27557 | H18: =ROUND(F18*G18,2) -> 0 | I18: 21 | J18: =ROUND(H18*(1+I18/100),2) -> 0
A19: ='Celkový přehled'!A20 -> 2020-1-NB01-1-T | B19: ='Celkový přehled'!B20 -> Taška NTB01 | C19: ='Celkový přehled'!C20 -> HP | D19: ='Celkový přehled'!D20 -> HP 15.6 Value Black Topload | E19: ='Celkový přehled'!E20 -> T9B50AA | F19: 5 | G19: ='Celkový přehled'!F20 -> 162 | H19: =ROUND(F19*G19,2) -> 810 | I19: 21 | J19: =ROUND(H19*(1+I19/100),2) -> 980.1
A20: ='Celkový přehled'!A21 -> 2020-1-NB02-1 | B20: ='Celkový přehled'!B21 -> Notebook 14" | C20: ='Celkový přehled'!C21 -> HP | D20: ='Celkový přehled'!D21 -> HP EliteBook 840 G7 | E20: ='Celkový přehled'!E21 -> konfigurace | F20: 45 | G20: ='Celkový přehled'!F21 -> 26629 | H20: =ROUND(F20*G20,2) -> 1198305 | I20: 21 | J20: =ROUND(H20*(1+I20/100),2) -> 1449949.1
A21: ='Celkový přehled'!A22 -> 2020-1-NB02-1-D | B21: ='Celkový přehled'!B22 -> Dokovací stanice NTB02 | C21: ='Celkový přehled'!C22 -> HP | D21: ='Celkový přehled'!D22 -> HP USB-C Dock G5 | E21: ='Celkový přehled'!E22 -> 5TW10AA | F21: 10 | G21: ='Celkový přehled'!F22 -> 2233 | H21: =ROUND(F21*G21,2) -> 22330 | I21: 21 | J21: =ROUND(H21*(1+I21/100),2) -> 27019.3
A22: ='Celkový přehled'!A23 -> 2020-1-NB02-1MZ | B22: ='Celkový přehled'!B23 -> Notebook 14" Mez. Záruka | C22: ='Celkový přehled'!C23 -> HP | D22: ='Celkový přehled'!D23 -> HP EliteBook 840 G7 | E22: ='Celkový přehled'!E23 -> konfigurace | F22: 0 | G22: ='Celkový přehled'!F23 -> 26629 | H22: =ROUND(F22*G22,2) -> 0 | I22: 21 | J22: =ROUND(H22*(1+I22/100),2) -> 0
A23: ='Celkový přehled'!A24 -> 2020-1-NB02-1NPU | B23: ='Celkový přehled'!B24 -> Notebook 14" | C23: ='Celkový přehled'!C24 -> 0 | D23: ='Celkový přehled'!D24 -> 0 | E23: ='Celkový přehled'!E24 -> 0 | F23: 0 | G23: ='Celkový přehled'!F24 -> 0 | H23: =ROUND(F23*G23,2) -> 0 | I23: 21 | J23: =ROUND(H23*(1+I23/100),2) -> 0
A24: ='Celkový přehled'!A25 -> 2020-1-NB02-1-T | B24: ='Celkový přehled'!B25 -> Taška NTB02 | C24: ='Celkový přehled'!C25 -> HP | D24: ='Celkový přehled'!D25 -> HP 15.6 Value Black Topload | E24: ='Celkový přehled'!E25 -> T9B50AA | F24: 45 | G24: ='Celkový přehled'!F25 -> 162 | H24: =ROUND(F24*G24,2) -> 7290 | I24: 21 | J24: =ROUND(H24*(1+I24/100),2) -> 8820.9
A25: ='Celkový přehled'!A26 -> 2020-1-NB03-1 | B25: ='Celkový přehled'!B26 -> Notebook 15,6" | C25: ='Celkový přehled'!C26 -> HP | D25: ='Celkový přehled'!D26 -> HP EliteBook 850 G7 | E25: ='Celkový přehled'!E26 -> konfigurace | F25: 0 | G25: ='Celkový přehled'!F26 -> 26629 | H25: =ROUND(F25*G25,2) -> 0 | I25: 21 | J25: =ROUND(H25*(1+I25/100),2) -> 0
A26: ='Celkový přehled'!A27 -> 2020-1-NB03-1-D | B26: ='Celkový přehled'!B27 -> Dokovací stanice NTB03 | C26: ='Celkový přehled'!C27 -> HP | D26: ='Celkový přehled'!D27 -> HP USB-C Dock G5 | E26: ='Celkový přehled'!E27 -> 5TW10AA | F26: 0 | G26: ='Celkový přehled'!F27 -> 2233 | H26: =ROUND(F26*G26,2) -> 0 | I26: 21 | J26: =ROUND(H26*(1+I26/100),2) -> 0
A27: ='Celkový přehled'!A28 -> 2020-1-NB03-1NPU | B27: ='Celkový přehled'!B28 -> Notebook 15,6" | C27: ='Celkový přehled'!C28 -> HP | D27: ='Celkový přehled'!D28 -> HP EliteBook 850 G7 | E27: ='Celkový přehled'!E28 -> konfigurace | F27: 0 | G27: ='Celkový přehled'!F28 -> 28512 | H27: =ROUND(F27*G27,2) -> 0 | I27: 21 | J27: =ROUND(H27*(1+I27/100),2) -> 0
... A48: ='Celkový přehled'!A49 -> 2020-1-NB011-1-T | B48: ='Celkový přehled'!B49 -> Taška NTB11 | C48: ='Celkový přehled'!C49 -> 0 | D48: ='Celkový přehled'!D49 -> 0 | E48: ='Celkový přehled'!E49 -> 0 | F48: 0 | G48: ='Celkový přehled'!F49 -> 0 | H48: =ROUND(F48*G48,2) -> 0 | I48: 21 | J48: =ROUND(H48*(1+I48/100),2) -> 0
