Workbook

Sheet Rekapitulace stavby
A1: Export Komplet | BA1: 2.0 | BT1: False | BU1: False | BV1: {4843de3c-4c21-48bf-a1c6-c6ea16bed8f7}
AR2: >> skryté sloupce << | BS2: 0,01 | BT2: 21
BS3: 0,01 | BT3: 15
D4: REKAPITULACE STAVBY | AS4: v --- níže se nacházejí doplnkové a pomocné údaje k sestavám --- v | BS4: 0,001
D5: Kód: | K5: 09 | BS5: 0,01
D6: Stavba: | K6: Náměstí Míru ZL 32 | BS6: 0,01
D7: KSO: | AK7: CC-CZ: | BS7: 0,01
D8: Místo: | AK8: Datum: | AN8: 43599 | BS8: 0,01
BS9: 0,01
D10: Zadavatel: | AK10: IČ: | BS10: 0,01
AK11: DIČ: | BS11: 0,01
BS12: 0,01
D13: Zhotovitel: | AK13: IČ: | BS13: 0,01
AK14: DIČ: | BS14: 0,01
BS15: False
D16: Projektant: | AK16: IČ: | BS16: False
AK17: DIČ: | BS17: True
BS18: 0,01
D19: Zpracovatel: | AK19: IČ: | BS19: 0,01
AK20: DIČ: | BS20: True
D22: Poznámka:
D26: Cena bez DPH | AK26: =ROUND(AG94,2) -> 248007.68
L28: Sazba daně | W28: Základ daně | AK28: Výše daně
D29: DPH | F29: základní | L29: 0.21 | W29: =ROUND(AZ94, 2) -> 248007.68 | AK29: =ROUND(AV94, 2) -> 52081.61
F30: snížená | L30: 0.15 | W30: =ROUND(BA94, 2) -> 0 | AK30: =ROUND(AW94, 2) -> 0
F31: zákl. přenesená | L31: 0.21 | W31: =ROUND(BB94, 2) -> 0 | AK31: 0
F32: sníž. přenesená | L32: 0.15 | W32: =ROUND(BC94, 2) -> 0 | AK32: 0
F33: nulová | L33: 0 | W33: =ROUND(BD94, 2) -> 0 | AK33: 0
D35: Cena s DPH | T35: v | X35: CZK | AK35: =SUM(AK26:AK33) -> 300089.29
D49: Projektant | AH49: Zpracovatel
D60: Datum a podpis: | V60: Razítko | AH60: Datum a podpis: | AM60: Razítko
D64: Objednavatel | AH64: Zhotovitel
D75: Datum a podpis: | V75: Razítko | AH75: Datum a podpis: | AM75: Razítko
C82: REKAPITULACE OBJEKTŮ STAVBY A SOUPISŮ PRACÍ
C84: Kód: | L84: =K5 -> 09
C85: Stavba: | L85: =K6 -> Náměstí Míru ZL 32
C87: Místo: | L87: =IF(K8="","",K8) | AI87: Datum: | AM87: =IF(AN8= "","",AN8) -> 43599
C89: Zadavatel: | L89: =IF(E11= "","",E11) | AI89: Projektant: | AM89: =IF(E17="","",E17) | AS89: Informatívní údaje z listů zakázek
C90: Zhotovitel: | L90: =IF(E14="","",E14) | AI90: Zpracovatel: | AM90: =IF(E20="","",E20)
C92: Kód | I92: Popis | AG92: Cena bez DPH [CZK] | AN92: Cena s DPH [CZK] | AQ92: Typ | AS92: z toho Ostat._x000D_ náklady [CZK] | AT92: DPH [CZK] | AU92: Normohodiny [h] | AV92: DPH základní [CZK] | AW92: DPH snížená [CZK] | AX92: DPH základní přenesená_x000D_ [CZK] | AY92: DPH snížená přenesená_x000D_ [CZK] | AZ92: Základna_x000D_ DPH základní | BA92: Základna_x000D_ DPH snížená | BB92: Základna_x000D_ DPH zákl. přenesená | BC92: Základna_x000D_ DPH sníž. přenesená | BD92: Základna_x000D_ DPH nulová
C94: Náklady z rozpočtů | AG94: =ROUND(AG95,2) -> 248007.68 | AN94: =SUM(AG94,AT94) -> 300089.29 | AS94: =ROUND(AS95,2) -> 0 | AT94: =ROUND(SUM(AV94:AW94),2) -> 52081.61 | AU94: =ROUND(AU95,5) -> 292.65978 | AV94: =ROUND(AZ94*L29,2) -> 52081.61 | AW94: =ROUND(BA94*L30,2) -> 0 | AX94: =ROUND(BB94*L29,2) -> 0 | AY94: =ROUND(BC94*L30,2) -> 0 | AZ94: =ROUND(AZ95,2) -> 248007.68 | BA94: =ROUND(BA95,2) -> 0 | BB94: =ROUND(BB95,2) -> 0 | BC94: =ROUND(BC95,2) -> 0 | BD94: =ROUND(BD95,2) -> 0 | BS94: D | BT94: 0 | BU94: ###NOIMPORT### | BV94: IMPORT | BW94: {4843de3c-4c21-48bf-a1c6-c6ea16bed8f7} | BX94: {00000000-0000-0000-0000-000000000000}
A95: / | D95: ZL 312a | J95: Podchycování - překlady, strop | AG95: ='ZL 32 - Podchycování - ...'!J30 -> 248007.68 | AN95: =SUM(AG95,AT95) -> 300089.29 | AQ95: STA | AS95: 0 | AT95: =ROUND(SUM(AV95:AW95),2) -> 52081.61 | AU95: ='ZL 32 - Podchycování - ...'!P128 -> 292.65978 | AV95: ='ZL 32 - Podchycování - ...'!J33 -> 52081.61 | AW95: ='ZL 32 - Podchycování - ...'!J34 -> 0 | AX95: ='ZL 32 - Podchycování - ...'!J35 -> 0 | AY95: ='ZL 32 - Podchycování - ...'!J36 -> 0 | AZ95: ='ZL 32 - Podchycování - ...'!F33 -> 248007.68 | BA95: ='ZL 32 - Podchycování - ...'!F34 -> 0 | BB95: ='ZL 32 - Podchycování - ...'!F35 -> 0 | BC95: ='ZL 32 - Podchycování - ...'!F36 -> 0 | BD95: ='ZL 32 - Podchycování - ...'!F37 -> 0 | BT95: 1 | BV95: IMPORT | BW95: {643afd80-f9fc-4ccf-b061-a4aabbb4c509} | BX95: {4843de3c-4c21-48bf-a1c6-c6ea16bed8f7} | CM95: 2

Sheet ZL 32 - Podchycování - ...
L2: >> skryté sloupce << | AT2: {643afd80-f9fc-4ccf-b061-a4aabbb4c509}
AT3: 2
D4: KRYCÍ LIST SOUPISU PRACÍ | M4: v --- níže se nacházejí doplnkové a pomocné údaje k sestavám --- v | AT4: False
D6: Stavba:
E7: ='Rekapitulace stavby'!K6 -> Náměstí Míru ZL 32
D8: Objekt:
E9: ZL 32 - Podchycování - překlady, strop
D11: KSO: | I11: CC-CZ:
D12: Místo: | I12: Datum: | J12: 43599
D14: Zadavatel: | I14: IČ: | J14: =IF('Rekapitulace stavby'!AN10="","",'Rekapitulace stavby'!AN10)
E15: =IF('Rekapitulace stavby'!E11="","",'Rekapitulace stavby'!E11) | I15: DIČ: | J15: =IF('Rekapitulace stavby'!AN11="","",'Rekapitulace stavby'!AN11)
D17: Zhotovitel: | I17: IČ: | J17: ='Rekapitulace stavby'!AN13
E18: ='Rekapitulace stavby'!E14 | I18: DIČ: | J18: ='Rekapitulace stavby'!AN14
D20: Projektant: | I20: IČ: | J20: =IF('Rekapitulace stavby'!AN16="","",'Rekapitulace stavby'!AN16)
E21: =IF('Rekapitulace stavby'!E17="","",'Rekapitulace stavby'!E17) | I21: DIČ: | J21: =IF('Rekapitulace stavby'!AN17="","",'Rekapitulace stavby'!AN17)
D23: Zpracovatel: | I23: IČ: | J23: =IF('Rekapitulace stavby'!AN19="","",'Rekapitulace stavby'!AN19)
E24: =IF('Rekapitulace stavby'!E20="","",'Rekapitulace stavby'!E20) | I24: DIČ: | J24: =IF('Rekapitulace stavby'!AN20="","",'Rekapitulace stavby'!AN20)
D26: Poznámka:
D30: Cena bez DPH | J30: =ROUND(J128, 2) -> 248007.68
F32: Základ daně | I32: Sazba daně | J32: Výše daně
D33: DPH | E33: základní | F33: =ROUND((SUM(BE128:BE224)), 2) -> 248007.68 | I33: 0.21 | J33: =ROUND(((SUM(BE128:BE224))*I33), 2) -> 52081.61
E34: snížená | F34: =ROUND((SUM(BF128:BF224)), 2) -> 0 | I34: 0.15 | J34: =ROUND(((SUM(BF128:BF224))*I34), 2) -> 0
E35: zákl. přenesená | F35: =ROUND((SUM(BG128:BG224)), 2) -> 0 | I35: 0.21 | J35: =0 -> 0
E36: sníž. přenesená | F36: =ROUND((SUM(BH128:BH224)), 2) -> 0 | I36: 0.15 | J36: =0 -> 0
E37: nulová | F37: =ROUND((SUM(BI128:BI224)), 2) -> 0 | I37: 0 | J37: =0 -> 0
D39: Cena s DPH | G39: v | H39: CZK | J39: =SUM(J30:J37) -> 300089.29
D50: Projektant | G50: Zpracovatel
D61: Datum a podpis: | F61: Razítko | G61: Datum a podpis: | J61: Razítko
D65: Objednavatel | G65: Zhotovitel
D76: Datum a podpis: | F76: Razítko | G76: Datum a podpis: | J76: Razítko
C82: REKAPITULACE ČLENĚNÍ SOUPISU PRACÍ
C84: Stavba:
E85: =E7 -> Náměstí Míru ZL 32
C86: Objekt:
E87: =E9 -> ZL 32 - Podchycování - překlady, strop
C89: Místo: | F89: =F12 | I89: Datum: | J89: =IF(J12="","",J12) -> 43599
C91: Zadavatel: | F91: =E15 | I91: Projektant: | J91: =E21
C92: Zhotovitel: | F92: =IF(E18="","",E18) | I92: Zpracovatel: | J92: =E24
C94: Kód dílu - Popis | J94: Cena celkem [CZK]
C96: Náklady ze soupisu prací | J96: =J128 -> 248007.68 | AU96: -1
D97: HSV - Práce a dodávky HSV | J97: =J129 -> 114502.25
D98: 3 - Svislé a kompletní konstrukce | J98: =J130 -> 80546.19
D99: 6 - Úpravy povrchů, podlahy a osazování výplní | J99: =J139 -> 11487
D100: 9 - Ostatní konstrukce a práce, bourání | J100: =J145 -> 19667.06
D101: 998 - Přesun hmot | J101: =J169 -> 2802
D102: PSV - Práce a dodávky PSV | J102: =J171 -> 132780.37
D103: 767 - Konstrukce zámečnické | J103: =J172 -> 55840.26
D104: 4 - Vodorovné konstrukce | J104: =J193 -> 12083.61
D105: 63 - Podlahy a podlahové konstrukce | J105: =J199 -> 10541.38
D106: 997 - Přesun sutě | J106: =J205 -> 36537.95
D107: 763 - Konstrukce suché výstavby | J107: =J210 -> 17777.17
D108: 94 - Lešení a stavební výtahy | J108: =J223 -> 725.06
C115: SOUPIS PRACÍ
C117: Stavba:
E118: =E7 -> Náměstí Míru ZL 32
C119: Objekt:
E120: =E9 -> ZL 32 - Podchycování - překlady, strop
C122: Místo: | F122: =F12 | I122: Datum: | J122: =IF(J12="","",J12) -> 43599
C124: Zadavatel: | F124: =E15 | I124: Projektant: | J124: =E21
C125: Zhotovitel: | F125: =IF(E18="","",E18) | I125: Zpracovatel: | J125: =E24
C127: PČ | D127: Typ | E127: Kód | F127: Popis | G127: MJ | H127: Množství | I127: J.cena [CZK] | J127: Cena celkem [CZK] | K127: Cenová soustava | N127: DPH | O127: J. Nh [h] | P127: Nh celkem [h] | Q127: J. hmotnost [t] | R127: Hmotnost celkem [t] | S127: J. suť [t] | T127: Suť Celkem [t]
C128: Náklady soupisu celkem | J128: =BK128 -> 248007.68 | P128: =P129+P171+P223 -> 292.65978 | R128: =R129+R171+R223 -> 4.4189583 | T128: =T129+T171+T223 -> 17.91 | AT128: D | AU128: -1 | BK128: =BK129+BK171+BK223 -> 248007.68
D129: D | E129: HSV | F129: Práce a dodávky HSV | J129: =BK129 -> 114502.25 | P129: =P130+P139+P145+P169 -> 156.21756 | R129: =R130+R139+R145+R169 -> 3.7883185 | T129: =T130+T139+T145+T169 -> 17.91 | AR129: 1 | AT129: D | AU129: 0 | AY129: ROZPOCET | BK129: =BK130+BK139+BK145+BK169 -> 114502.25
D130: D | E130: 3 | F130: Svislé a kompletní konstrukce | J130: =BK130 -> 80546.19 | P130: =SUM(P131:P138) -> 70.42914 | R130: =SUM(R131:R138) -> 2.9085585 | T130: =SUM(T131:T138) -> 0 | AR130: 1 | AT130: D | AU130: 1 | AY130: ROZPOCET | BK130: =SUM(BK131:BK138) -> 80546.19
C131: 1 | D131: K | E131: 317941123R00 | F131: Osazení ocelových válcovaných nosníků č.14-22 | G131: T | H131: 0.376 | I131: 6016.08 | J131: =ROUND(I131*H131,2) -> 2262.05 | L131: SOD | N131: základní | O131: 0 | P131: =O131*H131 -> 0 | Q131: 0 | R131: =Q131*H131 -> 0 | S131: 0 | T131: =S131*H131 -> 0 | AR131: 4 | AT131: K | AU131: 2 | AY131: ROZPOCET | BE131: =IF(N131="základní",J131,0) -> 2262.05 | BF131: =IF(N131="snížená",J131,0) -> 0 | BG131: =IF(N131="zákl. přenesená",J131,0) -> 0 | BH131: =IF(N131="sníž. přenesená",J131,0) -> 0 | BI131: =IF(N131="nulová",J131,0) -> 0 | BJ131: 1 | BK131: =ROUND(I131*H131,2) -> 2262.05 | BL131: 4 | BM131: -1724632050
D132: VV | F132: 4*18,8*5/1000 | H132: 0.376 | AT132: VV | AU132: 2 | AV132: 2 | AW132: True | AX132: 1 | AY132: ROZPOCET
C133: 2 | D133: M | E133: 130107200 | F133: ocel profilová IPN, v jakosti 11 375, h=180 mm | G133: T | H133: 0.376 | I133: 26584.58 | J133: =ROUND(I133*H133,2) -> 9995.8 | L133: SOD | N133: základní | O133: 0 | P133: =O133*H133 -> 0 | Q133: 0 | R133: =Q133*H133 -> 0 | S133: 0 | T133: =S133*H133 -> 0 | AR133: 8 | AT133: M | AU133: 2 | AY133: ROZPOCET | BE133: =IF(N133="základní",J133,0) -> 9995.8 | BF133: =IF(N133="snížená",J133,0) -> 0 | BG133: =IF(N133="zákl. přenesená",J133,0) -> 0 | BH133: =IF(N133="sníž. přenesená",J133,0) -> 0 | BI133: =IF(N133="nulová",J133,0) -> 0 | BJ133: 1 | BK133: =ROUND(I133*H133,2) -> 9995.8 | BL133: 4 | BM133: -1543837440
C134: 3 | D134: K | E134: 317944323 | F134: Válcované nosníky dodatečně osazované do připravených otvorů bez zazdění hlav č. 14 až 22 | G134: t | H134: 1.718 | I134: 37812.05 | J134: =ROUND(I134*H134,2) -> 64961.1 | K134: CS ÚRS 2019 01 | L134: SOD | N134: základní | O134: 36.9 | P134: =O134*H134 -> 63.3942 | Q134: 1.09 | R134: =Q134*H134 -> 1.87262 | S134: 0 | T134: =S134*H134 -> 0 | AR134: 4 | AT134: K | AU134: 2 | AY134: ROZPOCET | BE134: =IF(N134="základní",J134,0) -> 64961.1 | BF134: =IF(N134="snížená",J134,0) -> 0 | BG134: =IF(N134="zákl. přenesená",J134,0) -> 0 | BH134: =IF(N134="sníž. přenesená",J134,0) -> 0 | BI134: =IF(N134="nulová",J134,0) -> 0 | BJ134: 1 | BK134: =ROUND(I134*H134,2) -> 64961.1 | BL134: 4 | BM134: 834127472
C135: 4 | D135: K | E135: 346244381R00 | F135: Plentování ocelových nosníků výšky do 20 cm | G135: m2 | H135: 5.814 | I135: 572.28 | J135: =ROUND(I135*H135,2) -> 3327.24 | L135: SOD | N135: základní | O135: 1.21 | P135: =O135*H135 -> 7.03494 | Q135: 0.17818 | R135: =Q135*H135 -> 1.0359385 | S135: 0 | T135: =S135*H135 -> 0 | AR135: 4 | AT135: K | AU135: 2 | AY135: ROZPOCET | BE135: =IF(N135="základní",J135,0) -> 3327.24 | BF135: =IF(N135="snížená",J135,0) -> 0 | BG135: =IF(N135="zákl. přenesená",J135,0) -> 0 | BH135: =IF(N135="sníž. přenesená",J135,0) -> 0 | BI135: =IF(N135="nulová",J135,0) -> 0 | BJ135: 1 | BK135: =ROUND(I135*H135,2) -> 3327.24 | BL135: 4 | BM135: -1506831018
D136: VV | F136: 1,7*0,160*18 | H136: 4.896 | AT136: VV | AU136: 2 | AV136: 2 | AW136: True | AX136: 0 | AY136: ROZPOCET
D137: VV | F137: 1,7*0,18*3 | H137: 0.918 | AT137: VV | AU137: 2 | AV137: 2 | AW137: True | AX137: 0 | AY137: ROZPOCET
D138: VV | F138: Součet | H138: 5.814 | AT138: VV | AU138: 2 | AV138: 4 | AW138: True | AX138: 1 | AY138: ROZPOCET
D139: D | E139: 6 | F139: Úpravy povrchů, podlahy a osazování výplní | J139: =BK139 -> 11487 | P139: =SUM(P140:P144) -> 18.648 | R139: =SUM(R140:R144) -> 0.8526 | T139: =SUM(T140:T144) -> 0 | AR139: 1 | AT139: D | AU139: 1 | AY139: ROZPOCET | BK139: =SUM(BK140:BK144) -> 11487
C140: 5 | D140: K | E140: 611315223 | F140: Vápenná štuková omítka malých ploch do 1,0 m2 na stropech | G140: kus | H140: 21 | I140: 547 | J140: =ROUND(I140*H140,2) -> 11487 | K140: CS ÚRS 2019 01 | L140: Nová URS položka | N140: základní | O140: 0.888 | P140: =O140*H140 -> 18.648 | Q140: 0.0406 | R140: =Q140*H140 -> 0.8526 | S140: 0 | T140: =S140*H140 -> 0 | AR140: 4 | AT140: K | AU140: 2 | AY140: ROZPOCET | BE140: =IF(N140="základní",J140,0) -> 11487 | BF140: =IF(N140="snížená",J140,0) -> 0 | BG140: =IF(N140="zákl. přenesená",J140,0) -> 0 | BH140: =IF(N140="sníž. přenesená",J140,0) -> 0 | BI140: =IF(N140="nulová",J140,0) -> 0 | BJ140: 1 | BK140: =ROUND(I140*H140,2) -> 11487 | BL140: 4 | BM140: 1453416328
D141: VV | F141: montáž 1,26h/m x 150,- 189,- | AT141: VV | AU141: 2 | AV141: 1 | AW141: True | AX141: 0 | AY141: ROZPOCET
D142: VV | F142: dodávka materiál 260,- | AT142: VV | AU142: 2 | AV142: 1 | AW142: True | AX142: 0 | AY142: ROZPOCET
D143: VV | F143: Ostatní marže, VR 98,- | AT143: VV | AU143: 2 | AV143: 1 | AW143: True | AX143: 0 | AY143: ROZPOCET
D144: VV | F144: 21 | H144: 21 | AT144: VV | AU144: 2 | AV144: 2 | AW144: True | AX144: 1 | AY144: ROZPOCET
D145: D | E145: 9 | F145: Ostatní konstrukce a práce, bourání | J145: =BK145 -> 19667.06 | P145: =SUM(P146:P168) -> 56.0885 | R145: =SUM(R146:R168) -> 0.02716 | T145: =SUM(T146:T168) -> 17.91 | AR145: 1 | AT145: D | AU145: 1 | AY145: ROZPOCET | BK145: =SUM(BK146:BK168) -> 19667.06
C146: 6 | D146: K | E146: 964035111 | F146: Bourání cihelných klenbových pásů jakéhokoliv průřezu | G146: m3 | H146: 4 | I146: 1020 | J146: =ROUND(I146*H146,2) -> 4080 | K146: CS ÚRS 2019 01 | L146: Nová URS položka | N146: základní | O146: 3.118 | P146: =O146*H146 -> 12.472 | Q146: 0 | R146: =Q146*H146 -> 0 | S146: 1.8 | T146: =S146*H146 -> 7.2 | AR146: 4 | AT146: K | AU146: 2 | AY146: ROZPOCET | BE146: =IF(N146="základní",J146,0) -> 4080 | BF146: =IF(N146="snížená",J146,0) -> 0 | BG146: =IF(N146="zákl. přenesená",J146,0) -> 0 | BH146: =IF(N146="sníž. přenesená",J146,0) -> 0 | BI146: =IF(N146="nulová",J146,0) -> 0 | BJ146: 1 | BK146: =ROUND(I146*H146,2) -> 4080 | BL146: 4 | BM146: -185881803
D147: VV | F147: 4 | H147: 4 | AT147: VV | AU147: 2 | AV147: 2 | AW147: True | AX147: 1 | AY147: ROZPOCET
D148: VV | F148: montáž 5,5h/m3 x 150,- 825,- | AT148: VV | AU148: 2 | AV148: 1 | AW148: True | AX148: 0 | AY148: ROZPOCET
D149: VV | F149: dodávka materiál 25,- | AT149: VV | AU149: 2 | AV149: 1 | AW149: True | AX149: 0 | AY149: ROZPOCET
D150: VV | F150: Ostatní marže, VR 170,- | AT150: VV | AU150: 2 | AV150: 1 | AW150: True | AX150: 0 | AY150: ROZPOCET
C151: 7 | D151: K | E151: 965082923 | F151: Odstranění násypů pod podlahami tl do 100 mm pl přes 2 m2 | G151: m3 | H151: 7.53 | I151: 439.45 | J151: =ROUND(I151*H151,2) -> 3309.06 | K151: CS ÚRS 2019 01 | L151: SOD | N151: základní | O151: 1.65 | P151: =O151*H151 -> 12.4245 | Q151: 0 | R151: =Q151*H151 -> 0 | S151: 1.4 | T151: =S151*H151 -> 10.542 | AR151: 4 | AT151: K | AU151: 2 | AY151: ROZPOCET | BE151: =IF(N151="základní",J151,0) -> 3309.06 | BF151: =IF(N151="snížená",J151,0) -> 0 | BG151: =IF(N151="zákl. přenesená",J151,0) -> 0 | BH151: =IF(N151="sníž. přenesená",J151,0) -> 0 | BI151: =IF(N151="nulová",J151,0) -> 0 | BJ151: 1 | BK151: =ROUND(I151*H151,2) -> 3309.06 | BL151: 4 | BM151: -2025025808
C152: 8 | D152: K | E152: 973031514 | F152: Vysekání kapes ve zdivu cihelném na MV nebo MVC pro upevňovací prvky hl přes 150 mm | G152: kus | H152: 42 | I152: 133 | J152: =ROUND(I152*H152,2) -> 5586 | K152: CS ÚRS 2019 01 | L152: Nová URS položka | N152: základní | O152: 0.448 | P152: =O152*H152 -> 18.816 | Q152: 0 | R152: =Q152*H152 -> 0 | S152: 0.004 | T152: =S152*H152 -> 0.168 | AR152: 4 | AT152: K | AU152: 2 | AY152: ROZPOCET | BE152: =IF(N152="základní",J152,0) -> 5586 | BF152: =IF(N152="snížená",J152,0) -> 0 | BG152: =IF(N152="zákl. přenesená",J152,0) -> 0 | BH152: =IF(N152="sníž. přenesená",J152,0) -> 0 | BI152: =IF(N152="nulová",J152,0) -> 0 | BJ152: 1 | BK152: =ROUND(I152*H152,2) -> 5586 | BL152: 4 | BM152: -153543027
D153: VV | F153: Okna 2NP (směr náměstí) | AT153: VV | AU153: 2 | AV153: 1 | AW153: True | AX153: 0 | AY153: ROZPOCET
D154: VV | F154: Dveře 2NP (mezi 201 a 202) | AT154: VV | AU154: 2 | AV154: 1 | AW154: True | AX154: 0 | AY154: ROZPOCET
D155: VV | F155: Okna 2NP 201 | AT155: VV | AU155: 2 | AV155: 1 | AW155: True | AX155: 0 | AY155: ROZPOCET
D156: VV | F156: Okno 1NP (104) | AT156: VV | AU156: 2 | AV156: 1 | AW156: True | AX156: 0 | AY156: ROZPOCET
D157: VV | F157: Okna 1NP (směr náměstí) | AT157: VV | AU157: 2 | AV157: 1 | AW157: True | AX157: 0 | AY157: ROZPOCET
D158: VV | F158: Dveře 1NP (směr náměstí) | AT158: VV | AU158: 2 | AV158: 1 | AW158: True | AX158: 0 | AY158: ROZPOCET
D159: VV | F159: Dveře 2NP (m.č 203, 205) | AT159: VV | AU159: 2 | AV159: 1 | AW159: True | AX159: 0 | AY159: ROZPOCET
D160: VV | F160: 42 | H160: 42 | AT160: VV | AU160: 2 | AV160: 2 | AW160: True | AX160: 1 | AY160: ROZPOCET
D161: VV | F161: montáž 0,8h/m3 x 150,- 120,- | AT161: VV | AU161: 2 | AV161: 1 | AW161: True | AX161: 0 | AY161: ROZPOCET
D162: VV | F162: dodávka materiál 0,- | AT162: VV | AU162: 2 | AV162: 1 | AW162: True | AX162: 0 | AY162: ROZPOCET
D163: VV | F163: Ostatní marže, VR 13,- | AT163: VV | AU163: 2 | AV163: 1 | AW163: True | AX163: 0 | AY163: ROZPOCET
C164: 9 | D164: K | E164: 985564214 | F164: Kotvičky pro výztuž stříkaného betonu hl do 200 mm z oceli D 16 mm do chemické malty | G164: kus | H164: 28 | I164: 239 | J164: =ROUND(I164*H164,2) -> 6692 | K164: CS ÚRS 2019 01 | L164: Nová URS položka | N164: základní | O164: 0.442 | P164: =O164*H164 -> 12.376 | Q164: 0.00097 | R164: =Q164*H164 -> 0.02716 | S164: 0 | T164: =S164*H164 -> 0 | AR164: 4 | AT164: K | AU164: 2 | AY164: ROZPOCET | BE164: =IF(N164="základní",J164,0) -> 6692 | BF164: =IF(N164="snížená",J164,0) -> 0 | BG164: =IF(N164="zákl. přenesená",J164,0) -> 0 | BH164: =IF(N164="sníž. přenesená",J164,0) -> 0 | BI164: =IF(N164="nulová",J164,0) -> 0 | BJ164: 1 | BK164: =ROUND(I164*H164,2) -> 6692 | BL164: 4 | BM164: -647418875
D165: VV | F165: 14*2 | H165: 28 | AT165: VV | AU165: 2 | AV165: 2 | AW165: True | AX165: 1 | AY165: ROZPOCET
D166: VV | F166: montáž 0,8h/m3 x 150,- 120,- | AT166: VV | AU166: 2 | AV166: 1 | AW166: True | AX166: 0 | AY166: ROZPOCET
...
