Workbook

Sheet Rekapitulace stavby
A1: Export Komplet | AZ1: VZ | BA1: 2.0 | BB1: ZAMOK | BT1: False | BU1: False | BV1: {e03e6968-9111-449e-9f3d-c5c71a54fdc7}
BS2: 0,01 | BT2: 21
BS3: 0,01 | BT3: 12
D4: REKAPITULACE STAVBY | AS4: v --- níže se nacházejí doplnkové a pomocné údaje k sestavám --- v | BE4: Návod na vyplnění | BS4: 0,001
D5: Kód: | K5: 137-1 | BE5: Měnit lze pouze buňky se žlutým podbarvením!_x000D_ _x000D_ 1) v Rekapitulaci stavby vyplňte údaje o Účastníkovi (přenesou se do ostatních sestav i v jiných listech)_x000D_ _x000D_ 2) na vybraných listech vyplňte v sestavě Soupis prací ceny u položek | BS5: 0,01
D6: Stavba: | K6: Rekonstrukce hygienických prostor ISŠT, Benešov, Černoleská 1997 | BS6: 0,01
D7: KSO: | K7: 801 3 | AK7: CC-CZ: | AN7: 1263 | BS7: 0,01
D8: Místo: | K8: Benešov, Černoleská 1997 | AK8: Datum: | AN8: 45880 | BS8: 0,01
D9: CZ-CPV: | K9: 45214000-0 | BS9: 0,01
D10: Zadavatel: | AK10: IČ: | AN10: 18620442 | BS10: 0,01
E11: Integrovaná střední škola technická | AK11: DIČ: | BS11: 0,01
BS12: 0,01
D13: Účastník: | AK13: IČ: | AN13: 24832898 | BS13: 0,01
E14: OTISTAV s.r.o. | AK14: DIČ: | AN14: CZ24832898 | BS14: 0,01
BS15: False
D16: Projektant: | AK16: IČ: | AN16: 05270235 | BS16: False
E17: Ing. arch. Ondřej Lovíšek | AK17: DIČ: | BS17: True
BS18: 0,01
D19: Zpracovatel: | AK19: IČ: | BS19: 0,01
AK20: DIČ: | BS20: False
D22: Poznámka:
E23: Soupis prací je sestaven s využitím Cenové soustavy ÚRS. Položky, které pochází z této cenové soustavy, jsou ve sloupci 'Cenová soustava' označeny popisem 'CS ÚRS' a úrovní příslušného kalendářního pololetí. Veškeré další informace vymezující popis a podmínky použití těchto položek z Cenové soustavy, které nejsou uvedeny přímo v soupisu prací, jsou neomezeně dálkově k dispozici na webu podminky.urs.cz.
D26: Cena bez DPH | AK26: =ROUND(AG54,2) -> 1388888
L28: Sazba daně | W28: Základ daně | AK28: Výše daně
D29: DPH | F29: základní | L29: 0.21 | W29: =ROUND(AZ54, 2) -> 1388888 | AK29: =ROUND(AV54, 2) -> 291666.48
F30: snížená | L30: 0.12 | W30: =ROUND(BA54, 2) -> 0 | AK30: =ROUND(AW54, 2) -> 0
F31: zákl. přenesená | L31: 0.21 | W31: =ROUND(BB54, 2) -> 0 | AK31: 0
F32: sníž. přenesená | L32: 0.12 | W32: =ROUND(BC54, 2) -> 0 | AK32: 0
F33: nulová | L33: 0 | W33: =ROUND(BD54, 2) -> 0 | AK33: 0
D35: Cena s DPH | T35: v | X35: CZK | AK35: =SUM(AK26:AK33) -> 1680554.5
C42: REKAPITULACE OBJEKTŮ STAVBY A SOUPISŮ PRACÍ
C44: Kód: | L44: =K5 -> 137-1
C45: Stavba: | L45: =K6 -> Rekonstrukce hygienických prostor ISŠT, Benešov, Černoleská 1997
C47: Místo: | L47: =IF(K8="","",K8) -> Benešov, Černoleská 1997 | AI47: Datum: | AM47: =IF(AN8= "","",AN8) -> 45880
C49: Zadavatel: | L49: =IF(E11= "","",E11) -> Integrovaná střední škola technická | AI49: Projektant: | AM49: =IF(E17="","",E17) -> Ing. arch. Ondřej Lovíšek | AS49: Informatívní údaje z listů zakázek
C50: Účastník: | L50: =IF(E14= "Vyplň údaj","",E14) -> OTISTAV s.r.o. | AI50: Zpracovatel: | AM50: =IF(E20="","",E20)
C52: Kód | I52: Popis | AG52: Cena bez DPH [CZK] | AN52: Cena s DPH [CZK] | AQ52: Typ | AS52: z toho Ostat._x000D_ náklady [CZK] | AT52: DPH [CZK] | AU52: Normohodiny [h] | AV52: DPH základní [CZK] | AW52: DPH snížená [CZK] | AX52: DPH základní přenesená_x000D_ [CZK] | AY52: DPH snížená přenesená_x000D_ [CZK] | AZ52: Základna_x000D_ DPH základní | BA52: Základna_x000D_ DPH snížená | BB52: Základna_x000D_ DPH zákl. přenesená | BC52: Základna_x000D_ DPH sníž. přenesená | BD52: Základna_x000D_ DPH nulová
C54: Náklady stavby celkem | AG54: =ROUND(SUM(AG55:AG63),2) -> 1388888 | AN54: =SUM(AG54,AT54) -> 1680554.5 | AS54: =ROUND(SUM(AS55:AS63),2) -> 0 | AT54: =ROUND(SUM(AV54:AW54),2) -> 291666.48 | AU54: =ROUND(SUM(AU55:AU63),5) -> 0 | AV54: =ROUND(AZ54*L29,2) -> 291666.48 | AW54: =ROUND(BA54*L30,2) -> 0 | AX54: =ROUND(BB54*L29,2) -> 0 | AY54: =ROUND(BC54*L30,2) -> 0 | AZ54: =ROUND(SUM(AZ55:AZ63),2) -> 1388888 | BA54: =ROUND(SUM(BA55:BA63),2) -> 0 | BB54: =ROUND(SUM(BB55:BB63),2) -> 0 | BC54: =ROUND(SUM(BC55:BC63),2) -> 0 | BD54: =ROUND(SUM(BD55:BD63),2) -> 0 | BS54: D | BT54: 0 | BU54: ###NOIMPORT### | BV54: IMPORT | BW54: {e03e6968-9111-449e-9f3d-c5c71a54fdc7} | BX54: {00000000-0000-0000-0000-000000000000} | CL54: 801 3
A55: / | D55: 01 | J55: 5.NP - č. 528 - Koupelna typ B | AG55: ='01 - 5.NP - č. 528 - Koup...'!J30 -> 188318.82 | AN55: =SUM(AG55,AT55) -> 227865.77 | AQ55: STA | AS55: 0 | AT55: =ROUND(SUM(AV55:AW55),2) -> 39546.95 | AU55: ='01 - 5.NP - č. 528 - Koup...'!P99 -> 0 | AV55: ='01 - 5.NP - č. 528 - Koup...'!J33 -> 39546.95 | AW55: ='01 - 5.NP - č. 528 - Koup...'!J34 -> 0 | AX55: ='01 - 5.NP - č. 528 - Koup...'!J35 -> 0 | AY55: ='01 - 5.NP - č. 528 - Koup...'!J36 -> 0 | AZ55: ='01 - 5.NP - č. 528 - Koup...'!F33 -> 188318.82 | BA55: ='01 - 5.NP - č. 528 - Koup...'!F34 -> 0 | BB55: ='01 - 5.NP - č. 528 - Koup...'!F35 -> 0 | BC55: ='01 - 5.NP - č. 528 - Koup...'!F36 -> 0 | BD55: ='01 - 5.NP - č. 528 - Koup...'!F37 -> 0 | BT55: 1 | BV55: IMPORT | BW55: {30dab0b1-f4c6-41aa-b6a1-3ac70dec7483} | BX55: {e03e6968-9111-449e-9f3d-c5c71a54fdc7} | CM55: 2
A56: / | D56: 02 | J56: 5.NP - č. 529 - Koupelna typ B | AG56: ='02 - 5.NP - č. 529 - Koup...'!J30 -> 188318.82 | AN56: =SUM(AG56,AT56) -> 227865.77 | AQ56: STA | AS56: 0 | AT56: =ROUND(SUM(AV56:AW56),2) -> 39546.95 | AU56: ='02 - 5.NP - č. 529 - Koup...'!P99 -> 0 | AV56: ='02 - 5.NP - č. 529 - Koup...'!J33 -> 39546.95 | AW56: ='02 - 5.NP - č. 529 - Koup...'!J34 -> 0 | AX56: ='02 - 5.NP - č. 529 - Koup...'!J35 -> 0 | AY56: ='02 - 5.NP - č. 529 - Koup...'!J36 -> 0 | AZ56: ='02 - 5.NP - č. 529 - Koup...'!F33 -> 188318.82 | BA56: ='02 - 5.NP - č. 529 - Koup...'!F34 -> 0 | BB56: ='02 - 5.NP - č. 529 - Koup...'!F35 -> 0 | BC56: ='02 - 5.NP - č. 529 - Koup...'!F36 -> 0 | BD56: ='02 - 5.NP - č. 529 - Koup...'!F37 -> 0 | BT56: 1 | BV56: IMPORT | BW56: {a462ead7-898b-414a-8348-9338b7a6aeef} | BX56: {e03e6968-9111-449e-9f3d-c5c71a54fdc7} | CM56: 2
A57: / | D57: 03 | J57: 5.NP - č. 521a - Koupelna typ A1 | AG57: ='03 - 5.NP - č. 521a - Kou...'!J30 -> 155241.1 | AN57: =SUM(AG57,AT57) -> 187841.73 | AQ57: STA | AS57: 0 | AT57: =ROUND(SUM(AV57:AW57),2) -> 32600.63 | AU57: ='03 - 5.NP - č. 521a - Kou...'!P98 -> 0 | AV57: ='03 - 5.NP - č. 521a - Kou...'!J33 -> 32600.63 | AW57: ='03 - 5.NP - č. 521a - Kou...'!J34 -> 0 | AX57: ='03 - 5.NP - č. 521a - Kou...'!J35 -> 0 | AY57: ='03 - 5.NP - č. 521a - Kou...'!J36 -> 0 | AZ57: ='03 - 5.NP - č. 521a - Kou...'!F33 -> 155241.1 | BA57: ='03 - 5.NP - č. 521a - Kou...'!F34 -> 0 | BB57: ='03 - 5.NP - č. 521a - Kou...'!F35 -> 0 | BC57: ='03 - 5.NP - č. 521a - Kou...'!F36 -> 0 | BD57: ='03 - 5.NP - č. 521a - Kou...'!F37 -> 0 | BT57: 1 | BV57: IMPORT | BW57: {96fd7ae7-5d4c-499e-b7e5-1e0ffcac4397} | BX57: {e03e6968-9111-449e-9f3d-c5c71a54fdc7} | CM57: 2
A58: / | D58: 04 | J58: 5.NP - č. 514a - Koupelna typ A2 | AG58: ='04 - 5.NP - č. 514a - Kou...'!J30 -> 155502.3 | AN58: =SUM(AG58,AT58) -> 188157.78 | AQ58: STA | AS58: 0 | AT58: =ROUND(SUM(AV58:AW58),2) -> 32655.48 | AU58: ='04 - 5.NP - č. 514a - Kou...'!P98 -> 0 | AV58: ='04 - 5.NP - č. 514a - Kou...'!J33 -> 32655.48 | AW58: ='04 - 5.NP - č. 514a - Kou...'!J34 -> 0 | AX58: ='04 - 5.NP - č. 514a - Kou...'!J35 -> 0 | AY58: ='04 - 5.NP - č. 514a - Kou...'!J36 -> 0 | AZ58: ='04 - 5.NP - č. 514a - Kou...'!F33 -> 155502.3 | BA58: ='04 - 5.NP - č. 514a - Kou...'!F34 -> 0 | BB58: ='04 - 5.NP - č. 514a - Kou...'!F35 -> 0 | BC58: ='04 - 5.NP - č. 514a - Kou...'!F36 -> 0 | BD58: ='04 - 5.NP - č. 514a - Kou...'!F37 -> 0 | BT58: 1 | BV58: IMPORT | BW58: {99071232-b184-47cb-97e0-dfd305bef81b} | BX58: {e03e6968-9111-449e-9f3d-c5c71a54fdc7} | CM58: 2
A59: / | D59: 05 | J59: 6.NP - č. 628 - Koupelna typ B | AG59: ='05 - 6.NP - č. 628 - Koup...'!J30 -> 188318.82 | AN59: =SUM(AG59,AT59) -> 227865.77 | AQ59: STA | AS59: 0 | AT59: =ROUND(SUM(AV59:AW59),2) -> 39546.95 | AU59: ='05 - 6.NP - č. 628 - Koup...'!P99 -> 0 | AV59: ='05 - 6.NP - č. 628 - Koup...'!J33 -> 39546.95 | AW59: ='05 - 6.NP - č. 628 - Koup...'!J34 -> 0 | AX59: ='05 - 6.NP - č. 628 - Koup...'!J35 -> 0 | AY59: ='05 - 6.NP - č. 628 - Koup...'!J36 -> 0 | AZ59: ='05 - 6.NP - č. 628 - Koup...'!F33 -> 188318.82 | BA59: ='05 - 6.NP - č. 628 - Koup...'!F34 -> 0 | BB59: ='05 - 6.NP - č. 628 - Koup...'!F35 -> 0 | BC59: ='05 - 6.NP - č. 628 - Koup...'!F36 -> 0 | BD59: ='05 - 6.NP - č. 628 - Koup...'!F37 -> 0 | BT59: 1 | BV59: IMPORT | BW59: {dbd4fc0f-fecb-484a-97f6-83eaf7055950} | BX59: {e03e6968-9111-449e-9f3d-c5c71a54fdc7} | CM59: 2
A60: / | D60: 06 | J60: 6.NP - č. 629 - Koupelna typ B | AG60: ='06 - 6.NP - č. 629 - Koup...'!J30 -> 188318.82 | AN60: =SUM(AG60,AT60) -> 227865.77 | AQ60: STA | AS60: 0 | AT60: =ROUND(SUM(AV60:AW60),2) -> 39546.95 | AU60: ='06 - 6.NP - č. 629 - Koup...'!P99 -> 0 | AV60: ='06 - 6.NP - č. 629 - Koup...'!J33 -> 39546.95 | AW60: ='06 - 6.NP - č. 629 - Koup...'!J34 -> 0 | AX60: ='06 - 6.NP - č. 629 - Koup...'!J35 -> 0 | AY60: ='06 - 6.NP - č. 629 - Koup...'!J36 -> 0 | AZ60: ='06 - 6.NP - č. 629 - Koup...'!F33 -> 188318.82 | BA60: ='06 - 6.NP - č. 629 - Koup...'!F34 -> 0 | BB60: ='06 - 6.NP - č. 629 - Koup...'!F35 -> 0 | BC60: ='06 - 6.NP - č. 629 - Koup...'!F36 -> 0 | BD60: ='06 - 6.NP - č. 629 - Koup...'!F37 -> 0 | BT60: 1 | BV60: IMPORT | BW60: {8c8092fd-35d6-4c98-8501-18b16538dec8} | BX60: {e03e6968-9111-449e-9f3d-c5c71a54fdc7} | CM60: 2
A61: / | D61: 07 | J61: 6.NP - č. 621a - Koupelna typ A1 | AG61: ='07 - 6.NP - č. 621a - Kou...'!J30 -> 155241.1 | AN61: =SUM(AG61,AT61) -> 187841.73 | AQ61: STA | AS61: 0 | AT61: =ROUND(SUM(AV61:AW61),2) -> 32600.63 | AU61: ='07 - 6.NP - č. 621a - Kou...'!P98 -> 0 | AV61: ='07 - 6.NP - č. 621a - Kou...'!J33 -> 32600.63 | AW61: ='07 - 6.NP - č. 621a - Kou...'!J34 -> 0 | AX61: ='07 - 6.NP - č. 621a - Kou...'!J35 -> 0 | AY61: ='07 - 6.NP - č. 621a - Kou...'!J36 -> 0 | AZ61: ='07 - 6.NP - č. 621a - Kou...'!F33 -> 155241.1 | BA61: ='07 - 6.NP - č. 621a - Kou...'!F34 -> 0 | BB61: ='07 - 6.NP - č. 621a - Kou...'!F35 -> 0 | BC61: ='07 - 6.NP - č. 621a - Kou...'!F36 -> 0 | BD61: ='07 - 6.NP - č. 621a - Kou...'!F37 -> 0 | BT61: 1 | BV61: IMPORT | BW61: {7e72d039-acc5-4cc8-99d2-231fd996fe30} | BX61: {e03e6968-9111-449e-9f3d-c5c71a54fdc7} | CM61: 2
A62: / | D62: 08 | J62: 6.NP - č. 614a - Koupelna typ A2 | AG62: ='08 - 6.NP - č. 614a - Kou...'!J30 -> 155502.3 | AN62: =SUM(AG62,AT62) -> 188157.78 | AQ62: STA | AS62: 0 | AT62: =ROUND(SUM(AV62:AW62),2) -> 32655.48 | AU62: ='08 - 6.NP - č. 614a - Kou...'!P98 -> 0 | AV62: ='08 - 6.NP - č. 614a - Kou...'!J33 -> 32655.48 | AW62: ='08 - 6.NP - č. 614a - Kou...'!J34 -> 0 | AX62: ='08 - 6.NP - č. 614a - Kou...'!J35 -> 0 | AY62: ='08 - 6.NP - č. 614a - Kou...'!J36 -> 0 | AZ62: ='08 - 6.NP - č. 614a - Kou...'!F33 -> 155502.3 | BA62: ='08 - 6.NP - č. 614a - Kou...'!F34 -> 0 | BB62: ='08 - 6.NP - č. 614a - Kou...'!F35 -> 0 | BC62: ='08 - 6.NP - č. 614a - Kou...'!F36 -> 0 | BD62: ='08 - 6.NP - č. 614a - Kou...'!F37 -> 0 | BT62: 1 | BV62: IMPORT | BW62: {1b9f5fea-0f32-43d9-b457-164c5e520301} | BX62: {e03e6968-9111-449e-9f3d-c5c71a54fdc7} | CM62: 2
A63: / | D63: VRN | J63: Vedlejší rozpočtové náklady | AG63: ='VRN - Vedlejší rozpočtové...'!J30 -> 14125.92 | AN63: =SUM(AG63,AT63) -> 17092.36 | AQ63: STA | AS63: 0 | AT63: =ROUND(SUM(AV63:AW63),2) -> 2966.44 | AU63: ='VRN - Vedlejší rozpočtové...'!P82 -> 0 | AV63: ='VRN - Vedlejší rozpočtové...'!J33 -> 2966.44 | AW63: ='VRN - Vedlejší rozpočtové...'!J34 -> 0 | AX63: ='VRN - Vedlejší rozpočtové...'!J35 -> 0 | AY63: ='VRN - Vedlejší rozpočtové...'!J36 -> 0 | AZ63: ='VRN - Vedlejší rozpočtové...'!F33 -> 14125.92 | BA63: ='VRN - Vedlejší rozpočtové...'!F34 -> 0 | BB63: ='VRN - Vedlejší rozpočtové...'!F35 -> 0 | BC63: ='VRN - Vedlejší rozpočtové...'!F36 -> 0 | BD63: ='VRN - Vedlejší rozpočtové...'!F37 -> 0 | BT63: 1 | BV63: IMPORT | BW63: {bc929385-14e1-4e65-b0e6-897c3f94e34e} | BX63: {e03e6968-9111-449e-9f3d-c5c71a54fdc7} | CM63: 2

Sheet 01 - 5.NP - č. 528 - Koup...
AT2: {30dab0b1-f4c6-41aa-b6a1-3ac70dec7483}
AT3: 2
D4: KRYCÍ LIST SOUPISU PRACÍ | M4: v --- níže se nacházejí doplnkové a pomocné údaje k sestavám --- v | AT4: False
D6: Stavba:
E7: ='Rekapitulace stavby'!K6 -> Rekonstrukce hygienických prostor ISŠT, Benešov, Černoleská 1997
D8: Objekt:
E9: 01 - 5.NP - č. 528 - Koupelna typ B
D11: KSO: | I11: CC-CZ:
D12: Místo: | F12: Benešov, Černoleská 1997 | I12: Datum: | J12: ='Rekapitulace stavby'!AN8 -> 45880
D14: Zadavatel: | I14: IČ: | J14: 18620442
E15: Integrovaná střední škola technická | I15: DIČ:
D17: Účastník: | I17: IČ: | J17: ='Rekapitulace stavby'!AN13 -> 24832898
E18: ='Rekapitulace stavby'!E14 -> OTISTAV s.r.o. | I18: DIČ: | J18: ='Rekapitulace stavby'!AN14 -> CZ24832898
D20: Projektant: | I20: IČ:
E21: Ing. arch. Ondřej Lovíšek | I21: DIČ:
D23: Zpracovatel: | I23: IČ: | J23: =IF('Rekapitulace stavby'!AN19="","",'Rekapitulace stavby'!AN19)
E24: =IF('Rekapitulace stavby'!E20="","",'Rekapitulace stavby'!E20) | I24: DIČ: | J24: =IF('Rekapitulace stavby'!AN20="","",'Rekapitulace stavby'!AN20)
D26: Poznámka:
D30: Cena bez DPH | J30: =ROUND(J99, 2) -> 188318.82
F32: Základ daně | I32: Sazba daně | J32: Výše daně
D33: DPH | E33: základní | F33: =ROUND((SUM(BE99:BE577)), 2) -> 188318.82 | I33: 0.21 | J33: =ROUND(((SUM(BE99:BE577))*I33), 2) -> 39546.95
E34: snížená | F34: =ROUND((SUM(BF99:BF577)), 2) -> 0 | I34: 0.12 | J34: =ROUND(((SUM(BF99:BF577))*I34), 2) -> 0
E35: zákl. přenesená | F35: =ROUND((SUM(BG99:BG577)), 2) -> 0 | I35: 0.21 | J35: =0 -> 0
E36: sníž. přenesená | F36: =ROUND((SUM(BH99:BH577)), 2) -> 0 | I36: 0.12 | J36: =0 -> 0
E37: nulová | F37: =ROUND((SUM(BI99:BI577)), 2) -> 0 | I37: 0 | J37: =0 -> 0
D39: Cena s DPH | G39: v | H39: CZK | J39: =SUM(J30:J37) -> 227865.77
C45: REKAPITULACE ČLENĚNÍ SOUPISU PRACÍ
C47: Stavba:
E48: =E7 -> Rekonstrukce hygienických prostor ISŠT, Benešov, Černoleská 1997
C49: Objekt:
E50: =E9 -> 01 - 5.NP - č. 528 - Koupelna typ B
C52: Místo: | F52: =F12 -> Benešov, Černoleská 1997 | I52: Datum: | J52: =IF(J12="","",J12) -> 45880
C54: Zadavatel: | F54: =E15 -> Integrovaná střední škola technická | I54: Projektant: | J54: =E21 -> Ing. arch. Ondřej Lovíšek
C55: Účastník: | F55: =IF(E18="","",E18) -> OTISTAV s.r.o. | I55: Zpracovatel: | J55: =E24
C57: Kód dílu - Popis | J57: Cena celkem [CZK]
C59: Náklady stavby celkem | J59: =J99 -> 188318.82 | AU59: -1
D60: HSV - Práce a dodávky HSV | J60: =J100 -> 64595.37
D61: 6 - Úpravy povrchů, podlahy a osazování výplní | J61: =J101 -> 38726.52
D62: 9 - Ostatní konstrukce a práce, bourání | J62: =J158 -> 15672.98
D63: 997 - Přesun sutě | J63: =J216 -> 6673.01
D64: 998 - Přesun hmot | J64: =J228 -> 3522.86
D65: PSV - Práce a dodávky PSV | J65: =J231 -> 120662.83
D66: 721 - Zdravotechnika - vnitřní kanalizace | J66: =J232 -> 6827.78
D67: 722 - Zdravotechnika - vnitřní vodovod | J67: =J257 -> 7628.46
D68: 725 - Zdravotechnika - zařizovací předměty | J68: =J273 -> 34615.7
D69: 741 - Elektroinstalace - silnoproud | J69: =J314 -> 6690.61
D70: 751 - Vzduchotechnika | J70: =J366 -> 1391.25
D71: 763 - Konstrukce suché výstavby | J71: =J383 -> 1486.28
D72: 766 - Konstrukce truhlářské | J72: =J390 -> 12137.23
D73: 767 - Konstrukce zámečnické | J73: =J437 -> 1144.53
D74: 771 - Podlahy z dlaždic | J74: =J451 -> 13658.14
D75: 781 - Dokončovací práce - obklady | J75: =J505 -> 31430.96
D76: 783 - Dokončovací práce - nátěry | J76: =J542 -> 1827.94
D77: 784 - Dokončovací práce - malby a tapety | J77: =J559 -> 1823.95
D78: VRN - Vedlejší rozpočtové náklady | J78: =J574 -> 3060.62
D79: VRN4 - Inženýrská činnost | J79: =J575 -> 3060.62
C86: SOUPIS PRACÍ
C88: Stavba:
E89: =E7 -> Rekonstrukce hygienických prostor ISŠT, Benešov, Černoleská 1997
C90: Objekt:
E91: =E9 -> 01 - 5.NP - č. 528 - Koupelna typ B
C93: Místo: | F93: =F12 -> Benešov, Černoleská 1997 | I93: Datum: | J93: =IF(J12="","",J12) -> 45880
C95: Zadavatel: | F95: =E15 -> Integrovaná střední škola technická | I95: Projektant: | J95: =E21 -> Ing. arch. Ondřej Lovíšek
C96: Účastník: | F96: =IF(E18="","",E18) -> OTISTAV s.r.o. | I96: Zpracovatel: | J96: =E24
C98: PČ | D98: Typ | E98: Kód | F98: Popis | G98: MJ | H98: Množství | I98: J.cena [CZK] | J98: Cena celkem [CZK] | K98: Cenová soustava | N98: DPH | O98: J. Nh [h] | P98: Nh celkem [h] | Q98: J. hmotnost [t] | R98: Hmotnost celkem [t] | S98: J. suť [t] | T98: Suť Celkem [t]
C99: Náklady soupisu celkem | J99: =BK99 -> 188318.82 | P99: =P100+P231+P574 -> 0 | R99: =R100+R231+R574 -> 3.5393803 | T99: =T100+T231+T574 -> 2.530845 | AT99: D | AU99: -1 | BK99: =BK100+BK231+BK574 -> 188318.82
D100: D | E100: HSV | F100: Práce a dodávky HSV | J100: =BK100 -> 64595.37 | P100: =P101+P158+P216+P228 -> 0 | R100: =R101+R158+R216+R228 -> 2.7712859 | T100: =T101+T158+T216+T228 -> 2.402955 | AR100: 1 | AT100: D | AU100: 0 | AY100: ROZPOCET | BK100: =BK101+BK158+BK216+BK228 -> 64595.37
D101: D | E101: 6 | F101: Úpravy povrchů, podlahy a osazování výplní | J101: =BK101 -> 38726.52 | P101: =SUM(P102:P157) -> 0 | R101: =SUM(R102:R157) -> 2.7708369 | T101: =SUM(T102:T157) -> 0 | AR101: 1 | AT101: D | AU101: 1 | AY101: ROZPOCET | BK101: =SUM(BK102:BK157) -> 38726.52
C102: 1 | D102: K | E102: 612135101 | F102: Hrubá výplň rýh maltou jakékoli šířky rýhy ve stěnách | G102: m2 | H102: 3 | I102: 706.3 | J102: =ROUND(I102*H102,2) -> 2118.9 | K102: CS ÚRS 2025 01 | N102: základní | P102: =O102*H102 -> 0 | Q102: 0.056 | R102: =Q102*H102 -> 0.168 | S102: 0 | T102: =S102*H102 -> 0 | AR102: 4 | AT102: K | AU102: 2 | AY102: ROZPOCET | BE102: =IF(N102="základní",J102,0) -> 2118.9 | BF102: =IF(N102="snížená",J102,0) -> 0 | BG102: =IF(N102="zákl. přenesená",J102,0) -> 0 | BH102: =IF(N102="sníž. přenesená",J102,0) -> 0 | BI102: =IF(N102="nulová",J102,0) -> 0 | BJ102: 1 | BK102: =ROUND(I102*H102,2) -> 2118.9 | BL102: 4 | BM102: -1289229463
D103: Online PSC | F103: https://podminky.urs.cz/item/CS_URS_2025_01/612135101 | AT103: Online PSC | AU103: 2
D104: VV | F104: "zapravení rýh ve zdivu po rozvodech vody, kanalizace" | AT104: VV | AU104: 2 | AV104: 1 | AW104: True | AX104: 0 | AY104: ROZPOCET
D105: VV | F105: 10*0,3 | H105: 3 | AT105: VV | AU105: 2 | AV105: 2 | AW105: True | AX105: 1 | AY105: ROZPOCET
C106: 2 | D106: K | E106: 611142001 | F106: Pletivo vnitřních ploch v ploše nebo pruzích, na plném podkladu sklovláknité vtlačené do tmelu včetně tmelu stropů | G106: m2 | H106: 3.377 | I106: 291.94 | J106: =ROUND(I106*H106,2) -> 985.88 | K106: CS ÚRS 2025 01 | N106: základní | P106: =O106*H106 -> 0 | Q106: 0.00438 | R106: =Q106*H106 -> 0.01479126 | S106: 0 | T106: =S106*H106 -> 0 | AR106: 4 | AT106: K | AU106: 2 | AY106: ROZPOCET | BE106: =IF(N106="základní",J106,0) -> 985.88 | BF106: =IF(N106="snížená",J106,0) -> 0 | BG106: =IF(N106="zákl. přenesená",J106,0) -> 0 | BH106: =IF(N106="sníž. přenesená",J106,0) -> 0 | BI106: =IF(N106="nulová",J106,0) -> 0 | BJ106: 1 | BK106: =ROUND(I106*H106,2) -> 985.88 | BL106: 4 | BM106: 1575989164
D107: Online PSC | F107: https://podminky.urs.cz/item/CS_URS_2025_01/611142001 | AT107: Online PSC | AU107: 2
D108: VV | F108: "prostor umyvadel" | AT108: VV | AU108: 2 | AV108: 1 | AW108: True | AX108: 0 | AY108: ROZPOCET
D109: VV | F109: 1,42*0,82 | H109: 1.164 | AT109: VV | AU109: 2 | AV109: 2 | AW109: True | AX109: 0 | AY109: ROZPOCET
D110: VV | F110: "sprcha" | AT110: VV | AU110: 2 | AV110: 1 | AW110: True | AX110: 0 | AY110: ROZPOCET
D111: VV | F111: 1,42*0,9 | H111: 1.278 | AT111: VV | AU111: 2 | AV111: 2 | AW111: True | AX111: 0 | AY111: ROZPOCET
D112: VV | F112: "WC" | AT112: VV | AU112: 2 | AV112: 1 | AW112: True | AX112: 0 | AY112: ROZPOCET
D113: VV | F113: 0,82*1,14 | H113: 0.935 | AT113: VV | AU113: 2 | AV113: 2 | AW113: True | AX113: 0 | AY113: ROZPOCET
D114: VV | F114: Součet | H114: 3.377 | AT114: VV | AU114: 2 | AV114: 4 | AW114: True | AX114: 1 | AY114: ROZPOCET
C115: 3 | D115: K | E115: 611131121 | F115: Podkladní a spojovací vrstva vnitřních omítaných ploch penetrace disperzní nanášená ručně stropů | G115: m2 | H115: 3.377 | I115: 55.56 | J115: =ROUND(I115*H115,2) -> 187.63 | K115: CS ÚRS 2025 01 | N115: základní | P115: =O115*H115 -> 0 | Q115: 0.00026 | R115: =Q115*H115 -> 0.00087802 | S115: 0 | T115: =S115*H115 -> 0 | AR115: 4 | AT115: K | AU115: 2 | AY115: ROZPOCET | BE115: =IF(N115="základní",J115,0) -> 187.63 | BF115: =IF(N115="snížená",J115,0) -> 0 | BG115: =IF(N115="zákl. přenesená",J115,0) -> 0 | BH115: =IF(N115="sníž. přenesená",J115,0) -> 0 | BI115: =IF(N115="nulová",J115,0) -> 0 | BJ115: 1 | BK115: =ROUND(I115*H115,2) -> 187.63 | BL115: 4 | BM115: -58793847
D116: Online PSC | F116: https://podminky.urs.cz/item/CS_URS_2025_01/611131121 | AT116: Online PSC | AU116: 2
C117: 4 | D117: K | E117: 611321141 | F117: Omítka vápenocementová vnitřních ploch nanášená ručně dvouvrstvá, tloušťky jádrové omítky do 10 mm a tloušťky štuku do 3 mm štuková vodorovných konstrukcí stropů rovných | G117: m2 | H117: 3.377 | I117: 602.71 | J117: =ROUND(I117*H117,2) -> 2035.35 | K117: CS ÚRS 2025 01 | N117: základní | P117: =O117*H117 -> 0 | Q117: 0.01838 | R117: =Q117*H117 -> 0.06206926 | S117: 0 | T117: =S117*H117 -> 0 | AR117: 4 | AT117: K | AU117: 2 | AY117: ROZPOCET | BE117: =IF(N117="základní",J117,0) -> 2035.35 | BF117: =IF(N117="snížená",J117,0) -> 0 | BG117: =IF(N117="zákl. přenesená",J117,0) -> 0 | BH117: =IF(N117="sníž. přenesená",J117,0) -> 0 | BI117: =IF(N117="nulová",J117,0) -> 0 | BJ117: 1 | BK117: =ROUND(I117*H117,2) -> 2035.35 | BL117: 4 | BM117: 1864216325
D118: Online PSC | F118: https://podminky.urs.cz/item/CS_URS_2025_01/611321141 | AT118: Online PSC | AU118: 2
C119: 5 | D119: K | E119: 612135001 | F119: Vyrovnání podkladu vnitřních stěn maltou vápenocementovou tl do 10 mm | G119: m2 | H119: 26.715 | I119: 273.1 | J119: =ROUND(I119*H119,2) -> 7295.87 | K119: CS ÚRS 2025 01 | N119: základní | P119: =O119*H119 -> 0 | Q119: 0.02048 | R119: =Q119*H119 -> 0.5471232 | S119: 0 | T119: =S119*H119 -> 0 | AR119: 4 | AT119: K | AU119: 2 | AY119: ROZPOCET | BE119: =IF(N119="základní",J119,0) -> 7295.87 | BF119: =IF(N119="snížená",J119,0) -> 0 | BG119: =IF(N119="zákl. přenesená",J119,0) -> 0 | BH119: =IF(N119="sníž. přenesená",J119,0) -> 0 | BI119: =IF(N119="nulová",J119,0) -> 0 | BJ119: 1 | BK119: =ROUND(I119*H119,2) -> 7295.87 | BL119: 4 | BM119: -558823241
D120: Online PSC | F120: https://podminky.urs.cz/item/CS_URS_2025_01/612135001 | AT120: Online PSC | AU120: 2
D121: VV | F121: "místy nutné vyrovnání stěn až 5cm, vyrovnání v celé ploše i v místech obkladů" | AT121: VV | AU121: 2 | AV121: 1 | AW121: True | AX121: 0 | AY121: ROZPOCET
D122: VV | F122: "prostor umyvadel" | AT122: VV | AU122: 2 | AV122: 1 | AW122: True | AX122: 0 | AY122: ROZPOCET
D123: VV | F123: (1,42+0,82*2)*2,54 | H123: 7.772 | AT123: VV | AU123: 2 | AV123: 2 | AW123: True | AX123: 0 | AY123: ROZPOCET
D124: VV | F124: "sprcha" | AT124: VV | AU124: 2 | AV124: 1 | AW124: True | AX124: 0 | AY124: ROZPOCET
D125: VV | F125: (1,42*2+0,9*2)*2,54-(0,7*2) | H125: 10.386 | AT125: VV | AU125: 2 | AV125: 2 | AW125: True | AX125: 0 | AY125: ROZPOCET
D126: VV | F126: "WC" | AT126: VV | AU126: 2 | AV126: 1 | AW126: True | AX126: 0 | AY126: ROZPOCET
D127: VV | F127: (0,82*2+1,14*2)*2,54-(0,7*2) | H127: 8.557 | AT127: VV | AU127: 2 | AV127: 2 | AW127: True | AX127: 0 | AY127: ROZPOCET
D128: VV | F128: Součet | H128: 26.715 | AT128: VV | AU128: 2 | AV128: 4 | AW128: True | AX128: 1 | AY128: ROZPOCET
C129: 6 | D129: K | E129: 612135091 | F129: Vyrovnání nerovností podkladu vnitřních omítaných ploch Příplatek k ceně za každých dalších 5 mm tloušťky podkladní vrstvy přes 10 mm maltou vápenocementovou stěn | G129: m2 | H129: 213.718 | I129: 55.56 | J129: =ROUND(I129*H129,2) -> 11874.17 | K129: CS ÚRS 2025 01 | N129: základní | P129: =O129*H129 -> 0 | Q129: 0.0079 | R129: =Q129*H129 -> 1.6883722 | S129: 0 | T129: =S129*H129 -> 0 | AR129: 4 | AT129: K | AU129: 2 | AY129: ROZPOCET | BE129: =IF(N129="základní",J129,0) -> 11874.17 | BF129: =IF(N129="snížená",J129,0) -> 0 | BG129: =IF(N129="zákl. přenesená",J129,0) -> 0 | BH129: =IF(N129="sníž. přenesená",J129,0) -> 0 | BI129: =IF(N129="nulová",J129,0) -> 0 | BJ129: 1 | BK129: =ROUND(I129*H129,2) -> 11874.17 | BL129: 4 | BM129: 2051524646
D130: Online PSC | F130: https://podminky.urs.cz/item/CS_URS_2025_01/612135091 | AT130: Online PSC | AU130: 2
D131: VV | F131: "místy nutné vyrovnání stěn až 5cm, vyrovnání v celé ploše i v místech obkladů" | AT131: VV | AU131: 2 | AV131: 1 | AW131: True | AX131: 0 | AY131: ROZPOCET
D132: VV | F132: "prostor umyvadel" | AT132: VV | AU132: 2 | AV132: 1 | AW132: True | AX132: 0 | AY132: ROZPOCET
D133: VV | F133: (1,42+0,82*2)*2,54*8 | H133: 62.179 | AT133: VV | AU133: 2 | AV133: 2 | AW133: True | AX133: 0 | AY133: ROZPOCET
...

Sheet 02 - 5.NP - č. 529 - Koup...
AT2: {a462ead7-898b-414a-8348-9338b7a6aeef}
AT3: 2
D4: KRYCÍ LIST SOUPISU PRACÍ | M4: v --- níže se nacházejí doplnkové a pomocné údaje k sestavám --- v | AT4: False
D6: Stavba:
E7: ='Rekapitulace stavby'!K6 -> Rekonstrukce hygienických prostor ISŠT, Benešov, Černoleská 1997
D8: Objekt:
E9: 02 - 5.NP - č. 529 - Koupelna typ B
D11: KSO: | I11: CC-CZ:
D12: Místo: | F12: Benešov, Černoleská 1997 | I12: Datum: | J12: ='Rekapitulace stavby'!AN8 -> 45880
D14: Zadavatel: | I14: IČ: | J14: 18620442
E15: Integrovaná střední škola technická | I15: DIČ:
D17: Účastník: | I17: IČ: | J17: ='Rekapitulace stavby'!AN13 -> 24832898
E18: ='Rekapitulace stavby'!E14 -> OTISTAV s.r.o. | I18: DIČ: | J18: ='Rekapitulace stavby'!AN14 -> CZ24832898
D20: Projektant: | I20: IČ:
E21: Ing. arch. Ondřej Lovíšek | I21: DIČ:
D23: Zpracovatel: | I23: IČ: | J23: =IF('Rekapitulace stavby'!AN19="","",'Rekapitulace stavby'!AN19)
E24: =IF('Rekapitulace stavby'!E20="","",'Rekapitulace stavby'!E20) | I24: DIČ: | J24: =IF('Rekapitulace stavby'!AN20="","",'Rekapitulace stavby'!AN20)
D26: Poznámka:
D30: Cena bez DPH | J30: =ROUND(J99, 2) -> 188318.82
F32: Základ daně | I32: Sazba daně | J32: Výše daně
D33: DPH | E33: základní | F33: =ROUND((SUM(BE99:BE577)), 2) -> 188318.82 | I33: 0.21 | J33: =ROUND(((SUM(BE99:BE577))*I33), 2) -> 39546.95
E34: snížená | F34: =ROUND((SUM(BF99:BF577)), 2) -> 0 | I34: 0.12 | J34: =ROUND(((SUM(BF99:BF577))*I34), 2) -> 0
E35: zákl. přenesená | F35: =ROUND((SUM(BG99:BG577)), 2) -> 0 | I35: 0.21 | J35: =0 -> 0
E36: sníž. přenesená | F36: =ROUND((SUM(BH99:BH577)), 2) -> 0 | I36: 0.12 | J36: =0 -> 0
E37: nulová | F37: =ROUND((SUM(BI99:BI577)), 2) -> 0 | I37: 0 | J37: =0 -> 0
D39: Cena s DPH | G39: v | H39: CZK | J39: =SUM(J30:J37) -> 227865.77
C45: REKAPITULACE ČLENĚNÍ SOUPISU PRACÍ
C47: Stavba:
E48: =E7 -> Rekonstrukce hygienických prostor ISŠT, Benešov, Černoleská 1997
C49: Objekt:
E50: =E9 -> 02 - 5.NP - č. 529 - Koupelna typ B
C52: Místo: | F52: =F12 -> Benešov, Černoleská 1997 | I52: Datum: | J52: =IF(J12="","",J12) -> 45880
C54: Zadavatel: | F54: =E15 -> Integrovaná střední škola technická | I54: Projektant: | J54: =E21 -> Ing. arch. Ondřej Lovíšek
C55: Účastník: | F55: =IF(E18="","",E18) -> OTISTAV s.r.o. | I55: Zpracovatel: | J55: =E24
C57: Kód dílu - Popis | J57: Cena celkem [CZK]
C59: Náklady stavby celkem | J59: =J99 -> 188318.82 | AU59: -1
D60: HSV - Práce a dodávky HSV | J60: =J100 -> 64595.37
D61: 6 - Úpravy povrchů, podlahy a osazování výplní | J61: =J101 -> 38726.52
D62: 9 - Ostatní konstrukce a práce, bourání | J62: =J158 -> 15672.98
D63: 997 - Přesun sutě | J63: =J216 -> 6673.01
D64: 998 - Přesun hmot | J64: =J228 -> 3522.86
D65: PSV - Práce a dodávky PSV | J65: =J231 -> 120662.83
D66: 721 - Zdravotechnika - vnitřní kanalizace | J66: =J232 -> 6827.78
D67: 722 - Zdravotechnika - vnitřní vodovod | J67: =J257 -> 7628.46
D68: 725 - Zdravotechnika - zařizovací předměty | J68: =J273 -> 34615.7
D69: 741 - Elektroinstalace - silnoproud | J69: =J314 -> 6690.61
D70: 751 - Vzduchotechnika | J70: =J366 -> 1391.25
D71: 763 - Konstrukce suché výstavby | J71: =J383 -> 1486.28
D72: 766 - Konstrukce truhlářské | J72: =J390 -> 12137.23
D73: 767 - Konstrukce zámečnické | J73: =J437 -> 1144.53
D74: 771 - Podlahy z dlaždic | J74: =J451 -> 13658.14
D75: 781 - Dokončovací práce - obklady | J75: =J505 -> 31430.96
D76: 783 - Dokončovací práce - nátěry | J76: =J542 -> 1827.94
D77: 784 - Dokončovací práce - malby a tapety | J77: =J559 -> 1823.95
D78: VRN - Vedlejší rozpočtové náklady | J78: =J574 -> 3060.62
D79: VRN4 - Inženýrská činnost | J79: =J575 -> 3060.62
C86: SOUPIS PRACÍ
C88: Stavba:
E89: =E7 -> Rekonstrukce hygienických prostor ISŠT, Benešov, Černoleská 1997
C90: Objekt:
E91: =E9 -> 02 - 5.NP - č. 529 - Koupelna typ B
C93: Místo: | F93: =F12 -> Benešov, Černoleská 1997 | I93: Datum: | J93: =IF(J12="","",J12) -> 45880
C95: Zadavatel: | F95: =E15 -> Integrovaná střední škola technická | I95: Projektant: | J95: =E21 -> Ing. arch. Ondřej Lovíšek
C96: Účastník: | F96: =IF(E18="","",E18) -> OTISTAV s.r.o. | I96: Zpracovatel: | J96: =E24
C98: PČ | D98: Typ | E98: Kód | F98: Popis | G98: MJ | H98: Množství | I98: J.cena [CZK] | J98: Cena celkem [CZK] | K98: Cenová soustava | N98: DPH | O98: J. Nh [h] | P98: Nh celkem [h] | Q98: J. hmotnost [t] | R98: Hmotnost celkem [t] | S98: J. suť [t] | T98: Suť Celkem [t]
C99: Náklady soupisu celkem | J99: =BK99 -> 188318.82 | P99: =P100+P231+P574 -> 0 | R99: =R100+R231+R574 -> 3.5393803 | T99: =T100+T231+T574 -> 2.530845 | AT99: D | AU99: -1 | BK99: =BK100+BK231+BK574 -> 188318.82
D100: D | E100: HSV | F100: Práce a dodávky HSV | J100: =BK100 -> 64595.37 | P100: =P101+P158+P216+P228 -> 0 | R100: =R101+R158+R216+R228 -> 2.7712859 | T100: =T101+T158+T216+T228 -> 2.402955 | AR100: 1 | AT100: D | AU100: 0 | AY100: ROZPOCET | BK100: =BK101+BK158+BK216+BK228 -> 64595.37
D101: D | E101: 6 | F101: Úpravy povrchů, podlahy a osazování výplní | J101: =BK101 -> 38726.52 | P101: =SUM(P102:P157) -> 0 | R101: =SUM(R102:R157) -> 2.7708369 | T101: =SUM(T102:T157) -> 0 | AR101: 1 | AT101: D | AU101: 1 | AY101: ROZPOCET | BK101: =SUM(BK102:BK157) -> 38726.52
C102: 1 | D102: K | E102: 612135101 | F102: Hrubá výplň rýh maltou jakékoli šířky rýhy ve stěnách | G102: m2 | H102: 3 | I102: 706.3 | J102: =ROUND(I102*H102,2) -> 2118.9 | K102: CS ÚRS 2025 01 | N102: základní | P102: =O102*H102 -> 0 | Q102: 0.056 | R102: =Q102*H102 -> 0.168 | S102: 0 | T102: =S102*H102 -> 0 | AR102: 4 | AT102: K | AU102: 2 | AY102: ROZPOCET | BE102: =IF(N102="základní",J102,0) -> 2118.9 | BF102: =IF(N102="snížená",J102,0) -> 0 | BG102: =IF(N102="zákl. přenesená",J102,0) -> 0 | BH102: =IF(N102="sníž. přenesená",J102,0) -> 0 | BI102: =IF(N102="nulová",J102,0) -> 0 | BJ102: 1 | BK102: =ROUND(I102*H102,2) -> 2118.9 | BL102: 4 | BM102: -1289229463
D103: Online PSC | F103: https://podminky.urs.cz/item/CS_URS_2025_01/612135101 | AT103: Online PSC | AU103: 2
D104: VV | F104: "zapravení rýh ve zdivu po rozvodech vody, kanalizace" | AT104: VV | AU104: 2 | AV104: 1 | AW104: True | AX104: 0 | AY104: ROZPOCET
D105: VV | F105: 10*0,3 | H105: 3 | AT105: VV | AU105: 2 | AV105: 2 | AW105: True | AX105: 1 | AY105: ROZPOCET
C106: 2 | D106: K | E106: 611142001 | F106: Pletivo vnitřních ploch v ploše nebo pruzích, na plném podkladu sklovláknité vtlačené do tmelu včetně tmelu stropů | G106: m2 | H106: 3.377 | I106: 291.94 | J106: =ROUND(I106*H106,2) -> 985.88 | K106: CS ÚRS 2025 01 | N106: základní | P106: =O106*H106 -> 0 | Q106: 0.00438 | R106: =Q106*H106 -> 0.01479126 | S106: 0 | T106: =S106*H106 -> 0 | AR106: 4 | AT106: K | AU106: 2 | AY106: ROZPOCET | BE106: =IF(N106="základní",J106,0) -> 985.88 | BF106: =IF(N106="snížená",J106,0) -> 0 | BG106: =IF(N106="zákl. přenesená",J106,0) -> 0 | BH106: =IF(N106="sníž. přenesená",J106,0) -> 0 | BI106: =IF(N106="nulová",J106,0) -> 0 | BJ106: 1 | BK106: =ROUND(I106*H106,2) -> 985.88 | BL106: 4 | BM106: 1575989164
D107: Online PSC | F107: https://podminky.urs.cz/item/CS_URS_2025_01/611142001 | AT107: Online PSC | AU107: 2
D108: VV | F108: "prostor umyvadel" | AT108: VV | AU108: 2 | AV108: 1 | AW108: True | AX108: 0 | AY108: ROZPOCET
D109: VV | F109: 1,42*0,82 | H109: 1.164 | AT109: VV | AU109: 2 | AV109: 2 | AW109: True | AX109: 0 | AY109: ROZPOCET
D110: VV | F110: "sprcha" | AT110: VV | AU110: 2 | AV110: 1 | AW110: True | AX110: 0 | AY110: ROZPOCET
D111: VV | F111: 1,42*0,9 | H111: 1.278 | AT111: VV | AU111: 2 | AV111: 2 | AW111: True | AX111: 0 | AY111: ROZPOCET
D112: VV | F112: "WC" | AT112: VV | AU112: 2 | AV112: 1 | AW112: True | AX112: 0 | AY112: ROZPOCET
D113: VV | F113: 0,82*1,14 | H113: 0.935 | AT113: VV | AU113: 2 | AV113: 2 | AW113: True | AX113: 0 | AY113: ROZPOCET
D114: VV | F114: Součet | H114: 3.377 | AT114: VV | AU114: 2 | AV114: 4 | AW114: True | AX114: 1 | AY114: ROZPOCET
C115: 3 | D115: K | E115: 611131121 | F115: Podkladní a spojovací vrstva vnitřních omítaných ploch penetrace disperzní nanášená ručně stropů | G115: m2 | H115: 3.377 | I115: 55.56 | J115: =ROUND(I115*H115,2) -> 187.63 | K115: CS ÚRS 2025 01 | N115: základní | P115: =O115*H115 -> 0 | Q115: 0.00026 | R115: =Q115*H115 -> 0.00087802 | S115: 0 | T115: =S115*H115 -> 0 | AR115: 4 | AT115: K | AU115: 2 | AY115: ROZPOCET | BE115: =IF(N115="základní",J115,0) -> 187.63 | BF115: =IF(N115="snížená",J115,0) -> 0 | BG115: =IF(N115="zákl. přenesená",J115,0) -> 0 | BH115: =IF(N115="sníž. přenesená",J115,0) -> 0 | BI115: =IF(N115="nulová",J115,0) -> 0 | BJ115: 1 | BK115: =ROUND(I115*H115,2) -> 187.63 | BL115: 4 | BM115: -58793847
D116: Online PSC | F116: https://podminky.urs.cz/item/CS_URS_2025_01/611131121 | AT116: Online PSC | AU116: 2
C117: 4 | D117: K | E117: 611321141 | F117: Omítka vápenocementová vnitřních ploch nanášená ručně dvouvrstvá, tloušťky jádrové omítky do 10 mm a tloušťky štuku do 3 mm štuková vodorovných konstrukcí stropů rovných | G117: m2 | H117: 3.377 | I117: 602.71 | J117: =ROUND(I117*H117,2) -> 2035.35 | K117: CS ÚRS 2025 01 | N117: základní | P117: =O117*H117 -> 0 | Q117: 0.01838 | R117: =Q117*H117 -> 0.06206926 | S117: 0 | T117: =S117*H117 -> 0 | AR117: 4 | AT117: K | AU117: 2 | AY117: ROZPOCET | BE117: =IF(N117="základní",J117,0) -> 2035.35 | BF117: =IF(N117="snížená",J117,0) -> 0 | BG117: =IF(N117="zákl. přenesená",J117,0) -> 0 | BH117: =IF(N117="sníž. přenesená",J117,0) -> 0 | BI117: =IF(N117="nulová",J117,0) -> 0 | BJ117: 1 | BK117: =ROUND(I117*H117,2) -> 2035.35 | BL117: 4 | BM117: 1864216325
D118: Online PSC | F118: https://podminky.urs.cz/item/CS_URS_2025_01/611321141 | AT118: Online PSC | AU118: 2
C119: 5 | D119: K | E119: 612135001 | F119: Vyrovnání podkladu vnitřních stěn maltou vápenocementovou tl do 10 mm | G119: m2 | H119: 26.715 | I119: 273.1 | J119: =ROUND(I119*H119,2) -> 7295.87 | K119: CS ÚRS 2025 01 | N119: základní | P119: =O119*H119 -> 0 | Q119: 0.02048 | R119: =Q119*H119 -> 0.5471232 | S119: 0 | T119: =S119*H119 -> 0 | AR119: 4 | AT119: K | AU119: 2 | AY119: ROZPOCET | BE119: =IF(N119="základní",J119,0) -> 7295.87 | BF119: =IF(N119="snížená",J119,0) -> 0 | BG119: =IF(N119="zákl. přenesená",J119,0) -> 0 | BH119: =IF(N119="sníž. přenesená",J119,0) -> 0 | BI119: =IF(N119="nulová",J119,0) -> 0 | BJ119: 1 | BK119: =ROUND(I119*H119,2) -> 7295.87 | BL119: 4 | BM119: -558823241
D120: Online PSC | F120: https://podminky.urs.cz/item/CS_URS_2025_01/612135001 | AT120: Online PSC | AU120: 2
D121: VV | F121: "místy nutné vyrovnání stěn až 5cm, vyrovnání v celé ploše i v místech obkladů" | AT121: VV | AU121: 2 | AV121: 1 | AW121: True | AX121: 0 | AY121: ROZPOCET
D122: VV | F122: "prostor umyvadel" | AT122: VV | AU122: 2 | AV122: 1 | AW122: True | AX122: 0 | AY122: ROZPOCET
D123: VV | F123: (1,42+0,82*2)*2,54 | H123: 7.772 | AT123: VV | AU123: 2 | AV123: 2 | AW123: True | AX123: 0 | AY123: ROZPOCET
D124: VV | F124: "sprcha" | AT124: VV | AU124: 2 | AV124: 1 | AW124: True | AX124: 0 | AY124: ROZPOCET
D125: VV | F125: (1,42*2+0,9*2)*2,54-(0,7*2) | H125: 10.386 | AT125: VV | AU125: 2 | AV125: 2 | AW125: True | AX125: 0 | AY125: ROZPOCET
D126: VV | F126: "WC" | AT126: VV | AU126: 2 | AV126: 1 | AW126: True | AX126: 0 | AY126: ROZPOCET
D127: VV | F127: (0,82*2+1,14*2)*2,54-(0,7*2) | H127: 8.557 | AT127: VV | AU127: 2 | AV127: 2 | AW127: True | AX127: 0 | AY127: ROZPOCET
D128: VV | F128: Součet | H128: 26.715 | AT128: VV | AU128: 2 | AV128: 4 | AW128: True | AX128: 1 | AY128: ROZPOCET
C129: 6 | D129: K | E129: 612135091 | F129: Vyrovnání nerovností podkladu vnitřních omítaných ploch Příplatek k ceně za každých dalších 5 mm tloušťky podkladní vrstvy přes 10 mm maltou vápenocementovou stěn | G129: m2 | H129: 213.718 | I129: 55.56 | J129: =ROUND(I129*H129,2) -> 11874.17 | K129: CS ÚRS 2025 01 | N129: základní | P129: =O129*H129 -> 0 | Q129: 0.0079 | R129: =Q129*H129 -> 1.6883722 | S129: 0 | T129: =S129*H129 -> 0 | AR129: 4 | AT129: K | AU129: 2 | AY129: ROZPOCET | BE129: =IF(N129="základní",J129,0) -> 11874.17 | BF129: =IF(N129="snížená",J129,0) -> 0 | BG129: =IF(N129="zákl. přenesená",J129,0) -> 0 | BH129: =IF(N129="sníž. přenesená",J129,0) -> 0 | BI129: =IF(N129="nulová",J129,0) -> 0 | BJ129: 1 | BK129: =ROUND(I129*H129,2) -> 11874.17 | BL129: 4 | BM129: 2051524646
D130: Online PSC | F130: https://podminky.urs.cz/item/CS_URS_2025_01/612135091 | AT130: Online PSC | AU130: 2
D131: VV | F131: "místy nutné vyrovnání stěn až 5cm, vyrovnání v celé ploše i v místech obkladů" | AT131: VV | AU131: 2 | AV131: 1 | AW131: True | AX131: 0 | AY131: ROZPOCET
D132: VV | F132: "prostor umyvadel" | AT132: VV | AU132: 2 | AV132: 1 | AW132: True | AX132: 0 | AY132: ROZPOCET
D133: VV | F133: (1,42+0,82*2)*2,54*8 | H133: 62.179 | AT133: VV | AU133: 2 | AV133: 2 | AW133: True | AX133: 0 | AY133: ROZPOCET
...

Sheet 03 - 5.NP - č. 521a - Kou...
AT2: {96fd7ae7-5d4c-499e-b7e5-1e0ffcac4397}
AT3: 2
D4: KRYCÍ LIST SOUPISU PRACÍ | M4: v --- níže se nacházejí doplnkové a pomocné údaje k sestavám --- v | AT4: False
D6: Stavba:
E7: ='Rekapitulace stavby'!K6 -> Rekonstrukce hygienických prostor ISŠT, Benešov, Černoleská 1997
D8: Objekt:
E9: 03 - 5.NP - č. 521a - Koupelna typ A1
D11: KSO: | I11: CC-CZ:
D12: Místo: | F12: Benešov, Černoleská 1997 | I12: Datum: | J12: ='Rekapitulace stavby'!AN8 -> 45880
D14: Zadavatel: | I14: IČ: | J14: 18620442
E15: Integrovaná střední škola technická | I15: DIČ:
D17: Účastník: | I17: IČ: | J17: ='Rekapitulace stavby'!AN13 -> 24832898
E18: ='Rekapitulace stavby'!E14 -> OTISTAV s.r.o. | I18: DIČ: | J18: ='Rekapitulace stavby'!AN14 -> CZ24832898
D20: Projektant: | I20: IČ:
E21: Ing. arch. Ondřej Lovíšek | I21: DIČ:
D23: Zpracovatel: | I23: IČ: | J23: =IF('Rekapitulace stavby'!AN19="","",'Rekapitulace stavby'!AN19)
E24: =IF('Rekapitulace stavby'!E20="","",'Rekapitulace stavby'!E20) | I24: DIČ: | J24: =IF('Rekapitulace stavby'!AN20="","",'Rekapitulace stavby'!AN20)
D26: Poznámka:
D30: Cena bez DPH | J30: =ROUND(J98, 2) -> 155241.1
F32: Základ daně | I32: Sazba daně | J32: Výše daně
D33: DPH | E33: základní | F33: =ROUND((SUM(BE98:BE488)), 2) -> 155241.1 | I33: 0.21 | J33: =ROUND(((SUM(BE98:BE488))*I33), 2) -> 32600.63
E34: snížená | F34: =ROUND((SUM(BF98:BF488)), 2) -> 0 | I34: 0.12 | J34: =ROUND(((SUM(BF98:BF488))*I34), 2) -> 0
E35: zákl. přenesená | F35: =ROUND((SUM(BG98:BG488)), 2) -> 0 | I35: 0.21 | J35: =0 -> 0
E36: sníž. přenesená | F36: =ROUND((SUM(BH98:BH488)), 2) -> 0 | I36: 0.12 | J36: =0 -> 0
E37: nulová | F37: =ROUND((SUM(BI98:BI488)), 2) -> 0 | I37: 0 | J37: =0 -> 0
D39: Cena s DPH | G39: v | H39: CZK | J39: =SUM(J30:J37) -> 187841.73
C45: REKAPITULACE ČLENĚNÍ SOUPISU PRACÍ
C47: Stavba:
E48: =E7 -> Rekonstrukce hygienických prostor ISŠT, Benešov, Černoleská 1997
C49: Objekt:
E50: =E9 -> 03 - 5.NP - č. 521a - Koupelna typ A1
C52: Místo: | F52: =F12 -> Benešov, Černoleská 1997 | I52: Datum: | J52: =IF(J12="","",J12) -> 45880
C54: Zadavatel: | F54: =E15 -> Integrovaná střední škola technická | I54: Projektant: | J54: =E21 -> Ing. arch. Ondřej Lovíšek
C55: Účastník: | F55: =IF(E18="","",E18) -> OTISTAV s.r.o. | I55: Zpracovatel: | J55: =E24
C57: Kód dílu - Popis | J57: Cena celkem [CZK]
C59: Náklady stavby celkem | J59: =J98 -> 155241.1 | AU59: -1
D60: HSV - Práce a dodávky HSV | J60: =J99 -> 57434.93
D61: 6 - Úpravy povrchů, podlahy a osazování výplní | J61: =J100 -> 34779.88
D62: 9 - Ostatní konstrukce a práce, bourání | J62: =J139 -> 13337.61
D63: 997 - Přesun sutě | J63: =J191 -> 6103.52
D64: 998 - Přesun hmot | J64: =J203 -> 3213.92
D65: PSV - Práce a dodávky PSV | J65: =J206 -> 94745.55
D66: 721 - Zdravotechnika - vnitřní kanalizace | J66: =J207 -> 6328.66
D67: 722 - Zdravotechnika - vnitřní vodovod | J67: =J221 -> 7259.3
D68: 725 - Zdravotechnika - zařizovací předměty | J68: =J237 -> 21096.22
D69: 741 - Elektroinstalace - silnoproud | J69: =J273 -> 4781.04
D70: 751 - Vzduchotechnika | J70: =J326 -> 1391.25
D71: 766 - Konstrukce truhlářské | J71: =J338 -> 7566.69
D72: 767 - Konstrukce zámečnické | J72: =J358 -> 1144.53
D73: 771 - Podlahy z dlaždic | J73: =J371 -> 12045.76
D74: 781 - Dokončovací práce - obklady | J74: =J422 -> 29893.56
D75: 783 - Dokončovací práce - nátěry | J75: =J452 -> 1827.94
D76: 784 - Dokončovací práce - malby a tapety | J76: =J467 -> 1410.6
D77: VRN - Vedlejší rozpočtové náklady | J77: =J485 -> 3060.62
D78: VRN4 - Inženýrská činnost | J78: =J486 -> 3060.62
C85: SOUPIS PRACÍ
C87: Stavba:
E88: =E7 -> Rekonstrukce hygienických prostor ISŠT, Benešov, Černoleská 1997
C89: Objekt:
E90: =E9 -> 03 - 5.NP - č. 521a - Koupelna typ A1
C92: Místo: | F92: =F12 -> Benešov, Černoleská 1997 | I92: Datum: | J92: =IF(J12="","",J12) -> 45880
C94: Zadavatel: | F94: =E15 -> Integrovaná střední škola technická | I94: Projektant: | J94: =E21 -> Ing. arch. Ondřej Lovíšek
C95: Účastník: | F95: =IF(E18="","",E18) -> OTISTAV s.r.o. | I95: Zpracovatel: | J95: =E24
C97: PČ | D97: Typ | E97: Kód | F97: Popis | G97: MJ | H97: Množství | I97: J.cena [CZK] | J97: Cena celkem [CZK] | K97: Cenová soustava | N97: DPH | O97: J. Nh [h] | P97: Nh celkem [h] | Q97: J. hmotnost [t] | R97: Hmotnost celkem [t] | S97: J. suť [t] | T97: Suť Celkem [t]
C98: Náklady soupisu celkem | J98: =BK98 -> 155241.1 | P98: =P99+P206+P485 -> 0 | R98: =R99+R206+R485 -> 3.1644057 | T98: =T99+T206+T485 -> 2.314996 | AT98: D | AU98: -1 | BK98: =BK99+BK206+BK485 -> 155241.1
D99: D | E99: HSV | F99: Práce a dodávky HSV | J99: =BK99 -> 57434.93 | P99: =P100+P139+P191+P203 -> 0 | R99: =R100+R139+R191+R203 -> 2.5281064 | T99: =T100+T139+T191+T203 -> 2.212126 | AR99: 1 | AT99: D | AU99: 0 | AY99: ROZPOCET | BK99: =BK100+BK139+BK191+BK203 -> 57434.93
D100: D | E100: 6 | F100: Úpravy povrchů, podlahy a osazování výplní | J100: =BK100 -> 34779.88 | P100: =SUM(P101:P138) -> 0 | R100: =SUM(R101:R138) -> 2.5276939 | T100: =SUM(T101:T138) -> 0 | AR100: 1 | AT100: D | AU100: 1 | AY100: ROZPOCET | BK100: =SUM(BK101:BK138) -> 34779.88
C101: 1 | D101: K | E101: 612135101 | F101: Hrubá výplň rýh maltou jakékoli šířky rýhy ve stěnách | G101: m2 | H101: 3 | I101: 706.3 | J101: =ROUND(I101*H101,2) -> 2118.9 | K101: CS ÚRS 2025 01 | N101: základní | P101: =O101*H101 -> 0 | Q101: 0.056 | R101: =Q101*H101 -> 0.168 | S101: 0 | T101: =S101*H101 -> 0 | AR101: 4 | AT101: K | AU101: 2 | AY101: ROZPOCET | BE101: =IF(N101="základní",J101,0) -> 2118.9 | BF101: =IF(N101="snížená",J101,0) -> 0 | BG101: =IF(N101="zákl. přenesená",J101,0) -> 0 | BH101: =IF(N101="sníž. přenesená",J101,0) -> 0 | BI101: =IF(N101="nulová",J101,0) -> 0 | BJ101: 1 | BK101: =ROUND(I101*H101,2) -> 2118.9 | BL101: 4 | BM101: -1226278407
D102: Online PSC | F102: https://podminky.urs.cz/item/CS_URS_2025_01/612135101 | AT102: Online PSC | AU102: 2
D103: VV | F103: "zapravení rýh ve zdivu po rozvodech vody, kanalizace" | AT103: VV | AU103: 2 | AV103: 1 | AW103: True | AX103: 0 | AY103: ROZPOCET
D104: VV | F104: 10*0,3 | H104: 3 | AT104: VV | AU104: 2 | AV104: 2 | AW104: True | AX104: 1 | AY104: ROZPOCET
C105: 2 | D105: K | E105: 611131121 | F105: Podkladní a spojovací vrstva vnitřních omítaných ploch penetrace disperzní nanášená ručně stropů | G105: m2 | H105: 3.096 | I105: 55.56 | J105: =ROUND(I105*H105,2) -> 172.01 | K105: CS ÚRS 2025 01 | N105: základní | P105: =O105*H105 -> 0 | Q105: 0.00026 | R105: =Q105*H105 -> 0.00080496 | S105: 0 | T105: =S105*H105 -> 0 | AR105: 4 | AT105: K | AU105: 2 | AY105: ROZPOCET | BE105: =IF(N105="základní",J105,0) -> 172.01 | BF105: =IF(N105="snížená",J105,0) -> 0 | BG105: =IF(N105="zákl. přenesená",J105,0) -> 0 | BH105: =IF(N105="sníž. přenesená",J105,0) -> 0 | BI105: =IF(N105="nulová",J105,0) -> 0 | BJ105: 1 | BK105: =ROUND(I105*H105,2) -> 172.01 | BL105: 4 | BM105: 1824693536
D106: Online PSC | F106: https://podminky.urs.cz/item/CS_URS_2025_01/611131121 | AT106: Online PSC | AU106: 2
D107: VV | F107: "WC" | AT107: VV | AU107: 2 | AV107: 1 | AW107: True | AX107: 0 | AY107: ROZPOCET
D108: VV | F108: 0,82*1,6 | H108: 1.312 | AT108: VV | AU108: 2 | AV108: 2 | AW108: True | AX108: 0 | AY108: ROZPOCET
D109: VV | F109: "koupelna" | AT109: VV | AU109: 2 | AV109: 1 | AW109: True | AX109: 0 | AY109: ROZPOCET
D110: VV | F110: 1,72*0,85+0,92*0,35 | H110: 1.784 | AT110: VV | AU110: 2 | AV110: 2 | AW110: True | AX110: 0 | AY110: ROZPOCET
D111: VV | F111: Součet | H111: 3.096 | AT111: VV | AU111: 2 | AV111: 4 | AW111: True | AX111: 1 | AY111: ROZPOCET
C112: 3 | D112: K | E112: 611142001 | F112: Pletivo vnitřních ploch v ploše nebo pruzích, na plném podkladu sklovláknité vtlačené do tmelu včetně tmelu stropů | G112: m2 | H112: 3.096 | I112: 291.94 | J112: =ROUND(I112*H112,2) -> 903.85 | K112: CS ÚRS 2025 01 | N112: základní | P112: =O112*H112 -> 0 | Q112: 0.00438 | R112: =Q112*H112 -> 0.01356048 | S112: 0 | T112: =S112*H112 -> 0 | AR112: 4 | AT112: K | AU112: 2 | AY112: ROZPOCET | BE112: =IF(N112="základní",J112,0) -> 903.85 | BF112: =IF(N112="snížená",J112,0) -> 0 | BG112: =IF(N112="zákl. přenesená",J112,0) -> 0 | BH112: =IF(N112="sníž. přenesená",J112,0) -> 0 | BI112: =IF(N112="nulová",J112,0) -> 0 | BJ112: 1 | BK112: =ROUND(I112*H112,2) -> 903.85 | BL112: 4 | BM112: 1051918594
D113: Online PSC | F113: https://podminky.urs.cz/item/CS_URS_2025_01/611142001 | AT113: Online PSC | AU113: 2
C114: 4 | D114: K | E114: 611321141 | F114: Omítka vápenocementová vnitřních ploch nanášená ručně dvouvrstvá, tloušťky jádrové omítky do 10 mm a tloušťky štuku do 3 mm štuková vodorovných konstrukcí stropů rovných | G114: m2 | H114: 3.096 | I114: 602.71 | J114: =ROUND(I114*H114,2) -> 1865.99 | K114: CS ÚRS 2025 01 | N114: základní | P114: =O114*H114 -> 0 | Q114: 0.01838 | R114: =Q114*H114 -> 0.05690448 | S114: 0 | T114: =S114*H114 -> 0 | AR114: 4 | AT114: K | AU114: 2 | AY114: ROZPOCET | BE114: =IF(N114="základní",J114,0) -> 1865.99 | BF114: =IF(N114="snížená",J114,0) -> 0 | BG114: =IF(N114="zákl. přenesená",J114,0) -> 0 | BH114: =IF(N114="sníž. přenesená",J114,0) -> 0 | BI114: =IF(N114="nulová",J114,0) -> 0 | BJ114: 1 | BK114: =ROUND(I114*H114,2) -> 1865.99 | BL114: 4 | BM114: -348378221
D115: Online PSC | F115: https://podminky.urs.cz/item/CS_URS_2025_01/611321141 | AT115: Online PSC | AU115: 2
C116: 5 | D116: K | E116: 612135001 | F116: Vyrovnání podkladu vnitřních stěn maltou vápenocementovou tl do 10 mm | G116: m2 | H116: 24.328 | I116: 273.1 | J116: =ROUND(I116*H116,2) -> 6643.98 | K116: CS ÚRS 2025 01 | N116: základní | P116: =O116*H116 -> 0 | Q116: 0.02048 | R116: =Q116*H116 -> 0.49823744 | S116: 0 | T116: =S116*H116 -> 0 | AR116: 4 | AT116: K | AU116: 2 | AY116: ROZPOCET | BE116: =IF(N116="základní",J116,0) -> 6643.98 | BF116: =IF(N116="snížená",J116,0) -> 0 | BG116: =IF(N116="zákl. přenesená",J116,0) -> 0 | BH116: =IF(N116="sníž. přenesená",J116,0) -> 0 | BI116: =IF(N116="nulová",J116,0) -> 0 | BJ116: 1 | BK116: =ROUND(I116*H116,2) -> 6643.98 | BL116: 4 | BM116: 1742351383
D117: Online PSC | F117: https://podminky.urs.cz/item/CS_URS_2025_01/612135001 | AT117: Online PSC | AU117: 2
D118: VV | F118: "místy nutné vyrovnání stěn až 5cm, vyrovnání v celé ploše i v místech obkladů" | AT118: VV | AU118: 2 | AV118: 1 | AW118: True | AX118: 0 | AY118: ROZPOCET
D119: VV | F119: "WC" | AT119: VV | AU119: 2 | AV119: 1 | AW119: True | AX119: 0 | AY119: ROZPOCET
D120: VV | F120: (0,82*2+1,6*2)*2,54-(0,7*2) | H120: 10.894 | AT120: VV | AU120: 2 | AV120: 2 | AW120: True | AX120: 0 | AY120: ROZPOCET
D121: VV | F121: "koupelna" | AT121: VV | AU121: 2 | AV121: 1 | AW121: True | AX121: 0 | AY121: ROZPOCET
D122: VV | F122: (1,72*2+1,2*2)*2,54-(0,7*2) | H122: 13.434 | AT122: VV | AU122: 2 | AV122: 2 | AW122: True | AX122: 0 | AY122: ROZPOCET
D123: VV | F123: Součet | H123: 24.328 | AT123: VV | AU123: 2 | AV123: 4 | AW123: True | AX123: 1 | AY123: ROZPOCET
C124: 6 | D124: K | E124: 612135091 | F124: Vyrovnání nerovností podkladu vnitřních omítaných ploch Příplatek k ceně za každých dalších 5 mm tloušťky podkladní vrstvy přes 10 mm maltou vápenocementovou stěn | G124: m2 | H124: 194.624 | I124: 55.56 | J124: =ROUND(I124*H124,2) -> 10813.31 | K124: CS ÚRS 2025 01 | N124: základní | P124: =O124*H124 -> 0 | Q124: 0.0079 | R124: =Q124*H124 -> 1.5375296 | S124: 0 | T124: =S124*H124 -> 0 | AR124: 4 | AT124: K | AU124: 2 | AY124: ROZPOCET | BE124: =IF(N124="základní",J124,0) -> 10813.31 | BF124: =IF(N124="snížená",J124,0) -> 0 | BG124: =IF(N124="zákl. přenesená",J124,0) -> 0 | BH124: =IF(N124="sníž. přenesená",J124,0) -> 0 | BI124: =IF(N124="nulová",J124,0) -> 0 | BJ124: 1 | BK124: =ROUND(I124*H124,2) -> 10813.31 | BL124: 4 | BM124: -149725129
D125: Online PSC | F125: https://podminky.urs.cz/item/CS_URS_2025_01/612135091 | AT125: Online PSC | AU125: 2
D126: VV | F126: 24,328*8 | H126: 194.624 | AT126: VV | AU126: 2 | AV126: 2 | AW126: True | AX126: 1 | AY126: ROZPOCET
C127: 7 | D127: K | E127: 612142001 | F127: Pletivo vnitřních ploch v ploše nebo pruzích, na plném podkladu sklovláknité vtlačené do tmelu včetně tmelu stěn | G127: m2 | H127: 24.328 | I127: 291.94 | J127: =ROUND(I127*H127,2) -> 7102.32 | K127: CS ÚRS 2025 01 | N127: základní | P127: =O127*H127 -> 0 | Q127: 0.00438 | R127: =Q127*H127 -> 0.10655664 | S127: 0 | T127: =S127*H127 -> 0 | AR127: 4 | AT127: K | AU127: 2 | AY127: ROZPOCET | BE127: =IF(N127="základní",J127,0) -> 7102.32 | BF127: =IF(N127="snížená",J127,0) -> 0 | BG127: =IF(N127="zákl. přenesená",J127,0) -> 0 | BH127: =IF(N127="sníž. přenesená",J127,0) -> 0 | BI127: =IF(N127="nulová",J127,0) -> 0 | BJ127: 1 | BK127: =ROUND(I127*H127,2) -> 7102.32 | BL127: 4 | BM127: 974999523
D128: Online PSC | F128: https://podminky.urs.cz/item/CS_URS_2025_01/612142001 | AT128: Online PSC | AU128: 2
C129: 8 | D129: K | E129: 612131121 | F129: Podkladní a spojovací vrstva vnitřních omítaných ploch penetrace disperzní nanášená ručně stěn | G129: m2 | H129: 7.838 | I129: 55.56 | J129: =ROUND(I129*H129,2) -> 435.48 | K129: CS ÚRS 2025 01 | N129: základní | P129: =O129*H129 -> 0 | Q129: 0.00026 | R129: =Q129*H129 -> 0.00203788 | S129: 0 | T129: =S129*H129 -> 0 | AR129: 4 | AT129: K | AU129: 2 | AY129: ROZPOCET | BE129: =IF(N129="základní",J129,0) -> 435.48 | BF129: =IF(N129="snížená",J129,0) -> 0 | BG129: =IF(N129="zákl. přenesená",J129,0) -> 0 | BH129: =IF(N129="sníž. přenesená",J129,0) -> 0 | BI129: =IF(N129="nulová",J129,0) -> 0 | BJ129: 1 | BK129: =ROUND(I129*H129,2) -> 435.48 | BL129: 4 | BM129: 61208206
D130: Online PSC | F130: https://podminky.urs.cz/item/CS_URS_2025_01/612131121 | AT130: Online PSC | AU130: 2
D131: VV | F131: "mimo obklad" | AT131: VV | AU131: 2 | AV131: 1 | AW131: True | AX131: 0 | AY131: ROZPOCET
D132: VV | F132: "WC" | AT132: VV | AU132: 2 | AV132: 1 | AW132: True | AX132: 0 | AY132: ROZPOCET
D133: VV | F133: (0,82*2+1,6*2)*(2,54-1,5)-(0,7*(2-1,5)) | H133: 4.684 | AT133: VV | AU133: 2 | AV133: 2 | AW133: True | AX133: 0 | AY133: ROZPOCET
...

Sheet 04 - 5.NP - č. 514a - Kou...
AT2: {99071232-b184-47cb-97e0-dfd305bef81b}
AT3: 2
D4: KRYCÍ LIST SOUPISU PRACÍ | M4: v --- níže se nacházejí doplnkové a pomocné údaje k sestavám --- v | AT4: False
D6: Stavba:
E7: ='Rekapitulace stavby'!K6 -> Rekonstrukce hygienických prostor ISŠT, Benešov, Černoleská 1997
D8: Objekt:
E9: 04 - 5.NP - č. 514a - Koupelna typ A2
D11: KSO: | I11: CC-CZ:
D12: Místo: | F12: Benešov, Černoleská 1997 | I12: Datum: | J12: ='Rekapitulace stavby'!AN8 -> 45880
D14: Zadavatel: | I14: IČ: | J14: 18620442
E15: Integrovaná střední škola technická | I15: DIČ:
D17: Účastník: | I17: IČ: | J17: ='Rekapitulace stavby'!AN13 -> 24832898
E18: ='Rekapitulace stavby'!E14 -> OTISTAV s.r.o. | I18: DIČ: | J18: ='Rekapitulace stavby'!AN14 -> CZ24832898
D20: Projektant: | I20: IČ:
E21: Ing. arch. Ondřej Lovíšek | I21: DIČ:
D23: Zpracovatel: | I23: IČ: | J23: =IF('Rekapitulace stavby'!AN19="","",'Rekapitulace stavby'!AN19)
E24: =IF('Rekapitulace stavby'!E20="","",'Rekapitulace stavby'!E20) | I24: DIČ: | J24: =IF('Rekapitulace stavby'!AN20="","",'Rekapitulace stavby'!AN20)
D26: Poznámka:
D30: Cena bez DPH | J30: =ROUND(J98, 2) -> 155502.3
F32: Základ daně | I32: Sazba daně | J32: Výše daně
D33: DPH | E33: základní | F33: =ROUND((SUM(BE98:BE488)), 2) -> 155502.3 | I33: 0.21 | J33: =ROUND(((SUM(BE98:BE488))*I33), 2) -> 32655.48
E34: snížená | F34: =ROUND((SUM(BF98:BF488)), 2) -> 0 | I34: 0.12 | J34: =ROUND(((SUM(BF98:BF488))*I34), 2) -> 0
E35: zákl. přenesená | F35: =ROUND((SUM(BG98:BG488)), 2) -> 0 | I35: 0.21 | J35: =0 -> 0
E36: sníž. přenesená | F36: =ROUND((SUM(BH98:BH488)), 2) -> 0 | I36: 0.12 | J36: =0 -> 0
E37: nulová | F37: =ROUND((SUM(BI98:BI488)), 2) -> 0 | I37: 0 | J37: =0 -> 0
D39: Cena s DPH | G39: v | H39: CZK | J39: =SUM(J30:J37) -> 188157.78
C45: REKAPITULACE ČLENĚNÍ SOUPISU PRACÍ
C47: Stavba:
E48: =E7 -> Rekonstrukce hygienických prostor ISŠT, Benešov, Černoleská 1997
C49: Objekt:
E50: =E9 -> 04 - 5.NP - č. 514a - Koupelna typ A2
C52: Místo: | F52: =F12 -> Benešov, Černoleská 1997 | I52: Datum: | J52: =IF(J12="","",J12) -> 45880
C54: Zadavatel: | F54: =E15 -> Integrovaná střední škola technická | I54: Projektant: | J54: =E21 -> Ing. arch. Ondřej Lovíšek
C55: Účastník: | F55: =IF(E18="","",E18) -> OTISTAV s.r.o. | I55: Zpracovatel: | J55: =E24
C57: Kód dílu - Popis | J57: Cena celkem [CZK]
C59: Náklady stavby celkem | J59: =J98 -> 155502.3 | AU59: -1
D60: HSV - Práce a dodávky HSV | J60: =J99 -> 57560.45
D61: 6 - Úpravy povrchů, podlahy a osazování výplní | J61: =J100 -> 34853.15
D62: 9 - Ostatní konstrukce a práce, bourání | J62: =J139 -> 13344.42
D63: 997 - Přesun sutě | J63: =J191 -> 6129.89
D64: 998 - Přesun hmot | J64: =J203 -> 3232.99
D65: PSV - Práce a dodávky PSV | J65: =J206 -> 94881.23
D66: 721 - Zdravotechnika - vnitřní kanalizace | J66: =J207 -> 6328.66
D67: 722 - Zdravotechnika - vnitřní vodovod | J67: =J221 -> 7259.3
D68: 725 - Zdravotechnika - zařizovací předměty | J68: =J237 -> 21093.71
D69: 741 - Elektroinstalace - silnoproud | J69: =J273 -> 4781.04
D70: 751 - Vzduchotechnika | J70: =J326 -> 1391.25
D71: 766 - Konstrukce truhlářské | J71: =J338 -> 7566.69
D72: 767 - Konstrukce zámečnické | J72: =J358 -> 1144.53
D73: 771 - Podlahy z dlaždic | J73: =J371 -> 11856.66
D74: 781 - Dokončovací práce - obklady | J74: =J422 -> 30234.92
D75: 783 - Dokončovací práce - nátěry | J75: =J452 -> 1827.94
D76: 784 - Dokončovací práce - malby a tapety | J76: =J467 -> 1396.53
D77: VRN - Vedlejší rozpočtové náklady | J77: =J485 -> 3060.62
D78: VRN4 - Inženýrská činnost | J78: =J486 -> 3060.62
C85: SOUPIS PRACÍ
C87: Stavba:
E88: =E7 -> Rekonstrukce hygienických prostor ISŠT, Benešov, Černoleská 1997
C89: Objekt:
E90: =E9 -> 04 - 5.NP - č. 514a - Koupelna typ A2
C92: Místo: | F92: =F12 -> Benešov, Černoleská 1997 | I92: Datum: | J92: =IF(J12="","",J12) -> 45880
C94: Zadavatel: | F94: =E15 -> Integrovaná střední škola technická | I94: Projektant: | J94: =E21 -> Ing. arch. Ondřej Lovíšek
C95: Účastník: | F95: =IF(E18="","",E18) -> OTISTAV s.r.o. | I95: Zpracovatel: | J95: =E24
C97: PČ | D97: Typ | E97: Kód | F97: Popis | G97: MJ | H97: Množství | I97: J.cena [CZK] | J97: Cena celkem [CZK] | K97: Cenová soustava | N97: DPH | O97: J. Nh [h] | P97: Nh celkem [h] | Q97: J. hmotnost [t] | R97: Hmotnost celkem [t] | S97: J. suť [t] | T97: Suť Celkem [t]
C98: Náklady soupisu celkem | J98: =BK98 -> 155502.3 | P98: =P99+P206+P485 -> 0 | R98: =R99+R206+R485 -> 3.1764213 | T98: =T99+T206+T485 -> 2.325288 | AT98: D | AU98: -1 | BK98: =BK99+BK206+BK485 -> 155502.3
D99: D | E99: HSV | F99: Práce a dodávky HSV | J99: =BK99 -> 57560.45 | P99: =P100+P139+P191+P203 -> 0 | R99: =R100+R139+R191+R203 -> 2.5425718 | T99: =T100+T139+T191+T203 -> 2.222418 | AR99: 1 | AT99: D | AU99: 0 | AY99: ROZPOCET | BK99: =BK100+BK139+BK191+BK203 -> 57560.45
D100: D | E100: 6 | F100: Úpravy povrchů, podlahy a osazování výplní | J100: =BK100 -> 34853.15 | P100: =SUM(P101:P138) -> 0 | R100: =SUM(R101:R138) -> 2.5421726 | T100: =SUM(T101:T138) -> 0 | AR100: 1 | AT100: D | AU100: 1 | AY100: ROZPOCET | BK100: =SUM(BK101:BK138) -> 34853.15
C101: 1 | D101: K | E101: 612135101 | F101: Hrubá výplň rýh maltou jakékoli šířky rýhy ve stěnách | G101: m2 | H101: 3 | I101: 706.3 | J101: =ROUND(I101*H101,2) -> 2118.9 | K101: CS ÚRS 2025 01 | N101: základní | P101: =O101*H101 -> 0 | Q101: 0.056 | R101: =Q101*H101 -> 0.168 | S101: 0 | T101: =S101*H101 -> 0 | AR101: 4 | AT101: K | AU101: 2 | AY101: ROZPOCET | BE101: =IF(N101="základní",J101,0) -> 2118.9 | BF101: =IF(N101="snížená",J101,0) -> 0 | BG101: =IF(N101="zákl. přenesená",J101,0) -> 0 | BH101: =IF(N101="sníž. přenesená",J101,0) -> 0 | BI101: =IF(N101="nulová",J101,0) -> 0 | BJ101: 1 | BK101: =ROUND(I101*H101,2) -> 2118.9 | BL101: 4 | BM101: -1242534876
D102: Online PSC | F102: https://podminky.urs.cz/item/CS_URS_2025_01/612135101 | AT102: Online PSC | AU102: 2
D103: VV | F103: "zapravení rýh ve zdivu po rozvodech vody, kanalizace" | AT103: VV | AU103: 2 | AV103: 1 | AW103: True | AX103: 0 | AY103: ROZPOCET
D104: VV | F104: 10*0,3 | H104: 3 | AT104: VV | AU104: 2 | AV104: 2 | AW104: True | AX104: 1 | AY104: ROZPOCET
C105: 2 | D105: K | E105: 611131121 | F105: Podkladní a spojovací vrstva vnitřních omítaných ploch penetrace disperzní nanášená ručně stropů | G105: m2 | H105: 2.994 | I105: 55.56 | J105: =ROUND(I105*H105,2) -> 166.35 | K105: CS ÚRS 2025 01 | N105: základní | P105: =O105*H105 -> 0 | Q105: 0.00026 | R105: =Q105*H105 -> 0.00077844 | S105: 0 | T105: =S105*H105 -> 0 | AR105: 4 | AT105: K | AU105: 2 | AY105: ROZPOCET | BE105: =IF(N105="základní",J105,0) -> 166.35 | BF105: =IF(N105="snížená",J105,0) -> 0 | BG105: =IF(N105="zákl. přenesená",J105,0) -> 0 | BH105: =IF(N105="sníž. přenesená",J105,0) -> 0 | BI105: =IF(N105="nulová",J105,0) -> 0 | BJ105: 1 | BK105: =ROUND(I105*H105,2) -> 166.35 | BL105: 4 | BM105: -346936540
D106: Online PSC | F106: https://podminky.urs.cz/item/CS_URS_2025_01/611131121 | AT106: Online PSC | AU106: 2
D107: VV | F107: "WC" | AT107: VV | AU107: 2 | AV107: 1 | AW107: True | AX107: 0 | AY107: ROZPOCET
D108: VV | F108: 0,82*1,55 | H108: 1.271 | AT108: VV | AU108: 2 | AV108: 2 | AW108: True | AX108: 0 | AY108: ROZPOCET
D109: VV | F109: "koupelna" | AT109: VV | AU109: 2 | AV109: 1 | AW109: True | AX109: 0 | AY109: ROZPOCET
D110: VV | F110: 1,46*0,55+0,92*1 | H110: 1.723 | AT110: VV | AU110: 2 | AV110: 2 | AW110: True | AX110: 0 | AY110: ROZPOCET
D111: VV | F111: Součet | H111: 2.994 | AT111: VV | AU111: 2 | AV111: 4 | AW111: True | AX111: 1 | AY111: ROZPOCET
C112: 3 | D112: K | E112: 611142001 | F112: Pletivo vnitřních ploch v ploše nebo pruzích, na plném podkladu sklovláknité vtlačené do tmelu včetně tmelu stropů | G112: m2 | H112: 2.994 | I112: 291.94 | J112: =ROUND(I112*H112,2) -> 874.07 | K112: CS ÚRS 2025 01 | N112: základní | P112: =O112*H112 -> 0 | Q112: 0.00438 | R112: =Q112*H112 -> 0.01311372 | S112: 0 | T112: =S112*H112 -> 0 | AR112: 4 | AT112: K | AU112: 2 | AY112: ROZPOCET | BE112: =IF(N112="základní",J112,0) -> 874.07 | BF112: =IF(N112="snížená",J112,0) -> 0 | BG112: =IF(N112="zákl. přenesená",J112,0) -> 0 | BH112: =IF(N112="sníž. přenesená",J112,0) -> 0 | BI112: =IF(N112="nulová",J112,0) -> 0 | BJ112: 1 | BK112: =ROUND(I112*H112,2) -> 874.07 | BL112: 4 | BM112: -1360084983
D113: Online PSC | F113: https://podminky.urs.cz/item/CS_URS_2025_01/611142001 | AT113: Online PSC | AU113: 2
C114: 4 | D114: K | E114: 611321141 | F114: Omítka vápenocementová vnitřních ploch nanášená ručně dvouvrstvá, tloušťky jádrové omítky do 10 mm a tloušťky štuku do 3 mm štuková vodorovných konstrukcí stropů rovných | G114: m2 | H114: 2.944 | I114: 602.71 | J114: =ROUND(I114*H114,2) -> 1774.38 | K114: CS ÚRS 2025 01 | N114: základní | P114: =O114*H114 -> 0 | Q114: 0.01838 | R114: =Q114*H114 -> 0.05411072 | S114: 0 | T114: =S114*H114 -> 0 | AR114: 4 | AT114: K | AU114: 2 | AY114: ROZPOCET | BE114: =IF(N114="základní",J114,0) -> 1774.38 | BF114: =IF(N114="snížená",J114,0) -> 0 | BG114: =IF(N114="zákl. přenesená",J114,0) -> 0 | BH114: =IF(N114="sníž. přenesená",J114,0) -> 0 | BI114: =IF(N114="nulová",J114,0) -> 0 | BJ114: 1 | BK114: =ROUND(I114*H114,2) -> 1774.38 | BL114: 4 | BM114: -149324158
D115: Online PSC | F115: https://podminky.urs.cz/item/CS_URS_2025_01/611321141 | AT115: Online PSC | AU115: 2
C116: 5 | D116: K | E116: 612135001 | F116: Vyrovnání podkladu vnitřních stěn maltou vápenocementovou tl do 10 mm | G116: m2 | H116: 24.531 | I116: 273.1 | J116: =ROUND(I116*H116,2) -> 6699.42 | K116: CS ÚRS 2025 01 | N116: základní | P116: =O116*H116 -> 0 | Q116: 0.02048 | R116: =Q116*H116 -> 0.50239488 | S116: 0 | T116: =S116*H116 -> 0 | AR116: 4 | AT116: K | AU116: 2 | AY116: ROZPOCET | BE116: =IF(N116="základní",J116,0) -> 6699.42 | BF116: =IF(N116="snížená",J116,0) -> 0 | BG116: =IF(N116="zákl. přenesená",J116,0) -> 0 | BH116: =IF(N116="sníž. přenesená",J116,0) -> 0 | BI116: =IF(N116="nulová",J116,0) -> 0 | BJ116: 1 | BK116: =ROUND(I116*H116,2) -> 6699.42 | BL116: 4 | BM116: -80760066
D117: Online PSC | F117: https://podminky.urs.cz/item/CS_URS_2025_01/612135001 | AT117: Online PSC | AU117: 2
D118: VV | F118: "místy nutné vyrovnání stěn až 5cm, vyrovnání v celé ploše i v místech obkladů" | AT118: VV | AU118: 2 | AV118: 1 | AW118: True | AX118: 0 | AY118: ROZPOCET
D119: VV | F119: "WC" | AT119: VV | AU119: 2 | AV119: 1 | AW119: True | AX119: 0 | AY119: ROZPOCET
D120: VV | F120: (0,82*2+1,55*2)*2,54-(0,7*2) | H120: 10.64 | AT120: VV | AU120: 2 | AV120: 2 | AW120: True | AX120: 0 | AY120: ROZPOCET
D121: VV | F121: "koupelna" | AT121: VV | AU121: 2 | AV121: 1 | AW121: True | AX121: 0 | AY121: ROZPOCET
D122: VV | F122: (1,46*2+1,55*2)*2,54-(0,7*2) | H122: 13.891 | AT122: VV | AU122: 2 | AV122: 2 | AW122: True | AX122: 0 | AY122: ROZPOCET
D123: VV | F123: Součet | H123: 24.531 | AT123: VV | AU123: 2 | AV123: 4 | AW123: True | AX123: 1 | AY123: ROZPOCET
C124: 6 | D124: K | E124: 612135091 | F124: Vyrovnání nerovností podkladu vnitřních omítaných ploch Příplatek k ceně za každých dalších 5 mm tloušťky podkladní vrstvy přes 10 mm maltou vápenocementovou stěn | G124: m2 | H124: 196.248 | I124: 55.56 | J124: =ROUND(I124*H124,2) -> 10903.54 | K124: CS ÚRS 2025 01 | N124: základní | P124: =O124*H124 -> 0 | Q124: 0.0079 | R124: =Q124*H124 -> 1.5503592 | S124: 0 | T124: =S124*H124 -> 0 | AR124: 4 | AT124: K | AU124: 2 | AY124: ROZPOCET | BE124: =IF(N124="základní",J124,0) -> 10903.54 | BF124: =IF(N124="snížená",J124,0) -> 0 | BG124: =IF(N124="zákl. přenesená",J124,0) -> 0 | BH124: =IF(N124="sníž. přenesená",J124,0) -> 0 | BI124: =IF(N124="nulová",J124,0) -> 0 | BJ124: 1 | BK124: =ROUND(I124*H124,2) -> 10903.54 | BL124: 4 | BM124: 351683337
D125: Online PSC | F125: https://podminky.urs.cz/item/CS_URS_2025_01/612135091 | AT125: Online PSC | AU125: 2
D126: VV | F126: 24,531*8 | H126: 196.248 | AT126: VV | AU126: 2 | AV126: 2 | AW126: True | AX126: 1 | AY126: ROZPOCET
C127: 7 | D127: K | E127: 612142001 | F127: Pletivo vnitřních ploch v ploše nebo pruzích, na plném podkladu sklovláknité vtlačené do tmelu včetně tmelu stěn | G127: m2 | H127: 24.531 | I127: 291.94 | J127: =ROUND(I127*H127,2) -> 7161.58 | K127: CS ÚRS 2025 01 | N127: základní | P127: =O127*H127 -> 0 | Q127: 0.00438 | R127: =Q127*H127 -> 0.10744578 | S127: 0 | T127: =S127*H127 -> 0 | AR127: 4 | AT127: K | AU127: 2 | AY127: ROZPOCET | BE127: =IF(N127="základní",J127,0) -> 7161.58 | BF127: =IF(N127="snížená",J127,0) -> 0 | BG127: =IF(N127="zákl. přenesená",J127,0) -> 0 | BH127: =IF(N127="sníž. přenesená",J127,0) -> 0 | BI127: =IF(N127="nulová",J127,0) -> 0 | BJ127: 1 | BK127: =ROUND(I127*H127,2) -> 7161.58 | BL127: 4 | BM127: -1900061653
D128: Online PSC | F128: https://podminky.urs.cz/item/CS_URS_2025_01/612142001 | AT128: Online PSC | AU128: 2
C129: 8 | D129: K | E129: 612131121 | F129: Podkladní a spojovací vrstva vnitřních omítaných ploch penetrace disperzní nanášená ručně stěn | G129: m2 | H129: 7.831 | I129: 55.56 | J129: =ROUND(I129*H129,2) -> 435.09 | K129: CS ÚRS 2025 01 | N129: základní | P129: =O129*H129 -> 0 | Q129: 0.00026 | R129: =Q129*H129 -> 0.00203606 | S129: 0 | T129: =S129*H129 -> 0 | AR129: 4 | AT129: K | AU129: 2 | AY129: ROZPOCET | BE129: =IF(N129="základní",J129,0) -> 435.09 | BF129: =IF(N129="snížená",J129,0) -> 0 | BG129: =IF(N129="zákl. přenesená",J129,0) -> 0 | BH129: =IF(N129="sníž. přenesená",J129,0) -> 0 | BI129: =IF(N129="nulová",J129,0) -> 0 | BJ129: 1 | BK129: =ROUND(I129*H129,2) -> 435.09 | BL129: 4 | BM129: 2136395647
D130: Online PSC | F130: https://podminky.urs.cz/item/CS_URS_2025_01/612131121 | AT130: Online PSC | AU130: 2
D131: VV | F131: "mimo obklad" | AT131: VV | AU131: 2 | AV131: 1 | AW131: True | AX131: 0 | AY131: ROZPOCET
D132: VV | F132: "WC" | AT132: VV | AU132: 2 | AV132: 1 | AW132: True | AX132: 0 | AY132: ROZPOCET
D133: VV | F133: (0,82*2+1,55*2)*(2,54-1,5)-(0,7*(2-1,5)) | H133: 4.58 | AT133: VV | AU133: 2 | AV133: 2 | AW133: True | AX133: 0 | AY133: ROZPOCET
...

Sheet 05 - 6.NP - č. 628 - Koup...
AT2: {dbd4fc0f-fecb-484a-97f6-83eaf7055950}
AT3: 2
D4: KRYCÍ LIST SOUPISU PRACÍ | M4: v --- níže se nacházejí doplnkové a pomocné údaje k sestavám --- v | AT4: False
D6: Stavba:
E7: ='Rekapitulace stavby'!K6 -> Rekonstrukce hygienických prostor ISŠT, Benešov, Černoleská 1997
D8: Objekt:
E9: 05 - 6.NP - č. 628 - Koupelna typ B
D11: KSO: | I11: CC-CZ:
D12: Místo: | F12: Benešov, Černoleská 1997 | I12: Datum: | J12: ='Rekapitulace stavby'!AN8 -> 45880
D14: Zadavatel: | I14: IČ: | J14: 18620442
E15: Integrovaná střední škola technická | I15: DIČ:
D17: Účastník: | I17: IČ: | J17: ='Rekapitulace stavby'!AN13 -> 24832898
E18: ='Rekapitulace stavby'!E14 -> OTISTAV s.r.o. | I18: DIČ: | J18: ='Rekapitulace stavby'!AN14 -> CZ24832898
D20: Projektant: | I20: IČ:
E21: Ing. arch. Ondřej Lovíšek | I21: DIČ:
D23: Zpracovatel: | I23: IČ: | J23: =IF('Rekapitulace stavby'!AN19="","",'Rekapitulace stavby'!AN19)
E24: =IF('Rekapitulace stavby'!E20="","",'Rekapitulace stavby'!E20) | I24: DIČ: | J24: =IF('Rekapitulace stavby'!AN20="","",'Rekapitulace stavby'!AN20)
D26: Poznámka:
D30: Cena bez DPH | J30: =ROUND(J99, 2) -> 188318.82
F32: Základ daně | I32: Sazba daně | J32: Výše daně
D33: DPH | E33: základní | F33: =ROUND((SUM(BE99:BE577)), 2) -> 188318.82 | I33: 0.21 | J33: =ROUND(((SUM(BE99:BE577))*I33), 2) -> 39546.95
E34: snížená | F34: =ROUND((SUM(BF99:BF577)), 2) -> 0 | I34: 0.12 | J34: =ROUND(((SUM(BF99:BF577))*I34), 2) -> 0
E35: zákl. přenesená | F35: =ROUND((SUM(BG99:BG577)), 2) -> 0 | I35: 0.21 | J35: =0 -> 0
E36: sníž. přenesená | F36: =ROUND((SUM(BH99:BH577)), 2) -> 0 | I36: 0.12 | J36: =0 -> 0
E37: nulová | F37: =ROUND((SUM(BI99:BI577)), 2) -> 0 | I37: 0 | J37: =0 -> 0
D39: Cena s DPH | G39: v | H39: CZK | J39: =SUM(J30:J37) -> 227865.77
C45: REKAPITULACE ČLENĚNÍ SOUPISU PRACÍ
C47: Stavba:
E48: =E7 -> Rekonstrukce hygienických prostor ISŠT, Benešov, Černoleská 1997
C49: Objekt:
E50: =E9 -> 05 - 6.NP - č. 628 - Koupelna typ B
C52: Místo: | F52: =F12 -> Benešov, Černoleská 1997 | I52: Datum: | J52: =IF(J12="","",J12) -> 45880
C54: Zadavatel: | F54: =E15 -> Integrovaná střední škola technická | I54: Projektant: | J54: =E21 -> Ing. arch. Ondřej Lovíšek
C55: Účastník: | F55: =IF(E18="","",E18) -> OTISTAV s.r.o. | I55: Zpracovatel: | J55: =E24
C57: Kód dílu - Popis | J57: Cena celkem [CZK]
C59: Náklady stavby celkem | J59: =J99 -> 188318.82 | AU59: -1
D60: HSV - Práce a dodávky HSV | J60: =J100 -> 64595.37
D61: 6 - Úpravy povrchů, podlahy a osazování výplní | J61: =J101 -> 38726.52
D62: 9 - Ostatní konstrukce a práce, bourání | J62: =J158 -> 15672.98
D63: 997 - Přesun sutě | J63: =J216 -> 6673.01
D64: 998 - Přesun hmot | J64: =J228 -> 3522.86
D65: PSV - Práce a dodávky PSV | J65: =J231 -> 120662.83
D66: 721 - Zdravotechnika - vnitřní kanalizace | J66: =J232 -> 6827.78
D67: 722 - Zdravotechnika - vnitřní vodovod | J67: =J257 -> 7628.46
D68: 725 - Zdravotechnika - zařizovací předměty | J68: =J273 -> 34615.7
D69: 741 - Elektroinstalace - silnoproud | J69: =J314 -> 6690.61
D70: 751 - Vzduchotechnika | J70: =J366 -> 1391.25
D71: 763 - Konstrukce suché výstavby | J71: =J383 -> 1486.28
D72: 766 - Konstrukce truhlářské | J72: =J390 -> 12137.23
D73: 767 - Konstrukce zámečnické | J73: =J437 -> 1144.53
D74: 771 - Podlahy z dlaždic | J74: =J451 -> 13658.14
D75: 781 - Dokončovací práce - obklady | J75: =J505 -> 31430.96
D76: 783 - Dokončovací práce - nátěry | J76: =J542 -> 1827.94
D77: 784 - Dokončovací práce - malby a tapety | J77: =J559 -> 1823.95
D78: VRN - Vedlejší rozpočtové náklady | J78: =J574 -> 3060.62
D79: VRN4 - Inženýrská činnost | J79: =J575 -> 3060.62
C86: SOUPIS PRACÍ
C88: Stavba:
E89: =E7 -> Rekonstrukce hygienických prostor ISŠT, Benešov, Černoleská 1997
C90: Objekt:
E91: =E9 -> 05 - 6.NP - č. 628 - Koupelna typ B
C93: Místo: | F93: =F12 -> Benešov, Černoleská 1997 | I93: Datum: | J93: =IF(J12="","",J12) -> 45880
C95: Zadavatel: | F95: =E15 -> Integrovaná střední škola technická | I95: Projektant: | J95: =E21 -> Ing. arch. Ondřej Lovíšek
C96: Účastník: | F96: =IF(E18="","",E18) -> OTISTAV s.r.o. | I96: Zpracovatel: | J96: =E24
C98: PČ | D98: Typ | E98: Kód | F98: Popis | G98: MJ | H98: Množství | I98: J.cena [CZK] | J98: Cena celkem [CZK] | K98: Cenová soustava | N98: DPH | O98: J. Nh [h] | P98: Nh celkem [h] | Q98: J. hmotnost [t] | R98: Hmotnost celkem [t] | S98: J. suť [t] | T98: Suť Celkem [t]
C99: Náklady soupisu celkem | J99: =BK99 -> 188318.82 | P99: =P100+P231+P574 -> 0 | R99: =R100+R231+R574 -> 3.5393803 | T99: =T100+T231+T574 -> 2.530845 | AT99: D | AU99: -1 | BK99: =BK100+BK231+BK574 -> 188318.82
D100: D | E100: HSV | F100: Práce a dodávky HSV | J100: =BK100 -> 64595.37 | P100: =P101+P158+P216+P228 -> 0 | R100: =R101+R158+R216+R228 -> 2.7712859 | T100: =T101+T158+T216+T228 -> 2.402955 | AR100: 1 | AT100: D | AU100: 0 | AY100: ROZPOCET | BK100: =BK101+BK158+BK216+BK228 -> 64595.37
D101: D | E101: 6 | F101: Úpravy povrchů, podlahy a osazování výplní | J101: =BK101 -> 38726.52 | P101: =SUM(P102:P157) -> 0 | R101: =SUM(R102:R157) -> 2.7708369 | T101: =SUM(T102:T157) -> 0 | AR101: 1 | AT101: D | AU101: 1 | AY101: ROZPOCET | BK101: =SUM(BK102:BK157) -> 38726.52
C102: 1 | D102: K | E102: 612135101 | F102: Hrubá výplň rýh maltou jakékoli šířky rýhy ve stěnách | G102: m2 | H102: 3 | I102: 706.3 | J102: =ROUND(I102*H102,2) -> 2118.9 | K102: CS ÚRS 2025 01 | N102: základní | P102: =O102*H102 -> 0 | Q102: 0.056 | R102: =Q102*H102 -> 0.168 | S102: 0 | T102: =S102*H102 -> 0 | AR102: 4 | AT102: K | AU102: 2 | AY102: ROZPOCET | BE102: =IF(N102="základní",J102,0) -> 2118.9 | BF102: =IF(N102="snížená",J102,0) -> 0 | BG102: =IF(N102="zákl. přenesená",J102,0) -> 0 | BH102: =IF(N102="sníž. přenesená",J102,0) -> 0 | BI102: =IF(N102="nulová",J102,0) -> 0 | BJ102: 1 | BK102: =ROUND(I102*H102,2) -> 2118.9 | BL102: 4 | BM102: -1289229463
D103: Online PSC | F103: https://podminky.urs.cz/item/CS_URS_2025_01/612135101 | AT103: Online PSC | AU103: 2
D104: VV | F104: "zapravení rýh ve zdivu po rozvodech vody, kanalizace" | AT104: VV | AU104: 2 | AV104: 1 | AW104: True | AX104: 0 | AY104: ROZPOCET
D105: VV | F105: 10*0,3 | H105: 3 | AT105: VV | AU105: 2 | AV105: 2 | AW105: True | AX105: 1 | AY105: ROZPOCET
C106: 2 | D106: K | E106: 611142001 | F106: Pletivo vnitřních ploch v ploše nebo pruzích, na plném podkladu sklovláknité vtlačené do tmelu včetně tmelu stropů | G106: m2 | H106: 3.377 | I106: 291.94 | J106: =ROUND(I106*H106,2) -> 985.88 | K106: CS ÚRS 2025 01 | N106: základní | P106: =O106*H106 -> 0 | Q106: 0.00438 | R106: =Q106*H106 -> 0.01479126 | S106: 0 | T106: =S106*H106 -> 0 | AR106: 4 | AT106: K | AU106: 2 | AY106: ROZPOCET | BE106: =IF(N106="základní",J106,0) -> 985.88 | BF106: =IF(N106="snížená",J106,0) -> 0 | BG106: =IF(N106="zákl. přenesená",J106,0) -> 0 | BH106: =IF(N106="sníž. přenesená",J106,0) -> 0 | BI106: =IF(N106="nulová",J106,0) -> 0 | BJ106: 1 | BK106: =ROUND(I106*H106,2) -> 985.88 | BL106: 4 | BM106: 1575989164
D107: Online PSC | F107: https://podminky.urs.cz/item/CS_URS_2025_01/611142001 | AT107: Online PSC | AU107: 2
D108: VV | F108: "prostor umyvadel" | AT108: VV | AU108: 2 | AV108: 1 | AW108: True | AX108: 0 | AY108: ROZPOCET
D109: VV | F109: 1,42*0,82 | H109: 1.164 | AT109: VV | AU109: 2 | AV109: 2 | AW109: True | AX109: 0 | AY109: ROZPOCET
D110: VV | F110: "sprcha" | AT110: VV | AU110: 2 | AV110: 1 | AW110: True | AX110: 0 | AY110: ROZPOCET
D111: VV | F111: 1,42*0,9 | H111: 1.278 | AT111: VV | AU111: 2 | AV111: 2 | AW111: True | AX111: 0 | AY111: ROZPOCET
D112: VV | F112: "WC" | AT112: VV | AU112: 2 | AV112: 1 | AW112: True | AX112: 0 | AY112: ROZPOCET
D113: VV | F113: 0,82*1,14 | H113: 0.935 | AT113: VV | AU113: 2 | AV113: 2 | AW113: True | AX113: 0 | AY113: ROZPOCET
D114: VV | F114: Součet | H114: 3.377 | AT114: VV | AU114: 2 | AV114: 4 | AW114: True | AX114: 1 | AY114: ROZPOCET
C115: 3 | D115: K | E115: 611131121 | F115: Podkladní a spojovací vrstva vnitřních omítaných ploch penetrace disperzní nanášená ručně stropů | G115: m2 | H115: 3.377 | I115: 55.56 | J115: =ROUND(I115*H115,2) -> 187.63 | K115: CS ÚRS 2025 01 | N115: základní | P115: =O115*H115 -> 0 | Q115: 0.00026 | R115: =Q115*H115 -> 0.00087802 | S115: 0 | T115: =S115*H115 -> 0 | AR115: 4 | AT115: K | AU115: 2 | AY115: ROZPOCET | BE115: =IF(N115="základní",J115,0) -> 187.63 | BF115: =IF(N115="snížená",J115,0) -> 0 | BG115: =IF(N115="zákl. přenesená",J115,0) -> 0 | BH115: =IF(N115="sníž. přenesená",J115,0) -> 0 | BI115: =IF(N115="nulová",J115,0) -> 0 | BJ115: 1 | BK115: =ROUND(I115*H115,2) -> 187.63 | BL115: 4 | BM115: -58793847
D116: Online PSC | F116: https://podminky.urs.cz/item/CS_URS_2025_01/611131121 | AT116: Online PSC | AU116: 2
C117: 4 | D117: K | E117: 611321141 | F117: Omítka vápenocementová vnitřních ploch nanášená ručně dvouvrstvá, tloušťky jádrové omítky do 10 mm a tloušťky štuku do 3 mm štuková vodorovných konstrukcí stropů rovných | G117: m2 | H117: 3.377 | I117: 602.71 | J117: =ROUND(I117*H117,2) -> 2035.35 | K117: CS ÚRS 2025 01 | N117: základní | P117: =O117*H117 -> 0 | Q117: 0.01838 | R117: =Q117*H117 -> 0.06206926 | S117: 0 | T117: =S117*H117 -> 0 | AR117: 4 | AT117: K | AU117: 2 | AY117: ROZPOCET | BE117: =IF(N117="základní",J117,0) -> 2035.35 | BF117: =IF(N117="snížená",J117,0) -> 0 | BG117: =IF(N117="zákl. přenesená",J117,0) -> 0 | BH117: =IF(N117="sníž. přenesená",J117,0) -> 0 | BI117: =IF(N117="nulová",J117,0) -> 0 | BJ117: 1 | BK117: =ROUND(I117*H117,2) -> 2035.35 | BL117: 4 | BM117: 1864216325
D118: Online PSC | F118: https://podminky.urs.cz/item/CS_URS_2025_01/611321141 | AT118: Online PSC | AU118: 2
C119: 5 | D119: K | E119: 612135001 | F119: Vyrovnání podkladu vnitřních stěn maltou vápenocementovou tl do 10 mm | G119: m2 | H119: 26.715 | I119: 273.1 | J119: =ROUND(I119*H119,2) -> 7295.87 | K119: CS ÚRS 2025 01 | N119: základní | P119: =O119*H119 -> 0 | Q119: 0.02048 | R119: =Q119*H119 -> 0.5471232 | S119: 0 | T119: =S119*H119 -> 0 | AR119: 4 | AT119: K | AU119: 2 | AY119: ROZPOCET | BE119: =IF(N119="základní",J119,0) -> 7295.87 | BF119: =IF(N119="snížená",J119,0) -> 0 | BG119: =IF(N119="zákl. přenesená",J119,0) -> 0 | BH119: =IF(N119="sníž. přenesená",J119,0) -> 0 | BI119: =IF(N119="nulová",J119,0) -> 0 | BJ119: 1 | BK119: =ROUND(I119*H119,2) -> 7295.87 | BL119: 4 | BM119: -558823241
D120: Online PSC | F120: https://podminky.urs.cz/item/CS_URS_2025_01/612135001 | AT120: Online PSC | AU120: 2
D121: VV | F121: "místy nutné vyrovnání stěn až 5cm, vyrovnání v celé ploše i v místech obkladů" | AT121: VV | AU121: 2 | AV121: 1 | AW121: True | AX121: 0 | AY121: ROZPOCET
D122: VV | F122: "prostor umyvadel" | AT122: VV | AU122: 2 | AV122: 1 | AW122: True | AX122: 0 | AY122: ROZPOCET
D123: VV | F123: (1,42+0,82*2)*2,54 | H123: 7.772 | AT123: VV | AU123: 2 | AV123: 2 | AW123: True | AX123: 0 | AY123: ROZPOCET
D124: VV | F124: "sprcha" | AT124: VV | AU124: 2 | AV124: 1 | AW124: True | AX124: 0 | AY124: ROZPOCET
D125: VV | F125: (1,42*2+0,9*2)*2,54-(0,7*2) | H125: 10.386 | AT125: VV | AU125: 2 | AV125: 2 | AW125: True | AX125: 0 | AY125: ROZPOCET
D126: VV | F126: "WC" | AT126: VV | AU126: 2 | AV126: 1 | AW126: True | AX126: 0 | AY126: ROZPOCET
D127: VV | F127: (0,82*2+1,14*2)*2,54-(0,7*2) | H127: 8.557 | AT127: VV | AU127: 2 | AV127: 2 | AW127: True | AX127: 0 | AY127: ROZPOCET
D128: VV | F128: Součet | H128: 26.715 | AT128: VV | AU128: 2 | AV128: 4 | AW128: True | AX128: 1 | AY128: ROZPOCET
C129: 6 | D129: K | E129: 612135091 | F129: Vyrovnání nerovností podkladu vnitřních omítaných ploch Příplatek k ceně za každých dalších 5 mm tloušťky podkladní vrstvy přes 10 mm maltou vápenocementovou stěn | G129: m2 | H129: 213.718 | I129: 55.56 | J129: =ROUND(I129*H129,2) -> 11874.17 | K129: CS ÚRS 2025 01 | N129: základní | P129: =O129*H129 -> 0 | Q129: 0.0079 | R129: =Q129*H129 -> 1.6883722 | S129: 0 | T129: =S129*H129 -> 0 | AR129: 4 | AT129: K | AU129: 2 | AY129: ROZPOCET | BE129: =IF(N129="základní",J129,0) -> 11874.17 | BF129: =IF(N129="snížená",J129,0) -> 0 | BG129: =IF(N129="zákl. přenesená",J129,0) -> 0 | BH129: =IF(N129="sníž. přenesená",J129,0) -> 0 | BI129: =IF(N129="nulová",J129,0) -> 0 | BJ129: 1 | BK129: =ROUND(I129*H129,2) -> 11874.17 | BL129: 4 | BM129: 2051524646
D130: Online PSC | F130: https://podminky.urs.cz/item/CS_URS_2025_01/612135091 | AT130: Online PSC | AU130: 2
D131: VV | F131: "místy nutné vyrovnání stěn až 5cm, vyrovnání v celé ploše i v místech obkladů" | AT131: VV | AU131: 2 | AV131: 1 | AW131: True | AX131: 0 | AY131: ROZPOCET
D132: VV | F132: "prostor umyvadel" | AT132: VV | AU132: 2 | AV132: 1 | AW132: True | AX132: 0 | AY132: ROZPOCET
D133: VV | F133: (1,42+0,82*2)*2,54*8 | H133: 62.179 | AT133: VV | AU133: 2 | AV133: 2 | AW133: True | AX133: 0 | AY133: ROZPOCET
...

Sheet 06 - 6.NP - č. 629 - Koup...
AT2: {8c8092fd-35d6-4c98-8501-18b16538dec8}
AT3: 2
D4: KRYCÍ LIST SOUPISU PRACÍ | M4: v --- níže se nacházejí doplnkové a pomocné údaje k sestavám --- v | AT4: False
D6: Stavba:
E7: ='Rekapitulace stavby'!K6 -> Rekonstrukce hygienických prostor ISŠT, Benešov, Černoleská 1997
D8: Objekt:
E9: 06 - 6.NP - č. 629 - Koupelna typ B
D11: KSO: | I11: CC-CZ:
D12: Místo: | F12: Benešov, Černoleská 1997 | I12: Datum: | J12: ='Rekapitulace stavby'!AN8 -> 45880
D14: Zadavatel: | I14: IČ: | J14: 18620442
E15: Integrovaná střední škola technická | I15: DIČ:
D17: Účastník: | I17: IČ: | J17: ='Rekapitulace stavby'!AN13 -> 24832898
E18: ='Rekapitulace stavby'!E14 -> OTISTAV s.r.o. | I18: DIČ: | J18: ='Rekapitulace stavby'!AN14 -> CZ24832898
D20: Projektant: | I20: IČ:
E21: Ing. arch. Ondřej Lovíšek | I21: DIČ:
D23: Zpracovatel: | I23: IČ: | J23: =IF('Rekapitulace stavby'!AN19="","",'Rekapitulace stavby'!AN19)
E24: =IF('Rekapitulace stavby'!E20="","",'Rekapitulace stavby'!E20) | I24: DIČ: | J24: =IF('Rekapitulace stavby'!AN20="","",'Rekapitulace stavby'!AN20)
D26: Poznámka:
D30: Cena bez DPH | J30: =ROUND(J99, 2) -> 188318.82
F32: Základ daně | I32: Sazba daně | J32: Výše daně
D33: DPH | E33: základní | F33: =ROUND((SUM(BE99:BE577)), 2) -> 188318.82 | I33: 0.21 | J33: =ROUND(((SUM(BE99:BE577))*I33), 2) -> 39546.95
E34: snížená | F34: =ROUND((SUM(BF99:BF577)), 2) -> 0 | I34: 0.12 | J34: =ROUND(((SUM(BF99:BF577))*I34), 2) -> 0
E35: zákl. přenesená | F35: =ROUND((SUM(BG99:BG577)), 2) -> 0 | I35: 0.21 | J35: =0 -> 0
E36: sníž. přenesená | F36: =ROUND((SUM(BH99:BH577)), 2) -> 0 | I36: 0.12 | J36: =0 -> 0
E37: nulová | F37: =ROUND((SUM(BI99:BI577)), 2) -> 0 | I37: 0 | J37: =0 -> 0
D39: Cena s DPH | G39: v | H39: CZK | J39: =SUM(J30:J37) -> 227865.77
C45: REKAPITULACE ČLENĚNÍ SOUPISU PRACÍ
C47: Stavba:
E48: =E7 -> Rekonstrukce hygienických prostor ISŠT, Benešov, Černoleská 1997
C49: Objekt:
E50: =E9 -> 06 - 6.NP - č. 629 - Koupelna typ B
C52: Místo: | F52: =F12 -> Benešov, Černoleská 1997 | I52: Datum: | J52: =IF(J12="","",J12) -> 45880
C54: Zadavatel: | F54: =E15 -> Integrovaná střední škola technická | I54: Projektant: | J54: =E21 -> Ing. arch. Ondřej Lovíšek
C55: Účastník: | F55: =IF(E18="","",E18) -> OTISTAV s.r.o. | I55: Zpracovatel: | J55: =E24
C57: Kód dílu - Popis | J57: Cena celkem [CZK]
C59: Náklady stavby celkem | J59: =J99 -> 188318.82 | AU59: -1
D60: HSV - Práce a dodávky HSV | J60: =J100 -> 64595.37
D61: 6 - Úpravy povrchů, podlahy a osazování výplní | J61: =J101 -> 38726.52
D62: 9 - Ostatní konstrukce a práce, bourání | J62: =J158 -> 15672.98
D63: 997 - Přesun sutě | J63: =J216 -> 6673.01
D64: 998 - Přesun hmot | J64: =J228 -> 3522.86
D65: PSV - Práce a dodávky PSV | J65: =J231 -> 120662.83
D66: 721 - Zdravotechnika - vnitřní kanalizace | J66: =J232 -> 6827.78
D67: 722 - Zdravotechnika - vnitřní vodovod | J67: =J257 -> 7628.46
D68: 725 - Zdravotechnika - zařizovací předměty | J68: =J273 -> 34615.7
D69: 741 - Elektroinstalace - silnoproud | J69: =J314 -> 6690.61
D70: 751 - Vzduchotechnika | J70: =J366 -> 1391.25
D71: 763 - Konstrukce suché výstavby | J71: =J383 -> 1486.28
D72: 766 - Konstrukce truhlářské | J72: =J390 -> 12137.23
D73: 767 - Konstrukce zámečnické | J73: =J437 -> 1144.53
D74: 771 - Podlahy z dlaždic | J74: =J451 -> 13658.14
D75: 781 - Dokončovací práce - obklady | J75: =J505 -> 31430.96
D76: 783 - Dokončovací práce - nátěry | J76: =J542 -> 1827.94
D77: 784 - Dokončovací práce - malby a tapety | J77: =J559 -> 1823.95
D78: VRN - Vedlejší rozpočtové náklady | J78: =J574 -> 3060.62
D79: VRN4 - Inženýrská činnost | J79: =J575 -> 3060.62
C86: SOUPIS PRACÍ
C88: Stavba:
E89: =E7 -> Rekonstrukce hygienických prostor ISŠT, Benešov, Černoleská 1997
C90: Objekt:
E91: =E9 -> 06 - 6.NP - č. 629 - Koupelna typ B
C93: Místo: | F93: =F12 -> Benešov, Černoleská 1997 | I93: Datum: | J93: =IF(J12="","",J12) -> 45880
C95: Zadavatel: | F95: =E15 -> Integrovaná střední škola technická | I95: Projektant: | J95: =E21 -> Ing. arch. Ondřej Lovíšek
C96: Účastník: | F96: =IF(E18="","",E18) -> OTISTAV s.r.o. | I96: Zpracovatel: | J96: =E24
C98: PČ | D98: Typ | E98: Kód | F98: Popis | G98: MJ | H98: Množství | I98: J.cena [CZK] | J98: Cena celkem [CZK] | K98: Cenová soustava | N98: DPH | O98: J. Nh [h] | P98: Nh celkem [h] | Q98: J. hmotnost [t] | R98: Hmotnost celkem [t] | S98: J. suť [t] | T98: Suť Celkem [t]
C99: Náklady soupisu celkem | J99: =BK99 -> 188318.82 | P99: =P100+P231+P574 -> 0 | R99: =R100+R231+R574 -> 3.5393803 | T99: =T100+T231+T574 -> 2.530845 | AT99: D | AU99: -1 | BK99: =BK100+BK231+BK574 -> 188318.82
D100: D | E100: HSV | F100: Práce a dodávky HSV | J100: =BK100 -> 64595.37 | P100: =P101+P158+P216+P228 -> 0 | R100: =R101+R158+R216+R228 -> 2.7712859 | T100: =T101+T158+T216+T228 -> 2.402955 | AR100: 1 | AT100: D | AU100: 0 | AY100: ROZPOCET | BK100: =BK101+BK158+BK216+BK228 -> 64595.37
D101: D | E101: 6 | F101: Úpravy povrchů, podlahy a osazování výplní | J101: =BK101 -> 38726.52 | P101: =SUM(P102:P157) -> 0 | R101: =SUM(R102:R157) -> 2.7708369 | T101: =SUM(T102:T157) -> 0 | AR101: 1 | AT101: D | AU101: 1 | AY101: ROZPOCET | BK101: =SUM(BK102:BK157) -> 38726.52
C102: 1 | D102: K | E102: 612135101 | F102: Hrubá výplň rýh maltou jakékoli šířky rýhy ve stěnách | G102: m2 | H102: 3 | I102: 706.3 | J102: =ROUND(I102*H102,2) -> 2118.9 | K102: CS ÚRS 2025 01 | N102: základní | P102: =O102*H102 -> 0 | Q102: 0.056 | R102: =Q102*H102 -> 0.168 | S102: 0 | T102: =S102*H102 -> 0 | AR102: 4 | AT102: K | AU102: 2 | AY102: ROZPOCET | BE102: =IF(N102="základní",J102,0) -> 2118.9 | BF102: =IF(N102="snížená",J102,0) -> 0 | BG102: =IF(N102="zákl. přenesená",J102,0) -> 0 | BH102: =IF(N102="sníž. přenesená",J102,0) -> 0 | BI102: =IF(N102="nulová",J102,0) -> 0 | BJ102: 1 | BK102: =ROUND(I102*H102,2) -> 2118.9 | BL102: 4 | BM102: -1289229463
D103: Online PSC | F103: https://podminky.urs.cz/item/CS_URS_2025_01/612135101 | AT103: Online PSC | AU103: 2
D104: VV | F104: "zapravení rýh ve zdivu po rozvodech vody, kanalizace" | AT104: VV | AU104: 2 | AV104: 1 | AW104: True | AX104: 0 | AY104: ROZPOCET
D105: VV | F105: 10*0,3 | H105: 3 | AT105: VV | AU105: 2 | AV105: 2 | AW105: True | AX105: 1 | AY105: ROZPOCET
C106: 2 | D106: K | E106: 611142001 | F106: Pletivo vnitřních ploch v ploše nebo pruzích, na plném podkladu sklovláknité vtlačené do tmelu včetně tmelu stropů | G106: m2 | H106: 3.377 | I106: 291.94 | J106: =ROUND(I106*H106,2) -> 985.88 | K106: CS ÚRS 2025 01 | N106: základní | P106: =O106*H106 -> 0 | Q106: 0.00438 | R106: =Q106*H106 -> 0.01479126 | S106: 0 | T106: =S106*H106 -> 0 | AR106: 4 | AT106: K | AU106: 2 | AY106: ROZPOCET | BE106: =IF(N106="základní",J106,0) -> 985.88 | BF106: =IF(N106="snížená",J106,0) -> 0 | BG106: =IF(N106="zákl. přenesená",J106,0) -> 0 | BH106: =IF(N106="sníž. přenesená",J106,0) -> 0 | BI106: =IF(N106="nulová",J106,0) -> 0 | BJ106: 1 | BK106: =ROUND(I106*H106,2) -> 985.88 | BL106: 4 | BM106: 1575989164
D107: Online PSC | F107: https://podminky.urs.cz/item/CS_URS_2025_01/611142001 | AT107: Online PSC | AU107: 2
D108: VV | F108: "prostor umyvadel" | AT108: VV | AU108: 2 | AV108: 1 | AW108: True | AX108: 0 | AY108: ROZPOCET
D109: VV | F109: 1,42*0,82 | H109: 1.164 | AT109: VV | AU109: 2 | AV109: 2 | AW109: True | AX109: 0 | AY109: ROZPOCET
D110: VV | F110: "sprcha" | AT110: VV | AU110: 2 | AV110: 1 | AW110: True | AX110: 0 | AY110: ROZPOCET
D111: VV | F111: 1,42*0,9 | H111: 1.278 | AT111: VV | AU111: 2 | AV111: 2 | AW111: True | AX111: 0 | AY111: ROZPOCET
D112: VV | F112: "WC" | AT112: VV | AU112: 2 | AV112: 1 | AW112: True | AX112: 0 | AY112: ROZPOCET
D113: VV | F113: 0,82*1,14 | H113: 0.935 | AT113: VV | AU113: 2 | AV113: 2 | AW113: True | AX113: 0 | AY113: ROZPOCET
D114: VV | F114: Součet | H114: 3.377 | AT114: VV | AU114: 2 | AV114: 4 | AW114: True | AX114: 1 | AY114: ROZPOCET
C115: 3 | D115: K | E115: 611131121 | F115: Podkladní a spojovací vrstva vnitřních omítaných ploch penetrace disperzní nanášená ručně stropů | G115: m2 | H115: 3.377 | I115: 55.56 | J115: =ROUND(I115*H115,2) -> 187.63 | K115: CS ÚRS 2025 01 | N115: základní | P115: =O115*H115 -> 0 | Q115: 0.00026 | R115: =Q115*H115 -> 0.00087802 | S115: 0 | T115: =S115*H115 -> 0 | AR115: 4 | AT115: K | AU115: 2 | AY115: ROZPOCET | BE115: =IF(N115="základní",J115,0) -> 187.63 | BF115: =IF(N115="snížená",J115,0) -> 0 | BG115: =IF(N115="zákl. přenesená",J115,0) -> 0 | BH115: =IF(N115="sníž. přenesená",J115,0) -> 0 | BI115: =IF(N115="nulová",J115,0) -> 0 | BJ115: 1 | BK115: =ROUND(I115*H115,2) -> 187.63 | BL115: 4 | BM115: -58793847
D116: Online PSC | F116: https://podminky.urs.cz/item/CS_URS_2025_01/611131121 | AT116: Online PSC | AU116: 2
C117: 4 | D117: K | E117: 611321141 | F117: Omítka vápenocementová vnitřních ploch nanášená ručně dvouvrstvá, tloušťky jádrové omítky do 10 mm a tloušťky štuku do 3 mm štuková vodorovných konstrukcí stropů rovných | G117: m2 | H117: 3.377 | I117: 602.71 | J117: =ROUND(I117*H117,2) -> 2035.35 | K117: CS ÚRS 2025 01 | N117: základní | P117: =O117*H117 -> 0 | Q117: 0.01838 | R117: =Q117*H117 -> 0.06206926 | S117: 0 | T117: =S117*H117 -> 0 | AR117: 4 | AT117: K | AU117: 2 | AY117: ROZPOCET | BE117: =IF(N117="základní",J117,0) -> 2035.35 | BF117: =IF(N117="snížená",J117,0) -> 0 | BG117: =IF(N117="zákl. přenesená",J117,0) -> 0 | BH117: =IF(N117="sníž. přenesená",J117,0) -> 0 | BI117: =IF(N117="nulová",J117,0) -> 0 | BJ117: 1 | BK117: =ROUND(I117*H117,2) -> 2035.35 | BL117: 4 | BM117: 1864216325
D118: Online PSC | F118: https://podminky.urs.cz/item/CS_URS_2025_01/611321141 | AT118: Online PSC | AU118: 2
C119: 5 | D119: K | E119: 612135001 | F119: Vyrovnání podkladu vnitřních stěn maltou vápenocementovou tl do 10 mm | G119: m2 | H119: 26.715 | I119: 273.1 | J119: =ROUND(I119*H119,2) -> 7295.87 | K119: CS ÚRS 2025 01 | N119: základní | P119: =O119*H119 -> 0 | Q119: 0.02048 | R119: =Q119*H119 -> 0.5471232 | S119: 0 | T119: =S119*H119 -> 0 | AR119: 4 | AT119: K | AU119: 2 | AY119: ROZPOCET | BE119: =IF(N119="základní",J119,0) -> 7295.87 | BF119: =IF(N119="snížená",J119,0) -> 0 | BG119: =IF(N119="zákl. přenesená",J119,0) -> 0 | BH119: =IF(N119="sníž. přenesená",J119,0) -> 0 | BI119: =IF(N119="nulová",J119,0) -> 0 | BJ119: 1 | BK119: =ROUND(I119*H119,2) -> 7295.87 | BL119: 4 | BM119: -558823241
D120: Online PSC | F120: https://podminky.urs.cz/item/CS_URS_2025_01/612135001 | AT120: Online PSC | AU120: 2
D121: VV | F121: "místy nutné vyrovnání stěn až 5cm, vyrovnání v celé ploše i v místech obkladů" | AT121: VV | AU121: 2 | AV121: 1 | AW121: True | AX121: 0 | AY121: ROZPOCET
D122: VV | F122: "prostor umyvadel" | AT122: VV | AU122: 2 | AV122: 1 | AW122: True | AX122: 0 | AY122: ROZPOCET
D123: VV | F123: (1,42+0,82*2)*2,54 | H123: 7.772 | AT123: VV | AU123: 2 | AV123: 2 | AW123: True | AX123: 0 | AY123: ROZPOCET
D124: VV | F124: "sprcha" | AT124: VV | AU124: 2 | AV124: 1 | AW124: True | AX124: 0 | AY124: ROZPOCET
D125: VV | F125: (1,42*2+0,9*2)*2,54-(0,7*2) | H125: 10.386 | AT125: VV | AU125: 2 | AV125: 2 | AW125: True | AX125: 0 | AY125: ROZPOCET
D126: VV | F126: "WC" | AT126: VV | AU126: 2 | AV126: 1 | AW126: True | AX126: 0 | AY126: ROZPOCET
D127: VV | F127: (0,82*2+1,14*2)*2,54-(0,7*2) | H127: 8.557 | AT127: VV | AU127: 2 | AV127: 2 | AW127: True | AX127: 0 | AY127: ROZPOCET
D128: VV | F128: Součet | H128: 26.715 | AT128: VV | AU128: 2 | AV128: 4 | AW128: True | AX128: 1 | AY128: ROZPOCET
C129: 6 | D129: K | E129: 612135091 | F129: Vyrovnání nerovností podkladu vnitřních omítaných ploch Příplatek k ceně za každých dalších 5 mm tloušťky podkladní vrstvy přes 10 mm maltou vápenocementovou stěn | G129: m2 | H129: 213.718 | I129: 55.56 | J129: =ROUND(I129*H129,2) -> 11874.17 | K129: CS ÚRS 2025 01 | N129: základní | P129: =O129*H129 -> 0 | Q129: 0.0079 | R129: =Q129*H129 -> 1.6883722 | S129: 0 | T129: =S129*H129 -> 0 | AR129: 4 | AT129: K | AU129: 2 | AY129: ROZPOCET | BE129: =IF(N129="základní",J129,0) -> 11874.17 | BF129: =IF(N129="snížená",J129,0) -> 0 | BG129: =IF(N129="zákl. přenesená",J129,0) -> 0 | BH129: =IF(N129="sníž. přenesená",J129,0) -> 0 | BI129: =IF(N129="nulová",J129,0) -> 0 | BJ129: 1 | BK129: =ROUND(I129*H129,2) -> 11874.17 | BL129: 4 | BM129: 2051524646
D130: Online PSC | F130: https://podminky.urs.cz/item/CS_URS_2025_01/612135091 | AT130: Online PSC | AU130: 2
D131: VV | F131: "místy nutné vyrovnání stěn až 5cm, vyrovnání v celé ploše i v místech obkladů" | AT131: VV | AU131: 2 | AV131: 1 | AW131: True | AX131: 0 | AY131: ROZPOCET
D132: VV | F132: "prostor umyvadel" | AT132: VV | AU132: 2 | AV132: 1 | AW132: True | AX132: 0 | AY132: ROZPOCET
D133: VV | F133: (1,42+0,82*2)*2,54*8 | H133: 62.179 | AT133: VV | AU133: 2 | AV133: 2 | AW133: True | AX133: 0 | AY133: ROZPOCET
...

Sheet 07 - 6.NP - č. 621a - Kou...
AT2: {7e72d039-acc5-4cc8-99d2-231fd996fe30}
AT3: 2
D4: KRYCÍ LIST SOUPISU PRACÍ | M4: v --- níže se nacházejí doplnkové a pomocné údaje k sestavám --- v | AT4: False
D6: Stavba:
E7: ='Rekapitulace stavby'!K6 -> Rekonstrukce hygienických prostor ISŠT, Benešov, Černoleská 1997
D8: Objekt:
E9: 07 - 6.NP - č. 621a - Koupelna typ A1
D11: KSO: | I11: CC-CZ:
D12: Místo: | F12: Benešov, Černoleská 1997 | I12: Datum: | J12: ='Rekapitulace stavby'!AN8 -> 45880
D14: Zadavatel: | I14: IČ: | J14: 18620442
E15: Integrovaná střední škola technická | I15: DIČ:
D17: Účastník: | I17: IČ: | J17: ='Rekapitulace stavby'!AN13 -> 24832898
E18: ='Rekapitulace stavby'!E14 -> OTISTAV s.r.o. | I18: DIČ: | J18: ='Rekapitulace stavby'!AN14 -> CZ24832898
D20: Projektant: | I20: IČ:
E21: Ing. arch. Ondřej Lovíšek | I21: DIČ:
D23: Zpracovatel: | I23: IČ: | J23: =IF('Rekapitulace stavby'!AN19="","",'Rekapitulace stavby'!AN19)
E24: =IF('Rekapitulace stavby'!E20="","",'Rekapitulace stavby'!E20) | I24: DIČ: | J24: =IF('Rekapitulace stavby'!AN20="","",'Rekapitulace stavby'!AN20)
D26: Poznámka:
D30: Cena bez DPH | J30: =ROUND(J98, 2) -> 155241.1
F32: Základ daně | I32: Sazba daně | J32: Výše daně
D33: DPH | E33: základní | F33: =ROUND((SUM(BE98:BE488)), 2) -> 155241.1 | I33: 0.21 | J33: =ROUND(((SUM(BE98:BE488))*I33), 2) -> 32600.63
E34: snížená | F34: =ROUND((SUM(BF98:BF488)), 2) -> 0 | I34: 0.12 | J34: =ROUND(((SUM(BF98:BF488))*I34), 2) -> 0
E35: zákl. přenesená | F35: =ROUND((SUM(BG98:BG488)), 2) -> 0 | I35: 0.21 | J35: =0 -> 0
E36: sníž. přenesená | F36: =ROUND((SUM(BH98:BH488)), 2) -> 0 | I36: 0.12 | J36: =0 -> 0
E37: nulová | F37: =ROUND((SUM(BI98:BI488)), 2) -> 0 | I37: 0 | J37: =0 -> 0
D39: Cena s DPH | G39: v | H39: CZK | J39: =SUM(J30:J37) -> 187841.73
C45: REKAPITULACE ČLENĚNÍ SOUPISU PRACÍ
C47: Stavba:
E48: =E7 -> Rekonstrukce hygienických prostor ISŠT, Benešov, Černoleská 1997
C49: Objekt:
E50: =E9 -> 07 - 6.NP - č. 621a - Koupelna typ A1
C52: Místo: | F52: =F12 -> Benešov, Černoleská 1997 | I52: Datum: | J52: =IF(J12="","",J12) -> 45880
C54: Zadavatel: | F54: =E15 -> Integrovaná střední škola technická | I54: Projektant: | J54: =E21 -> Ing. arch. Ondřej Lovíšek
C55: Účastník: | F55: =IF(E18="","",E18) -> OTISTAV s.r.o. | I55: Zpracovatel: | J55: =E24
C57: Kód dílu - Popis | J57: Cena celkem [CZK]
C59: Náklady stavby celkem | J59: =J98 -> 155241.1 | AU59: -1
D60: HSV - Práce a dodávky HSV | J60: =J99 -> 57434.93
D61: 6 - Úpravy povrchů, podlahy a osazování výplní | J61: =J100 -> 34779.88
D62: 9 - Ostatní konstrukce a práce, bourání | J62: =J139 -> 13337.61
D63: 997 - Přesun sutě | J63: =J191 -> 6103.52
D64: 998 - Přesun hmot | J64: =J203 -> 3213.92
D65: PSV - Práce a dodávky PSV | J65: =J206 -> 94745.55
D66: 721 - Zdravotechnika - vnitřní kanalizace | J66: =J207 -> 6328.66
D67: 722 - Zdravotechnika - vnitřní vodovod | J67: =J221 -> 7259.3
D68: 725 - Zdravotechnika - zařizovací předměty | J68: =J237 -> 21096.22
D69: 741 - Elektroinstalace - silnoproud | J69: =J273 -> 4781.04
D70: 751 - Vzduchotechnika | J70: =J326 -> 1391.25
D71: 766 - Konstrukce truhlářské | J71: =J338 -> 7566.69
D72: 767 - Konstrukce zámečnické | J72: =J358 -> 1144.53
D73: 771 - Podlahy z dlaždic | J73: =J371 -> 12045.76
D74: 781 - Dokončovací práce - obklady | J74: =J422 -> 29893.56
D75: 783 - Dokončovací práce - nátěry | J75: =J452 -> 1827.94
D76: 784 - Dokončovací práce - malby a tapety | J76: =J467 -> 1410.6
D77: VRN - Vedlejší rozpočtové náklady | J77: =J485 -> 3060.62
D78: VRN4 - Inženýrská činnost | J78: =J486 -> 3060.62
C85: SOUPIS PRACÍ
C87: Stavba:
E88: =E7 -> Rekonstrukce hygienických prostor ISŠT, Benešov, Černoleská 1997
C89: Objekt:
E90: =E9 -> 07 - 6.NP - č. 621a - Koupelna typ A1
C92: Místo: | F92: =F12 -> Benešov, Černoleská 1997 | I92: Datum: | J92: =IF(J12="","",J12) -> 45880
C94: Zadavatel: | F94: =E15 -> Integrovaná střední škola technická | I94: Projektant: | J94: =E21 -> Ing. arch. Ondřej Lovíšek
C95: Účastník: | F95: =IF(E18="","",E18) -> OTISTAV s.r.o. | I95: Zpracovatel: | J95: =E24
C97: PČ | D97: Typ | E97: Kód | F97: Popis | G97: MJ | H97: Množství | I97: J.cena [CZK] | J97: Cena celkem [CZK] | K97: Cenová soustava | N97: DPH | O97: J. Nh [h] | P97: Nh celkem [h] | Q97: J. hmotnost [t] | R97: Hmotnost celkem [t] | S97: J. suť [t] | T97: Suť Celkem [t]
C98: Náklady soupisu celkem | J98: =BK98 -> 155241.1 | P98: =P99+P206+P485 -> 0 | R98: =R99+R206+R485 -> 3.1644057 | T98: =T99+T206+T485 -> 2.314996 | AT98: D | AU98: -1 | BK98: =BK99+BK206+BK485 -> 155241.1
D99: D | E99: HSV | F99: Práce a dodávky HSV | J99: =BK99 -> 57434.93 | P99: =P100+P139+P191+P203 -> 0 | R99: =R100+R139+R191+R203 -> 2.5281064 | T99: =T100+T139+T191+T203 -> 2.212126 | AR99: 1 | AT99: D | AU99: 0 | AY99: ROZPOCET | BK99: =BK100+BK139+BK191+BK203 -> 57434.93
D100: D | E100: 6 | F100: Úpravy povrchů, podlahy a osazování výplní | J100: =BK100 -> 34779.88 | P100: =SUM(P101:P138) -> 0 | R100: =SUM(R101:R138) -> 2.5276939 | T100: =SUM(T101:T138) -> 0 | AR100: 1 | AT100: D | AU100: 1 | AY100: ROZPOCET | BK100: =SUM(BK101:BK138) -> 34779.88
C101: 1 | D101: K | E101: 612135101 | F101: Hrubá výplň rýh maltou jakékoli šířky rýhy ve stěnách | G101: m2 | H101: 3 | I101: 706.3 | J101: =ROUND(I101*H101,2) -> 2118.9 | K101: CS ÚRS 2025 01 | N101: základní | P101: =O101*H101 -> 0 | Q101: 0.056 | R101: =Q101*H101 -> 0.168 | S101: 0 | T101: =S101*H101 -> 0 | AR101: 4 | AT101: K | AU101: 2 | AY101: ROZPOCET | BE101: =IF(N101="základní",J101,0) -> 2118.9 | BF101: =IF(N101="snížená",J101,0) -> 0 | BG101: =IF(N101="zákl. přenesená",J101,0) -> 0 | BH101: =IF(N101="sníž. přenesená",J101,0) -> 0 | BI101: =IF(N101="nulová",J101,0) -> 0 | BJ101: 1 | BK101: =ROUND(I101*H101,2) -> 2118.9 | BL101: 4 | BM101: -1226278407
D102: Online PSC | F102: https://podminky.urs.cz/item/CS_URS_2025_01/612135101 | AT102: Online PSC | AU102: 2
D103: VV | F103: "zapravení rýh ve zdivu po rozvodech vody, kanalizace" | AT103: VV | AU103: 2 | AV103: 1 | AW103: True | AX103: 0 | AY103: ROZPOCET
D104: VV | F104: 10*0,3 | H104: 3 | AT104: VV | AU104: 2 | AV104: 2 | AW104: True | AX104: 1 | AY104: ROZPOCET
C105: 2 | D105: K | E105: 611131121 | F105: Podkladní a spojovací vrstva vnitřních omítaných ploch penetrace disperzní nanášená ručně stropů | G105: m2 | H105: 3.096 | I105: 55.56 | J105: =ROUND(I105*H105,2) -> 172.01 | K105: CS ÚRS 2025 01 | N105: základní | P105: =O105*H105 -> 0 | Q105: 0.00026 | R105: =Q105*H105 -> 0.00080496 | S105: 0 | T105: =S105*H105 -> 0 | AR105: 4 | AT105: K | AU105: 2 | AY105: ROZPOCET | BE105: =IF(N105="základní",J105,0) -> 172.01 | BF105: =IF(N105="snížená",J105,0) -> 0 | BG105: =IF(N105="zákl. přenesená",J105,0) -> 0 | BH105: =IF(N105="sníž. přenesená",J105,0) -> 0 | BI105: =IF(N105="nulová",J105,0) -> 0 | BJ105: 1 | BK105: =ROUND(I105*H105,2) -> 172.01 | BL105: 4 | BM105: 1824693536
D106: Online PSC | F106: https://podminky.urs.cz/item/CS_URS_2025_01/611131121 | AT106: Online PSC | AU106: 2
D107: VV | F107: "WC" | AT107: VV | AU107: 2 | AV107: 1 | AW107: True | AX107: 0 | AY107: ROZPOCET
D108: VV | F108: 0,82*1,6 | H108: 1.312 | AT108: VV | AU108: 2 | AV108: 2 | AW108: True | AX108: 0 | AY108: ROZPOCET
D109: VV | F109: "koupelna" | AT109: VV | AU109: 2 | AV109: 1 | AW109: True | AX109: 0 | AY109: ROZPOCET
D110: VV | F110: 1,72*0,85+0,92*0,35 | H110: 1.784 | AT110: VV | AU110: 2 | AV110: 2 | AW110: True | AX110: 0 | AY110: ROZPOCET
D111: VV | F111: Součet | H111: 3.096 | AT111: VV | AU111: 2 | AV111: 4 | AW111: True | AX111: 1 | AY111: ROZPOCET
C112: 3 | D112: K | E112: 611142001 | F112: Pletivo vnitřních ploch v ploše nebo pruzích, na plném podkladu sklovláknité vtlačené do tmelu včetně tmelu stropů | G112: m2 | H112: 3.096 | I112: 291.94 | J112: =ROUND(I112*H112,2) -> 903.85 | K112: CS ÚRS 2025 01 | N112: základní | P112: =O112*H112 -> 0 | Q112: 0.00438 | R112: =Q112*H112 -> 0.01356048 | S112: 0 | T112: =S112*H112 -> 0 | AR112: 4 | AT112: K | AU112: 2 | AY112: ROZPOCET | BE112: =IF(N112="základní",J112,0) -> 903.85 | BF112: =IF(N112="snížená",J112,0) -> 0 | BG112: =IF(N112="zákl. přenesená",J112,0) -> 0 | BH112: =IF(N112="sníž. přenesená",J112,0) -> 0 | BI112: =IF(N112="nulová",J112,0) -> 0 | BJ112: 1 | BK112: =ROUND(I112*H112,2) -> 903.85 | BL112: 4 | BM112: 1051918594
D113: Online PSC | F113: https://podminky.urs.cz/item/CS_URS_2025_01/611142001 | AT113: Online PSC | AU113: 2
C114: 4 | D114: K | E114: 611321141 | F114: Omítka vápenocementová vnitřních ploch nanášená ručně dvouvrstvá, tloušťky jádrové omítky do 10 mm a tloušťky štuku do 3 mm štuková vodorovných konstrukcí stropů rovných | G114: m2 | H114: 3.096 | I114: 602.71 | J114: =ROUND(I114*H114,2) -> 1865.99 | K114: CS ÚRS 2025 01 | N114: základní | P114: =O114*H114 -> 0 | Q114: 0.01838 | R114: =Q114*H114 -> 0.05690448 | S114: 0 | T114: =S114*H114 -> 0 | AR114: 4 | AT114: K | AU114: 2 | AY114: ROZPOCET | BE114: =IF(N114="základní",J114,0) -> 1865.99 | BF114: =IF(N114="snížená",J114,0) -> 0 | BG114: =IF(N114="zákl. přenesená",J114,0) -> 0 | BH114: =IF(N114="sníž. přenesená",J114,0) -> 0 | BI114: =IF(N114="nulová",J114,0) -> 0 | BJ114: 1 | BK114: =ROUND(I114*H114,2) -> 1865.99 | BL114: 4 | BM114: -348378221
D115: Online PSC | F115: https://podminky.urs.cz/item/CS_URS_2025_01/611321141 | AT115: Online PSC | AU115: 2
C116: 5 | D116: K | E116: 612135001 | F116: Vyrovnání podkladu vnitřních stěn maltou vápenocementovou tl do 10 mm | G116: m2 | H116: 24.328 | I116: 273.1 | J116: =ROUND(I116*H116,2) -> 6643.98 | K116: CS ÚRS 2025 01 | N116: základní | P116: =O116*H116 -> 0 | Q116: 0.02048 | R116: =Q116*H116 -> 0.49823744 | S116: 0 | T116: =S116*H116 -> 0 | AR116: 4 | AT116: K | AU116: 2 | AY116: ROZPOCET | BE116: =IF(N116="základní",J116,0) -> 6643.98 | BF116: =IF(N116="snížená",J116,0) -> 0 | BG116: =IF(N116="zákl. přenesená",J116,0) -> 0 | BH116: =IF(N116="sníž. přenesená",J116,0) -> 0 | BI116: =IF(N116="nulová",J116,0) -> 0 | BJ116: 1 | BK116: =ROUND(I116*H116,2) -> 6643.98 | BL116: 4 | BM116: 1742351383
D117: Online PSC | F117: https://podminky.urs.cz/item/CS_URS_2025_01/612135001 | AT117: Online PSC | AU117: 2
D118: VV | F118: "místy nutné vyrovnání stěn až 5cm, vyrovnání v celé ploše i v místech obkladů" | AT118: VV | AU118: 2 | AV118: 1 | AW118: True | AX118: 0 | AY118: ROZPOCET
D119: VV | F119: "WC" | AT119: VV | AU119: 2 | AV119: 1 | AW119: True | AX119: 0 | AY119: ROZPOCET
D120: VV | F120: (0,82*2+1,6*2)*2,54-(0,7*2) | H120: 10.894 | AT120: VV | AU120: 2 | AV120: 2 | AW120: True | AX120: 0 | AY120: ROZPOCET
D121: VV | F121: "koupelna" | AT121: VV | AU121: 2 | AV121: 1 | AW121: True | AX121: 0 | AY121: ROZPOCET
D122: VV | F122: (1,72*2+1,2*2)*2,54-(0,7*2) | H122: 13.434 | AT122: VV | AU122: 2 | AV122: 2 | AW122: True | AX122: 0 | AY122: ROZPOCET
D123: VV | F123: Součet | H123: 24.328 | AT123: VV | AU123: 2 | AV123: 4 | AW123: True | AX123: 1 | AY123: ROZPOCET
C124: 6 | D124: K | E124: 612135091 | F124: Vyrovnání nerovností podkladu vnitřních omítaných ploch Příplatek k ceně za každých dalších 5 mm tloušťky podkladní vrstvy přes 10 mm maltou vápenocementovou stěn | G124: m2 | H124: 194.624 | I124: 55.56 | J124: =ROUND(I124*H124,2) -> 10813.31 | K124: CS ÚRS 2025 01 | N124: základní | P124: =O124*H124 -> 0 | Q124: 0.0079 | R124: =Q124*H124 -> 1.5375296 | S124: 0 | T124: =S124*H124 -> 0 | AR124: 4 | AT124: K | AU124: 2 | AY124: ROZPOCET | BE124: =IF(N124="základní",J124,0) -> 10813.31 | BF124: =IF(N124="snížená",J124,0) -> 0 | BG124: =IF(N124="zákl. přenesená",J124,0) -> 0 | BH124: =IF(N124="sníž. přenesená",J124,0) -> 0 | BI124: =IF(N124="nulová",J124,0) -> 0 | BJ124: 1 | BK124: =ROUND(I124*H124,2) -> 10813.31 | BL124: 4 | BM124: -149725129
D125: Online PSC | F125: https://podminky.urs.cz/item/CS_URS_2025_01/612135091 | AT125: Online PSC | AU125: 2
D126: VV | F126: 24,328*8 | H126: 194.624 | AT126: VV | AU126: 2 | AV126: 2 | AW126: True | AX126: 1 | AY126: ROZPOCET
C127: 7 | D127: K | E127: 612142001 | F127: Pletivo vnitřních ploch v ploše nebo pruzích, na plném podkladu sklovláknité vtlačené do tmelu včetně tmelu stěn | G127: m2 | H127: 24.328 | I127: 291.94 | J127: =ROUND(I127*H127,2) -> 7102.32 | K127: CS ÚRS 2025 01 | N127: základní | P127: =O127*H127 -> 0 | Q127: 0.00438 | R127: =Q127*H127 -> 0.10655664 | S127: 0 | T127: =S127*H127 -> 0 | AR127: 4 | AT127: K | AU127: 2 | AY127: ROZPOCET | BE127: =IF(N127="základní",J127,0) -> 7102.32 | BF127: =IF(N127="snížená",J127,0) -> 0 | BG127: =IF(N127="zákl. přenesená",J127,0) -> 0 | BH127: =IF(N127="sníž. přenesená",J127,0) -> 0 | BI127: =IF(N127="nulová",J127,0) -> 0 | BJ127: 1 | BK127: =ROUND(I127*H127,2) -> 7102.32 | BL127: 4 | BM127: 974999523
D128: Online PSC | F128: https://podminky.urs.cz/item/CS_URS_2025_01/612142001 | AT128: Online PSC | AU128: 2
C129: 8 | D129: K | E129: 612131121 | F129: Podkladní a spojovací vrstva vnitřních omítaných ploch penetrace disperzní nanášená ručně stěn | G129: m2 | H129: 7.838 | I129: 55.56 | J129: =ROUND(I129*H129,2) -> 435.48 | K129: CS ÚRS 2025 01 | N129: základní | P129: =O129*H129 -> 0 | Q129: 0.00026 | R129: =Q129*H129 -> 0.00203788 | S129: 0 | T129: =S129*H129 -> 0 | AR129: 4 | AT129: K | AU129: 2 | AY129: ROZPOCET | BE129: =IF(N129="základní",J129,0) -> 435.48 | BF129: =IF(N129="snížená",J129,0) -> 0 | BG129: =IF(N129="zákl. přenesená",J129,0) -> 0 | BH129: =IF(N129="sníž. přenesená",J129,0) -> 0 | BI129: =IF(N129="nulová",J129,0) -> 0 | BJ129: 1 | BK129: =ROUND(I129*H129,2) -> 435.48 | BL129: 4 | BM129: 61208206
D130: Online PSC | F130: https://podminky.urs.cz/item/CS_URS_2025_01/612131121 | AT130: Online PSC | AU130: 2
D131: VV | F131: "mimo obklad" | AT131: VV | AU131: 2 | AV131: 1 | AW131: True | AX131: 0 | AY131: ROZPOCET
D132: VV | F132: "WC" | AT132: VV | AU132: 2 | AV132: 1 | AW132: True | AX132: 0 | AY132: ROZPOCET
D133: VV | F133: (0,82*2+1,6*2)*(2,54-1,5)-(0,7*(2-1,5)) | H133: 4.684 | AT133: VV | AU133: 2 | AV133: 2 | AW133: True | AX133: 0 | AY133: ROZPOCET
...

Sheet 08 - 6.NP - č. 614a - Kou...
AT2: {1b9f5fea-0f32-43d9-b457-164c5e520301}
AT3: 2
D4: KRYCÍ LIST SOUPISU PRACÍ | M4: v --- níže se nacházejí doplnkové a pomocné údaje k sestavám --- v | AT4: False
D6: Stavba:
E7: ='Rekapitulace stavby'!K6 -> Rekonstrukce hygienických prostor ISŠT, Benešov, Černoleská 1997
D8: Objekt:
E9: 08 - 6.NP - č. 614a - Koupelna typ A2
D11: KSO: | I11: CC-CZ:
D12: Místo: | F12: Benešov, Černoleská 1997 | I12: Datum: | J12: ='Rekapitulace stavby'!AN8 -> 45880
D14: Zadavatel: | I14: IČ: | J14: 18620442
E15: Integrovaná střední škola technická | I15: DIČ:
D17: Účastník: | I17: IČ: | J17: ='Rekapitulace stavby'!AN13 -> 24832898
E18: ='Rekapitulace stavby'!E14 -> OTISTAV s.r.o. | I18: DIČ: | J18: ='Rekapitulace stavby'!AN14 -> CZ24832898
D20: Projektant: | I20: IČ:
E21: Ing. arch. Ondřej Lovíšek | I21: DIČ:
D23: Zpracovatel: | I23: IČ: | J23: =IF('Rekapitulace stavby'!AN19="","",'Rekapitulace stavby'!AN19)
E24: =IF('Rekapitulace stavby'!E20="","",'Rekapitulace stavby'!E20) | I24: DIČ: | J24: =IF('Rekapitulace stavby'!AN20="","",'Rekapitulace stavby'!AN20)
D26: Poznámka:
D30: Cena bez DPH | J30: =ROUND(J98, 2) -> 155502.3
F32: Základ daně | I32: Sazba daně | J32: Výše daně
D33: DPH | E33: základní | F33: =ROUND((SUM(BE98:BE488)), 2) -> 155502.3 | I33: 0.21 | J33: =ROUND(((SUM(BE98:BE488))*I33), 2) -> 32655.48
E34: snížená | F34: =ROUND((SUM(BF98:BF488)), 2) -> 0 | I34: 0.12 | J34: =ROUND(((SUM(BF98:BF488))*I34), 2) -> 0
E35: zákl. přenesená | F35: =ROUND((SUM(BG98:BG488)), 2) -> 0 | I35: 0.21 | J35: =0 -> 0
E36: sníž. přenesená | F36: =ROUND((SUM(BH98:BH488)), 2) -> 0 | I36: 0.12 | J36: =0 -> 0
E37: nulová | F37: =ROUND((SUM(BI98:BI488)), 2) -> 0 | I37: 0 | J37: =0 -> 0
D39: Cena s DPH | G39: v | H39: CZK | J39: =SUM(J30:J37) -> 188157.78
C45: REKAPITULACE ČLENĚNÍ SOUPISU PRACÍ
C47: Stavba:
E48: =E7 -> Rekonstrukce hygienických prostor ISŠT, Benešov, Černoleská 1997
C49: Objekt:
E50: =E9 -> 08 - 6.NP - č. 614a - Koupelna typ A2
C52: Místo: | F52: =F12 -> Benešov, Černoleská 1997 | I52: Datum: | J52: =IF(J12="","",J12) -> 45880
C54: Zadavatel: | F54: =E15 -> Integrovaná střední škola technická | I54: Projektant: | J54: =E21 -> Ing. arch. Ondřej Lovíšek
C55: Účastník: | F55: =IF(E18="","",E18) -> OTISTAV s.r.o. | I55: Zpracovatel: | J55: =E24
C57: Kód dílu - Popis | J57: Cena celkem [CZK]
C59: Náklady stavby celkem | J59: =J98 -> 155502.3 | AU59: -1
D60: HSV - Práce a dodávky HSV | J60: =J99 -> 57560.45
D61: 6 - Úpravy povrchů, podlahy a osazování výplní | J61: =J100 -> 34853.15
D62: 9 - Ostatní konstrukce a práce, bourání | J62: =J139 -> 13344.42
D63: 997 - Přesun sutě | J63: =J191 -> 6129.89
D64: 998 - Přesun hmot | J64: =J203 -> 3232.99
D65: PSV - Práce a dodávky PSV | J65: =J206 -> 94881.23
D66: 721 - Zdravotechnika - vnitřní kanalizace | J66: =J207 -> 6328.66
D67: 722 - Zdravotechnika - vnitřní vodovod | J67: =J221 -> 7259.3
D68: 725 - Zdravotechnika - zařizovací předměty | J68: =J237 -> 21093.71
D69: 741 - Elektroinstalace - silnoproud | J69: =J273 -> 4781.04
D70: 751 - Vzduchotechnika | J70: =J326 -> 1391.25
D71: 766 - Konstrukce truhlářské | J71: =J338 -> 7566.69
D72: 767 - Konstrukce zámečnické | J72: =J358 -> 1144.53
D73: 771 - Podlahy z dlaždic | J73: =J371 -> 11856.66
D74: 781 - Dokončovací práce - obklady | J74: =J422 -> 30234.92
D75: 783 - Dokončovací práce - nátěry | J75: =J452 -> 1827.94
D76: 784 - Dokončovací práce - malby a tapety | J76: =J467 -> 1396.53
D77: VRN - Vedlejší rozpočtové náklady | J77: =J485 -> 3060.62
D78: VRN4 - Inženýrská činnost | J78: =J486 -> 3060.62
C85: SOUPIS PRACÍ
C87: Stavba:
E88: =E7 -> Rekonstrukce hygienických prostor ISŠT, Benešov, Černoleská 1997
C89: Objekt:
E90: =E9 -> 08 - 6.NP - č. 614a - Koupelna typ A2
C92: Místo: | F92: =F12 -> Benešov, Černoleská 1997 | I92: Datum: | J92: =IF(J12="","",J12) -> 45880
C94: Zadavatel: | F94: =E15 -> Integrovaná střední škola technická | I94: Projektant: | J94: =E21 -> Ing. arch. Ondřej Lovíšek
C95: Účastník: | F95: =IF(E18="","",E18) -> OTISTAV s.r.o. | I95: Zpracovatel: | J95: =E24
C97: PČ | D97: Typ | E97: Kód | F97: Popis | G97: MJ | H97: Množství | I97: J.cena [CZK] | J97: Cena celkem [CZK] | K97: Cenová soustava | N97: DPH | O97: J. Nh [h] | P97: Nh celkem [h] | Q97: J. hmotnost [t] | R97: Hmotnost celkem [t] | S97: J. suť [t] | T97: Suť Celkem [t]
C98: Náklady soupisu celkem | J98: =BK98 -> 155502.3 | P98: =P99+P206+P485 -> 0 | R98: =R99+R206+R485 -> 3.1764213 | T98: =T99+T206+T485 -> 2.325288 | AT98: D | AU98: -1 | BK98: =BK99+BK206+BK485 -> 155502.3
D99: D | E99: HSV | F99: Práce a dodávky HSV | J99: =BK99 -> 57560.45 | P99: =P100+P139+P191+P203 -> 0 | R99: =R100+R139+R191+R203 -> 2.5425718 | T99: =T100+T139+T191+T203 -> 2.222418 | AR99: 1 | AT99: D | AU99: 0 | AY99: ROZPOCET | BK99: =BK100+BK139+BK191+BK203 -> 57560.45
D100: D | E100: 6 | F100: Úpravy povrchů, podlahy a osazování výplní | J100: =BK100 -> 34853.15 | P100: =SUM(P101:P138) -> 0 | R100: =SUM(R101:R138) -> 2.5421726 | T100: =SUM(T101:T138) -> 0 | AR100: 1 | AT100: D | AU100: 1 | AY100: ROZPOCET | BK100: =SUM(BK101:BK138) -> 34853.15
C101: 1 | D101: K | E101: 612135101 | F101: Hrubá výplň rýh maltou jakékoli šířky rýhy ve stěnách | G101: m2 | H101: 3 | I101: 706.3 | J101: =ROUND(I101*H101,2) -> 2118.9 | K101: CS ÚRS 2025 01 | N101: základní | P101: =O101*H101 -> 0 | Q101: 0.056 | R101: =Q101*H101 -> 0.168 | S101: 0 | T101: =S101*H101 -> 0 | AR101: 4 | AT101: K | AU101: 2 | AY101: ROZPOCET | BE101: =IF(N101="základní",J101,0) -> 2118.9 | BF101: =IF(N101="snížená",J101,0) -> 0 | BG101: =IF(N101="zákl. přenesená",J101,0) -> 0 | BH101: =IF(N101="sníž. přenesená",J101,0) -> 0 | BI101: =IF(N101="nulová",J101,0) -> 0 | BJ101: 1 | BK101: =ROUND(I101*H101,2) -> 2118.9 | BL101: 4 | BM101: -1242534876
D102: Online PSC | F102: https://podminky.urs.cz/item/CS_URS_2025_01/612135101 | AT102: Online PSC | AU102: 2
D103: VV | F103: "zapravení rýh ve zdivu po rozvodech vody, kanalizace" | AT103: VV | AU103: 2 | AV103: 1 | AW103: True | AX103: 0 | AY103: ROZPOCET
D104: VV | F104: 10*0,3 | H104: 3 | AT104: VV | AU104: 2 | AV104: 2 | AW104: True | AX104: 1 | AY104: ROZPOCET
C105: 2 | D105: K | E105: 611131121 | F105: Podkladní a spojovací vrstva vnitřních omítaných ploch penetrace disperzní nanášená ručně stropů | G105: m2 | H105: 2.994 | I105: 55.56 | J105: =ROUND(I105*H105,2) -> 166.35 | K105: CS ÚRS 2025 01 | N105: základní | P105: =O105*H105 -> 0 | Q105: 0.00026 | R105: =Q105*H105 -> 0.00077844 | S105: 0 | T105: =S105*H105 -> 0 | AR105: 4 | AT105: K | AU105: 2 | AY105: ROZPOCET | BE105: =IF(N105="základní",J105,0) -> 166.35 | BF105: =IF(N105="snížená",J105,0) -> 0 | BG105: =IF(N105="zákl. přenesená",J105,0) -> 0 | BH105: =IF(N105="sníž. přenesená",J105,0) -> 0 | BI105: =IF(N105="nulová",J105,0) -> 0 | BJ105: 1 | BK105: =ROUND(I105*H105,2) -> 166.35 | BL105: 4 | BM105: -346936540
D106: Online PSC | F106: https://podminky.urs.cz/item/CS_URS_2025_01/611131121 | AT106: Online PSC | AU106: 2
D107: VV | F107: "WC" | AT107: VV | AU107: 2 | AV107: 1 | AW107: True | AX107: 0 | AY107: ROZPOCET
D108: VV | F108: 0,82*1,55 | H108: 1.271 | AT108: VV | AU108: 2 | AV108: 2 | AW108: True | AX108: 0 | AY108: ROZPOCET
D109: VV | F109: "koupelna" | AT109: VV | AU109: 2 | AV109: 1 | AW109: True | AX109: 0 | AY109: ROZPOCET
D110: VV | F110: 1,46*0,55+0,92*1 | H110: 1.723 | AT110: VV | AU110: 2 | AV110: 2 | AW110: True | AX110: 0 | AY110: ROZPOCET
D111: VV | F111: Součet | H111: 2.994 | AT111: VV | AU111: 2 | AV111: 4 | AW111: True | AX111: 1 | AY111: ROZPOCET
C112: 3 | D112: K | E112: 611142001 | F112: Pletivo vnitřních ploch v ploše nebo pruzích, na plném podkladu sklovláknité vtlačené do tmelu včetně tmelu stropů | G112: m2 | H112: 2.994 | I112: 291.94 | J112: =ROUND(I112*H112,2) -> 874.07 | K112: CS ÚRS 2025 01 | N112: základní | P112: =O112*H112 -> 0 | Q112: 0.00438 | R112: =Q112*H112 -> 0.01311372 | S112: 0 | T112: =S112*H112 -> 0 | AR112: 4 | AT112: K | AU112: 2 | AY112: ROZPOCET | BE112: =IF(N112="základní",J112,0) -> 874.07 | BF112: =IF(N112="snížená",J112,0) -> 0 | BG112: =IF(N112="zákl. přenesená",J112,0) -> 0 | BH112: =IF(N112="sníž. přenesená",J112,0) -> 0 | BI112: =IF(N112="nulová",J112,0) -> 0 | BJ112: 1 | BK112: =ROUND(I112*H112,2) -> 874.07 | BL112: 4 | BM112: -1360084983
D113: Online PSC | F113: https://podminky.urs.cz/item/CS_URS_2025_01/611142001 | AT113: Online PSC | AU113: 2
C114: 4 | D114: K | E114: 611321141 | F114: Omítka vápenocementová vnitřních ploch nanášená ručně dvouvrstvá, tloušťky jádrové omítky do 10 mm a tloušťky štuku do 3 mm štuková vodorovných konstrukcí stropů rovných | G114: m2 | H114: 2.944 | I114: 602.71 | J114: =ROUND(I114*H114,2) -> 1774.38 | K114: CS ÚRS 2025 01 | N114: základní | P114: =O114*H114 -> 0 | Q114: 0.01838 | R114: =Q114*H114 -> 0.05411072 | S114: 0 | T114: =S114*H114 -> 0 | AR114: 4 | AT114: K | AU114: 2 | AY114: ROZPOCET | BE114: =IF(N114="základní",J114,0) -> 1774.38 | BF114: =IF(N114="snížená",J114,0) -> 0 | BG114: =IF(N114="zákl. přenesená",J114,0) -> 0 | BH114: =IF(N114="sníž. přenesená",J114,0) -> 0 | BI114: =IF(N114="nulová",J114,0) -> 0 | BJ114: 1 | BK114: =ROUND(I114*H114,2) -> 1774.38 | BL114: 4 | BM114: -149324158
D115: Online PSC | F115: https://podminky.urs.cz/item/CS_URS_2025_01/611321141 | AT115: Online PSC | AU115: 2
C116: 5 | D116: K | E116: 612135001 | F116: Vyrovnání podkladu vnitřních stěn maltou vápenocementovou tl do 10 mm | G116: m2 | H116: 24.531 | I116: 273.1 | J116: =ROUND(I116*H116,2) -> 6699.42 | K116: CS ÚRS 2025 01 | N116: základní | P116: =O116*H116 -> 0 | Q116: 0.02048 | R116: =Q116*H116 -> 0.50239488 | S116: 0 | T116: =S116*H116 -> 0 | AR116: 4 | AT116: K | AU116: 2 | AY116: ROZPOCET | BE116: =IF(N116="základní",J116,0) -> 6699.42 | BF116: =IF(N116="snížená",J116,0) -> 0 | BG116: =IF(N116="zákl. přenesená",J116,0) -> 0 | BH116: =IF(N116="sníž. přenesená",J116,0) -> 0 | BI116: =IF(N116="nulová",J116,0) -> 0 | BJ116: 1 | BK116: =ROUND(I116*H116,2) -> 6699.42 | BL116: 4 | BM116: -80760066
D117: Online PSC | F117: https://podminky.urs.cz/item/CS_URS_2025_01/612135001 | AT117: Online PSC | AU117: 2
D118: VV | F118: "místy nutné vyrovnání stěn až 5cm, vyrovnání v celé ploše i v místech obkladů" | AT118: VV | AU118: 2 | AV118: 1 | AW118: True | AX118: 0 | AY118: ROZPOCET
D119: VV | F119: "WC" | AT119: VV | AU119: 2 | AV119: 1 | AW119: True | AX119: 0 | AY119: ROZPOCET
D120: VV | F120: (0,82*2+1,55*2)*2,54-(0,7*2) | H120: 10.64 | AT120: VV | AU120: 2 | AV120: 2 | AW120: True | AX120: 0 | AY120: ROZPOCET
D121: VV | F121: "koupelna" | AT121: VV | AU121: 2 | AV121: 1 | AW121: True | AX121: 0 | AY121: ROZPOCET
D122: VV | F122: (1,46*2+1,55*2)*2,54-(0,7*2) | H122: 13.891 | AT122: VV | AU122: 2 | AV122: 2 | AW122: True | AX122: 0 | AY122: ROZPOCET
D123: VV | F123: Součet | H123: 24.531 | AT123: VV | AU123: 2 | AV123: 4 | AW123: True | AX123: 1 | AY123: ROZPOCET
C124: 6 | D124: K | E124: 612135091 | F124: Vyrovnání nerovností podkladu vnitřních omítaných ploch Příplatek k ceně za každých dalších 5 mm tloušťky podkladní vrstvy přes 10 mm maltou vápenocementovou stěn | G124: m2 | H124: 196.248 | I124: 55.56 | J124: =ROUND(I124*H124,2) -> 10903.54 | K124: CS ÚRS 2025 01 | N124: základní | P124: =O124*H124 -> 0 | Q124: 0.0079 | R124: =Q124*H124 -> 1.5503592 | S124: 0 | T124: =S124*H124 -> 0 | AR124: 4 | AT124: K | AU124: 2 | AY124: ROZPOCET | BE124: =IF(N124="základní",J124,0) -> 10903.54 | BF124: =IF(N124="snížená",J124,0) -> 0 | BG124: =IF(N124="zákl. přenesená",J124,0) -> 0 | BH124: =IF(N124="sníž. přenesená",J124,0) -> 0 | BI124: =IF(N124="nulová",J124,0) -> 0 | BJ124: 1 | BK124: =ROUND(I124*H124,2) -> 10903.54 | BL124: 4 | BM124: 351683337
D125: Online PSC | F125: https://podminky.urs.cz/item/CS_URS_2025_01/612135091 | AT125: Online PSC | AU125: 2
D126: VV | F126: 24,531*8 | H126: 196.248 | AT126: VV | AU126: 2 | AV126: 2 | AW126: True | AX126: 1 | AY126: ROZPOCET
C127: 7 | D127: K | E127: 612142001 | F127: Pletivo vnitřních ploch v ploše nebo pruzích, na plném podkladu sklovláknité vtlačené do tmelu včetně tmelu stěn | G127: m2 | H127: 24.531 | I127: 291.94 | J127: =ROUND(I127*H127,2) -> 7161.58 | K127: CS ÚRS 2025 01 | N127: základní | P127: =O127*H127 -> 0 | Q127: 0.00438 | R127: =Q127*H127 -> 0.10744578 | S127: 0 | T127: =S127*H127 -> 0 | AR127: 4 | AT127: K | AU127: 2 | AY127: ROZPOCET | BE127: =IF(N127="základní",J127,0) -> 7161.58 | BF127: =IF(N127="snížená",J127,0) -> 0 | BG127: =IF(N127="zákl. přenesená",J127,0) -> 0 | BH127: =IF(N127="sníž. přenesená",J127,0) -> 0 | BI127: =IF(N127="nulová",J127,0) -> 0 | BJ127: 1 | BK127: =ROUND(I127*H127,2) -> 7161.58 | BL127: 4 | BM127: -1900061653
D128: Online PSC | F128: https://podminky.urs.cz/item/CS_URS_2025_01/612142001 | AT128: Online PSC | AU128: 2
C129: 8 | D129: K | E129: 612131121 | F129: Podkladní a spojovací vrstva vnitřních omítaných ploch penetrace disperzní nanášená ručně stěn | G129: m2 | H129: 7.831 | I129: 55.56 | J129: =ROUND(I129*H129,2) -> 435.09 | K129: CS ÚRS 2025 01 | N129: základní | P129: =O129*H129 -> 0 | Q129: 0.00026 | R129: =Q129*H129 -> 0.00203606 | S129: 0 | T129: =S129*H129 -> 0 | AR129: 4 | AT129: K | AU129: 2 | AY129: ROZPOCET | BE129: =IF(N129="základní",J129,0) -> 435.09 | BF129: =IF(N129="snížená",J129,0) -> 0 | BG129: =IF(N129="zákl. přenesená",J129,0) -> 0 | BH129: =IF(N129="sníž. přenesená",J129,0) -> 0 | BI129: =IF(N129="nulová",J129,0) -> 0 | BJ129: 1 | BK129: =ROUND(I129*H129,2) -> 435.09 | BL129: 4 | BM129: 2136395647
D130: Online PSC | F130: https://podminky.urs.cz/item/CS_URS_2025_01/612131121 | AT130: Online PSC | AU130: 2
D131: VV | F131: "mimo obklad" | AT131: VV | AU131: 2 | AV131: 1 | AW131: True | AX131: 0 | AY131: ROZPOCET
D132: VV | F132: "WC" | AT132: VV | AU132: 2 | AV132: 1 | AW132: True | AX132: 0 | AY132: ROZPOCET
D133: VV | F133: (0,82*2+1,55*2)*(2,54-1,5)-(0,7*(2-1,5)) | H133: 4.58 | AT133: VV | AU133: 2 | AV133: 2 | AW133: True | AX133: 0 | AY133: ROZPOCET
...

Sheet VRN - Vedlejší rozpočtové...
AT2: {bc929385-14e1-4e65-b0e6-897c3f94e34e}
AT3: 2
D4: KRYCÍ LIST SOUPISU PRACÍ | M4: v --- níže se nacházejí doplnkové a pomocné údaje k sestavám --- v | AT4: False
D6: Stavba:
E7: ='Rekapitulace stavby'!K6 -> Rekonstrukce hygienických prostor ISŠT, Benešov, Černoleská 1997
D8: Objekt:
E9: VRN - Vedlejší rozpočtové náklady
D11: KSO: | I11: CC-CZ:
D12: Místo: | F12: Benešov, Černoleská 1997 | I12: Datum: | J12: ='Rekapitulace stavby'!AN8 -> 45880
D14: Zadavatel: | I14: IČ: | J14: 18620442
E15: Integrovaná střední škola technická | I15: DIČ:
D17: Účastník: | I17: IČ: | J17: ='Rekapitulace stavby'!AN13 -> 24832898
E18: ='Rekapitulace stavby'!E14 -> OTISTAV s.r.o. | I18: DIČ: | J18: ='Rekapitulace stavby'!AN14 -> CZ24832898
D20: Projektant: | I20: IČ:
E21: Ing. arch. Ondřej Lovíšek | I21: DIČ:
D23: Zpracovatel: | I23: IČ: | J23: =IF('Rekapitulace stavby'!AN19="","",'Rekapitulace stavby'!AN19)
E24: =IF('Rekapitulace stavby'!E20="","",'Rekapitulace stavby'!E20) | I24: DIČ: | J24: =IF('Rekapitulace stavby'!AN20="","",'Rekapitulace stavby'!AN20)
D26: Poznámka:
D30: Cena bez DPH | J30: =ROUND(J82, 2) -> 14125.92
F32: Základ daně | I32: Sazba daně | J32: Výše daně
D33: DPH | E33: základní | F33: =ROUND((SUM(BE82:BE91)), 2) -> 14125.92 | I33: 0.21 | J33: =ROUND(((SUM(BE82:BE91))*I33), 2) -> 2966.44
E34: snížená | F34: =ROUND((SUM(BF82:BF91)), 2) -> 0 | I34: 0.12 | J34: =ROUND(((SUM(BF82:BF91))*I34), 2) -> 0
E35: zákl. přenesená | F35: =ROUND((SUM(BG82:BG91)), 2) -> 0 | I35: 0.21 | J35: =0 -> 0
E36: sníž. přenesená | F36: =ROUND((SUM(BH82:BH91)), 2) -> 0 | I36: 0.12 | J36: =0 -> 0
E37: nulová | F37: =ROUND((SUM(BI82:BI91)), 2) -> 0 | I37: 0 | J37: =0 -> 0
D39: Cena s DPH | G39: v | H39: CZK | J39: =SUM(J30:J37) -> 17092.36
C45: REKAPITULACE ČLENĚNÍ SOUPISU PRACÍ
C47: Stavba:
E48: =E7 -> Rekonstrukce hygienických prostor ISŠT, Benešov, Černoleská 1997
C49: Objekt:
E50: =E9 -> VRN - Vedlejší rozpočtové náklady
C52: Místo: | F52: =F12 -> Benešov, Černoleská 1997 | I52: Datum: | J52: =IF(J12="","",J12) -> 45880
C54: Zadavatel: | F54: =E15 -> Integrovaná střední škola technická | I54: Projektant: | J54: =E21 -> Ing. arch. Ondřej Lovíšek
C55: Účastník: | F55: =IF(E18="","",E18) -> OTISTAV s.r.o. | I55: Zpracovatel: | J55: =E24
C57: Kód dílu - Popis | J57: Cena celkem [CZK]
C59: Náklady stavby celkem | J59: =J82 -> 14125.92 | AU59: -1
D60: VRN - Vedlejší rozpočtové náklady | J60: =J83 -> 14125.92
D61: VRN1 - Průzkumné, geodetické a projektové práce | J61: =J84 -> 4708.64
D62: VRN3 - Zařízení staveniště | J62: =J87 -> 9417.28
C69: SOUPIS PRACÍ
C71: Stavba:
E72: =E7 -> Rekonstrukce hygienických prostor ISŠT, Benešov, Černoleská 1997
C73: Objekt:
E74: =E9 -> VRN - Vedlejší rozpočtové náklady
C76: Místo: | F76: =F12 -> Benešov, Černoleská 1997 | I76: Datum: | J76: =IF(J12="","",J12) -> 45880
C78: Zadavatel: | F78: =E15 -> Integrovaná střední škola technická | I78: Projektant: | J78: =E21 -> Ing. arch. Ondřej Lovíšek
C79: Účastník: | F79: =IF(E18="","",E18) -> OTISTAV s.r.o. | I79: Zpracovatel: | J79: =E24
C81: PČ | D81: Typ | E81: Kód | F81: Popis | G81: MJ | H81: Množství | I81: J.cena [CZK] | J81: Cena celkem [CZK] | K81: Cenová soustava | N81: DPH | O81: J. Nh [h] | P81: Nh celkem [h] | Q81: J. hmotnost [t] | R81: Hmotnost celkem [t] | S81: J. suť [t] | T81: Suť Celkem [t]
C82: Náklady soupisu celkem | J82: =BK82 -> 14125.92 | P82: =P83 -> 0 | R82: =R83 -> 0 | T82: =T83 -> 0 | AT82: D | AU82: -1 | BK82: =BK83 -> 14125.92
D83: D | E83: VRN | F83: Vedlejší rozpočtové náklady | J83: =BK83 -> 14125.92 | P83: =P84+P87 -> 0 | R83: =R84+R87 -> 0 | T83: =T84+T87 -> 0 | AR83: 5 | AT83: D | AU83: 0 | AY83: ROZPOCET | BK83: =BK84+BK87 -> 14125.92
D84: D | E84: VRN1 | F84: Průzkumné, geodetické a projektové práce | J84: =BK84 -> 4708.64 | P84: =SUM(P85:P86) -> 0 | R84: =SUM(R85:R86) -> 0 | T84: =SUM(T85:T86) -> 0 | AR84: 5 | AT84: D | AU84: 1 | AY84: ROZPOCET | BK84: =SUM(BK85:BK86) -> 4708.64
C85: 1 | D85: K | E85: 013254000 | F85: Dokumentace skutečného provedení stavby | G85: soubor | H85: 1 | I85: 4708.64 | J85: =ROUND(I85*H85,2) -> 4708.64 | K85: CS ÚRS 2024 01 | N85: základní | P85: =O85*H85 -> 0 | Q85: 0 | R85: =Q85*H85 -> 0 | S85: 0 | T85: =S85*H85 -> 0 | AR85: 1024 | AT85: K | AU85: 2 | AY85: ROZPOCET | BE85: =IF(N85="základní",J85,0) -> 4708.64 | BF85: =IF(N85="snížená",J85,0) -> 0 | BG85: =IF(N85="zákl. přenesená",J85,0) -> 0 | BH85: =IF(N85="sníž. přenesená",J85,0) -> 0 | BI85: =IF(N85="nulová",J85,0) -> 0 | BJ85: 1 | BK85: =ROUND(I85*H85,2) -> 4708.64 | BL85: 1024 | BM85: 1627237480
D86: Online PSC | F86: https://podminky.urs.cz/item/CS_URS_2024_01/013254000 | AT86: Online PSC | AU86: 2
D87: D | E87: VRN3 | F87: Zařízení staveniště | J87: =BK87 -> 9417.28 | P87: =SUM(P88:P91) -> 0 | R87: =SUM(R88:R91) -> 0 | T87: =SUM(T88:T91) -> 0 | AR87: 5 | AT87: D | AU87: 1 | AY87: ROZPOCET | BK87: =SUM(BK88:BK91) -> 9417.28
C88: 2 | D88: K | E88: 032903000 | F88: Zařízení staveniště | G88: soubor | H88: 1 | I88: 4708.64 | J88: =ROUND(I88*H88,2) -> 4708.64 | K88: CS ÚRS 2024 01 | N88: základní | P88: =O88*H88 -> 0 | Q88: 0 | R88: =Q88*H88 -> 0 | S88: 0 | T88: =S88*H88 -> 0 | AR88: 1024 | AT88: K | AU88: 2 | AY88: ROZPOCET | BE88: =IF(N88="základní",J88,0) -> 4708.64 | BF88: =IF(N88="snížená",J88,0) -> 0 | BG88: =IF(N88="zákl. přenesená",J88,0) -> 0 | BH88: =IF(N88="sníž. přenesená",J88,0) -> 0 | BI88: =IF(N88="nulová",J88,0) -> 0 | BJ88: 1 | BK88: =ROUND(I88*H88,2) -> 4708.64 | BL88: 1024 | BM88: -491734467
D89: Online PSC | F89: https://podminky.urs.cz/item/CS_URS_2024_01/032903000 | AT89: Online PSC | AU89: 2
C90: 3 | D90: K | E90: 034703000 | F90: Ochranné konstrukce - zakrývání ploch a kontrukcí před poškozením | G90: soubor | H90: 1 | I90: 4708.64 | J90: =ROUND(I90*H90,2) -> 4708.64 | K90: CS ÚRS 2025 01 | N90: základní | P90: =O90*H90 -> 0 | Q90: 0 | R90: =Q90*H90 -> 0 | S90: 0 | T90: =S90*H90 -> 0 | AR90: 1024 | AT90: K | AU90: 2 | AY90: ROZPOCET | BE90: =IF(N90="základní",J90,0) -> 4708.64 | BF90: =IF(N90="snížená",J90,0) -> 0 | BG90: =IF(N90="zákl. přenesená",J90,0) -> 0 | BH90: =IF(N90="sníž. přenesená",J90,0) -> 0 | BI90: =IF(N90="nulová",J90,0) -> 0 | BJ90: 1 | BK90: =ROUND(I90*H90,2) -> 4708.64 | BL90: 1024 | BM90: -794109491
D91: Online PSC | F91: https://podminky.urs.cz/item/CS_URS_2025_01/034703000 | AT91: Online PSC | AU91: 2

Sheet Pokyny pro vyplnění
C3: Struktura údajů, formát souboru a metodika pro zpracování
C4: Struktura
C6: Soubor je složen ze záložky Rekapitulace stavby a záložek s názvem soupisu prací pro jednotlivé objekty ve formátu XLSX. Každá ze záložek přitom obsahuje
C7: ještě samostatné sestavy vymezené orámovaním a nadpisem sestavy.
C9: Rekapitulace stavby obsahuje sestavu Rekapitulace stavby a Rekapitulace objektů stavby a soupisů prací.
D10: V sestavě Rekapitulace stavby jsou uvedeny informace identifikující předmět veřejné zakázky na stavební práce, KSO, CC-CZ, CZ-CPV, CZ-CPA a rekapitulaci
D11: celkové nabídkové ceny účastníka.
D13: Termínem "učastník" (resp. zhotovitel) se myslí "účastník zadávacího řízení" ve smyslu zákona o zadávání veřejných zakázek.
D15: V sestavě Rekapitulace objektů stavby a soupisů prací je uvedena rekapitulace stavebních objektů, inženýrských objektů, provozních souborů,
D16: vedlejších a ostatních nákladů a ostatních nákladů s rekapitulací nabídkové ceny za jednotlivé soupisy prací. Na základě údaje Typ je možné
D17: identifikovat, zda se jedná o objekt nebo soupis prací pro daný objekt:
E18: STA | F18: Stavební objekt pozemní
E19: ING | F19: Stavební objekt inženýrský
E20: PRO | F20: Provozní soubor
E21: VON | F21: Vedlejší a ostatní náklady
E22: OST | F22: Ostatní
E23: Soupis | F23: Soupis prací pro daný typ objektu
C25: Soupis prací pro jednotlivé objekty obsahuje sestavy Krycí list soupisu prací, Rekapitulace členění soupisu prací, Soupis prací. Za soupis prací může být považován
C26: i objekt stavby v případě, že neobsahuje podřízenou zakázku.
D27: Krycí list soupisu obsahuje rekapitulaci informací o předmětu veřejné zakázky ze sestavy Rekapitulace stavby, informaci o zařazení objektu do KSO,
D28: CC-CZ, CZ-CPV, CZ-CPA a rekapitulaci celkové nabídkové ceny účastníka za aktuální soupis prací.
D30: Rekapitulace členění soupisu prací obsahuje rekapitulaci soupisu prací ve všech úrovních členění soupisu tak, jak byla tato členění použita (např.
D31: stavební díly, funkční díly, případně jiné členění) s rekapitulací nabídkové ceny.
D33: Soupis prací obsahuje položky veškerých stavebních nebo montážních prací, dodávek materiálů a služeb nezbytných pro zhotovení stavebního objektu,
D34: inženýrského objektu, provozního souboru, vedlejších a ostatních nákladů.
D35: Pro položky soupisu prací se zobrazují následující informace:
E36: PČ | G36: Pořadové číslo položky v aktuálním soupisu
E37: TYP | G37: Typ položky: K - konstrukce, M - materiál, PP - plný popis, PSC - poznámka k souboru cen, P - poznámka k položce, VV - výkaz výměr, FIG - rozpad figur
E38: Kód | G38: Kód položky
E39: Popis | G39: Zkrácený popis položky
E40: MJ | G40: Měrná jednotka položky
E41: Množství | G41: Množství v měrné jednotce
E42: J.cena | G42: Jednotková cena položky. Zadaní může obsahovat namísto J.ceny sloupce J.materiál a J.montáž, jejichž součet definuje
G43: J.cenu položky.
E44: Cena celkem | G44: Celková cena položky daná jako součin množství a j.ceny
E45: Cenová soustava | G45: Příslušnost položky do cenové soustavy
D47: Ke každé položce soupisu prací se na samostatných řádcích může zobrazovat:
E48: Plný popis položky
E49: Poznámka k souboru cen a poznámka zadavatele
E50: Výkaz výměr
D51: Pokud je k řádku výkazu výměr evidovaný údaj ve sloupci Kód, jedná se o definovaný odkaz, na který se může odvolávat výkaz výměr z jiné položky.
C52: Metodika pro zpracování
C54: Jednotlivé sestavy jsou v souboru provázány. Editovatelné pole jsou zvýrazněny žlutým podbarvením, ostatní pole neslouží k editaci a nesmí být jakkoliv
C55: modifikovány.
C57: Účastník je pro podání nabídky povinen vyplnit žlutě podbarvená pole:
D58: Pole Účastník v sestavě Rekapitulace stavby - zde účastník vyplní svůj název (název subjektu)
D59: Pole IČ a DIČ v sestavě Rekapitulace stavby - zde účastník vyplní svoje IČ a DIČ
D60: Datum v sestavě Rekapitulace stavby - zde účastník vyplní datum vytvoření nabídky
D61: J.cena = jednotková cena v sestavě Soupis prací o maximálním počtu desetinných míst uvedených v poli
D62: - pokud sestavy soupisů prací obsahují pole J.cena, měla by být všechna tato pole vyplněna nenulovými
D63: Poznámka - nepovinný údaj pro položku soupisu
D65: V případě, že sestavy soupisů prací neobsahují pole J.cena, potom ve všech soupisech prací obsahují pole:
D66: - J.materiál - jednotková cena materiálu
D67: - J.montáž - jednotková cena montáže
D68: Účastník v tomto případě by měl vyplnit všechna pole J.materiál a pole J.montáž nenulovými kladnými číslicemi. V případech, kdy položka
D69: neobsahuje žádný materiál je přípustné, aby pole J.materiál bylo vyplněno nulou. V případech, kdy položka neobsahuje žádnou montáž je přípustné,
D70: aby pole J.montáž bylo vyplněno nulou. Obě pole - J.materiál, J.Montáž u jedné položky by však neměly být vyplněny nulou.
C75: Rekapitulace stavby
C76: Název | F76: Povinný | H76: Popis | I76: Typ | J76: Max. počet
C77: atributu | F77: (A/N) | J77: znaků
C79: Kód | F79: A | H79: Kód stavby | I79: String | J79: 20
C80: Stavba | F80: A | H80: Název stavby | I80: String | J80: 120
C81: Místo | F81: N | H81: Místo stavby | I81: String | J81: 50
C82: Datum | F82: A | H82: Datum vykonaného exportu | I82: Date
C83: KSO | F83: N | H83: Klasifikace stavebního objektu | I83: String | J83: 15
C84: CC-CZ | F84: N | H84: Klasifikace stavbeních děl | I84: String | J84: 15
C85: CZ-CPV | F85: N | H85: Společný slovník pro veřejné zakázky | I85: String | J85: 20
C86: CZ-CPA | F86: N | H86: Klasifikace produkce podle činností | I86: String | J86: 20
C87: Zadavatel | F87: N | H87: Zadavatel zadaní | I87: String | J87: 50
C88: IČ | F88: N | H88: IČ zadavatele zadaní | I88: String | J88: 20
C89: DIČ | F89: N | H89: DIČ zadavatele zadaní | I89: String | J89: 20
C90: Účastník | F90: N | H90: Účastník veřejné zakázky | I90: String | J90: 50
C91: Projektant | F91: N | H91: Projektant | I91: String | J91: 50
C92: Poznámka | F92: N | H92: Poznámka k zadání | I92: String | J92: 255
C93: Sazba DPH | F93: A | H93: Rekapitulace sazeb DPH u položek soupisů | I93: eGSazbaDph
C94: Základna DPH | F94: A | H94: Základna DPH určena součtem celkové ceny z položek soupisů | I94: Double
C95: Hodnota DPH | F95: A | H95: Hodnota DPH | I95: Double
C96: Cena bez DPH | F96: A | H96: Celková cena bez DPH za celou stavbu. Sčítává se ze všech listů. | I96: Double
C97: Cena s DPH | F97: A | H97: Celková cena s DPH za celou stavbu | I97: Double
C102: Rekapitulace objektů stavby a soupisů prací
C103: Název | F103: Povinný | H103: Popis | I103: Typ | J103: Max. počet
C104: atributu | F104: (A/N) | J104: znaků
C106: Kód | F106: A | H106: Přebírá se z Rekapitulace stavby | I106: String | J106: 20
C107: Stavba | F107: A | H107: Přebírá se z Rekapitulace stavby | I107: String | J107: 120
C108: Místo | F108: N | H108: Přebírá se z Rekapitulace stavby | I108: String | J108: 50
C109: Datum | F109: A | H109: Přebírá se z Rekapitulace stavby | I109: Date
C110: Zadavatel | F110: N | H110: Přebírá se z Rekapitulace stavby | I110: String | J110: 50
C111: Projektant | F111: N | H111: Přebírá se z Rekapitulace stavby | I111: String | J111: 50
C112: Účastník | F112: N | H112: Přebírá se z Rekapitulace stavby | I112: String | J112: 50
C113: Kód | F113: A | H113: Kód objektu | I113: String | J113: 20
C114: Objektu, Soupis prací | F114: A | H114: Název objektu | I114: String | J114: 120
C115: Cena bez DPH | F115: A | H115: Cena bez DPH za daný objekt | I115: Double
C116: Cena s DPH | F116: A | H116: Cena spolu s DPH za daný objekt | I116: Double
C117: Typ | F117: A | H117: Typ zakázky | I117: eGTypZakazky
C122: Krycí list soupisu
C123: Název | F123: Povinný | H123: Popis | I123: Typ | J123: Max. počet
C124: atributu | F124: (A/N) | J124: znaků
C126: Stavba | F126: A | H126: Přebírá se z Rekapitulace stavby | I126: String | J126: 120
C127: Objekt | F127: A | H127: Kód a název objektu | I127: String | J127: 20 + 120
C128: Soupis | F128: A | H128: Kód a název soupisu | I128: String | J128: 20 + 120
...
