Workbook

Sheet Rekapitulace stavby
A1: Export Komplet | AZ1: VZ | BA1: 2.0 | BB1: ZAMOK | BT1: False | BU1: False | BV1: {e03e6968-9111-449e-9f3d-c5c71a54fdc7}
BS2: 0,01 | BT2: 21
BS3: 0,01 | BT3: 12
D4: REKAPITULACE STAVBY | AS4: v --- níže se nacházejí doplnkové a pomocné údaje k sestavám --- v | BE4: Návod na vyplnění | BS4: 0,001
D5: Kód: | K5: 137-1 | BE5: Měnit lze pouze buňky se žlutým podbarvením!_x000D_ _x000D_ 1) v Rekapitulaci stavby vyplňte údaje o Účastníkovi (přenesou se do ostatních sestav i v jiných listech)_x000D_ _x000D_ 2) na vybraných listech vyplňte v sestavě Soupis prací ceny u položek | BS5: 0,01
D6: Stavba: | K6: Rekonstrukce hygienických prostor ISŠT, Benešov, Černoleská 1997 | BS6: 0,01
D7: KSO: | K7: 801 3 | AK7: CC-CZ: | AN7: 1263 | BS7: 0,01
D8: Místo: | K8: Benešov, Černoleská 1997 | AK8: Datum: | AN8: 45880 | BS8: 0,01
D9: CZ-CPV: | K9: 45214000-0 | BS9: 0,01
D10: Zadavatel: | AK10: IČ: | AN10: 18620442 | BS10: 0,01
E11: Integrovaná střední škola technická | AK11: DIČ: | BS11: 0,01
BS12: 0,01
D13: Účastník: | AK13: IČ: | AN13: 24832898 | BS13: 0,01
E14: OTISTAV s.r.o. | AK14: DIČ: | AN14: CZ24832898 | BS14: 0,01
BS15: False
D16: Projektant: | AK16: IČ: | AN16: 05270235 | BS16: False
E17: Ing. arch. Ondřej Lovíšek | AK17: DIČ: | BS17: True
BS18: 0,01
D19: Zpracovatel: | AK19: IČ: | BS19: 0,01
AK20: DIČ: | BS20: False
D22: Poznámka:
E23: Soupis prací je sestaven s využitím Cenové soustavy ÚRS. Položky, které pochází z této cenové soustavy, jsou ve sloupci 'Cenová soustava' označeny popisem 'CS ÚRS' a úrovní příslušného kalendářního pololetí. Veškeré další informace vymezující popis a podmínky použití těchto položek z Cenové soustavy, které nejsou uvedeny přímo v soupisu prací, jsou neomezeně dálkově k dispozici na webu podminky.urs.cz.
D26: Cena bez DPH | AK26: =ROUND(AG54,2) -> 1388888
L28: Sazba daně | W28: Základ daně | AK28: Výše daně
D29: DPH | F29: základní | L29: 0.21 | W29: =ROUND(AZ54, 2) -> 1388888 | AK29: =ROUND(AV54, 2) -> 291666.48
F30: snížená | L30: 0.12 | W30: =ROUND(BA54, 2) -> 0 | AK30: =ROUND(AW54, 2) -> 0
F31: zákl. přenesená | L31: 0.21 | W31: =ROUND(BB54, 2) -> 0 | AK31: 0
F32: sníž. přenesená | L32: 0.12 | W32: =ROUND(BC54, 2) -> 0 | AK32: 0
F33: nulová | L33: 0 | W33: =ROUND(BD54, 2) -> 0 | AK33: 0
D35: Cena s DPH | T35: v | X35: CZK | AK35: =SUM(AK26:AK33) -> 1680554.5
C42: REKAPITULACE OBJEKTŮ STAVBY A SOUPISŮ PRACÍ
C44: Kód: | L44: =K5 -> 137-1
C45: Stavba: | L45: =K6 -> Rekonstrukce hygienických prostor ISŠT, Benešov, Černoleská 1997
C47: Místo: | L47: =IF(K8="","",K8) -> Benešov, Černoleská 1997 | AI47: Datum: | AM47: =IF(AN8= "","",AN8) -> 45880
C49: Zadavatel: | L49: =IF(E11= "","",E11) -> Integrovaná střední škola technická | AI49: Projektant: | AM49: =IF(E17="","",E17) -> Ing. arch. Ondřej Lovíšek | AS49: Informatívní údaje z listů zakázek
C50: Účastník: | L50: =IF(E14= "Vyplň údaj","",E14) -> OTISTAV s.r.o. | AI50: Zpracovatel: | AM50: =IF(E20="","",E20)
C52: Kód | I52: Popis | AG52: Cena bez DPH [CZK] | AN52: Cena s DPH [CZK] | AQ52: Typ | AS52: z toho Ostat._x000D_ náklady [CZK] | AT52: DPH [CZK] | AU52: Normohodiny [h] | AV52: DPH základní [CZK] | AW52: DPH snížená [CZK] | AX52: DPH základní přenesená_x000D_ [CZK] | AY52: DPH snížená přenesená_x000D_ [CZK] | AZ52: Základna_x000D_ DPH základní | BA52: Základna_x000D_ DPH snížená | BB52: Základna_x000D_ DPH zákl. přenesená | BC52: Základna_x000D_ DPH sníž. přenesená | BD52: Základna_x000D_ DPH nulová
C54: Náklady stavby celkem | AG54: =ROUND(SUM(AG55:AG63),2) -> 1388888 | AN54: =SUM(AG54,AT54) -> 1680554.5 | AS54: =ROUND(SUM(AS55:AS63),2) -> 0 | AT54: =ROUND(SUM(AV54:AW54),2) -> 291666.48 | AU54: =ROUND(SUM(AU55:AU63),5) -> 0 | AV54: =ROUND(AZ54*L29,2) -> 291666.48 | AW54: =ROUND(BA54*L30,2) -> 0 | AX54: =ROUND(BB54*L29,2) -> 0 | AY54: =ROUND(BC54*L30,2) -> 0 | AZ54: =ROUND(SUM(AZ55:AZ63),2) -> 1388888 | BA54: =ROUND(SUM(BA55:BA63),2) -> 0 | BB54: =ROUND(SUM(BB55:BB63),2) -> 0 | BC54: =ROUND(SUM(BC55:BC63),2) -> 0 | BD54: =ROUND(SUM(BD55:BD63),2) -> 0 | BS54: D | BT54: 0 | BU54: ###NOIMPORT### | BV54: IMPORT | BW54: {e03e6968-9111-449e-9f3d-c5c71a54fdc7} | BX54: {00000000-0000-0000-0000-000000000000} | CL54: 801 3
A55: / | D55: 01 | J55: 5.NP - č. 528 - Koupelna typ B | AG55: ='01 - 5.NP - č. 528 - Koup...'!J30 -> 188318.82 | AN55: =SUM(AG55,AT55) -> 227865.77 | AQ55: STA | AS55: 0 | AT55: =ROUND(SUM(AV55:AW55),2) -> 39546.95 | AU55: ='01 - 5.NP - č. 528 - Koup...'!P99 -> 0 | AV55: ='01 - 5.NP - č. 528 - Koup...'!J33 -> 39546.95 | AW55: ='01 - 5.NP - č. 528 - Koup...'!J34 -> 0 | AX55: ='01 - 5.NP - č. 528 - Koup...'!J35 -> 0 | AY55: ='01 - 5.NP - č. 528 - Koup...'!J36 -> 0 | AZ55: ='01 - 5.NP - č. 528 - Koup...'!F33 -> 188318.82 | BA55: ='01 - 5.NP - č. 528 - Koup...'!F34 -> 0 | BB55: ='01 - 5.NP - č. 528 - Koup...'!F35 -> 0 | BC55: ='01 - 5.NP - č. 528 - Koup...'!F36 -> 0 | BD55: ='01 - 5.NP - č. 528 - Koup...'!F37 -> 0 | BT55: 1 | BV55: IMPORT | BW55: {30dab0b1-f4c6-41aa-b6a1-3ac70dec7483} | BX55: {e03e6968-9111-449e-9f3d-c5c71a54fdc7} | CM55: 2
A56: / | D56: 02 | J56: 5.NP - č. 529 - Koupelna typ B | AG56: ='02 - 5.NP - č. 529 - Koup...'!J30 -> 188318.82 | AN56: =SUM(AG56,AT56) -> 227865.77 | AQ56: STA | AS56: 0 | AT56: =ROUND(SUM(AV56:AW56),2) -> 39546.95 | AU56: ='02 - 5.NP - č. 529 - Koup...'!P99 -> 0 | AV56: ='02 - 5.NP - č. 529 - Koup...'!J33 -> 39546.95 | AW56: ='02 - 5.NP - č. 529 - Koup...'!J34 -> 0 | AX56: ='02 - 5.NP - č. 529 - Koup...'!J35 -> 0 | AY56: ='02 - 5.NP - č. 529 - Koup...'!J36 -> 0 | AZ56: ='02 - 5.NP - č. 529 - Koup...'!F33 -> 188318.82 | BA56: ='02 - 5.NP - č. 529 - Koup...'!F34 -> 0 | BB56: ='02 - 5.NP - č. 529 - Koup...'!F35 -> 0 | BC56: ='02 - 5.NP - č. 529 - Koup...'!F36 -> 0 | BD56: ='02 - 5.NP - č. 529 - Koup...'!F37 -> 0 | BT56: 1 | BV56: IMPORT | BW56: {a462ead7-898b-414a-8348-9338b7a6aeef} | BX56: {e03e6968-9111-449e-9f3d-c5c71a54fdc7} | CM56: 2
...

Sheet 01 - 5.NP - č. 528 - Koup...
AT2: {30dab0b1-f4c6-41aa-b6a1-3ac70dec7483}
AT3: 2
D4: KRYCÍ LIST SOUPISU PRACÍ | M4: v --- níže se nacházejí doplnkové a pomocné údaje k sestavám --- v | AT4: False
D6: Stavba:
E7: ='Rekapitulace stavby'!K6 -> Rekonstrukce hygienických prostor ISŠT, Benešov, Černoleská 1997
D8: Objekt:
E9: 01 - 5.NP - č. 528 - Koupelna typ B
D11: KSO: | I11: CC-CZ:
D12: Místo: | F12: Benešov, Černoleská 1997 | I12: Datum: | J12: ='Rekapitulace stavby'!AN8 -> 45880
D14: Zadavatel: | I14: IČ: | J14: 18620442
E15: Integrovaná střední škola technická | I15: DIČ:
D17: Účastník: | I17: IČ: | J17: ='Rekapitulace stavby'!AN13 -> 24832898
E18: ='Rekapitulace stavby'!E14 -> OTISTAV s.r.o. | I18: DIČ: | J18: ='Rekapitulace stavby'!AN14 -> CZ24832898
D20: Projektant: | I20: IČ:
E21: Ing. arch. Ondřej Lovíšek | I21: DIČ:
D23: Zpracovatel: | I23: IČ: | J23: =IF('Rekapitulace stavby'!AN19="","",'Rekapitulace stavby'!AN19)
E24: =IF('Rekapitulace stavby'!E20="","",'Rekapitulace stavby'!E20) | I24: DIČ: | J24: =IF('Rekapitulace stavby'!AN20="","",'Rekapitulace stavby'!AN20)
D26: Poznámka:
D30: Cena bez DPH | J30: =ROUND(J99, 2) -> 188318.82
F32: Základ daně | I32: Sazba daně | J32: Výše daně
D33: DPH | E33: základní | F33: =ROUND((SUM(BE99:BE577)), 2) -> 188318.82 | I33: 0.21 | J33: =ROUND(((SUM(BE99:BE577))*I33), 2) -> 39546.95
E34: snížená | F34: =ROUND((SUM(BF99:BF577)), 2) -> 0 | I34: 0.12 | J34: =ROUND(((SUM(BF99:BF577))*I34), 2) -> 0
E35: zákl. přenesená | F35: =ROUND((SUM(BG99:BG577)), 2) -> 0 | I35: 0.21 | J35: =0 -> 0
E36: sníž. přenesená | F36: =ROUND((SUM(BH99:BH577)), 2) -> 0 | I36: 0.12 | J36: =0 -> 0
E37: nulová | F37: =ROUND((SUM(BI99:BI577)), 2) -> 0 | I37: 0 | J37: =0 -> 0
D39: Cena s DPH | G39: v | H39: CZK | J39: =SUM(J30:J37) -> 227865.77
C45: REKAPITULACE ČLENĚNÍ SOUPISU PRACÍ
C47: Stavba:
E48: =E7 -> Rekonstrukce hygienických prostor ISŠT, Benešov, Černoleská 1997
C49: Objekt:
E50: =E9 -> 01 - 5.NP - č. 528 - Koupelna typ B
C52: Místo: | F52: =F12 -> Benešov, Černoleská 1997 | I52: Datum: | J52: =IF(J12="","",J12) -> 45880
C54: Zadavatel: | F54: =E15 -> Integrovaná střední škola technická | I54: Projektant: | J54: =E21 -> Ing. arch. Ondřej Lovíšek
C55: Účastník: | F55: =IF(E18="","",E18) -> OTISTAV s.r.o. | I55: Zpracovatel: | J55: =E24
C57: Kód dílu - Popis | J57: Cena celkem [CZK]
C59: Náklady stavby celkem | J59: =J99 -> 188318.82 | AU59: -1
D60: HSV - Práce a dodávky HSV | J60: =J100 -> 64595.37
D61: 6 - Úpravy povrchů, podlahy a osazování výplní | J61: =J101 -> 38726.52
D62: 9 - Ostatní konstrukce a práce, bourání | J62: =J158 -> 15672.98
D63: 997 - Přesun sutě | J63: =J216 -> 6673.01
...

Sheet 02 - 5.NP - č. 529 - Koup...
AT2: {a462ead7-898b-414a-8348-9338b7a6aeef}
AT3: 2
D4: KRYCÍ LIST SOUPISU PRACÍ | M4: v --- níže se nacházejí doplnkové a pomocné údaje k sestavám --- v | AT4: False
D6: Stavba:
E7: ='Rekapitulace stavby'!K6 -> Rekonstrukce hygienických prostor ISŠT, Benešov, Černoleská 1997
D8: Objekt:
E9: 02 - 5.NP - č. 529 - Koupelna typ B
D11: KSO: | I11: CC-CZ:
D12: Místo: | F12: Benešov, Černoleská 1997 | I12: Datum: | J12: ='Rekapitulace stavby'!AN8 -> 45880
D14: Zadavatel: | I14: IČ: | J14: 18620442
E15: Integrovaná střední škola technická | I15: DIČ:
D17: Účastník: | I17: IČ: | J17: ='Rekapitulace stavby'!AN13 -> 24832898
E18: ='Rekapitulace stavby'!E14 -> OTISTAV s.r.o. | I18: DIČ: | J18: ='Rekapitulace stavby'!AN14 -> CZ24832898
D20: Projektant: | I20: IČ:
E21: Ing. arch. Ondřej Lovíšek | I21: DIČ:
D23: Zpracovatel: | I23: IČ: | J23: =IF('Rekapitulace stavby'!AN19="","",'Rekapitulace stavby'!AN19)
E24: =IF('Rekapitulace stavby'!E20="","",'Rekapitulace stavby'!E20) | I24: DIČ: | J24: =IF('Rekapitulace stavby'!AN20="","",'Rekapitulace stavby'!AN20)
D26: Poznámka:
D30: Cena bez DPH | J30: =ROUND(J99, 2) -> 188318.82
F32: Základ daně | I32: Sazba daně | J32: Výše daně
D33: DPH | E33: základní | F33: =ROUND((SUM(BE99:BE577)), 2) -> 188318.82 | I33: 0.21 | J33: =ROUND(((SUM(BE99:BE577))*I33), 2) -> 39546.95
E34: snížená | F34: =ROUND((SUM(BF99:BF577)), 2) -> 0 | I34: 0.12 | J34: =ROUND(((SUM(BF99:BF577))*I34), 2) -> 0
E35: zákl. přenesená | F35: =ROUND((SUM(BG99:BG577)), 2) -> 0 | I35: 0.21 | J35: =0 -> 0
E36: sníž. přenesená | F36: =ROUND((SUM(BH99:BH577)), 2) -> 0 | I36: 0.12 | J36: =0 -> 0
E37: nulová | F37: =ROUND((SUM(BI99:BI577)), 2) -> 0 | I37: 0 | J37: =0 -> 0
D39: Cena s DPH | G39: v | H39: CZK | J39: =SUM(J30:J37) -> 227865.77
C45: REKAPITULACE ČLENĚNÍ SOUPISU PRACÍ
C47: Stavba:
E48: =E7 -> Rekonstrukce hygienických prostor ISŠT, Benešov, Černoleská 1997
C49: Objekt:
E50: =E9 -> 02 - 5.NP - č. 529 - Koupelna typ B
C52: Místo: | F52: =F12 -> Benešov, Černoleská 1997 | I52: Datum: | J52: =IF(J12="","",J12) -> 45880
C54: Zadavatel: | F54: =E15 -> Integrovaná střední škola technická | I54: Projektant: | J54: =E21 -> Ing. arch. Ondřej Lovíšek
C55: Účastník: | F55: =IF(E18="","",E18) -> OTISTAV s.r.o. | I55: Zpracovatel: | J55: =E24
C57: Kód dílu - Popis | J57: Cena celkem [CZK]
C59: Náklady stavby celkem | J59: =J99 -> 188318.82 | AU59: -1
D60: HSV - Práce a dodávky HSV | J60: =J100 -> 64595.37
D61: 6 - Úpravy povrchů, podlahy a osazování výplní | J61: =J101 -> 38726.52
D62: 9 - Ostatní konstrukce a práce, bourání | J62: =J158 -> 15672.98
D63: 997 - Přesun sutě | J63: =J216 -> 6673.01
...

Sheet 03 - 5.NP - č. 521a - Kou...
AT2: {96fd7ae7-5d4c-499e-b7e5-1e0ffcac4397}
AT3: 2
D4: KRYCÍ LIST SOUPISU PRACÍ | M4: v --- níže se nacházejí doplnkové a pomocné údaje k sestavám --- v | AT4: False
D6: Stavba:
E7: ='Rekapitulace stavby'!K6 -> Rekonstrukce hygienických prostor ISŠT, Benešov, Černoleská 1997
D8: Objekt:
E9: 03 - 5.NP - č. 521a - Koupelna typ A1
D11: KSO: | I11: CC-CZ:
D12: Místo: | F12: Benešov, Černoleská 1997 | I12: Datum: | J12: ='Rekapitulace stavby'!AN8 -> 45880
D14: Zadavatel: | I14: IČ: | J14: 18620442
E15: Integrovaná střední škola technická | I15: DIČ:
D17: Účastník: | I17: IČ: | J17: ='Rekapitulace stavby'!AN13 -> 24832898
E18: ='Rekapitulace stavby'!E14 -> OTISTAV s.r.o. | I18: DIČ: | J18: ='Rekapitulace stavby'!AN14 -> CZ24832898
D20: Projektant: | I20: IČ:
E21: Ing. arch. Ondřej Lovíšek | I21: DIČ:
D23: Zpracovatel: | I23: IČ: | J23: =IF('Rekapitulace stavby'!AN19="","",'Rekapitulace stavby'!AN19)
E24: =IF('Rekapitulace stavby'!E20="","",'Rekapitulace stavby'!E20) | I24: DIČ: | J24: =IF('Rekapitulace stavby'!AN20="","",'Rekapitulace stavby'!AN20)
D26: Poznámka:
D30: Cena bez DPH | J30: =ROUND(J98, 2) -> 155241.1
F32: Základ daně | I32: Sazba daně | J32: Výše daně
D33: DPH | E33: základní | F33: =ROUND((SUM(BE98:BE488)), 2) -> 155241.1 | I33: 0.21 | J33: =ROUND(((SUM(BE98:BE488))*I33), 2) -> 32600.63
E34: snížená | F34: =ROUND((SUM(BF98:BF488)), 2) -> 0 | I34: 0.12 | J34: =ROUND(((SUM(BF98:BF488))*I34), 2) -> 0
E35: zákl. přenesená | F35: =ROUND((SUM(BG98:BG488)), 2) -> 0 | I35: 0.21 | J35: =0 -> 0
E36: sníž. přenesená | F36: =ROUND((SUM(BH98:BH488)), 2) -> 0 | I36: 0.12 | J36: =0 -> 0
E37: nulová | F37: =ROUND((SUM(BI98:BI488)), 2) -> 0 | I37: 0 | J37: =0 -> 0
D39: Cena s DPH | G39: v | H39: CZK | J39: =SUM(J30:J37) -> 187841.73
C45: REKAPITULACE ČLENĚNÍ SOUPISU PRACÍ
C47: Stavba:
E48: =E7 -> Rekonstrukce hygienických prostor ISŠT, Benešov, Černoleská 1997
C49: Objekt:
E50: =E9 -> 03 - 5.NP - č. 521a - Koupelna typ A1
C52: Místo: | F52: =F12 -> Benešov, Černoleská 1997 | I52: Datum: | J52: =IF(J12="","",J12) -> 45880
C54: Zadavatel: | F54: =E15 -> Integrovaná střední škola technická | I54: Projektant: | J54: =E21 -> Ing. arch. Ondřej Lovíšek
C55: Účastník: | F55: =IF(E18="","",E18) -> OTISTAV s.r.o. | I55: Zpracovatel: | J55: =E24
C57: Kód dílu - Popis | J57: Cena celkem [CZK]
C59: Náklady stavby celkem | J59: =J98 -> 155241.1 | AU59: -1
D60: HSV - Práce a dodávky HSV | J60: =J99 -> 57434.93
D61: 6 - Úpravy povrchů, podlahy a osazování výplní | J61: =J100 -> 34779.88
D62: 9 - Ostatní konstrukce a práce, bourání | J62: =J139 -> 13337.61
D63: 997 - Přesun sutě | J63: =J191 -> 6103.52
...

Sheet 04 - 5.NP - č. 514a - Kou...
AT2: {99071232-b184-47cb-97e0-dfd305bef81b}
AT3: 2
D4: KRYCÍ LIST SOUPISU PRACÍ | M4: v --- níže se nacházejí doplnkové a pomocné údaje k sestavám --- v | AT4: False
D6: Stavba:
E7: ='Rekapitulace stavby'!K6 -> Rekonstrukce hygienických prostor ISŠT, Benešov, Černoleská 1997
D8: Objekt:
E9: 04 - 5.NP - č. 514a - Koupelna typ A2
D11: KSO: | I11: CC-CZ:
D12: Místo: | F12: Benešov, Černoleská 1997 | I12: Datum: | J12: ='Rekapitulace stavby'!AN8 -> 45880
D14: Zadavatel: | I14: IČ: | J14: 18620442
E15: Integrovaná střední škola technická | I15: DIČ:
D17: Účastník: | I17: IČ: | J17: ='Rekapitulace stavby'!AN13 -> 24832898
E18: ='Rekapitulace stavby'!E14 -> OTISTAV s.r.o. | I18: DIČ: | J18: ='Rekapitulace stavby'!AN14 -> CZ24832898
D20: Projektant: | I20: IČ:
E21: Ing. arch. Ondřej Lovíšek | I21: DIČ:
D23: Zpracovatel: | I23: IČ: | J23: =IF('Rekapitulace stavby'!AN19="","",'Rekapitulace stavby'!AN19)
E24: =IF('Rekapitulace stavby'!E20="","",'Rekapitulace stavby'!E20) | I24: DIČ: | J24: =IF('Rekapitulace stavby'!AN20="","",'Rekapitulace stavby'!AN20)
D26: Poznámka:
D30: Cena bez DPH | J30: =ROUND(J98, 2) -> 155502.3
F32: Základ daně | I32: Sazba daně | J32: Výše daně
D33: DPH | E33: základní | F33: =ROUND((SUM(BE98:BE488)), 2) -> 155502.3 | I33: 0.21 | J33: =ROUND(((SUM(BE98:BE488))*I33), 2) -> 32655.48
E34: snížená | F34: =ROUND((SUM(BF98:BF488)), 2) -> 0 | I34: 0.12 | J34: =ROUND(((SUM(BF98:BF488))*I34), 2) -> 0
E35: zákl. přenesená | F35: =ROUND((SUM(BG98:BG488)), 2) -> 0 | I35: 0.21 | J35: =0 -> 0
E36: sníž. přenesená | F36: =ROUND((SUM(BH98:BH488)), 2) -> 0 | I36: 0.12 | J36: =0 -> 0
E37: nulová | F37: =ROUND((SUM(BI98:BI488)), 2) -> 0 | I37: 0 | J37: =0 -> 0
D39: Cena s DPH | G39: v | H39: CZK | J39: =SUM(J30:J37) -> 188157.78
C45: REKAPITULACE ČLENĚNÍ SOUPISU PRACÍ
C47: Stavba:
E48: =E7 -> Rekonstrukce hygienických prostor ISŠT, Benešov, Černoleská 1997
C49: Objekt:
E50: =E9 -> 04 - 5.NP - č. 514a - Koupelna typ A2
C52: Místo: | F52: =F12 -> Benešov, Černoleská 1997 | I52: Datum: | J52: =IF(J12="","",J12) -> 45880
C54: Zadavatel: | F54: =E15 -> Integrovaná střední škola technická | I54: Projektant: | J54: =E21 -> Ing. arch. Ondřej Lovíšek
C55: Účastník: | F55: =IF(E18="","",E18) -> OTISTAV s.r.o. | I55: Zpracovatel: | J55: =E24
C57: Kód dílu - Popis | J57: Cena celkem [CZK]
C59: Náklady stavby celkem | J59: =J98 -> 155502.3 | AU59: -1
D60: HSV - Práce a dodávky HSV | J60: =J99 -> 57560.45
D61: 6 - Úpravy povrchů, podlahy a osazování výplní | J61: =J100 -> 34853.15
D62: 9 - Ostatní konstrukce a práce, bourání | J62: =J139 -> 13344.42
D63: 997 - Přesun sutě | J63: =J191 -> 6129.89
...

Sheet 05 - 6.NP - č. 628 - Koup...
AT2: {dbd4fc0f-fecb-484a-97f6-83eaf7055950}
AT3: 2
D4: KRYCÍ LIST SOUPISU PRACÍ | M4: v --- níže se nacházejí doplnkové a pomocné údaje k sestavám --- v | AT4: False
D6: Stavba:
E7: ='Rekapitulace stavby'!K6 -> Rekonstrukce hygienických prostor ISŠT, Benešov, Černoleská 1997
D8: Objekt:
E9: 05 - 6.NP - č. 628 - Koupelna typ B
D11: KSO: | I11: CC-CZ:
D12: Místo: | F12: Benešov, Černoleská 1997 | I12: Datum: | J12: ='Rekapitulace stavby'!AN8 -> 45880
D14: Zadavatel: | I14: IČ: | J14: 18620442
E15: Integrovaná střední škola technická | I15: DIČ:
D17: Účastník: | I17: IČ: | J17: ='Rekapitulace stavby'!AN13 -> 24832898
E18: ='Rekapitulace stavby'!E14 -> OTISTAV s.r.o. | I18: DIČ: | J18: ='Rekapitulace stavby'!AN14 -> CZ24832898
D20: Projektant: | I20: IČ:
E21: Ing. arch. Ondřej Lovíšek | I21: DIČ:
D23: Zpracovatel: | I23: IČ: | J23: =IF('Rekapitulace stavby'!AN19="","",'Rekapitulace stavby'!AN19)
E24: =IF('Rekapitulace stavby'!E20="","",'Rekapitulace stavby'!E20) | I24: DIČ: | J24: =IF('Rekapitulace stavby'!AN20="","",'Rekapitulace stavby'!AN20)
D26: Poznámka:
D30: Cena bez DPH | J30: =ROUND(J99, 2) -> 188318.82
F32: Základ daně | I32: Sazba daně | J32: Výše daně
D33: DPH | E33: základní | F33: =ROUND((SUM(BE99:BE577)), 2) -> 188318.82 | I33: 0.21 | J33: =ROUND(((SUM(BE99:BE577))*I33), 2) -> 39546.95
E34: snížená | F34: =ROUND((SUM(BF99:BF577)), 2) -> 0 | I34: 0.12 | J34: =ROUND(((SUM(BF99:BF577))*I34), 2) -> 0
E35: zákl. přenesená | F35: =ROUND((SUM(BG99:BG577)), 2) -> 0 | I35: 0.21 | J35: =0 -> 0
E36: sníž. přenesená | F36: =ROUND((SUM(BH99:BH577)), 2) -> 0 | I36: 0.12 | J36: =0 -> 0
E37: nulová | F37: =ROUND((SUM(BI99:BI577)), 2) -> 0 | I37: 0 | J37: =0 -> 0
D39: Cena s DPH | G39: v | H39: CZK | J39: =SUM(J30:J37) -> 227865.77
C45: REKAPITULACE ČLENĚNÍ SOUPISU PRACÍ
C47: Stavba:
E48: =E7 -> Rekonstrukce hygienických prostor ISŠT, Benešov, Černoleská 1997
C49: Objekt:
E50: =E9 -> 05 - 6.NP - č. 628 - Koupelna typ B
C52: Místo: | F52: =F12 -> Benešov, Černoleská 1997 | I52: Datum: | J52: =IF(J12="","",J12) -> 45880
C54: Zadavatel: | F54: =E15 -> Integrovaná střední škola technická | I54: Projektant: | J54: =E21 -> Ing. arch. Ondřej Lovíšek
C55: Účastník: | F55: =IF(E18="","",E18) -> OTISTAV s.r.o. | I55: Zpracovatel: | J55: =E24
C57: Kód dílu - Popis | J57: Cena celkem [CZK]
C59: Náklady stavby celkem | J59: =J99 -> 188318.82 | AU59: -1
D60: HSV - Práce a dodávky HSV | J60: =J100 -> 64595.37
D61: 6 - Úpravy povrchů, podlahy a osazování výplní | J61: =J101 -> 38726.52
D62: 9 - Ostatní konstrukce a práce, bourání | J62: =J158 -> 15672.98
D63: 997 - Přesun sutě | J63: =J216 -> 6673.01
...

Sheet 06 - 6.NP - č. 629 - Koup...
AT2: {8c8092fd-35d6-4c98-8501-18b16538dec8}
AT3: 2
D4: KRYCÍ LIST SOUPISU PRACÍ | M4: v --- níže se nacházejí doplnkové a pomocné údaje k sestavám --- v | AT4: False
D6: Stavba:
E7: ='Rekapitulace stavby'!K6 -> Rekonstrukce hygienických prostor ISŠT, Benešov, Černoleská 1997
D8: Objekt:
E9: 06 - 6.NP - č. 629 - Koupelna typ B
D11: KSO: | I11: CC-CZ:
D12: Místo: | F12: Benešov, Černoleská 1997 | I12: Datum: | J12: ='Rekapitulace stavby'!AN8 -> 45880
D14: Zadavatel: | I14: IČ: | J14: 18620442
E15: Integrovaná střední škola technická | I15: DIČ:
D17: Účastník: | I17: IČ: | J17: ='Rekapitulace stavby'!AN13 -> 24832898
E18: ='Rekapitulace stavby'!E14 -> OTISTAV s.r.o. | I18: DIČ: | J18: ='Rekapitulace stavby'!AN14 -> CZ24832898
D20: Projektant: | I20: IČ:
E21: Ing. arch. Ondřej Lovíšek | I21: DIČ:
D23: Zpracovatel: | I23: IČ: | J23: =IF('Rekapitulace stavby'!AN19="","",'Rekapitulace stavby'!AN19)
E24: =IF('Rekapitulace stavby'!E20="","",'Rekapitulace stavby'!E20) | I24: DIČ: | J24: =IF('Rekapitulace stavby'!AN20="","",'Rekapitulace stavby'!AN20)
D26: Poznámka:
D30: Cena bez DPH | J30: =ROUND(J99, 2) -> 188318.82
F32: Základ daně | I32: Sazba daně | J32: Výše daně
D33: DPH | E33: základní | F33: =ROUND((SUM(BE99:BE577)), 2) -> 188318.82 | I33: 0.21 | J33: =ROUND(((SUM(BE99:BE577))*I33), 2) -> 39546.95
E34: snížená | F34: =ROUND((SUM(BF99:BF577)), 2) -> 0 | I34: 0.12 | J34: =ROUND(((SUM(BF99:BF577))*I34), 2) -> 0
E35: zákl. přenesená | F35: =ROUND((SUM(BG99:BG577)), 2) -> 0 | I35: 0.21 | J35: =0 -> 0
E36: sníž. přenesená | F36: =ROUND((SUM(BH99:BH577)), 2) -> 0 | I36: 0.12 | J36: =0 -> 0
E37: nulová | F37: =ROUND((SUM(BI99:BI577)), 2) -> 0 | I37: 0 | J37: =0 -> 0
D39: Cena s DPH | G39: v | H39: CZK | J39: =SUM(J30:J37) -> 227865.77
C45: REKAPITULACE ČLENĚNÍ SOUPISU PRACÍ
C47: Stavba:
E48: =E7 -> Rekonstrukce hygienických prostor ISŠT, Benešov, Černoleská 1997
C49: Objekt:
E50: =E9 -> 06 - 6.NP - č. 629 - Koupelna typ B
C52: Místo: | F52: =F12 -> Benešov, Černoleská 1997 | I52: Datum: | J52: =IF(J12="","",J12) -> 45880
C54: Zadavatel: | F54: =E15 -> Integrovaná střední škola technická | I54: Projektant: | J54: =E21 -> Ing. arch. Ondřej Lovíšek
C55: Účastník: | F55: =IF(E18="","",E18) -> OTISTAV s.r.o. | I55: Zpracovatel: | J55: =E24
C57: Kód dílu - Popis | J57: Cena celkem [CZK]
C59: Náklady stavby celkem | J59: =J99 -> 188318.82 | AU59: -1
D60: HSV - Práce a dodávky HSV | J60: =J100 -> 64595.37
D61: 6 - Úpravy povrchů, podlahy a osazování výplní | J61: =J101 -> 38726.52
D62: 9 - Ostatní konstrukce a práce, bourání | J62: =J158 -> 15672.98
D63: 997 - Přesun sutě | J63: =J216 -> 6673.01
...

Sheet 07 - 6.NP - č. 621a - Kou...
AT2: {7e72d039-acc5-4cc8-99d2-231fd996fe30}
AT3: 2
D4: KRYCÍ LIST SOUPISU PRACÍ | M4: v --- níže se nacházejí doplnkové a pomocné údaje k sestavám --- v | AT4: False
D6: Stavba:
E7: ='Rekapitulace stavby'!K6 -> Rekonstrukce hygienických prostor ISŠT, Benešov, Černoleská 1997
D8: Objekt:
E9: 07 - 6.NP - č. 621a - Koupelna typ A1
D11: KSO: | I11: CC-CZ:
D12: Místo: | F12: Benešov, Černoleská 1997 | I12: Datum: | J12: ='Rekapitulace stavby'!AN8 -> 45880
D14: Zadavatel: | I14: IČ: | J14: 18620442
E15: Integrovaná střední škola technická | I15: DIČ:
D17: Účastník: | I17: IČ: | J17: ='Rekapitulace stavby'!AN13 -> 24832898
E18: ='Rekapitulace stavby'!E14 -> OTISTAV s.r.o. | I18: DIČ: | J18: ='Rekapitulace stavby'!AN14 -> CZ24832898
D20: Projektant: | I20: IČ:
E21: Ing. arch. Ondřej Lovíšek | I21: DIČ:
D23: Zpracovatel: | I23: IČ: | J23: =IF('Rekapitulace stavby'!AN19="","",'Rekapitulace stavby'!AN19)
E24: =IF('Rekapitulace stavby'!E20="","",'Rekapitulace stavby'!E20) | I24: DIČ: | J24: =IF('Rekapitulace stavby'!AN20="","",'Rekapitulace stavby'!AN20)
D26: Poznámka:
D30: Cena bez DPH | J30: =ROUND(J98, 2) -> 155241.1
F32: Základ daně | I32: Sazba daně | J32: Výše daně
D33: DPH | E33: základní | F33: =ROUND((SUM(BE98:BE488)), 2) -> 155241.1 | I33: 0.21 | J33: =ROUND(((SUM(BE98:BE488))*I33), 2) -> 32600.63
E34: snížená | F34: =ROUND((SUM(BF98:BF488)), 2) -> 0 | I34: 0.12 | J34: =ROUND(((SUM(BF98:BF488))*I34), 2) -> 0
E35: zákl. přenesená | F35: =ROUND((SUM(BG98:BG488)), 2) -> 0 | I35: 0.21 | J35: =0 -> 0
E36: sníž. přenesená | F36: =ROUND((SUM(BH98:BH488)), 2) -> 0 | I36: 0.12 | J36: =0 -> 0
E37: nulová | F37: =ROUND((SUM(BI98:BI488)), 2) -> 0 | I37: 0 | J37: =0 -> 0
D39: Cena s DPH | G39: v | H39: CZK | J39: =SUM(J30:J37) -> 187841.73
C45: REKAPITULACE ČLENĚNÍ SOUPISU PRACÍ
C47: Stavba:
E48: =E7 -> Rekonstrukce hygienických prostor ISŠT, Benešov, Černoleská 1997
C49: Objekt:
E50: =E9 -> 07 - 6.NP - č. 621a - Koupelna typ A1
C52: Místo: | F52: =F12 -> Benešov, Černoleská 1997 | I52: Datum: | J52: =IF(J12="","",J12) -> 45880
C54: Zadavatel: | F54: =E15 -> Integrovaná střední škola technická | I54: Projektant: | J54: =E21 -> Ing. arch. Ondřej Lovíšek
C55: Účastník: | F55: =IF(E18="","",E18) -> OTISTAV s.r.o. | I55: Zpracovatel: | J55: =E24
C57: Kód dílu - Popis | J57: Cena celkem [CZK]
C59: Náklady stavby celkem | J59: =J98 -> 155241.1 | AU59: -1
D60: HSV - Práce a dodávky HSV | J60: =J99 -> 57434.93
D61: 6 - Úpravy povrchů, podlahy a osazování výplní | J61: =J100 -> 34779.88
D62: 9 - Ostatní konstrukce a práce, bourání | J62: =J139 -> 13337.61
D63: 997 - Přesun sutě | J63: =J191 -> 6103.52
...

Sheet 08 - 6.NP - č. 614a - Kou...
AT2: {1b9f5fea-0f32-43d9-b457-164c5e520301}
AT3: 2
D4: KRYCÍ LIST SOUPISU PRACÍ | M4: v --- níže se nacházejí doplnkové a pomocné údaje k sestavám --- v | AT4: False
D6: Stavba:
E7: ='Rekapitulace stavby'!K6 -> Rekonstrukce hygienických prostor ISŠT, Benešov, Černoleská 1997
D8: Objekt:
E9: 08 - 6.NP - č. 614a - Koupelna typ A2
D11: KSO: | I11: CC-CZ:
D12: Místo: | F12: Benešov, Černoleská 1997 | I12: Datum: | J12: ='Rekapitulace stavby'!AN8 -> 45880
D14: Zadavatel: | I14: IČ: | J14: 18620442
E15: Integrovaná střední škola technická | I15: DIČ:
D17: Účastník: | I17: IČ: | J17: ='Rekapitulace stavby'!AN13 -> 24832898
E18: ='Rekapitulace stavby'!E14 -> OTISTAV s.r.o. | I18: DIČ: | J18: ='Rekapitulace stavby'!AN14 -> CZ24832898
D20: Projektant: | I20: IČ:
E21: Ing. arch. Ondřej Lovíšek | I21: DIČ:
D23: Zpracovatel: | I23: IČ: | J23: =IF('Rekapitulace stavby'!AN19="","",'Rekapitulace stavby'!AN19)
E24: =IF('Rekapitulace stavby'!E20="","",'Rekapitulace stavby'!E20) | I24: DIČ: | J24: =IF('Rekapitulace stavby'!AN20="","",'Rekapitulace stavby'!AN20)
D26: Poznámka:
D30: Cena bez DPH | J30: =ROUND(J98, 2) -> 155502.3
F32: Základ daně | I32: Sazba daně | J32: Výše daně
D33: DPH | E33: základní | F33: =ROUND((SUM(BE98:BE488)), 2) -> 155502.3 | I33: 0.21 | J33: =ROUND(((SUM(BE98:BE488))*I33), 2) -> 32655.48
E34: snížená | F34: =ROUND((SUM(BF98:BF488)), 2) -> 0 | I34: 0.12 | J34: =ROUND(((SUM(BF98:BF488))*I34), 2) -> 0
E35: zákl. přenesená | F35: =ROUND((SUM(BG98:BG488)), 2) -> 0 | I35: 0.21 | J35: =0 -> 0
E36: sníž. přenesená | F36: =ROUND((SUM(BH98:BH488)), 2) -> 0 | I36: 0.12 | J36: =0 -> 0
E37: nulová | F37: =ROUND((SUM(BI98:BI488)), 2) -> 0 | I37: 0 | J37: =0 -> 0
D39: Cena s DPH | G39: v | H39: CZK | J39: =SUM(J30:J37) -> 188157.78
C45: REKAPITULACE ČLENĚNÍ SOUPISU PRACÍ
C47: Stavba:
E48: =E7 -> Rekonstrukce hygienických prostor ISŠT, Benešov, Černoleská 1997
C49: Objekt:
E50: =E9 -> 08 - 6.NP - č. 614a - Koupelna typ A2
C52: Místo: | F52: =F12 -> Benešov, Černoleská 1997 | I52: Datum: | J52: =IF(J12="","",J12) -> 45880
C54: Zadavatel: | F54: =E15 -> Integrovaná střední škola technická | I54: Projektant: | J54: =E21 -> Ing. arch. Ondřej Lovíšek
C55: Účastník: | F55: =IF(E18="","",E18) -> OTISTAV s.r.o. | I55: Zpracovatel: | J55: =E24
C57: Kód dílu - Popis | J57: Cena celkem [CZK]
C59: Náklady stavby celkem | J59: =J98 -> 155502.3 | AU59: -1
D60: HSV - Práce a dodávky HSV | J60: =J99 -> 57560.45
D61: 6 - Úpravy povrchů, podlahy a osazování výplní | J61: =J100 -> 34853.15
D62: 9 - Ostatní konstrukce a práce, bourání | J62: =J139 -> 13344.42
D63: 997 - Přesun sutě | J63: =J191 -> 6129.89
...

Sheet VRN - Vedlejší rozpočtové...
AT2: {bc929385-14e1-4e65-b0e6-897c3f94e34e}
AT3: 2
D4: KRYCÍ LIST SOUPISU PRACÍ | M4: v --- níže se nacházejí doplnkové a pomocné údaje k sestavám --- v | AT4: False
D6: Stavba:
E7: ='Rekapitulace stavby'!K6 -> Rekonstrukce hygienických prostor ISŠT, Benešov, Černoleská 1997
D8: Objekt:
E9: VRN - Vedlejší rozpočtové náklady
D11: KSO: | I11: CC-CZ:
D12: Místo: | F12: Benešov, Černoleská 1997 | I12: Datum: | J12: ='Rekapitulace stavby'!AN8 -> 45880
D14: Zadavatel: | I14: IČ: | J14: 18620442
E15: Integrovaná střední škola technická | I15: DIČ:
D17: Účastník: | I17: IČ: | J17: ='Rekapitulace stavby'!AN13 -> 24832898
E18: ='Rekapitulace stavby'!E14 -> OTISTAV s.r.o. | I18: DIČ: | J18: ='Rekapitulace stavby'!AN14 -> CZ24832898
D20: Projektant: | I20: IČ:
E21: Ing. arch. Ondřej Lovíšek | I21: DIČ:
D23: Zpracovatel: | I23: IČ: | J23: =IF('Rekapitulace stavby'!AN19="","",'Rekapitulace stavby'!AN19)
E24: =IF('Rekapitulace stavby'!E20="","",'Rekapitulace stavby'!E20) | I24: DIČ: | J24: =IF('Rekapitulace stavby'!AN20="","",'Rekapitulace stavby'!AN20)
D26: Poznámka:
D30: Cena bez DPH | J30: =ROUND(J82, 2) -> 14125.92
F32: Základ daně | I32: Sazba daně | J32: Výše daně
D33: DPH | E33: základní | F33: =ROUND((SUM(BE82:BE91)), 2) -> 14125.92 | I33: 0.21 | J33: =ROUND(((SUM(BE82:BE91))*I33), 2) -> 2966.44
E34: snížená | F34: =ROUND((SUM(BF82:BF91)), 2) -> 0 | I34: 0.12 | J34: =ROUND(((SUM(BF82:BF91))*I34), 2) -> 0
E35: zákl. přenesená | F35: =ROUND((SUM(BG82:BG91)), 2) -> 0 | I35: 0.21 | J35: =0 -> 0
E36: sníž. přenesená | F36: =ROUND((SUM(BH82:BH91)), 2) -> 0 | I36: 0.12 | J36: =0 -> 0
E37: nulová | F37: =ROUND((SUM(BI82:BI91)), 2) -> 0 | I37: 0 | J37: =0 -> 0
D39: Cena s DPH | G39: v | H39: CZK | J39: =SUM(J30:J37) -> 17092.36
C45: REKAPITULACE ČLENĚNÍ SOUPISU PRACÍ
C47: Stavba:
E48: =E7 -> Rekonstrukce hygienických prostor ISŠT, Benešov, Černoleská 1997
C49: Objekt:
E50: =E9 -> VRN - Vedlejší rozpočtové náklady
C52: Místo: | F52: =F12 -> Benešov, Černoleská 1997 | I52: Datum: | J52: =IF(J12="","",J12) -> 45880
C54: Zadavatel: | F54: =E15 -> Integrovaná střední škola technická | I54: Projektant: | J54: =E21 -> Ing. arch. Ondřej Lovíšek
C55: Účastník: | F55: =IF(E18="","",E18) -> OTISTAV s.r.o. | I55: Zpracovatel: | J55: =E24
C57: Kód dílu - Popis | J57: Cena celkem [CZK]
C59: Náklady stavby celkem | J59: =J82 -> 14125.92 | AU59: -1
D60: VRN - Vedlejší rozpočtové náklady | J60: =J83 -> 14125.92
D61: VRN1 - Průzkumné, geodetické a projektové práce | J61: =J84 -> 4708.64
D62: VRN3 - Zařízení staveniště | J62: =J87 -> 9417.28
C69: SOUPIS PRACÍ
...

Sheet Pokyny pro vyplnění
C3: Struktura údajů, formát souboru a metodika pro zpracování
C4: Struktura
C6: Soubor je složen ze záložky Rekapitulace stavby a záložek s názvem soupisu prací pro jednotlivé objekty ve formátu XLSX. Každá ze záložek přitom obsahuje
C7: ještě samostatné sestavy vymezené orámovaním a nadpisem sestavy.
C9: Rekapitulace stavby obsahuje sestavu Rekapitulace stavby a Rekapitulace objektů stavby a soupisů prací.
D10: V sestavě Rekapitulace stavby jsou uvedeny informace identifikující předmět veřejné zakázky na stavební práce, KSO, CC-CZ, CZ-CPV, CZ-CPA a rekapitulaci
D11: celkové nabídkové ceny účastníka.
D13: Termínem "učastník" (resp. zhotovitel) se myslí "účastník zadávacího řízení" ve smyslu zákona o zadávání veřejných zakázek.
D15: V sestavě Rekapitulace objektů stavby a soupisů prací je uvedena rekapitulace stavebních objektů, inženýrských objektů, provozních souborů,
D16: vedlejších a ostatních nákladů a ostatních nákladů s rekapitulací nabídkové ceny za jednotlivé soupisy prací. Na základě údaje Typ je možné
D17: identifikovat, zda se jedná o objekt nebo soupis prací pro daný objekt:
E18: STA | F18: Stavební objekt pozemní
E19: ING | F19: Stavební objekt inženýrský
E20: PRO | F20: Provozní soubor
E21: VON | F21: Vedlejší a ostatní náklady
E22: OST | F22: Ostatní
E23: Soupis | F23: Soupis prací pro daný typ objektu
C25: Soupis prací pro jednotlivé objekty obsahuje sestavy Krycí list soupisu prací, Rekapitulace členění soupisu prací, Soupis prací. Za soupis prací může být považován
C26: i objekt stavby v případě, že neobsahuje podřízenou zakázku.
D27: Krycí list soupisu obsahuje rekapitulaci informací o předmětu veřejné zakázky ze sestavy Rekapitulace stavby, informaci o zařazení objektu do KSO,
D28: CC-CZ, CZ-CPV, CZ-CPA a rekapitulaci celkové nabídkové ceny účastníka za aktuální soupis prací.
D30: Rekapitulace členění soupisu prací obsahuje rekapitulaci soupisu prací ve všech úrovních členění soupisu tak, jak byla tato členění použita (např.
D31: stavební díly, funkční díly, případně jiné členění) s rekapitulací nabídkové ceny.
D33: Soupis prací obsahuje položky veškerých stavebních nebo montážních prací, dodávek materiálů a služeb nezbytných pro zhotovení stavebního objektu,
D34: inženýrského objektu, provozního souboru, vedlejších a ostatních nákladů.
D35: Pro položky soupisu prací se zobrazují následující informace:
E36: PČ | G36: Pořadové číslo položky v aktuálním soupisu
E37: TYP | G37: Typ položky: K - konstrukce, M - materiál, PP - plný popis, PSC - poznámka k souboru cen, P - poznámka k položce, VV - výkaz výměr, FIG - rozpad figur
E38: Kód | G38: Kód položky
E39: Popis | G39: Zkrácený popis položky
E40: MJ | G40: Měrná jednotka položky
E41: Množství | G41: Množství v měrné jednotce
E42: J.cena | G42: Jednotková cena položky. Zadaní může obsahovat namísto J.ceny sloupce J.materiál a J.montáž, jejichž součet definuje
G43: J.cenu položky.
E44: Cena celkem | G44: Celková cena položky daná jako součin množství a j.ceny
E45: Cenová soustava | G45: Příslušnost položky do cenové soustavy
D47: Ke každé položce soupisu prací se na samostatných řádcích může zobrazovat:
E48: Plný popis položky
E49: Poznámka k souboru cen a poznámka zadavatele
E50: Výkaz výměr
...
