Workbook
Name __CENA__: 'ZL 1-rozpočet'!$P$7:$P$349
Name __CENA__: 'ZL 1-rozpočet'!$P$7:$P$349
Name __CENA__: 'ZL 2-rozpočet'!$P$7:$P$349
Name __CENA__: #REF!
Name __MAIN__: 'ZL 1-rozpočet'!$F$1:$DE$272
Name __MAIN__: 'ZL 2-rozpočet'!$F$1:$DE$272
Name __MAIN__: #REF!
Name __MAIN2__: Rekapitulace!$B$1:$H$45
Name __MAIN2__: #REF!
Name __MAIN2__: #REF!
Name __MAIN2__: #REF!
Name __SAZBA__: 'ZL 1-rozpočet'!$U$7:$U$349
Name __SAZBA__: 'ZL 1-rozpočet'!$U$7:$U$349
Name __SAZBA__: 'ZL 2-rozpočet'!$U$7:$U$349
Name __SAZBA__: #REF!
Name __T0__: 'ZL 1-rozpočet'!$F$5:$AC$272
Name __T0__: 'ZL 2-rozpočet'!$F$5:$AC$272
Name __T0__: #REF!
Name __T1__: 'ZL 1-rozpočet'!$F$6:$AC$20
Name __T1__: 'ZL 2-rozpočet'!$F$6:$AC$20
Name __T1__: #REF!
Name __T2__: 'ZL 1-rozpočet'!$F$7:$DE$11
Name __T2__: 'ZL 2-rozpočet'!$F$7:$DE$11
Name __T2__: #REF!
Name __T3__: 'ZL 1-rozpočet'!$8:$9
Name __T3__: 'ZL 2-rozpočet'!$8:$9
Name __T3__: #REF!
Name __T4__: 'ZL 1-rozpočet'!$J$9:$M$9
Name __T4__: 'ZL 2-rozpočet'!$J$9:$M$9
Name __T4__: #REF!
Name __TE3__: [10]Figury!#REF!
Name __TE3__: [10]Figury!#REF!
Name __TE3__: [10]Figury!#REF!
Name __TE3__: [1]Figury!#REF!
Name __TR0__: Rekapitulace!$B$5:$F$7
Name __TR0__: #REF!
Name __TR0__: #REF!
Name __TR0__: #REF!
Name __TR1__: Rekapitulace!$B$6:$F$7
Name __TR1__: #REF!
Name __TR1__: #REF!
Name __TR1__: #REF!
Name __TR2__: Rekapitulace!$B$7:$F$7
Name __TR2__: #REF!
Name __TR2__: #REF!
Name __TR2__: #REF!
Name _END1: #REF!
Name _END1: #REF!
Name _END2: #REF!
Name _END2: #REF!
Name ad: '[2]Krycí list'!$C$5
Name AL_obvodový_plášť: '[3]SO 11.1A Výkaz výměr'!#REF!
Name AL_obvodový_plášť: '[3]SO 11.1A Výkaz výměr'!#REF!
Name cisloobjektu: '[4]Krycí list'!$A$5
Name cislostavby: '[4]Krycí list'!$A$7
Name d: [4]Rekapitulace!$F$9
Name da: #REF!
Name da: #REF!
Name Datum: #REF!
Name Datum: #REF!

Sheet Rekapitulace
B1: Zakázka:
A2: {=INDEX(__SAZBA__,MATCH(0,COUNTIF($A$1:A1,__SAZBA__),0))} -> _ | B2: ='[10]Kryci list'!B5 -> Klenová - Centrum pro podporu výtvarné kultury - 2.etapa
A3: {=INDEX(__SAZBA__,MATCH(0,COUNTIF($A$1:A2,__SAZBA__),0))} -> 21 | B3: Popis | C3: Cena | D3: Hmotnost | E3: DPH | F3: Cena s DPH
A4: {=INDEX(__SAZBA__,MATCH(0,COUNTIF($A$1:A3,__SAZBA__),0))} -> #N/A
B5: =IF('ZL 1-rozpočet'!$J$5=0,"",'ZL 1-rozpočet'!$J$5) -> D_01: Obj. D - přezdívání zdiva | C5: =IF('ZL 1-rozpočet'!$P$5=0,"",'ZL 1-rozpočet'!$P$5) -> 1383689.9 | D5: =IF('ZL 1-rozpočet'!$R$5=0,"",'ZL 1-rozpočet'!$R$5) -> 161.21855 | E5: =IF('ZL 1-rozpočet'!$V$5=0,"",'ZL 1-rozpočet'!$V$5) -> 290574.87 | F5: =IF('ZL 1-rozpočet'!$W$5=0,"",'ZL 1-rozpočet'!$W$5) -> 1674264.7
B6: =IF('ZL 1-rozpočet'!$J$6=0,"",'ZL 1-rozpočet'!$J$6) -> 01.2.1: Stavební část - Objekt D - bourací práce | C6: =IF('ZL 1-rozpočet'!$P$6=0,"",'ZL 1-rozpočet'!$P$6) -> 724227.14 | D6: =IF('ZL 1-rozpočet'!$R$6=0,"",'ZL 1-rozpočet'!$R$6) | E6: =IF('ZL 1-rozpočet'!$V$6=0,"",'ZL 1-rozpočet'!$V$6) -> 152087.7 | F6: =IF('ZL 1-rozpočet'!$W$6=0,"",'ZL 1-rozpočet'!$W$6) -> 876314.84
B7: =IF('ZL 1-rozpočet'!$J$7=0,"",'ZL 1-rozpočet'!$J$7) -> 9: Ostatní konstrukce a práce, bourání | C7: =IF('ZL 1-rozpočet'!$P$7=0,"",'ZL 1-rozpočet'!$P$7) -> 21113.5 | D7: =IF('ZL 1-rozpočet'!$R$7=0,"",'ZL 1-rozpočet'!$R$7) | E7: =IF('ZL 1-rozpočet'!$V$7=0,"",'ZL 1-rozpočet'!$V$7) -> 4433.8349 | F7: =IF('ZL 1-rozpočet'!$W$7=0,"",'ZL 1-rozpočet'!$W$7) -> 25547.335
B8: =IF('ZL 1-rozpočet'!$J$12=0,"",'ZL 1-rozpočet'!$J$12) -> 997: Přesun sutě | C8: =IF('ZL 1-rozpočet'!$P$12=0,"",'ZL 1-rozpočet'!$P$12) -> 703113.64 | D8: =IF('ZL 1-rozpočet'!$R$12=0,"",'ZL 1-rozpočet'!$R$12) | E8: =IF('ZL 1-rozpočet'!$V$12=0,"",'ZL 1-rozpočet'!$V$12) -> 147653.86 | F8: =IF('ZL 1-rozpočet'!$W$12=0,"",'ZL 1-rozpočet'!$W$12) -> 850767.51
B9: =IF('ZL 1-rozpočet'!$J$21=0,"",'ZL 1-rozpočet'!$J$21) -> 01.2.2: Stavební část - Objekt D - stavební úpravy | C9: =IF('ZL 1-rozpočet'!$P$21=0,"",'ZL 1-rozpočet'!$P$21) -> 659462.71 | D9: =IF('ZL 1-rozpočet'!$R$21=0,"",'ZL 1-rozpočet'!$R$21) -> 161.21855 | E9: =IF('ZL 1-rozpočet'!$V$21=0,"",'ZL 1-rozpočet'!$V$21) -> 138487.17 | F9: =IF('ZL 1-rozpočet'!$W$21=0,"",'ZL 1-rozpočet'!$W$21) -> 797949.88
B10: =IF('ZL 1-rozpočet'!$J$22=0,"",'ZL 1-rozpočet'!$J$22) -> 1: Zemní práce | C10: =IF('ZL 1-rozpočet'!$P$22=0,"",'ZL 1-rozpočet'!$P$22) -> 42987.17 | D10: =IF('ZL 1-rozpočet'!$R$22=0,"",'ZL 1-rozpočet'!$R$22) | E10: =IF('ZL 1-rozpočet'!$V$22=0,"",'ZL 1-rozpočet'!$V$22) -> 9027.3058 | F10: =IF('ZL 1-rozpočet'!$W$22=0,"",'ZL 1-rozpočet'!$W$22) -> 52014.476
B11: =IF('ZL 1-rozpočet'!$J$37=0,"",'ZL 1-rozpočet'!$J$37) -> 2: Zakládání | C11: =IF('ZL 1-rozpočet'!$P$37=0,"",'ZL 1-rozpočet'!$P$37) -> 274907.81 | D11: =IF('ZL 1-rozpočet'!$R$37=0,"",'ZL 1-rozpočet'!$R$37) -> 133.75738 | E11: =IF('ZL 1-rozpočet'!$V$37=0,"",'ZL 1-rozpočet'!$V$37) -> 57730.64 | F11: =IF('ZL 1-rozpočet'!$W$37=0,"",'ZL 1-rozpočet'!$W$37) -> 332638.45
B12: =IF('ZL 1-rozpočet'!$J$62=0,"",'ZL 1-rozpočet'!$J$62) -> 3: Svislé a kompletní konstrukce | C12: =IF('ZL 1-rozpočet'!$P$62=0,"",'ZL 1-rozpočet'!$P$62) -> 210296.91 | D12: =IF('ZL 1-rozpočet'!$R$62=0,"",'ZL 1-rozpočet'!$R$62) -> 24.169029 | E12: =IF('ZL 1-rozpočet'!$V$62=0,"",'ZL 1-rozpočet'!$V$62) -> 44162.351 | F12: =IF('ZL 1-rozpočet'!$W$62=0,"",'ZL 1-rozpočet'!$W$62) -> 254459.26
B13: =IF('ZL 1-rozpočet'!$J$75=0,"",'ZL 1-rozpočet'!$J$75) -> 61: Úprava povrchů vnitřních | C13: =IF('ZL 1-rozpočet'!$P$75=0,"",'ZL 1-rozpočet'!$P$75) -> 4451.1358 | D13: =IF('ZL 1-rozpočet'!$R$75=0,"",'ZL 1-rozpočet'!$R$75) -> 0.28676083 | E13: =IF('ZL 1-rozpočet'!$V$75=0,"",'ZL 1-rozpočet'!$V$75) -> 934.73851 | F13: =IF('ZL 1-rozpočet'!$W$75=0,"",'ZL 1-rozpočet'!$W$75) -> 5385.8743
B14: =IF('ZL 1-rozpočet'!$J$82=0,"",'ZL 1-rozpočet'!$J$82) -> 63: Podlahy a podlahové konstrukce | C14: =IF('ZL 1-rozpočet'!$P$82=0,"",'ZL 1-rozpočet'!$P$82) -> 7836.1342 | D14: =IF('ZL 1-rozpočet'!$R$82=0,"",'ZL 1-rozpočet'!$R$82) -> 2.1592386 | E14: =IF('ZL 1-rozpočet'!$V$82=0,"",'ZL 1-rozpočet'!$V$82) -> 1645.5882 | F14: =IF('ZL 1-rozpočet'!$W$82=0,"",'ZL 1-rozpočet'!$W$82) -> 9481.7224
B15: =IF('ZL 1-rozpočet'!$J$135=0,"",'ZL 1-rozpočet'!$J$135) -> 711: Izolace proti vodě, vlhkosti a plynům | C15: =IF('ZL 1-rozpočet'!$P$135=0,"",'ZL 1-rozpočet'!$P$135) -> 14016.047 | D15: =IF('ZL 1-rozpočet'!$R$135=0,"",'ZL 1-rozpočet'!$R$135) -> 0.32145924 | E15: =IF('ZL 1-rozpočet'!$V$135=0,"",'ZL 1-rozpočet'!$V$135) -> 2943.3699 | F15: =IF('ZL 1-rozpočet'!$W$135=0,"",'ZL 1-rozpočet'!$W$135) -> 16959.417
B16: =IF('ZL 1-rozpočet'!$J$146=0,"",'ZL 1-rozpočet'!$J$146) -> 713: Izolace tepelné | C16: =IF('ZL 1-rozpočet'!$P$146=0,"",'ZL 1-rozpočet'!$P$146) -> 1575.3206 | D16: =IF('ZL 1-rozpočet'!$R$146=0,"",'ZL 1-rozpočet'!$R$146) -> 0.0178618 | E16: =IF('ZL 1-rozpočet'!$V$146=0,"",'ZL 1-rozpočet'!$V$146) -> 330.81733 | F16: =IF('ZL 1-rozpočet'!$W$146=0,"",'ZL 1-rozpočet'!$W$146) -> 1906.138
B17: =IF('ZL 1-rozpočet'!$J$159=0,"",'ZL 1-rozpočet'!$J$159) -> 763: Konstrukce suché výstavby | C17: =IF('ZL 1-rozpočet'!$P$159=0,"",'ZL 1-rozpočet'!$P$159) -> 7984.0924 | D17: =IF('ZL 1-rozpočet'!$R$159=0,"",'ZL 1-rozpočet'!$R$159) -> 0.11398673 | E17: =IF('ZL 1-rozpočet'!$V$159=0,"",'ZL 1-rozpočet'!$V$159) -> 1676.6594 | F17: =IF('ZL 1-rozpočet'!$W$159=0,"",'ZL 1-rozpočet'!$W$159) -> 9660.7518
B18: =IF('ZL 1-rozpočet'!$J$178=0,"",'ZL 1-rozpočet'!$J$178) -> 771: Podlahy z dlaždic | C18: =IF('ZL 1-rozpočet'!$P$178=0,"",'ZL 1-rozpočet'!$P$178) -> 17059.1 | D18: =IF('ZL 1-rozpočet'!$R$178=0,"",'ZL 1-rozpočet'!$R$178) -> 0.25407199 | E18: =IF('ZL 1-rozpočet'!$V$178=0,"",'ZL 1-rozpočet'!$V$178) -> 3582.411 | F18: =IF('ZL 1-rozpočet'!$W$178=0,"",'ZL 1-rozpočet'!$W$178) -> 20641.511
B19: =IF('ZL 1-rozpočet'!$J$215=0,"",'ZL 1-rozpočet'!$J$215) -> 777: Podlahy lité | C19: =IF('ZL 1-rozpočet'!$P$215=0,"",'ZL 1-rozpočet'!$P$215) -> 4745.5486 | D19: =IF('ZL 1-rozpočet'!$R$215=0,"",'ZL 1-rozpočet'!$R$215) | E19: =IF('ZL 1-rozpočet'!$V$215=0,"",'ZL 1-rozpočet'!$V$215) -> 996.56521 | F19: =IF('ZL 1-rozpočet'!$W$215=0,"",'ZL 1-rozpočet'!$W$215) -> 5742.1138
B20: =IF('ZL 1-rozpočet'!$J$240=0,"",'ZL 1-rozpočet'!$J$240) -> 781: Dokončovací práce - obklady | C20: =IF('ZL 1-rozpočet'!$P$240=0,"",'ZL 1-rozpočet'!$P$240) -> 9713.8519 | D20: =IF('ZL 1-rozpočet'!$R$240=0,"",'ZL 1-rozpočet'!$R$240) -> 0.13216942 | E20: =IF('ZL 1-rozpočet'!$V$240=0,"",'ZL 1-rozpočet'!$V$240) -> 2039.9089 | F20: =IF('ZL 1-rozpočet'!$W$240=0,"",'ZL 1-rozpočet'!$W$240) -> 11753.761
B21: =IF('ZL 1-rozpočet'!$J$257=0,"",'ZL 1-rozpočet'!$J$257) -> 784: Dokončovací práce - malby a tapety | C21: =IF('ZL 1-rozpočet'!$P$257=0,"",'ZL 1-rozpočet'!$P$257) -> 1726.5567 | D21: =IF('ZL 1-rozpočet'!$R$257=0,"",'ZL 1-rozpočet'!$R$257) -> 0.00659824 | E21: =IF('ZL 1-rozpočet'!$V$257=0,"",'ZL 1-rozpočet'!$V$257) -> 362.57692 | F21: =IF('ZL 1-rozpočet'!$W$257=0,"",'ZL 1-rozpočet'!$W$257) -> 2089.1337
B22: =IF('ZL 1-rozpočet'!$J$267=0,"",'ZL 1-rozpočet'!$J$267) -> 998: Přesun hmot | C22: =IF('ZL 1-rozpočet'!$P$267=0,"",'ZL 1-rozpočet'!$P$267) -> 62163.031 | D22: =IF('ZL 1-rozpočet'!$R$267=0,"",'ZL 1-rozpočet'!$R$267) | E22: =IF('ZL 1-rozpočet'!$V$267=0,"",'ZL 1-rozpočet'!$V$267) -> 13054.237 | F22: =IF('ZL 1-rozpočet'!$W$267=0,"",'ZL 1-rozpočet'!$W$267) -> 75217.268
B23: =IF('ZL 1-rozpočet'!$J$273=0,"",'ZL 1-rozpočet'!$J$273) -> D_02: Obj. E+F+G - bourání věnců a sloupů | C23: =IF('ZL 1-rozpočet'!$P$273=0,"",'ZL 1-rozpočet'!$P$273) -> 1092508.3 | D23: =IF('ZL 1-rozpočet'!$R$273=0,"",'ZL 1-rozpočet'!$R$273) | E23: =IF('ZL 1-rozpočet'!$V$273=0,"",'ZL 1-rozpočet'!$V$273) -> 229426.75 | F23: =IF('ZL 1-rozpočet'!$W$273=0,"",'ZL 1-rozpočet'!$W$273) -> 1321935.1
B24: =IF('ZL 1-rozpočet'!$J$274=0,"",'ZL 1-rozpočet'!$J$274) -> 01.3.1: Stavební část - Objekt E - bourací práce | C24: =IF('ZL 1-rozpočet'!$P$274=0,"",'ZL 1-rozpočet'!$P$274) -> 362404.19 | D24: =IF('ZL 1-rozpočet'!$R$274=0,"",'ZL 1-rozpočet'!$R$274) | E24: =IF('ZL 1-rozpočet'!$V$274=0,"",'ZL 1-rozpočet'!$V$274) -> 76104.879 | F24: =IF('ZL 1-rozpočet'!$W$274=0,"",'ZL 1-rozpočet'!$W$274) -> 438509.07
B25: =IF('ZL 1-rozpočet'!$J$275=0,"",'ZL 1-rozpočet'!$J$275) -> 9: Ostatní konstrukce a práce, bourání | C25: =IF('ZL 1-rozpočet'!$P$275=0,"",'ZL 1-rozpočet'!$P$275) -> 169313.64 | D25: =IF('ZL 1-rozpočet'!$R$275=0,"",'ZL 1-rozpočet'!$R$275) | E25: =IF('ZL 1-rozpočet'!$V$275=0,"",'ZL 1-rozpočet'!$V$275) -> 35555.864 | F25: =IF('ZL 1-rozpočet'!$W$275=0,"",'ZL 1-rozpočet'!$W$275) -> 204869.5
B26: =IF('ZL 1-rozpočet'!$J$281=0,"",'ZL 1-rozpočet'!$J$281) -> 997: Přesun sutě | C26: =IF('ZL 1-rozpočet'!$P$281=0,"",'ZL 1-rozpočet'!$P$281) -> 193090.55 | D26: =IF('ZL 1-rozpočet'!$R$281=0,"",'ZL 1-rozpočet'!$R$281) | E26: =IF('ZL 1-rozpočet'!$V$281=0,"",'ZL 1-rozpočet'!$V$281) -> 40549.015 | F26: =IF('ZL 1-rozpočet'!$W$281=0,"",'ZL 1-rozpočet'!$W$281) -> 233639.57
B27: =IF('ZL 1-rozpočet'!$J$290=0,"",'ZL 1-rozpočet'!$J$290) -> 01.3.2: Stavební část - Objekt E - stavební úpravy | C27: =IF('ZL 1-rozpočet'!$P$290=0,"",'ZL 1-rozpočet'!$P$290) -> 64792.057 | D27: =IF('ZL 1-rozpočet'!$R$290=0,"",'ZL 1-rozpočet'!$R$290) | E27: =IF('ZL 1-rozpočet'!$V$290=0,"",'ZL 1-rozpočet'!$V$290) -> 13606.332 | F27: =IF('ZL 1-rozpočet'!$W$290=0,"",'ZL 1-rozpočet'!$W$290) -> 78398.389
B28: =IF('ZL 1-rozpočet'!$J$291=0,"",'ZL 1-rozpočet'!$J$291) -> 94: Lešení a stavební výtahy | C28: =IF('ZL 1-rozpočet'!$P$291=0,"",'ZL 1-rozpočet'!$P$291) -> 64792.057 | D28: =IF('ZL 1-rozpočet'!$R$291=0,"",'ZL 1-rozpočet'!$R$291) | E28: =IF('ZL 1-rozpočet'!$V$291=0,"",'ZL 1-rozpočet'!$V$291) -> 13606.332 | F28: =IF('ZL 1-rozpočet'!$W$291=0,"",'ZL 1-rozpočet'!$W$291) -> 78398.389
B29: =IF('ZL 1-rozpočet'!$J$299=0,"",'ZL 1-rozpočet'!$J$299) -> 01.4.1: Stavební část - Objekt F - bourací práce | C29: =IF('ZL 1-rozpočet'!$P$299=0,"",'ZL 1-rozpočet'!$P$299) -> 329932.69 | D29: =IF('ZL 1-rozpočet'!$R$299=0,"",'ZL 1-rozpočet'!$R$299) | E29: =IF('ZL 1-rozpočet'!$V$299=0,"",'ZL 1-rozpočet'!$V$299) -> 69285.866 | F29: =IF('ZL 1-rozpočet'!$W$299=0,"",'ZL 1-rozpočet'!$W$299) -> 399218.56
B30: =IF('ZL 1-rozpočet'!$J$300=0,"",'ZL 1-rozpočet'!$J$300) -> 9: Ostatní konstrukce a práce, bourání | C30: =IF('ZL 1-rozpočet'!$P$300=0,"",'ZL 1-rozpočet'!$P$300) -> 153530.86 | D30: =IF('ZL 1-rozpočet'!$R$300=0,"",'ZL 1-rozpočet'!$R$300) | E30: =IF('ZL 1-rozpočet'!$V$300=0,"",'ZL 1-rozpočet'!$V$300) -> 32241.48 | F30: =IF('ZL 1-rozpočet'!$W$300=0,"",'ZL 1-rozpočet'!$W$300) -> 185772.34
B31: =IF('ZL 1-rozpočet'!$J$306=0,"",'ZL 1-rozpočet'!$J$306) -> 997: Přesun sutě | C31: =IF('ZL 1-rozpočet'!$P$306=0,"",'ZL 1-rozpočet'!$P$306) -> 176401.84 | D31: =IF('ZL 1-rozpočet'!$R$306=0,"",'ZL 1-rozpočet'!$R$306) | E31: =IF('ZL 1-rozpočet'!$V$306=0,"",'ZL 1-rozpočet'!$V$306) -> 37044.386 | F31: =IF('ZL 1-rozpočet'!$W$306=0,"",'ZL 1-rozpočet'!$W$306) -> 213446.22
B32: =IF('ZL 1-rozpočet'!$J$315=0,"",'ZL 1-rozpočet'!$J$315) -> 01.4.2: Stavební část - Objekt F - stavební úpravy | C32: =IF('ZL 1-rozpočet'!$P$315=0,"",'ZL 1-rozpočet'!$P$315) -> 66227.593 | D32: =IF('ZL 1-rozpočet'!$R$315=0,"",'ZL 1-rozpočet'!$R$315) | E32: =IF('ZL 1-rozpočet'!$V$315=0,"",'ZL 1-rozpočet'!$V$315) -> 13907.795 | F32: =IF('ZL 1-rozpočet'!$W$315=0,"",'ZL 1-rozpočet'!$W$315) -> 80135.388
B33: =IF('ZL 1-rozpočet'!$J$316=0,"",'ZL 1-rozpočet'!$J$316) -> 94: Lešení a stavební výtahy | C33: =IF('ZL 1-rozpočet'!$P$316=0,"",'ZL 1-rozpočet'!$P$316) -> 66227.593 | D33: =IF('ZL 1-rozpočet'!$R$316=0,"",'ZL 1-rozpočet'!$R$316) | E33: =IF('ZL 1-rozpočet'!$V$316=0,"",'ZL 1-rozpočet'!$V$316) -> 13907.795 | F33: =IF('ZL 1-rozpočet'!$W$316=0,"",'ZL 1-rozpočet'!$W$316) -> 80135.388
B34: =IF('ZL 1-rozpočet'!$J$324=0,"",'ZL 1-rozpočet'!$J$324) -> 01.5.1: Stavební část - Objekt G - bourací práce | C34: =IF('ZL 1-rozpočet'!$P$324=0,"",'ZL 1-rozpočet'!$P$324) -> 254828.01 | D34: =IF('ZL 1-rozpočet'!$R$324=0,"",'ZL 1-rozpočet'!$R$324) | E34: =IF('ZL 1-rozpočet'!$V$324=0,"",'ZL 1-rozpočet'!$V$324) -> 53513.883 | F34: =IF('ZL 1-rozpočet'!$W$324=0,"",'ZL 1-rozpočet'!$W$324) -> 308341.9
B35: =IF('ZL 1-rozpočet'!$J$325=0,"",'ZL 1-rozpočet'!$J$325) -> 9: Ostatní konstrukce a práce, bourání | C35: =IF('ZL 1-rozpočet'!$P$325=0,"",'ZL 1-rozpočet'!$P$325) -> 116576.15 | D35: =IF('ZL 1-rozpočet'!$R$325=0,"",'ZL 1-rozpočet'!$R$325) | E35: =IF('ZL 1-rozpočet'!$V$325=0,"",'ZL 1-rozpočet'!$V$325) -> 24480.992 | F35: =IF('ZL 1-rozpočet'!$W$325=0,"",'ZL 1-rozpočet'!$W$325) -> 141057.14
B36: =IF('ZL 1-rozpočet'!$J$331=0,"",'ZL 1-rozpočet'!$J$331) -> 997: Přesun sutě | C36: =IF('ZL 1-rozpočet'!$P$331=0,"",'ZL 1-rozpočet'!$P$331) -> 138251.86 | D36: =IF('ZL 1-rozpočet'!$R$331=0,"",'ZL 1-rozpočet'!$R$331) | E36: =IF('ZL 1-rozpočet'!$V$331=0,"",'ZL 1-rozpočet'!$V$331) -> 29032.891 | F36: =IF('ZL 1-rozpočet'!$W$331=0,"",'ZL 1-rozpočet'!$W$331) -> 167284.75
B37: =IF('ZL 1-rozpočet'!$J$339=0,"",'ZL 1-rozpočet'!$J$339) -> 01.5.2: Stavební část - Objekt G - stavební úpravy | C37: =IF('ZL 1-rozpočet'!$P$339=0,"",'ZL 1-rozpočet'!$P$339) -> 14323.802 | D37: =IF('ZL 1-rozpočet'!$R$339=0,"",'ZL 1-rozpočet'!$R$339) | E37: =IF('ZL 1-rozpočet'!$V$339=0,"",'ZL 1-rozpočet'!$V$339) -> 3007.9985 | F37: =IF('ZL 1-rozpočet'!$W$339=0,"",'ZL 1-rozpočet'!$W$339) -> 17331.801
B38: =IF('ZL 1-rozpočet'!$J$340=0,"",'ZL 1-rozpočet'!$J$340) -> 94: Lešení a stavební výtahy | C38: =IF('ZL 1-rozpočet'!$P$340=0,"",'ZL 1-rozpočet'!$P$340) -> 14323.802 | D38: =IF('ZL 1-rozpočet'!$R$340=0,"",'ZL 1-rozpočet'!$R$340) | E38: =IF('ZL 1-rozpočet'!$V$340=0,"",'ZL 1-rozpočet'!$V$340) -> 3007.9985 | F38: =IF('ZL 1-rozpočet'!$W$340=0,"",'ZL 1-rozpočet'!$W$340) -> 17331.801
B40: Celkem (bez DPH) | C40: =SUBTOTAL(9,C5:C39)/3 -> 2476198.2
B41: DPH | C41: =SUBTOTAL(9,C42:C43) -> 520001.62
...

Sheet ZL 1
A1: ZMĚNOVÝ LIST
A2: Centrum pro podporu výtvarné kultury
A4: reg.č.stavby: | B4: CZ.06.04.04/0022_034/0000418 | I4: číslo ZL:
A5: smlouva: | B5: č. 272024 ze dne 20.6.2024 | I5: 1
A6: objednatel: | B6: Galerie Klatovy / Klenová, IČ: 75032333
A7: zhotovitel: | B7: LS stavby s.r.o., IČO: 00177270
A9: název ZL: | B9: D - přezdívání zdiva
A10: předmět změny:
A11: Absence základů do nezámrzné hloubky pod obvodovým zdivem objektu D. Degradace obvodového zdiva.Zdivo z větší části rozpadlé .
A12: Původní řešení dle smluvní / tendrové / dokumentace
A13: PD neřešila tuto skutečnost. Skutečný stav zjištěn až při provedení sond na stavbě.
A14: Nové řešení :
A15: Zbourání stávajícího degradovaného zdiva . Zhotovení základů v místě zbouráného zdiva / stávající degradované zdivo /.
A18: vliv na cenu díla: | E18: rozpočet: | F18: v příloze ZL | H18: méněpráce
I19: NE
E20: cena: | F20: bez DPH | G20: 0 | H20: Kč
A23: vliv na cenu díla: | E23: rozpočet: | F23: v příloze ZL | H23: vícepráce
I24: ANO
E25: cena: | F25: bez DPH | G25: 1383690 | H25: Kč
A28: CELKOVÁ BILANCE MÉNĚPRACÍ A VÍCEPRACÍ | E28: cena: | F28: bez DPH | G28: =SUM(G20,G25) -> 1383690 | H28: Kč
A31: vliv na termín dokončení:
A32: změna nemá vliv na termín dokončení díla.
A33: jiné vlivy (na změnu PD apod.): | D33: Změna bude zanesena do dokumentace skutečného provedení.
A41: podpis zhotovitele: | D41: Ing. Pavel Bárta
H42: Datum
A43: vyjádření projektanta : | D43: Ing. Antonín Švehla
H44: Datum
A45: vyjádření TDS : | D45: Ing. Milan Froněk
H46: Datum
A47: vyjádření investora: | D47: Ing. Hana Kristová
H48: Datum
H50: Datum
I52: číslo ZL:
I53: 1
A56: Vyjádření projektanta
A64: Vyjádření TDS
A78: Vyjádření investora
A90: Další vyjádření

Sheet ZL 1-rozpočet
F3: Poř. | G3: Typ | H3: Kód | I3: Alter. kód | J3: Popis | K3: MJ | L3: Výměra bez ztr. | M3: Ztratné | N3: Výměra | O3: Jedn. cena | P3: Cena | Q3: Jedn. hmotn. | R3: Hmotnost | S3: Jedn. suť | T3: Suť | U3: Sazba DPH | V3: DPH | W3: Cena s DPH | X3: Komentář | Y3: Objekt | Z3: Oddíl
J5: D_01: Obj. D - přezdívání zdiva | P5: =SUBTOTAL(9,P6:P272) -> 1383689.9 | R5: =SUBTOTAL(9,R6:R272) -> 161.21855 | T5: =SUBTOTAL(9,T6:T272) -> 242.2519 | U5: _ | V5: =SUBTOTAL(9,V6:V272) -> 290574.87 | W5: =SUBTOTAL(9,W6:W272) -> 1674264.7
J6: 01.2.1: Stavební část - Objekt D - bourací práce | P6: =SUBTOTAL(9,P7:P20) -> 724227.14 | R6: =SUBTOTAL(9,R7:R20) -> 0 | T6: =SUBTOTAL(9,T7:T20) -> 242.2519 | U6: _ | V6: =SUBTOTAL(9,V7:V20) -> 152087.7 | W6: =SUBTOTAL(9,W7:W20) -> 876314.84
J7: 9: Ostatní konstrukce a práce, bourání | P7: =SUBTOTAL(9,P8:P11) -> 21113.5 | R7: =SUBTOTAL(9,R8:R11) -> 0 | T7: =SUBTOTAL(9,T8:T11) -> 242.2519 | U7: _ | V7: =SUBTOTAL(9,V8:V11) -> 4433.8349 | W7: =SUBTOTAL(9,W8:W11) -> 25547.335
A8: ##T3##N_Catalog_catGUID | B8: ##T3##PRO_ITEM_catID | C8: ##T3##PRO_ITEM_iteCode | D8: ##T3##PRO_ITEM_szvCode | E8: ##T3##PRO_ITEM_tevCode | F8: 8 | G8: SP | H8: 962022391 | J8: Bourání zdiva nadzákladového kamenného na MV nebo MVC přes 1 m3 | K8: m3 | L8: 96.90076 | M8: 0 | N8: =L8*(1+M8/100) -> 96.90076 | O8: 217.88787 | P8: =N8*O8 -> 21113.5 | R8: =N8*Q8 -> 0 | S8: 2.5 | T8: =N8*S8 -> 242.2519 | U8: 21 | V8: =P8*(U8/100) -> 4433.8349 | W8: =P8+V8 -> 25547.335 | Y8: 01.2.1 | Z8: 9
J9: (9,964+18,042)*(3,2+0,8)*0,865 | L9: 96.90076 | U9: _
L10: 0 | U10: _
U11: _
J12: 997: Přesun sutě | P12: =SUBTOTAL(9,P13:P19) -> 703113.64 | R12: =SUBTOTAL(9,R13:R19) -> 0 | T12: =SUBTOTAL(9,T13:T19) -> 0 | U12: _ | V12: =SUBTOTAL(9,V13:V19) -> 147653.86 | W12: =SUBTOTAL(9,W13:W19) -> 850767.51
F13: 16 | G13: SP | H13: 997013111 | J13: Vnitrostaveništní doprava suti a vybouraných hmot pro budovy v do 6 m | K13: t | L13: 188.812 | M13: 28.302227 | N13: =L13*(1+M13/100) -> 242.25 | O13: 624.56065 | P13: =N13*O13 -> 151299.82 | R13: =N13*Q13 -> 0 | T13: =N13*S13 -> 0 | U13: 21 | V13: =P13*(U13/100) -> 31772.962 | W13: =P13+V13 -> 183072.78 | Y13: 01.2.1 | Z13: 997
F14: 17 | G14: SP | H14: 997006512 | J14: Vodorovné doprava suti s naložením a složením na skládku přes 100 m do 1 km | K14: t | L14: 188.812 | M14: 28.302227 | N14: =L14*(1+M14/100) -> 242.25 | O14: 170.70196 | P14: =N14*O14 -> 41352.55 | R14: =N14*Q14 -> 0 | T14: =N14*S14 -> 0 | U14: 21 | V14: =P14*(U14/100) -> 8684.0356 | W14: =P14+V14 -> 50036.586 | Y14: 01.2.1 | Z14: 997
F15: 18 | G15: SP | H15: 997006519 | J15: Příplatek k vodorovnému přemístění suti na skládku ZKD 1 km přes 1 km | K15: t | L15: 2180.25 | M15: 0 | N15: =L15*(1+M15/100) -> 2180.25 | O15: 14.129697 | P15: =N15*O15 -> 30806.273 | R15: =N15*Q15 -> 0 | T15: =N15*S15 -> 0 | U15: 21 | V15: =P15*(U15/100) -> 6469.3173 | W15: =P15+V15 -> 37275.59 | Y15: 01.2.1 | Z15: 997
J16: 242,25*9 | L16: 2180.25 | U16: _
L17: 0 | U17: _
F18: 22 | G18: SUB | H18: 997013871 | J18: Poplatek za uložení stavebního odpadu na recyklační skládce (skládkovné) směsného stavebního a - demoličního kód odpadu 17 09 04 | K18: t | L18: 188.812 | M18: 28.302227 | N18: =L18*(1+M18/100) -> 242.25 | O18: 1980 | P18: =N18*O18 -> 479655 | R18: =N18*Q18 -> 0 | T18: =N18*S18 -> 0 | U18: 21 | V18: =P18*(U18/100) -> 100727.55 | W18: =P18+V18 -> 580382.55 | Y18: 01.2.1 | Z18: 997
U19: _
U20: _
J21: 01.2.2: Stavební část - Objekt D - stavební úpravy | P21: =SUBTOTAL(9,P22:P271) -> 659462.71 | R21: =SUBTOTAL(9,R22:R271) -> 161.21855 | T21: =SUBTOTAL(9,T22:T271) -> 0 | U21: _ | V21: =SUBTOTAL(9,V22:V271) -> 138487.17 | W21: =SUBTOTAL(9,W22:W271) -> 797949.88
J22: 1: Zemní práce | P22: =SUBTOTAL(9,P23:P36) -> 42987.17 | R22: =SUBTOTAL(9,R23:R36) -> 0 | T22: =SUBTOTAL(9,T23:T36) -> 0 | U22: _ | V22: =SUBTOTAL(9,V23:V36) -> 9027.3058 | W22: =SUBTOTAL(9,W23:W36) -> 52014.476
F23: 2 | G23: SP | H23: 132251251 | J23: Hloubení rýh nezapažených š do 2000 mm v hornině třídy těžitelnosti I skupiny 3 objem do 20 m3 strojně | K23: m3 | L23: 32.742 | M23: 0 | N23: =L23*(1+M23/100) -> 32.742 | O23: 784.86138 | P23: =N23*O23 -> 25697.931 | R23: =N23*Q23 -> 0 | T23: =N23*S23 -> 0 | U23: 21 | V23: =P23*(U23/100) -> 5396.5656 | W23: =P23+V23 -> 31094.497 | Y23: 01.2.2 | Z23: 1
J24: (9,964-0,721+18,042)*1*1,2 | L24: 32.742 | U24: _
L25: 0 | U25: _
F26: 4 | G26: SP | H26: 162251101 | J26: Vodorovné přemístění do 20 m výkopku/sypaniny z horniny třídy těžitelnosti I skupiny 1 až 3 | K26: m3 | L26: 24.557 | M26: 33.330619 | N26: =L26*(1+M26/100) -> 32.742 | O26: 41.927978 | P26: =N26*O26 -> 1372.8059 | R26: =N26*Q26 -> 0 | T26: =N26*S26 -> 0 | U26: 21 | V26: =P26*(U26/100) -> 288.28923 | W26: =P26+V26 -> 1661.0951 | Y26: 01.2.2 | Z26: 1
F27: 5 | G27: SP | H27: 167151101 | J27: Nakládání výkopku z hornin třídy těžitelnosti I skupiny 1 až 3 do 100 m3 | K27: m3 | L27: 24.557 | M27: 33.330619 | N27: =L27*(1+M27/100) -> 32.742 | O27: 163.89206 | P27: =N27*O27 -> 5366.1539 | R27: =N27*Q27 -> 0 | T27: =N27*S27 -> 0 | U27: 21 | V27: =P27*(U27/100) -> 1126.8923 | W27: =P27+V27 -> 6493.0462 | Y27: 01.2.2 | Z27: 1
F28: 6 | G28: SP | H28: 162751117 | J28: Vodorovné přemístění přes 9 000 do 10000 m výkopku/sypaniny z horniny třídy těžitelnosti I skupiny 1 až 3 | K28: m3 | L28: 24.557 | M28: 33.330619 | N28: =L28*(1+M28/100) -> 32.742 | O28: 177.34277 | P28: =N28*O28 -> 5806.5569 | R28: =N28*Q28 -> 0 | T28: =N28*S28 -> 0 | U28: 21 | V28: =P28*(U28/100) -> 1219.3769 | W28: =P28+V28 -> 7025.9338 | Y28: 01.2.2 | Z28: 1
F29: 7 | G29: SP | H29: 171251201 | J29: Uložení sypaniny na skládky nebo meziskládky | K29: m3 | L29: 24.557 | M29: 33.380299 | N29: =L29*(1+M29/100) -> 32.7542 | O29: 21.411823 | P29: =N29*O29 -> 701.32715 | R29: =N29*Q29 -> 0 | T29: =N29*S29 -> 0 | U29: 21 | V29: =P29*(U29/100) -> 147.2787 | W29: =P29+V29 -> 848.60585 | Y29: 01.2.2 | Z29: 1
F30: 8 | G30: SUB | H30: 171201231 | J30: Poplatek za uložení zeminy a kamení na recyklační skládce (skládkovné) kód odpadu 17 05 04 | K30: t | L30: 58.9356 | M30: 0 | N30: =L30*(1+M30/100) -> 58.9356 | O30: 60 | P30: =N30*O30 -> 3536.136 | R30: =N30*Q30 -> 0 | T30: =N30*S30 -> 0 | U30: 21 | V30: =P30*(U30/100) -> 742.58856 | W30: =P30+V30 -> 4278.7246 | Y30: 01.2.2 | Z30: 1
J31: 32,742*1,8 | L31: 58.9356 | U31: _
L32: 0 | U32: _
F33: 9 | G33: SP | H33: 181912112 | J33: Úprava pláně v hornině třídy těžitelnosti I skupiny 3 se zhutněním ručně | K33: m2 | L33: 9.636 | M33: 0 | N33: =L33*(1+M33/100) -> 9.636 | O33: 52.538321 | P33: =N33*O33 -> 506.25926 | R33: =N33*Q33 -> 0 | T33: =N33*S33 -> 0 | U33: 21 | V33: =P33*(U33/100) -> 106.31444 | W33: =P33+V33 -> 612.57371 | Y33: 01.2.2 | Z33: 1
J34: rozšíření podlah | U34: _
J35: (8,73+17,67)*0,365 | L35: 9.636 | U35: _
U36: _
J37: 2: Zakládání | P37: =SUBTOTAL(9,P38:P61) -> 274907.81 | R37: =SUBTOTAL(9,R38:R61) -> 133.75738 | T37: =SUBTOTAL(9,T38:T61) -> 0 | U37: _ | V37: =SUBTOTAL(9,V38:V61) -> 57730.64 | W37: =SUBTOTAL(9,W38:W61) -> 332638.45
F38: 11 | G38: SP | H38: 274313811 | J38: Základové pásy z betonu tř. C 25/30 | K38: m3 | L38: 33.88797 | M38: 0 | N38: =L38*(1+M38/100) -> 33.88797 | O38: 4245.3511 | P38: =N38*O38 -> 143866.33 | Q38: 2.50187 | R38: =N38*Q38 -> 84.783296 | T38: =N38*S38 -> 0 | U38: 21 | V38: =P38*(U38/100) -> 30211.93 | W38: =P38+V38 -> 174078.26 | Y38: 01.2.2 | Z38: 2
J39: (9,964-0,721+18,042)*1*1,2 | L39: 32.742 | U39: _
J40: do výkopu | L40: 0 | U40: _
J41: 32,742*0,035 | L41: 1.14597 | U41: _
L42: 0 | U42: _
F43: 12 | G43: SP | H43: 273321411 | J43: Základové desky ze ŽB bez zvýšených nároků na prostředí tř. C 20/25 | K43: m3 | L43: 3.776244 | M43: 0 | N43: =L43*(1+M43/100) -> 3.776244 | O43: 3954.823 | P43: =N43*O43 -> 14934.377 | Q43: 2.50187 | R43: =N43*Q43 -> 9.4476716 | T43: =N43*S43 -> 0 | U43: 21 | V43: =P43*(U43/100) -> 3136.2191 | W43: =P43+V43 -> 18070.596 | Y43: 01.2.2 | Z43: 2
...

Sheet ZL 2
A1: ZMĚNOVÝ LIST
A2: Centrum pro podporu výtvarné kultury
A4: reg.č.stavby: | B4: CZ.06.04.04/0022_034/0000418 | I4: číslo ZL:
A5: smlouva: | B5: č. 272024 ze dne 20.6.2024 | I5: 2
A6: objednatel: | B6: Galerie Klatovy / Klenová, IČ: 75032333
A7: zhotovitel: | B7: LS stavby s.r.o., IČO: 00177270
A9: název ZL: | B9: E+F+G - bourání věnců a sloupů
A10: předmět změny:
A11: Při bouracích pracech byly objeveny ŽB věnce a slouby na objektech E+F+G
A12: Původní řešení dle smluvní / tendrové / dokumentace
A13: PD neřešila tuto skutečnost. Skutečný stav zjištěn až při provedení sond (bouracích pracech) na stavbě.
A14: Nové řešení :
A15: Postupné odbourání všech ŽB věnců a sloupů za pomocí lešení a techniky.
A18: vliv na cenu díla: | E18: rozpočet: | F18: v příloze ZL | H18: méněpráce
I19: NE
E20: cena: | F20: bez DPH | G20: 0 | H20: Kč
A23: vliv na cenu díla: | E23: rozpočet: | F23: v příloze ZL | H23: vícepráce
I24: ANO
E25: cena: | F25: bez DPH | G25: 1092508 | H25: Kč
A28: CELKOVÁ BILANCE MÉNĚPRACÍ A VÍCEPRACÍ | E28: cena: | F28: bez DPH | G28: =SUM(G20,G25) -> 1092508 | H28: Kč
A31: vliv na termín dokončení:
A32: změna nemá vliv na termín dokončení díla.
A33: jiné vlivy (na změnu PD apod.): | D33: Změna bude zanesena do dokumentace skutečného provedení.
A41: podpis zhotovitele: | D41: Ing. Pavel Bárta
H42: Datum
A43: vyjádření projektanta : | D43: Ing. Antonín Švehla
H44: Datum
A45: vyjádření TDS : | D45: Ing. Milan Froněk
H46: Datum
A47: vyjádření investora: | D47: Ing. Hana Kristová
H48: Datum
H50: Datum
I52: číslo ZL:
I53: 2
A56: Vyjádření projektanta
A64: Vyjádření TDS
A78: Vyjádření investora
A90: Další vyjádření

Sheet ZL 2-rozpočet
F3: Poř. | G3: Typ | H3: Kód | I3: Alter. kód | J3: Popis | K3: MJ | L3: Výměra bez ztr. | M3: Ztratné | N3: Výměra | O3: Jedn. cena | P3: Cena | Q3: Jedn. hmotn. | R3: Hmotnost | S3: Jedn. suť | T3: Suť | U3: Sazba DPH | V3: DPH | W3: Cena s DPH | X3: Komentář | Y3: Objekt | Z3: Oddíl
J5: D_01: Obj. D - přezdívání zdiva | P5: =SUBTOTAL(9,P6:P272) -> 1383689.9 | R5: =SUBTOTAL(9,R6:R272) -> 161.21855 | T5: =SUBTOTAL(9,T6:T272) -> 242.2519 | U5: _ | V5: =SUBTOTAL(9,V6:V272) -> 290574.87 | W5: =SUBTOTAL(9,W6:W272) -> 1674264.7
J6: 01.2.1: Stavební část - Objekt D - bourací práce | P6: =SUBTOTAL(9,P7:P20) -> 724227.14 | R6: =SUBTOTAL(9,R7:R20) -> 0 | T6: =SUBTOTAL(9,T7:T20) -> 242.2519 | U6: _ | V6: =SUBTOTAL(9,V7:V20) -> 152087.7 | W6: =SUBTOTAL(9,W7:W20) -> 876314.84
J7: 9: Ostatní konstrukce a práce, bourání | P7: =SUBTOTAL(9,P8:P11) -> 21113.5 | R7: =SUBTOTAL(9,R8:R11) -> 0 | T7: =SUBTOTAL(9,T8:T11) -> 242.2519 | U7: _ | V7: =SUBTOTAL(9,V8:V11) -> 4433.8349 | W7: =SUBTOTAL(9,W8:W11) -> 25547.335
A8: ##T3##N_Catalog_catGUID | B8: ##T3##PRO_ITEM_catID | C8: ##T3##PRO_ITEM_iteCode | D8: ##T3##PRO_ITEM_szvCode | E8: ##T3##PRO_ITEM_tevCode | F8: 8 | G8: SP | H8: 962022391 | J8: Bourání zdiva nadzákladového kamenného na MV nebo MVC přes 1 m3 | K8: m3 | L8: 96.90076 | M8: 0 | N8: =L8*(1+M8/100) -> 96.90076 | O8: 217.88787 | P8: =N8*O8 -> 21113.5 | R8: =N8*Q8 -> 0 | S8: 2.5 | T8: =N8*S8 -> 242.2519 | U8: 21 | V8: =P8*(U8/100) -> 4433.8349 | W8: =P8+V8 -> 25547.335 | Y8: 01.2.1 | Z8: 9
J9: (9,964+18,042)*(3,2+0,8)*0,865 | L9: 96.90076 | U9: _
L10: 0 | U10: _
U11: _
J12: 997: Přesun sutě | P12: =SUBTOTAL(9,P13:P19) -> 703113.64 | R12: =SUBTOTAL(9,R13:R19) -> 0 | T12: =SUBTOTAL(9,T13:T19) -> 0 | U12: _ | V12: =SUBTOTAL(9,V13:V19) -> 147653.86 | W12: =SUBTOTAL(9,W13:W19) -> 850767.51
F13: 16 | G13: SP | H13: 997013111 | J13: Vnitrostaveništní doprava suti a vybouraných hmot pro budovy v do 6 m | K13: t | L13: 188.812 | M13: 28.302227 | N13: =L13*(1+M13/100) -> 242.25 | O13: 624.56065 | P13: =N13*O13 -> 151299.82 | R13: =N13*Q13 -> 0 | T13: =N13*S13 -> 0 | U13: 21 | V13: =P13*(U13/100) -> 31772.962 | W13: =P13+V13 -> 183072.78 | Y13: 01.2.1 | Z13: 997
F14: 17 | G14: SP | H14: 997006512 | J14: Vodorovné doprava suti s naložením a složením na skládku přes 100 m do 1 km | K14: t | L14: 188.812 | M14: 28.302227 | N14: =L14*(1+M14/100) -> 242.25 | O14: 170.70196 | P14: =N14*O14 -> 41352.55 | R14: =N14*Q14 -> 0 | T14: =N14*S14 -> 0 | U14: 21 | V14: =P14*(U14/100) -> 8684.0356 | W14: =P14+V14 -> 50036.586 | Y14: 01.2.1 | Z14: 997
F15: 18 | G15: SP | H15: 997006519 | J15: Příplatek k vodorovnému přemístění suti na skládku ZKD 1 km přes 1 km | K15: t | L15: 2180.25 | M15: 0 | N15: =L15*(1+M15/100) -> 2180.25 | O15: 14.129697 | P15: =N15*O15 -> 30806.273 | R15: =N15*Q15 -> 0 | T15: =N15*S15 -> 0 | U15: 21 | V15: =P15*(U15/100) -> 6469.3173 | W15: =P15+V15 -> 37275.59 | Y15: 01.2.1 | Z15: 997
J16: 242,25*9 | L16: 2180.25 | U16: _
L17: 0 | U17: _
F18: 22 | G18: SUB | H18: 997013871 | J18: Poplatek za uložení stavebního odpadu na recyklační skládce (skládkovné) směsného stavebního a - demoličního kód odpadu 17 09 04 | K18: t | L18: 188.812 | M18: 28.302227 | N18: =L18*(1+M18/100) -> 242.25 | O18: 1980 | P18: =N18*O18 -> 479655 | R18: =N18*Q18 -> 0 | T18: =N18*S18 -> 0 | U18: 21 | V18: =P18*(U18/100) -> 100727.55 | W18: =P18+V18 -> 580382.55 | Y18: 01.2.1 | Z18: 997
U19: _
U20: _
J21: 01.2.2: Stavební část - Objekt D - stavební úpravy | P21: =SUBTOTAL(9,P22:P271) -> 659462.71 | R21: =SUBTOTAL(9,R22:R271) -> 161.21855 | T21: =SUBTOTAL(9,T22:T271) -> 0 | U21: _ | V21: =SUBTOTAL(9,V22:V271) -> 138487.17 | W21: =SUBTOTAL(9,W22:W271) -> 797949.88
J22: 1: Zemní práce | P22: =SUBTOTAL(9,P23:P36) -> 42987.17 | R22: =SUBTOTAL(9,R23:R36) -> 0 | T22: =SUBTOTAL(9,T23:T36) -> 0 | U22: _ | V22: =SUBTOTAL(9,V23:V36) -> 9027.3058 | W22: =SUBTOTAL(9,W23:W36) -> 52014.476
F23: 2 | G23: SP | H23: 132251251 | J23: Hloubení rýh nezapažených š do 2000 mm v hornině třídy těžitelnosti I skupiny 3 objem do 20 m3 strojně | K23: m3 | L23: 32.742 | M23: 0 | N23: =L23*(1+M23/100) -> 32.742 | O23: 784.86138 | P23: =N23*O23 -> 25697.931 | R23: =N23*Q23 -> 0 | T23: =N23*S23 -> 0 | U23: 21 | V23: =P23*(U23/100) -> 5396.5656 | W23: =P23+V23 -> 31094.497 | Y23: 01.2.2 | Z23: 1
J24: (9,964-0,721+18,042)*1*1,2 | L24: 32.742 | U24: _
L25: 0 | U25: _
F26: 4 | G26: SP | H26: 162251101 | J26: Vodorovné přemístění do 20 m výkopku/sypaniny z horniny třídy těžitelnosti I skupiny 1 až 3 | K26: m3 | L26: 24.557 | M26: 33.330619 | N26: =L26*(1+M26/100) -> 32.742 | O26: 41.927978 | P26: =N26*O26 -> 1372.8059 | R26: =N26*Q26 -> 0 | T26: =N26*S26 -> 0 | U26: 21 | V26: =P26*(U26/100) -> 288.28923 | W26: =P26+V26 -> 1661.0951 | Y26: 01.2.2 | Z26: 1
F27: 5 | G27: SP | H27: 167151101 | J27: Nakládání výkopku z hornin třídy těžitelnosti I skupiny 1 až 3 do 100 m3 | K27: m3 | L27: 24.557 | M27: 33.330619 | N27: =L27*(1+M27/100) -> 32.742 | O27: 163.89206 | P27: =N27*O27 -> 5366.1539 | R27: =N27*Q27 -> 0 | T27: =N27*S27 -> 0 | U27: 21 | V27: =P27*(U27/100) -> 1126.8923 | W27: =P27+V27 -> 6493.0462 | Y27: 01.2.2 | Z27: 1
F28: 6 | G28: SP | H28: 162751117 | J28: Vodorovné přemístění přes 9 000 do 10000 m výkopku/sypaniny z horniny třídy těžitelnosti I skupiny 1 až 3 | K28: m3 | L28: 24.557 | M28: 33.330619 | N28: =L28*(1+M28/100) -> 32.742 | O28: 177.34277 | P28: =N28*O28 -> 5806.5569 | R28: =N28*Q28 -> 0 | T28: =N28*S28 -> 0 | U28: 21 | V28: =P28*(U28/100) -> 1219.3769 | W28: =P28+V28 -> 7025.9338 | Y28: 01.2.2 | Z28: 1
F29: 7 | G29: SP | H29: 171251201 | J29: Uložení sypaniny na skládky nebo meziskládky | K29: m3 | L29: 24.557 | M29: 33.380299 | N29: =L29*(1+M29/100) -> 32.7542 | O29: 21.411823 | P29: =N29*O29 -> 701.32715 | R29: =N29*Q29 -> 0 | T29: =N29*S29 -> 0 | U29: 21 | V29: =P29*(U29/100) -> 147.2787 | W29: =P29+V29 -> 848.60585 | Y29: 01.2.2 | Z29: 1
F30: 8 | G30: SUB | H30: 171201231 | J30: Poplatek za uložení zeminy a kamení na recyklační skládce (skládkovné) kód odpadu 17 05 04 | K30: t | L30: 58.9356 | M30: 0 | N30: =L30*(1+M30/100) -> 58.9356 | O30: 60 | P30: =N30*O30 -> 3536.136 | R30: =N30*Q30 -> 0 | T30: =N30*S30 -> 0 | U30: 21 | V30: =P30*(U30/100) -> 742.58856 | W30: =P30+V30 -> 4278.7246 | Y30: 01.2.2 | Z30: 1
J31: 32,742*1,8 | L31: 58.9356 | U31: _
L32: 0 | U32: _
F33: 9 | G33: SP | H33: 181912112 | J33: Úprava pláně v hornině třídy těžitelnosti I skupiny 3 se zhutněním ručně | K33: m2 | L33: 9.636 | M33: 0 | N33: =L33*(1+M33/100) -> 9.636 | O33: 52.538321 | P33: =N33*O33 -> 506.25926 | R33: =N33*Q33 -> 0 | T33: =N33*S33 -> 0 | U33: 21 | V33: =P33*(U33/100) -> 106.31444 | W33: =P33+V33 -> 612.57371 | Y33: 01.2.2 | Z33: 1
J34: rozšíření podlah | U34: _
J35: (8,73+17,67)*0,365 | L35: 9.636 | U35: _
U36: _
J37: 2: Zakládání | P37: =SUBTOTAL(9,P38:P61) -> 274907.81 | R37: =SUBTOTAL(9,R38:R61) -> 133.75738 | T37: =SUBTOTAL(9,T38:T61) -> 0 | U37: _ | V37: =SUBTOTAL(9,V38:V61) -> 57730.64 | W37: =SUBTOTAL(9,W38:W61) -> 332638.45
F38: 11 | G38: SP | H38: 274313811 | J38: Základové pásy z betonu tř. C 25/30 | K38: m3 | L38: 33.88797 | M38: 0 | N38: =L38*(1+M38/100) -> 33.88797 | O38: 4245.3511 | P38: =N38*O38 -> 143866.33 | Q38: 2.50187 | R38: =N38*Q38 -> 84.783296 | T38: =N38*S38 -> 0 | U38: 21 | V38: =P38*(U38/100) -> 30211.93 | W38: =P38+V38 -> 174078.26 | Y38: 01.2.2 | Z38: 2
J39: (9,964-0,721+18,042)*1*1,2 | L39: 32.742 | U39: _
J40: do výkopu | L40: 0 | U40: _
J41: 32,742*0,035 | L41: 1.14597 | U41: _
L42: 0 | U42: _
F43: 12 | G43: SP | H43: 273321411 | J43: Základové desky ze ŽB bez zvýšených nároků na prostředí tř. C 20/25 | K43: m3 | L43: 3.776244 | M43: 0 | N43: =L43*(1+M43/100) -> 3.776244 | O43: 3954.823 | P43: =N43*O43 -> 14934.377 | Q43: 2.50187 | R43: =N43*Q43 -> 9.4476716 | T43: =N43*S43 -> 0 | U43: 21 | V43: =P43*(U43/100) -> 3136.2191 | W43: =P43+V43 -> 18070.596 | Y43: 01.2.2 | Z43: 2
...
