Workbook

Sheet Rekapitulace stavby
A1: Export Komplet | BA1: 2.0 | BB1: ZAMOK | BT1: False | BU1: False | BV1: {ae2229b2-ae10-4b8e-9abb-447f093f32d3}
BS2: 0,01 | BT2: 21
BS3: 0,01 | BT3: 15
D4: REKAPITULACE STAVBY | AS4: v --- níže se nacházejí doplnkové a pomocné údaje k sestavám --- v | BS4: 0,001
D5: Kód: | K5: 420-5129 | BS5: 0,01
D6: Stavba: | K6: Revitalizace stávajícího hřiště | BS6: 0,01
D7: KSO: | AK7: CC-CZ: | BS7: 0,01
D8: Místo: | K8: Újezd u Sezemic | AK8: Datum: | AN8: 6. 12. 2023 | BS8: 0,01
BS9: 0,01
D10: Zadavatel: | AK10: IČ: | BS10: 0,01
E11: Obec Újezd u Sezemic | AK11: DIČ: | BS11: 0,01
BS12: 0,01
D13: Zhotovitel: | AK13: IČ: | BS13: 0,01
AK14: DIČ: | BS14: 0,01
BS15: False
D16: Projektant: | AK16: IČ: | BS16: False
AK17: DIČ: | BS17: True
BS18: 0,01
D19: Zpracovatel: | AK19: IČ: | BS19: 0,01
AK20: DIČ: | BS20: True
D22: Poznámka:
D26: Cena bez DPH | AK26: =ROUND(AG94,2) -> 2140000
L28: Sazba daně | W28: Základ daně | AK28: Výše daně
D29: DPH | F29: základní | L29: 0.21 | W29: =ROUND(AZ94, 2) -> 2140000 | AK29: =ROUND(AV94, 2) -> 449400
F30: snížená | L30: 0.15 | W30: =ROUND(BA94, 2) -> 0 | AK30: =ROUND(AW94, 2) -> 0
F31: zákl. přenesená | L31: 0.21 | W31: =ROUND(BB94, 2) -> 0 | AK31: 0
F32: sníž. přenesená | L32: 0.15 | W32: =ROUND(BC94, 2) -> 0 | AK32: 0
F33: nulová | L33: 0 | W33: =ROUND(BD94, 2) -> 0 | AK33: 0
D35: Cena s DPH | T35: v | X35: CZK | AK35: =SUM(AK26:AK33) -> 2589400
D49: Projektant | AH49: Zpracovatel
D60: Datum a podpis: | V60: Razítko | AH60: Datum a podpis: | AM60: Razítko
D64: Objednavatel | AH64: Zhotovitel
D75: Datum a podpis: | V75: Razítko | AH75: Datum a podpis: | AM75: Razítko
C82: REKAPITULACE OBJEKTŮ STAVBY A SOUPISŮ PRACÍ
C84: Kód: | L84: =K5 -> 420-5129
C85: Stavba: | L85: =K6 -> Revitalizace stávajícího hřiště
C87: Místo: | L87: =IF(K8="","",K8) -> Újezd u Sezemic | AI87: Datum: | AM87: =IF(AN8= "","",AN8) -> 6. 12. 2023
C89: Zadavatel: | L89: =IF(E11= "","",E11) -> Obec Újezd u Sezemic | AI89: Projektant: | AM89: =IF(E17="","",E17) | AS89: Informatívní údaje z listů zakázek
C90: Zhotovitel: | L90: =IF(E14="","",E14) | AI90: Zpracovatel: | AM90: =IF(E20="","",E20)
C92: Kód | I92: Popis | AG92: Cena bez DPH [CZK] | AN92: Cena s DPH [CZK] | AQ92: Typ | AS92: z toho Ostat._x000D_ náklady [CZK] | AT92: DPH [CZK] | AU92: Normohodiny [h] | AV92: DPH základní [CZK] | AW92: DPH snížená [CZK] | AX92: DPH základní přenesená_x000D_ [CZK] | AY92: DPH snížená přenesená_x000D_ [CZK] | AZ92: Základna_x000D_ DPH základní | BA92: Základna_x000D_ DPH snížená | BB92: Základna_x000D_ DPH zákl. přenesená | BC92: Základna_x000D_ DPH sníž. přenesená | BD92: Základna_x000D_ DPH nulová
C94: Náklady z rozpočtů | AG94: =ROUND(AG95,2) -> 2140000 | AN94: =SUM(AG94,AT94) -> 2589400 | AS94: =ROUND(AS95,2) -> 0 | AT94: =ROUND(SUM(AV94:AW94),2) -> 449400 | AU94: =ROUND(AU95,5) -> 410.0848 | AV94: =ROUND(AZ94*L29,2) -> 449400 | AW94: =ROUND(BA94*L30,2) -> 0 | AX94: =ROUND(BB94*L29,2) -> 0 | AY94: =ROUND(BC94*L30,2) -> 0 | AZ94: =ROUND(AZ95,2) -> 2140000 | BA94: =ROUND(BA95,2) -> 0 | BB94: =ROUND(BB95,2) -> 0 | BC94: =ROUND(BC95,2) -> 0 | BD94: =ROUND(BD95,2) -> 0 | BS94: D | BT94: 0 | BU94: ###NOIMPORT### | BV94: IMPORT | BW94: {ae2229b2-ae10-4b8e-9abb-447f093f32d3} | BX94: {00000000-0000-0000-0000-000000000000}
A95: / | D95: 1 | J95: Sportoviště | AG95: ='1 - Sportoviště'!J30 -> 2140000 | AN95: =SUM(AG95,AT95) -> 2589400 | AQ95: STA | AS95: 0 | AT95: =ROUND(SUM(AV95:AW95),2) -> 449400 | AU95: ='1 - Sportoviště'!P125 -> 410.0848 | AV95: ='1 - Sportoviště'!J33 -> 449400 | AW95: ='1 - Sportoviště'!J34 -> 0 | AX95: ='1 - Sportoviště'!J35 -> 0 | AY95: ='1 - Sportoviště'!J36 -> 0 | AZ95: ='1 - Sportoviště'!F33 -> 2140000 | BA95: ='1 - Sportoviště'!F34 -> 0 | BB95: ='1 - Sportoviště'!F35 -> 0 | BC95: ='1 - Sportoviště'!F36 -> 0 | BD95: ='1 - Sportoviště'!F37 -> 0 | BT95: 1 | BV95: IMPORT | BW95: {5d5eeeef-a8a1-4aba-9a2f-8c8c4ed80a99} | BX95: {ae2229b2-ae10-4b8e-9abb-447f093f32d3} | CM95: 2

Sheet 1 - Sportoviště
AT2: {5d5eeeef-a8a1-4aba-9a2f-8c8c4ed80a99}
AT3: 2
D4: KRYCÍ LIST SOUPISU PRACÍ | M4: v --- níže se nacházejí doplnkové a pomocné údaje k sestavám --- v | AT4: False
D6: Stavba:
E7: ='Rekapitulace stavby'!K6 -> Revitalizace stávajícího hřiště
D8: Objekt:
E9: 1 - Sportoviště
D11: KSO: | I11: CC-CZ:
D12: Místo: | F12: Újezd u Sezemic | I12: Datum: | J12: ='Rekapitulace stavby'!AN8 -> 6. 12. 2023
D14: Zadavatel: | I14: IČ:
E15: Obec Újezd u Sezemic | I15: DIČ:
D17: Zhotovitel: | I17: IČ: | J17: ='Rekapitulace stavby'!AN13
E18: ='Rekapitulace stavby'!E14 | I18: DIČ: | J18: ='Rekapitulace stavby'!AN14
D20: Projektant: | I20: IČ: | J20: =IF('Rekapitulace stavby'!AN16="","",'Rekapitulace stavby'!AN16)
E21: =IF('Rekapitulace stavby'!E17="","",'Rekapitulace stavby'!E17) | I21: DIČ: | J21: =IF('Rekapitulace stavby'!AN17="","",'Rekapitulace stavby'!AN17)
D23: Zpracovatel: | I23: IČ: | J23: =IF('Rekapitulace stavby'!AN19="","",'Rekapitulace stavby'!AN19)
E24: =IF('Rekapitulace stavby'!E20="","",'Rekapitulace stavby'!E20) | I24: DIČ: | J24: =IF('Rekapitulace stavby'!AN20="","",'Rekapitulace stavby'!AN20)
D26: Poznámka:
D30: Cena bez DPH | J30: =ROUND(J125, 2) -> 2140000
F32: Základ daně | I32: Sazba daně | J32: Výše daně
D33: DPH | E33: základní | F33: =ROUND((SUM(BE125:BE193)), 2) -> 2140000 | I33: 0.21 | J33: =ROUND(((SUM(BE125:BE193))*I33), 2) -> 449400
E34: snížená | F34: =ROUND((SUM(BF125:BF193)), 2) -> 0 | I34: 0.15 | J34: =ROUND(((SUM(BF125:BF193))*I34), 2) -> 0
E35: zákl. přenesená | F35: =ROUND((SUM(BG125:BG193)), 2) -> 0 | I35: 0.21 | J35: =0 -> 0
E36: sníž. přenesená | F36: =ROUND((SUM(BH125:BH193)), 2) -> 0 | I36: 0.15 | J36: =0 -> 0
E37: nulová | F37: =ROUND((SUM(BI125:BI193)), 2) -> 0 | I37: 0 | J37: =0 -> 0
D39: Cena s DPH | G39: v | H39: CZK | J39: =SUM(J30:J37) -> 2589400
D50: Projektant | G50: Zpracovatel
D61: Datum a podpis: | F61: Razítko | G61: Datum a podpis: | J61: Razítko
D65: Objednavatel | G65: Zhotovitel
D76: Datum a podpis: | F76: Razítko | G76: Datum a podpis: | J76: Razítko
C82: REKAPITULACE ČLENĚNÍ SOUPISU PRACÍ
C84: Stavba:
E85: =E7 -> Revitalizace stávajícího hřiště
C86: Objekt:
E87: =E9 -> 1 - Sportoviště
C89: Místo: | F89: =F12 -> Újezd u Sezemic | I89: Datum: | J89: =IF(J12="","",J12) -> 6. 12. 2023
C91: Zadavatel: | F91: =E15 -> Obec Újezd u Sezemic | I91: Projektant: | J91: =E21
C92: Zhotovitel: | F92: =IF(E18="","",E18) | I92: Zpracovatel: | J92: =E24
C94: Kód dílu - Popis | J94: Cena celkem [CZK]
C96: Náklady ze soupisu prací | J96: =J125 -> 2140000 | AU96: -1
D97: HSV - Práce a dodávky HSV | J97: =J126 -> 2091500
D98: 1 - Zemní práce, bourací práce | J98: =J127 -> 319640
D99: 2 - Zakládání | J99: =J137 -> 155680
D100: 3 - Svislé a kompletní konstrukce | J100: =J145 -> 279680
D101: 5 - Komunikace pozemní | J101: =J154 -> 1059984
D102: 9 - Ostatní konstrukce a práce, bourání | J102: =J167 -> 195916
D103: 10 - Dokončovací práce | J103: =J177 -> 48600
D104: 997 - Přesun sutě | J104: =J181 -> 32000
D105: VRN - Vedlejší rozpočtové náklady | J105: =J185 -> 48500
C112: SOUPIS PRACÍ
C114: Stavba:
E115: =E7 -> Revitalizace stávajícího hřiště
C116: Objekt:
E117: =E9 -> 1 - Sportoviště
C119: Místo: | F119: =F12 -> Újezd u Sezemic | I119: Datum: | J119: =IF(J12="","",J12) -> 6. 12. 2023
C121: Zadavatel: | F121: =E15 -> Obec Újezd u Sezemic | I121: Projektant: | J121: =E21
C122: Zhotovitel: | F122: =IF(E18="","",E18) | I122: Zpracovatel: | J122: =E24
C124: PČ | D124: Typ | E124: Kód | F124: Popis | G124: MJ | H124: Množství | I124: J.cena [CZK] | J124: Cena celkem [CZK] | K124: Cenová soustava | N124: DPH | O124: J. Nh [h] | P124: Nh celkem [h] | Q124: J. hmotnost [t] | R124: Hmotnost celkem [t] | S124: J. suť [t] | T124: Suť Celkem [t]
C125: Náklady soupisu celkem | J125: =BK125 -> 2140000 | P125: =P126+P185 -> 410.0848 | R125: =R126+R185 -> 73.312196 | T125: =T126+T185 -> 159.32 | AT125: D | AU125: -1 | BK125: =BK126+BK185 -> 2140000
D126: D | E126: HSV | F126: Práce a dodávky HSV | J126: =BK126 -> 2091500 | P126: =P127+P137+P145+P154+P167+P177+P181 -> 410.0848 | R126: =R127+R137+R145+R154+R167+R177+R181 -> 73.312196 | T126: =T127+T137+T145+T154+T167+T177+T181 -> 159.32 | AR126: 1 | AT126: D | AU126: 0 | AY126: ROZPOCET | BK126: =BK127+BK137+BK145+BK154+BK167+BK177+BK181 -> 2091500
D127: D | E127: 1 | F127: Zemní práce, bourací práce | J127: =BK127 -> 319640 | P127: =SUM(P128:P136) -> 257.412 | R127: =SUM(R128:R136) -> 0 | T127: =SUM(T128:T136) -> 159.32 | AR127: 1 | AT127: D | AU127: 1 | AY127: ROZPOCET | BK127: =SUM(BK128:BK136) -> 319640
C128: 3 | D128: K | E128: 111301111 | F128: Sejmutí drnu tl do 100 mm s přemístěním do 50 m nebo naložením na dopravní prostředek | G128: m2 | H128: 680 | I128: 105 | J128: =ROUND(I128*H128,2) -> 71400 | N128: základní | O128: 0.209 | P128: =O128*H128 -> 142.12 | Q128: 0 | R128: =Q128*H128 -> 0 | S128: 0 | T128: =S128*H128 -> 0 | AR128: 4 | AT128: K | AU128: 2 | AY128: ROZPOCET | BE128: =IF(N128="základní",J128,0) -> 71400 | BF128: =IF(N128="snížená",J128,0) -> 0 | BG128: =IF(N128="zákl. přenesená",J128,0) -> 0 | BH128: =IF(N128="sníž. přenesená",J128,0) -> 0 | BI128: =IF(N128="nulová",J128,0) -> 0 | BJ128: 1 | BK128: =ROUND(I128*H128,2) -> 71400 | BL128: 4 | BM128: 274813275
C129: 4 | D129: K | E129: 121151123 | F129: Sejmutí ornice plochy přes 500 m2 tl vrstvy do 200 mm strojně s přemístěním do 50 m nebo naložením na dopravní prostředek | G129: m2 | H129: 680 | I129: 125 | J129: =ROUND(I129*H129,2) -> 85000 | N129: základní | O129: 0.015 | P129: =O129*H129 -> 10.2 | Q129: 0 | R129: =Q129*H129 -> 0 | S129: 0 | T129: =S129*H129 -> 0 | AR129: 4 | AT129: K | AU129: 2 | AY129: ROZPOCET | BE129: =IF(N129="základní",J129,0) -> 85000 | BF129: =IF(N129="snížená",J129,0) -> 0 | BG129: =IF(N129="zákl. přenesená",J129,0) -> 0 | BH129: =IF(N129="sníž. přenesená",J129,0) -> 0 | BI129: =IF(N129="nulová",J129,0) -> 0 | BJ129: 1 | BK129: =ROUND(I129*H129,2) -> 85000 | BL129: 4 | BM129: -984795717
C130: 5 | D130: K | E130: 113107211 | F130: Odstranění podkladu z kameniva těženého tl do 100 mm strojně pl přes 200 m2 s přemístěním do 50 m nebo naložením na dopravní prostředek | G130: m2 | H130: 680 | I130: 120 | J130: =ROUND(I130*H130,2) -> 81600 | N130: základní | O130: 0.033 | P130: =O130*H130 -> 22.44 | Q130: 0 | R130: =Q130*H130 -> 0 | S130: 0.18 | T130: =S130*H130 -> 122.4 | AR130: 4 | AT130: K | AU130: 2 | AY130: ROZPOCET | BE130: =IF(N130="základní",J130,0) -> 81600 | BF130: =IF(N130="snížená",J130,0) -> 0 | BG130: =IF(N130="zákl. přenesená",J130,0) -> 0 | BH130: =IF(N130="sníž. přenesená",J130,0) -> 0 | BI130: =IF(N130="nulová",J130,0) -> 0 | BJ130: 1 | BK130: =ROUND(I130*H130,2) -> 81600 | BL130: 4 | BM130: 1565232328
C131: 43 | D131: K | E131: 113107332 | F131: Odstranění podkladu z betonu prostého tl přes 150 do 300 mm strojně pl do 50 m2, včetně naložení na dopravní prostředek | G131: m2 | H131: 40 | I131: 250 | J131: =ROUND(I131*H131,2) -> 10000 | N131: základní | O131: 0.534 | P131: =O131*H131 -> 21.36 | Q131: 0 | R131: =Q131*H131 -> 0 | S131: 0.625 | T131: =S131*H131 -> 25 | AR131: 4 | AT131: K | AU131: 2 | AY131: ROZPOCET | BE131: =IF(N131="základní",J131,0) -> 10000 | BF131: =IF(N131="snížená",J131,0) -> 0 | BG131: =IF(N131="zákl. přenesená",J131,0) -> 0 | BH131: =IF(N131="sníž. přenesená",J131,0) -> 0 | BI131: =IF(N131="nulová",J131,0) -> 0 | BJ131: 1 | BK131: =ROUND(I131*H131,2) -> 10000 | BL131: 4 | BM131: -336893464
D132: P | F132: Poznámka k položce:_x000D_ Betonová deska pod altánkem | AT132: P | AU132: 2
C133: 1 | D133: K | E133: 113204111 | F133: Vytrhání obrub záhonových s bet. ložem a naložením na dopravní prostředek | G133: m | H133: 130 | I133: 88 | J133: =ROUND(I133*H133,2) -> 11440 | N133: základní | O133: 0.095 | P133: =O133*H133 -> 12.35 | Q133: 0 | R133: =Q133*H133 -> 0 | S133: 0.04 | T133: =S133*H133 -> 5.2 | AR133: 4 | AT133: K | AU133: 2 | AY133: ROZPOCET | BE133: =IF(N133="základní",J133,0) -> 11440 | BF133: =IF(N133="snížená",J133,0) -> 0 | BG133: =IF(N133="zákl. přenesená",J133,0) -> 0 | BH133: =IF(N133="sníž. přenesená",J133,0) -> 0 | BI133: =IF(N133="nulová",J133,0) -> 0 | BJ133: 1 | BK133: =ROUND(I133*H133,2) -> 11440 | BL133: 4 | BM133: 1429686084
C134: 44 | D134: K | E134: 966052121 | F134: Bourání betonových patek po sloupech oplocení s naložením na dopravní prostředek | G134: kus | H134: 40 | I134: 650 | J134: =ROUND(I134*H134,2) -> 26000 | N134: základní | O134: 0.315 | P134: =O134*H134 -> 12.6 | Q134: 0 | R134: =Q134*H134 -> 0 | S134: 0.168 | T134: =S134*H134 -> 6.72 | AR134: 4 | AT134: K | AU134: 2 | AY134: ROZPOCET | BE134: =IF(N134="základní",J134,0) -> 26000 | BF134: =IF(N134="snížená",J134,0) -> 0 | BG134: =IF(N134="zákl. přenesená",J134,0) -> 0 | BH134: =IF(N134="sníž. přenesená",J134,0) -> 0 | BI134: =IF(N134="nulová",J134,0) -> 0 | BJ134: 1 | BK134: =ROUND(I134*H134,2) -> 26000 | BL134: 4 | BM134: 1470444031
C135: 9 | D135: K | E135: 133251101 | F135: Hloubení šachet nezapažených v hornině třídy těžitelnosti I skupiny 3 objem do 20 m3, včetně přemístění do 50 m | G135: m3 | H135: 18 | I135: 1900 | J135: =ROUND(I135*H135,2) -> 34200 | N135: základní | O135: 2.019 | P135: =O135*H135 -> 36.342 | Q135: 0 | R135: =Q135*H135 -> 0 | S135: 0 | T135: =S135*H135 -> 0 | AR135: 4 | AT135: K | AU135: 2 | AY135: ROZPOCET | BE135: =IF(N135="základní",J135,0) -> 34200 | BF135: =IF(N135="snížená",J135,0) -> 0 | BG135: =IF(N135="zákl. přenesená",J135,0) -> 0 | BH135: =IF(N135="sníž. přenesená",J135,0) -> 0 | BI135: =IF(N135="nulová",J135,0) -> 0 | BJ135: 1 | BK135: =ROUND(I135*H135,2) -> 34200 | BL135: 4 | BM135: 1967730483
D136: P | F136: Poznámka k položce:_x000D_ Šachty pro betonové patky ocelových výrobků | AT136: P | AU136: 2
D137: D | E137: 2 | F137: Zakládání | J137: =BK137 -> 155680 | P137: =SUM(P138:P144) -> 37.2968 | R137: =SUM(R138:R144) -> 66.888356 | T137: =SUM(T138:T144) -> 0 | AR137: 1 | AT137: D | AU137: 1 | AY137: ROZPOCET | BK137: =SUM(BK138:BK144) -> 155680
C138: 10 | D138: K | E138: 275313611 | F138: Základové patky z betonu tř. C 16/20 včetně usazení ocelových výrobků bez dodání | G138: m3 | H138: 14 | I138: 4700 | J138: =ROUND(I138*H138,2) -> 65800 | N138: základní | O138: 0.584 | P138: =O138*H138 -> 8.176 | Q138: 2.30102 | R138: =Q138*H138 -> 32.21428 | S138: 0 | T138: =S138*H138 -> 0 | AR138: 4 | AT138: K | AU138: 2 | AY138: ROZPOCET | BE138: =IF(N138="základní",J138,0) -> 65800 | BF138: =IF(N138="snížená",J138,0) -> 0 | BG138: =IF(N138="zákl. přenesená",J138,0) -> 0 | BH138: =IF(N138="sníž. přenesená",J138,0) -> 0 | BI138: =IF(N138="nulová",J138,0) -> 0 | BJ138: 1 | BK138: =ROUND(I138*H138,2) -> 65800 | BL138: 4 | BM138: 861268455
D139: P | F139: Poznámka k položce:_x000D_ Včetně usazení 43 kusů sloupů oplocení | AT139: P | AU139: 2
C140: 11 | D140: K | E140: 275313711 | F140: Základové patky z betonu tř. C 20/25 včetně usazení pouzder ocelových výrobků bez dodání | G140: m3 | H140: 4 | I140: 5150 | J140: =ROUND(I140*H140,2) -> 20600 | N140: základní | O140: 0.584 | P140: =O140*H140 -> 2.336 | Q140: 2.50187 | R140: =Q140*H140 -> 10.00748 | S140: 0 | T140: =S140*H140 -> 0 | AR140: 4 | AT140: K | AU140: 2 | AY140: ROZPOCET | BE140: =IF(N140="základní",J140,0) -> 20600 | BF140: =IF(N140="snížená",J140,0) -> 0 | BG140: =IF(N140="zákl. přenesená",J140,0) -> 0 | BH140: =IF(N140="sníž. přenesená",J140,0) -> 0 | BI140: =IF(N140="nulová",J140,0) -> 0 | BJ140: 1 | BK140: =ROUND(I140*H140,2) -> 20600 | BL140: 4 | BM140: 1673930283
D141: P | F141: Poznámka k položce:_x000D_ Včetně usazení 4 kusů pouzder | AT141: P | AU141: 2
C142: 12 | D142: K | E142: 59217001 | F142: Obrubník betonový zahradní 1000x250x50 | G142: m | H142: 146 | I142: 150 | J142: =ROUND(I142*H142,2) -> 21900 | N142: základní | O142: 0 | P142: =O142*H142 -> 0 | Q142: 0 | R142: =Q142*H142 -> 0 | S142: 0 | T142: =S142*H142 -> 0 | AR142: 4 | AT142: K | AU142: 2 | AY142: ROZPOCET | BE142: =IF(N142="základní",J142,0) -> 21900 | BF142: =IF(N142="snížená",J142,0) -> 0 | BG142: =IF(N142="zákl. přenesená",J142,0) -> 0 | BH142: =IF(N142="sníž. přenesená",J142,0) -> 0 | BI142: =IF(N142="nulová",J142,0) -> 0 | BJ142: 1 | BK142: =ROUND(I142*H142,2) -> 21900 | BL142: 4 | BM142: 1937445877
C143: 14 | D143: K | E143: 916331112 | F143: Osazení zahradního obrubníku betonového do lože z betonu C16/20 s boční opěrou | G143: m | H143: 146 | I143: 210 | J143: =ROUND(I143*H143,2) -> 30660 | N143: základní | O143: 0.14 | P143: =O143*H143 -> 20.44 | Q143: 0.10095 | R143: =Q143*H143 -> 14.7387 | S143: 0 | T143: =S143*H143 -> 0 | AR143: 4 | AT143: K | AU143: 2 | AY143: ROZPOCET | BE143: =IF(N143="základní",J143,0) -> 30660 | BF143: =IF(N143="snížená",J143,0) -> 0 | BG143: =IF(N143="zákl. přenesená",J143,0) -> 0 | BH143: =IF(N143="sníž. přenesená",J143,0) -> 0 | BI143: =IF(N143="nulová",J143,0) -> 0 | BJ143: 1 | BK143: =ROUND(I143*H143,2) -> 30660 | BL143: 4 | BM143: -468389406
C144: 13 | D144: K | E144: 916991121 | F144: Lože pod obrubníky, krajníky nebo obruby z dlažebních kostek z betonu prostého | G144: m3 | H144: 4.4 | I144: 3800 | J144: =ROUND(I144*H144,2) -> 16720 | N144: základní | O144: 1.442 | P144: =O144*H144 -> 6.3448 | Q144: 2.25634 | R144: =Q144*H144 -> 9.927896 | S144: 0 | T144: =S144*H144 -> 0 | AR144: 4 | AT144: K | AU144: 2 | AY144: ROZPOCET | BE144: =IF(N144="základní",J144,0) -> 16720 | BF144: =IF(N144="snížená",J144,0) -> 0 | BG144: =IF(N144="zákl. přenesená",J144,0) -> 0 | BH144: =IF(N144="sníž. přenesená",J144,0) -> 0 | BI144: =IF(N144="nulová",J144,0) -> 0 | BJ144: 1 | BK144: =ROUND(I144*H144,2) -> 16720 | BL144: 4 | BM144: -390688518
D145: D | E145: 3 | F145: Svislé a kompletní konstrukce | J145: =BK145 -> 279680 | P145: =SUM(P146:P153) -> 0 | R145: =SUM(R146:R153) -> 0 | T145: =SUM(T146:T153) -> 0 | AR145: 1 | AT145: D | AU145: 1 | AY145: ROZPOCET | BK145: =SUM(BK146:BK153) -> 279680
C146: 24 | D146: K | E146: 553 pre1 | F146: Sloup oplocení Fe pozink 76/3,6 v=4,9 m s černou plastovou krytkou | G146: ks | H146: 34 | I146: 2100 | J146: =ROUND(I146*H146,2) -> 71400 | N146: základní | O146: 0 | P146: =O146*H146 -> 0 | Q146: 0 | R146: =Q146*H146 -> 0 | S146: 0 | T146: =S146*H146 -> 0 | AR146: 4 | AT146: K | AU146: 2 | AY146: ROZPOCET | BE146: =IF(N146="základní",J146,0) -> 71400 | BF146: =IF(N146="snížená",J146,0) -> 0 | BG146: =IF(N146="zákl. přenesená",J146,0) -> 0 | BH146: =IF(N146="sníž. přenesená",J146,0) -> 0 | BI146: =IF(N146="nulová",J146,0) -> 0 | BJ146: 1 | BK146: =ROUND(I146*H146,2) -> 71400 | BL146: 4 | BM146: 1042216504
D147: P | F147: Poznámka k položce:_x000D_ Žárově zinkovaná úprava | AT147: P | AU147: 2
C148: 25 | D148: K | E148: 553 pre11 | F148: Sloup oplocení Fe pozink 76/3,6 v=5,9 m s černou plastovou krytkou | G148: ks | H148: 9 | I148: 2100 | J148: =ROUND(I148*H148,2) -> 18900 | N148: základní | O148: 0 | P148: =O148*H148 -> 0 | Q148: 0 | R148: =Q148*H148 -> 0 | S148: 0 | T148: =S148*H148 -> 0 | AR148: 4 | AT148: K | AU148: 2 | AY148: ROZPOCET | BE148: =IF(N148="základní",J148,0) -> 18900 | BF148: =IF(N148="snížená",J148,0) -> 0 | BG148: =IF(N148="zákl. přenesená",J148,0) -> 0 | BH148: =IF(N148="sníž. přenesená",J148,0) -> 0 | BI148: =IF(N148="nulová",J148,0) -> 0 | BJ148: 1 | BK148: =ROUND(I148*H148,2) -> 18900 | BL148: 4 | BM148: 1500660335
D149: P | F149: Poznámka k položce:_x000D_ Žárově zinkovaná úprava | AT149: P | AU149: 2
C150: 26 | D150: K | E150: 553 pre125 | F150: D + M - Zavětrování sloupů oplocení Fe pozink 32/3 včetně materiálu s příslušenstvím k montáži včetně lešení | G150: m | H150: 216 | I150: 180 | J150: =ROUND(I150*H150,2) -> 38880 | N150: základní | O150: 0 | P150: =O150*H150 -> 0 | Q150: 0 | R150: =Q150*H150 -> 0 | S150: 0 | T150: =S150*H150 -> 0 | AR150: 4 | AT150: K | AU150: 2 | AY150: ROZPOCET | BE150: =IF(N150="základní",J150,0) -> 38880 | BF150: =IF(N150="snížená",J150,0) -> 0 | BG150: =IF(N150="zákl. přenesená",J150,0) -> 0 | BH150: =IF(N150="sníž. přenesená",J150,0) -> 0 | BI150: =IF(N150="nulová",J150,0) -> 0 | BJ150: 1 | BK150: =ROUND(I150*H150,2) -> 38880 | BL150: 4 | BM150: -425553689
D151: P | F151: Poznámka k položce:_x000D_ Včetně příčníků (žárově zinkovaná úprava) a dalšího potřebného spojovacího materiálu | AT151: P | AU151: 2
C152: 27 | D152: K | E152: 553 pre2 | F152: Pouzdra pro sportovní vybavení 2x BK, 2x MULTI | G152: ks | H152: 4 | I152: 500 | J152: =ROUND(I152*H152,2) -> 2000 | N152: základní | O152: 0 | P152: =O152*H152 -> 0 | Q152: 0 | R152: =Q152*H152 -> 0 | S152: 0 | T152: =S152*H152 -> 0 | AR152: 4 | AT152: K | AU152: 2 | AY152: ROZPOCET | BE152: =IF(N152="základní",J152,0) -> 2000 | BF152: =IF(N152="snížená",J152,0) -> 0 | BG152: =IF(N152="zákl. přenesená",J152,0) -> 0 | BH152: =IF(N152="sníž. přenesená",J152,0) -> 0 | BI152: =IF(N152="nulová",J152,0) -> 0 | BJ152: 1 | BK152: =ROUND(I152*H152,2) -> 2000 | BL152: 4 | BM152: -726172093
C153: 28 | D153: K | E153: 60791 pre | F153: D + M - Dřevěný mantinel (smrk) z fošen 140/40 včetně veškerého spojovacího materiálu, Fe pozink platlý a 2x nátěru | G153: m | H153: 99 | I153: 1500 | J153: =ROUND(I153*H153,2) -> 148500 | N153: základní | O153: 0 | P153: =O153*H153 -> 0 | Q153: 0 | R153: =Q153*H153 -> 0 | S153: 0 | T153: =S153*H153 -> 0 | AR153: 4 | AT153: K | AU153: 2 | AY153: ROZPOCET | BE153: =IF(N153="základní",J153,0) -> 148500 | BF153: =IF(N153="snížená",J153,0) -> 0 | BG153: =IF(N153="zákl. přenesená",J153,0) -> 0 | BH153: =IF(N153="sníž. přenesená",J153,0) -> 0 | BI153: =IF(N153="nulová",J153,0) -> 0 | BJ153: 1 | BK153: =ROUND(I153*H153,2) -> 148500 | BL153: 4 | BM153: -1429381295
D154: D | E154: 5 | F154: Komunikace pozemní | J154: =BK154 -> 1059984 | P154: =SUM(P155:P166) -> 96.12 | R154: =SUM(R155:R166) -> 6.42384 | T154: =SUM(T155:T166) -> 0 | AR154: 1 | AT154: D | AU154: 1 | AY154: ROZPOCET | BK154: =SUM(BK155:BK166) -> 1059984
C155: 15 | D155: K | E155: 564761111 | F155: Podklad z kameniva hrubého drceného vel. 32-63 mm plochy přes 100 m2 tl 200 mm se zhutněním | G155: m2 | H155: 648 | I155: 260 | J155: =ROUND(I155*H155,2) -> 168480 | N155: základní | O155: 0.028 | P155: =O155*H155 -> 18.144 | Q155: 0 | R155: =Q155*H155 -> 0 | S155: 0 | T155: =S155*H155 -> 0 | AR155: 4 | AT155: K | AU155: 2 | AY155: ROZPOCET | BE155: =IF(N155="základní",J155,0) -> 168480 | BF155: =IF(N155="snížená",J155,0) -> 0 | BG155: =IF(N155="zákl. přenesená",J155,0) -> 0 | BH155: =IF(N155="sníž. přenesená",J155,0) -> 0 | BI155: =IF(N155="nulová",J155,0) -> 0 | BJ155: 1 | BK155: =ROUND(I155*H155,2) -> 168480 | BL155: 4 | BM155: 1258211829
C156: 17 | D156: K | E156: 564801111 | F156: Podklad ze štěrkodrtě ŠD frakce 0-4 plochy přes 100 m2 tl 20 mm se zhutněním | G156: m2 | H156: 648 | I156: 95 | J156: =ROUND(I156*H156,2) -> 61560 | N156: základní | O156: 0.02 | P156: =O156*H156 -> 12.96 | Q156: 0 | R156: =Q156*H156 -> 0 | S156: 0 | T156: =S156*H156 -> 0 | AR156: 4 | AT156: K | AU156: 2 | AY156: ROZPOCET | BE156: =IF(N156="základní",J156,0) -> 61560 | BF156: =IF(N156="snížená",J156,0) -> 0 | BG156: =IF(N156="zákl. přenesená",J156,0) -> 0 | BH156: =IF(N156="sníž. přenesená",J156,0) -> 0 | BI156: =IF(N156="nulová",J156,0) -> 0 | BJ156: 1 | BK156: =ROUND(I156*H156,2) -> 61560 | BL156: 4 | BM156: 1056335290
C157: 16 | D157: K | E157: 564851113 | F157: Podklad ze štěrkodrtě ŠD frakce 0-32 plochy přes 100 m2 tl 165 mm se zhutněním | G157: m2 | H157: 648 | I157: 220 | J157: =ROUND(I157*H157,2) -> 142560 | N157: základní | O157: 0.026 | P157: =O157*H157 -> 16.848 | Q157: 0 | R157: =Q157*H157 -> 0 | S157: 0 | T157: =S157*H157 -> 0 | AR157: 4 | AT157: K | AU157: 2 | AY157: ROZPOCET | BE157: =IF(N157="základní",J157,0) -> 142560 | BF157: =IF(N157="snížená",J157,0) -> 0 | BG157: =IF(N157="zákl. přenesená",J157,0) -> 0 | BH157: =IF(N157="sníž. přenesená",J157,0) -> 0 | BI157: =IF(N157="nulová",J157,0) -> 0 | BJ157: 1 | BK157: =ROUND(I157*H157,2) -> 142560 | BL157: 4 | BM157: 1826666528
C158: 45 | D158: K | E158: 564861011 | F158: Podklad ze štěrkodrtě ŠD frakce 0-32 plochy do 100 m2 tl 200 mm | G158: m2 | H158: 72 | I158: 245 | J158: =ROUND(I158*H158,2) -> 17640 | N158: základní | O158: 0.109 | P158: =O158*H158 -> 7.848 | Q158: 0 | R158: =Q158*H158 -> 0 | S158: 0 | T158: =S158*H158 -> 0 | AR158: 4 | AT158: K | AU158: 2 | AY158: ROZPOCET | BE158: =IF(N158="základní",J158,0) -> 17640 | BF158: =IF(N158="snížená",J158,0) -> 0 | BG158: =IF(N158="zákl. přenesená",J158,0) -> 0 | BH158: =IF(N158="sníž. přenesená",J158,0) -> 0 | BI158: =IF(N158="nulová",J158,0) -> 0 | BJ158: 1 | BK158: =ROUND(I158*H158,2) -> 17640 | BL158: 4 | BM158: 2053358489
D159: P | F159: Poznámka k položce:_x000D_ Do skladby zámkové dlažby | AT159: P | AU159: 2
C160: 20 | D160: K | E160: 57922 pre | F160: D + M - Umělého trávníku 15 mm se zásypem z křemičitého písku včetně lajnování sportů | G160: m2 | H160: 648 | I160: 800 | J160: =ROUND(I160*H160,2) -> 518400 | N160: základní | O160: 0 | P160: =O160*H160 -> 0 | Q160: 0 | R160: =Q160*H160 -> 0 | S160: 0 | T160: =S160*H160 -> 0 | AR160: 4 | AT160: K | AU160: 2 | AY160: ROZPOCET | BE160: =IF(N160="základní",J160,0) -> 518400 | BF160: =IF(N160="snížená",J160,0) -> 0 | BG160: =IF(N160="zákl. přenesená",J160,0) -> 0 | BH160: =IF(N160="sníž. přenesená",J160,0) -> 0 | BI160: =IF(N160="nulová",J160,0) -> 0 | BJ160: 1 | BK160: =ROUND(I160*H160,2) -> 518400 | BL160: 4 | BM160: 1498341566
D161: P | F161: Poznámka k položce:_x000D_ Celoplošně zelená, komplet práce i s likvidací odpadu a složením materiálu na místo | AT161: P | AU161: 2
C162: 21 | D162: K | E162: 592453081 | F162: Dlažba betonová zámková v barvě šedé | G162: m2 | H162: 72 | I162: 450 | J162: =ROUND(I162*H162,2) -> 32400 | N162: základní | O162: 0 | P162: =O162*H162 -> 0 | Q162: 0 | R162: =Q162*H162 -> 0 | S162: 0 | T162: =S162*H162 -> 0 | AR162: 4 | AT162: K | AU162: 2 | AY162: ROZPOCET | BE162: =IF(N162="základní",J162,0) -> 32400 | BF162: =IF(N162="snížená",J162,0) -> 0 | BG162: =IF(N162="zákl. přenesená",J162,0) -> 0 | BH162: =IF(N162="sníž. přenesená",J162,0) -> 0 | BI162: =IF(N162="nulová",J162,0) -> 0 | BJ162: 1 | BK162: =ROUND(I162*H162,2) -> 32400 | BL162: 4 | BM162: 794598712
C163: 22 | D163: K | E163: 596211111 | F163: Kladení zámkové dlažby komunikací pro pěší ručně tl 60 mm skupiny A pl přes 50 do 100 m2 s kamenivem 4-8 tl. 30 mm | G163: m2 | H163: 72 | I163: 320 | J163: =ROUND(I163*H163,2) -> 23040 | N163: základní | O163: 0.56 | P163: =O163*H163 -> 40.32 | Q163: 0.08922 | R163: =Q163*H163 -> 6.42384 | S163: 0 | T163: =S163*H163 -> 0 | AR163: 4 | AT163: K | AU163: 2 | AY163: ROZPOCET | BE163: =IF(N163="základní",J163,0) -> 23040 | BF163: =IF(N163="snížená",J163,0) -> 0 | BG163: =IF(N163="zákl. přenesená",J163,0) -> 0 | BH163: =IF(N163="sníž. přenesená",J163,0) -> 0 | BI163: =IF(N163="nulová",J163,0) -> 0 | BJ163: 1 | BK163: =ROUND(I163*H163,2) -> 23040 | BL163: 4 | BM163: -1151608375
D164: P | F164: Poznámka k položce:_x000D_ Včetně lože z kameniva drcenného frakce 4-8 tl. 30 mm, včetně zásypu pískem,hutněním a smetením přebytečného písku | AT164: P | AU164: 2
C165: 18 | D165: K | E165: 69311081 | F165: Geotextilie netkaná, separační, ochranná, filtrační, drenážní | G165: m2 | H165: 648 | I165: 50 | J165: =ROUND(I165*H165,2) -> 32400 | N165: základní | O165: 0 | P165: =O165*H165 -> 0 | Q165: 0 | R165: =Q165*H165 -> 0 | S165: 0 | T165: =S165*H165 -> 0 | AR165: 4 | AT165: K | AU165: 2 | AY165: ROZPOCET | BE165: =IF(N165="základní",J165,0) -> 32400 | BF165: =IF(N165="snížená",J165,0) -> 0 | BG165: =IF(N165="zákl. přenesená",J165,0) -> 0 | BH165: =IF(N165="sníž. přenesená",J165,0) -> 0 | BI165: =IF(N165="nulová",J165,0) -> 0 | BJ165: 1 | BK165: =ROUND(I165*H165,2) -> 32400 | BL165: 4 | BM165: -177628284
C166: 19 | D166: K | E166: 213141112 | F166: Zřízení vrstvy z geotextílie v rovině | G166: m2 | H166: 648 | I166: 98 | J166: =ROUND(I166*H166,2) -> 63504 | N166: základní | O166: 0 | P166: =O166*H166 -> 0 | Q166: 0 | R166: =Q166*H166 -> 0 | S166: 0 | T166: =S166*H166 -> 0 | AR166: 4 | AT166: K | AU166: 2 | AY166: ROZPOCET | BE166: =IF(N166="základní",J166,0) -> 63504 | BF166: =IF(N166="snížená",J166,0) -> 0 | BG166: =IF(N166="zákl. přenesená",J166,0) -> 0 | BH166: =IF(N166="sníž. přenesená",J166,0) -> 0 | BI166: =IF(N166="nulová",J166,0) -> 0 | BJ166: 1 | BK166: =ROUND(I166*H166,2) -> 63504 | BL166: 4 | BM166: -1814627397
...
